{"text_format":"1","workbook":"xlsx","n_sheets":7,"sheets":["Analyze","Pressure Distribution Diagrams","Draw","Failure Wedge","Shear-Moment Analysis","Shear-Moment Diagram","Summary"],"not_rendered":{"charts":6,"images":1,"macros":1,"external_links":0,"defined_names":13,"comments":0,"pivot_tables":0},"unopened":[{"sheet":"Pressure Distribution Diagrams","index":1,"reason":"not_a_worksheet"},{"sheet":"Failure Wedge","index":3,"reason":"not_a_worksheet"},{"sheet":"Shear-Moment Diagram","index":5,"reason":"not_a_worksheet"}],"bounds":{"document_bytes":16777216,"sheet_cells":100000,"rows_first":2000,"rows_last":500,"rows_between":2000,"halvings":0,"cell_chars":16384,"cell_head_chars":4096},"cells_cut":0,"cells_raw":0,"read":"row_number_cap","date_system":"1900"}

{"sheet":"Analyze","index":0,"n_rows":1186,"n_cols":69,"rows_kept":1186,"cut":false,"hidden":false,"merged":[]}
[1,"nlayer",3,4,5,6,7,8,9,10,11,12,13,14,15,16,17,18,19,20,21,22,23,24,25,26,27,28,29,30,31,32,33,34,35,36,37,38,39,40,41,42,43,44,45,46,47,48,49,50,51,52,53,54,55,56,57,58,59,60]
[12.5,"h"]
[6,"d"]
[1,"dz",null,"Surcharge (Dead)\n(kPa)",0]
[null,"wt",null,"Surcharge (Live)\n(kPa)",200,null,"Depth\n(m)","g\n(kN/m3)","gsat\n(kN/m3)","C\n(kPa)","фa","фp","δ","Wt","Ka","Kp","Kea","Kep","ξ\n(Radians)","σza\n(kPa)","σz'a\n(kPa)","σzp\n(kPa)","σz'p\n(kPa)","Pa\n(kPa)","Pp\n(Kpa)","Net Pressure\n(Kpa)","WaterPressure\n (kPA)","T-Distribution\n(kPa)",null,null,null,null,null,"Depth\n(m)","Angle\n(Degrees)","Spacing (m)","Z1\n(m)","Z2\n(m)",null,"Strut Force\n(kN/m)","Strut Force\nHorizontal\n(kN/m)",null,null,null,null,null,null,null,null,null,null,null,"θa","θp",null,null,null,null,null,null,null,null,"puller","fhwa","T*(clay)","T*(sand)","T(stiff)","T(sand)","T(soft)"]
[19,null,null,null,null,null,0,19,19,40,36,null,0,null,{"$f":"IF(G6=\"\",(\"\"),((SIN(RADIANS($E$9+BA6-K6)))^2)*((SIN(RADIANS($E$9)))^-2)*((COS(RADIANS(BA6)))^-1)*((SIN((RADIANS($E$9+BA6+M6))))^-1)/(1+((SIN(RADIANS(K6+M6)))*(SIN((RADIANS(K6-$E$7-BA6))/(SIN(RADIANS($E$9-$E$7)))/(SIN((RADIANS($E$9+BA6+M6)))))))^0.5)^2)","v":0.25961618368249972},{"$f":"IF(L6=\"\",(\"\"),((SIN(RADIANS($E$9-BB6+L6)))^2)*((SIN(RADIANS($E$9)))^-2)*((COS(RADIANS(BB6)))^-1)*((SIN((RADIANS($E$9-BB6-M6))))^-1)/(1-((SIN(RADIANS(L6+M6)))*(SIN((RADIANS(L6+$E$7-BB6))/(SIN(RADIANS($E$9-$E$7)))/(SIN((RADIANS($E$9-BB6-M6)))))))^0.5)^2)","v":""},{"$f":"IF(G6=\"\",\"\",(IF(N6=\"\",$E$11,($E$11*T6/U6))))","v":0},{"$f":"IF(L6=\"\",\"\",(IF(G6=\"\",\"\",IF(G6=h,(R7),(IF(N6=\"\",$E$11,($E$11*V6/W6)))))))","v":""},{"$f":"IF(G6=\"\",\"\",0.5*PI()-ATAN((-TAN(RADIANS(K6+M6+(90-$E$9)-$E$7)))+(1/(COS(RADIANS(K6+M6+(90-$E$9)-$E$7))))*((COS((RADIANS(90-$E$9+M6+BA6))))^0.5)*((SIN(RADIANS(K6+M6)))^0.5)*((COS(RADIANS(90-$E$9-$E$7)))^-0.5)*((SIN(RADIANS(K6-$E$7-BA6)))^-0.5)))+$E$7","v":1.0995574287564276},{"$f":"IF(G6=0,(0.5*(G6-G6)*H6+$E$5+$E$4),(IF(G6=\"\",(\"\"),(T5+(G6-G5)*H6))))","v":200},{"$f":"IF(G6=0,(0.5*(G6+G6)*H6+$E$5+$E$4),(IF(G7=\"\",(\"\"),(U5+(G6-G5)*H6))))","v":200},{"$f":"IF(G6<h,(\"\"),(IF(G6<h+dzd,(0),(IF(N6=\"\",(V5+H6*(G6-G5)),(V5+(I6)*(G6-G5)))))))","v":""},{"$f":"IF(G6<h,(\"\"),(IF(G6<h+dzd,(0),(IF(N6=\"\",(W5+H6*(G6-G5)),(W5+(I6-9.81)*(G6-G5)))))))","v":""},{"$f":"IF(G6=\"\",(\"\"),((O6*U6-2*J6*(O6)^0.5))*COS(RADIANS(M6)))","v":11.161200776945641},{"$f":"IF(G6<h,(\"\"),((-P6*W6-2*J6*(P6^0.5))*COS(RADIANS(M6))))","v":""},{"$f":"IF(Y6=\"\",X6,X6+Y6)","v":11.161200776945641},{"$f":"IF(N6=\"\",(\"\"),IF(G6>h,AA5,((G6-nz)*9.81)))","v":""},{"$f":"IF(G6=\"\",\"\",IF(G6>hd,0,IF($A$27=1,BK6,IF($A$27=2,BL6,IF($A$27=3,BM6,IF($A$27=4,BN6+ka*($E$4+$E$5),IF($A$27=5,BP6,IF($A$27=6,BO6,BQ6))))))))","v":0},null,null,null,null,"Strut 1",0,35,6,0,{"$f":"IF($A$28=1,IF(AH6=\"\",(\"\"),(IF(AH7=\"\",(AH6+0.5*(h+d-(h+d-$AK$21)-AH6)),(AH6+0.5*(AH7-AH6))))),IF($A$28=2,IF(AH6=\"\",\"\",IF(AH7=\"\",$AK$21,AH7)),(\"\")))","v":1.9},null,26.584903643409774,21.778835228822967,0,null,null,null,null,null,null,null,null,null,null,{"$f":"ATAN(Q6)/0.017453","v":0},{"$f":"ATAN(Q6)/0.017453","v":0},null,{"$f":"IF(AH6=\"\",0,AH6)","v":0},{"$f":"BD6","v":0},null,0,{"$f":"IF(AN6=\"\",0,AN6)","v":26.584903643409774},null,null,{"$f":"IF(G6=\"\",\"\",IF(G6>hd,0,(IF(G6<0.2*(hd),(1.6*($AH$20+$AH$21)/(hd)/0.2/(hd)*G6),(IF(G6<0.8*(hd),(1.6*($AH$20+$AH$21)/(hd)),(1.6*($AH$20+$AH$21)/(hd)-1.6*($AH$20+$AH$21)/(hd)/0.2/(hd)*(G6-0.8*(hd)))))))))","v":0},{"$f":"IF(G6=\"\",\"\",IF(G6>hd,0,(IF(G6<((2/3)*$AH$6),(1.3*($AH$20+$AH$21)/(hd-(1/3)*($AH$6+(hd-MAX($AP$6:$AP$15))))*G6/(2/3*$AH$6)),(IF(G6<(h-2/3*(hd-MAX($AP$6:$AP$15))),1.3*($AH$20+$AH$21)/(hd-1/3*($AH$6+(hd-MAX($AP$6:$AP$15)))),1.3*($AH$20+$AH$21)/(hd-1/3*($AH$6+(hd-MAX($AP$6:$AP$15))))*(1-(G6-(hd-2/3*(hd-MAX($AP$6:$AP$15))))/(2/3*(hd-MAX($AP$6:$AP$15))))))))))","v":41.367607002151871},{"$f":"IF(G6=\"\",\"\",IF(G6>hd,0,(IF(G6<(0.6667*$AH$6),(0.3*g*hd*G6/(0.6667*$AH$6)),(IF(G6<(hd-0.6667*(hd-MAX($AP$6:$AP$15))),0.3*g*hd,0.3*g*hd*(1-(G6-(hd-0.6667*(hd-MAX($AP$6:$AP$15))))/(0.6667*(hd-MAX($AP$6:$AP$15))))))))))","v":105.45},{"$f":"IF(G6=\"\",\"\",IF(G6>hd,0,(IF(G6<((2/3)*$AH$6),(0.65*ka*g*hd*hd/(hd-(1/3)*($AH$6+(hd-MAX($AP$6:$AP$15))))*G6/(2/3*$AH$6)),(IF(G6<(h-2/3*(hd-MAX($AP$6:$AP$15))),0.65*ka*g*hd*hd/(hd-1/3*($AH$6+(hd-MAX($AP$6:$AP$15)))),0.65*ka*g*hd*hd/(hd-1/3*($AH$6+(hd-MAX($AP$6:$AP$15))))*(1-(G6-(hd-2/3*(hd-MAX($AP$6:$AP$15))))/(2/3*(hd-MAX($AP$6:$AP$15))))))))))","v":67.45957622870219},{"$f":"IF(G6=\"\",\"\",IF(G6>hd,0,(IF(G6<(0.25*hd),(0.3*g*h*G6/(0.25*hd)),(IF(G6<(0.75*hd),0.3*g*h,0.3*g*h*(1-(G6-0.75*hd)/0.25/hd)))))))","v":0},{"$f":"IF(G6>hd,0,IF(G6=\"\",\"\",0.65*ka*g*hd))","v":59.315807566858858},{"$f":"IF(G6=\"\",\"\",IF(G6>hd,0,(IF(G6<(0.25*hd),(1-4*ca/g/hd)*g*hd*G6/(0.25*hd),((1-4*ca/g/hd)*g*hd)))))","v":0}]
[185,"nz",null,"β\n(Degrees):",0,null,0.1,19,19,40,36,null,0,null,{"$f":"IF(G7=\"\",(\"\"),((SIN(RADIANS($E$9+BA7-K7)))^2)*((SIN(RADIANS($E$9)))^-2)*((COS(RADIANS(BA7)))^-1)*((SIN((RADIANS($E$9+BA7+M7))))^-1)/(1+((SIN(RADIANS(K7+M7)))*(SIN((RADIANS(K7-$E$7-BA7))/(SIN(RADIANS($E$9-$E$7)))/(SIN((RADIANS($E$9+BA7+M7)))))))^0.5)^2)","v":0.25961618368249972},{"$f":"IF(L7=\"\",(\"\"),((SIN(RADIANS($E$9-BB7+L7)))^2)*((SIN(RADIANS($E$9)))^-2)*((COS(RADIANS(BB7)))^-1)*((SIN((RADIANS($E$9-BB7-M7))))^-1)/(1-((SIN(RADIANS(L7+M7)))*(SIN((RADIANS(L7+$E$7-BB7))/(SIN(RADIANS($E$9-$E$7)))/(SIN((RADIANS($E$9-BB7-M7)))))))^0.5)^2)","v":""},{"$f":"IF(G7=\"\",\"\",(IF(N7=\"\",$E$11,($E$11*T7/U7))))","v":0},"",{"$f":"IF(G7=\"\",\"\",0.5*PI()-ATAN((-TAN(RADIANS(K7+M7+(90-$E$9)-$E$7)))+(1/(COS(RADIANS(K7+M7+(90-$E$9)-$E$7))))*((COS((RADIANS(90-$E$9+M7+BA7))))^0.5)*((SIN(RADIANS(K7+M7)))^0.5)*((COS(RADIANS(90-$E$9-$E$7)))^-0.5)*((SIN(RADIANS(K7-$E$7-BA7)))^-0.5)))+$E$7","v":1.0995574287564276},{"$f":"IF(G7=\"\",(\"\"),(IF(N7=\"\",(T6+(G7-G6)*H6),(T6+(G7-G6)*(I6)))))","v":201.9},{"$f":"IF(G7=\"\",(\"\"),(IF(N7=\"\",(U6+(G7-G6)*H6),(U6+(G7-G6)*(I6-9.81)))))","v":201.9},{"$f":"IF(G7<h,(\"\"),(IF(G7<h+dzd,(0),(IF(N7=\"\",(V6+H7*(G7-G6)),(V6+(I7)*(G7-G6)))))))","v":""},{"$f":"IF(G7<h,(\"\"),(IF(G7<h+dzd,(0),(IF(N7=\"\",(W6+H7*(G7-G6)),(W6+(I7-9.81)*(G7-G6)))))))","v":""},{"$f":"IF(G7=\"\",(\"\"),((O7*U7-2*J7*(O7)^0.5))*COS(RADIANS(M7)))","v":11.654471525942391},null,{"$f":"IF(Y7=\"\",X7,X7+Y7)","v":11.654471525942391},null,1.2099352904901644,null,null,null,null,"Strut 2",3.8,15,3,{"$f":"IF(AH7=\"\",\"\",IF(A28=2,IF(AH7=\"\",(\"\"),(AH7)),AL6))","v":1.9},5.8,null,165.09276058496653,159.46947128660349,3.8,null,null,null,null,null,null,null,null,null,null,{"$f":"ATAN(Q7)/0.017453","v":0},{"$f":"ATAN(Q7)/0.017453","v":0},null,3.8,{"$f":"BD7","v":3.8},null,0,165.09276058496653,null,null,1.2099352904901644,41.367607002151871,105.45,{"$f":"IF(G7=\"\",\"\",IF(G7>hd,0,(IF(G7<((2/3)*$AH$6),(0.65*ka*g*hd*hd/(hd-(1/3)*($AH$6+(hd-MAX($AP$6:$AP$15))))*G7/(2/3*$AH$6)),(IF(G7<(h-2/3*(hd-MAX($AP$6:$AP$15))),0.65*ka*g*hd*hd/(hd-1/3*($AH$6+(hd-MAX($AP$6:$AP$15)))),0.65*ka*g*hd*hd/(hd-1/3*($AH$6+(hd-MAX($AP$6:$AP$15))))*(1-(G7-(hd-2/3*(hd-MAX($AP$6:$AP$15))))/(2/3*(hd-MAX($AP$6:$AP$15))))))))))","v":67.45957622870219},1.5405405405405406,59.315807566858858,4.1405405405405409]
[null,null,null,null,null,null,0.2,19,19,40,36,null,0,null,0.25961618368249972,"",0,"",1.0995574287564276,{"$f":"IF(G8=\"\",(\"\"),(IF(N8=\"\",(T7+(G8-G7)*H7),(T7+(G8-G7)*(I7)))))","v":203.8},{"$f":"IF(G8=\"\",(\"\"),(IF(N8=\"\",(U7+(G8-G7)*H7),(U7+(G8-G7)*(I7-9.81)))))","v":203.8},"","",{"$f":"IF(G8=\"\",(\"\"),((O8*U8-2*J8*(O8)^0.5))*COS(RADIANS(M8)))","v":12.147742274939141},"",12.147742274939141,{"$f":"IF(N8=\"\",(\"\"),IF(G8>h,AA7,((G8-nz)*9.81)))","v":""},2.4198705809803287,null,null,null,null,"Strut 3",7.8,15,3,5.8,9.8000000000000007,null,185.38489048994686,179.07042299254377,7.8,null,null,null,null,null,null,null,null,null,null,0,0,null,7.8,7.8,null,0,185.38489048994686,null,null,2.4198705809803287,41.367607002151871,105.45,67.45957622870219,3.0810810810810811,59.315807566858858,8.2810810810810818]
[4,"nstrut",null,"α\n(Degrees):",90,null,0.30000000000000004,19,19,40,36,null,0,null,0.25961618368249972,"",0,"",1.0995574287564276,205.70000000000002,205.70000000000002,"","",12.641013023935891,"",12.641013023935891,"",3.6298058714704933,null,null,null,null,"Strut 4",11.8,15,3,9.8000000000000007,14.001794040155627,null,194.6541350144455,188.02394414217221,11.8,null,null,null,null,null,null,null,null,null,null,0,0,null,11.8,11.8,null,0,194.6541350144455,null,null,3.6298058714704933,41.367607002151871,105.45,67.45957622870219,4.6216216216216228,59.315807566858858,12.421621621621625]
[1,"sdd",null,null,null,null,0.4,19,19,40,36,null,0,null,0.25961618368249972,"",0,"",1.0995574287564276,207.60000000000002,207.60000000000002,"","",13.134283772932648,"",13.134283772932648,"",4.8397411619606574,null,null,null,null,"Strut 5",null,null,null,"","",null,null,null,null,null,null,null,null,null,null,null,null,null,null,0,0,null,0,0,null,0,0,null,null,4.8397411619606574,41.367607002151871,105.45,67.45957622870219,6.1621621621621623,59.315807566858858,16.562162162162164]
[null,null,null,"Ke",0,null,0.5,19,19,40,36,null,0,null,0.25961618368249972,"",0,"",1.0995574287564276,209.50000000000003,209.50000000000003,"","",13.627554521929397,"",13.627554521929397,"",6.0496764524508215,null,null,null,null,"Strut 6",null,null,null,"","",null,null,null,null,null,null,null,null,null,null,null,null,null,null,0,0,null,0,0,null,0,0,null,null,6.0496764524508215,41.367607002151871,105.45,67.45957622870219,7.7027027027027026,59.315807566858858,20.702702702702705]
[28,"Z1",null,null,null,null,0.6,19,19,40,36,null,0,null,0.25961618368249972,"",0,"",1.0995574287564276,211.40000000000003,211.40000000000003,"","",14.120825270926147,"",14.120825270926147,"",7.2596117429409857,null,null,null,null,"Strut 7",null,null,null,"","",null,null,null,null,null,null,null,null,null,null,null,null,null,null,0,0,null,0,0,null,0,0,null,null,7.2596117429409857,41.367607002151871,105.45,67.45957622870219,9.2432432432432439,59.315807566858858,24.843243243243247]
[28,"Z2",null,"γave\n(kN/m3)",{"$f":"(SUM(H6:H1010))/($A$7+1)","v":19},null,0.7,19,19,40,36,null,0,null,0.25961618368249972,"",0,"",1.0995574287564276,213.30000000000004,213.30000000000004,"","",14.614096019922897,"",14.614096019922897,"",8.4695470334311498,null,null,null,null,"Strut 8",null,null,null,"","",null,null,null,null,null,null,null,null,null,null,null,null,null,null,0,0,null,0,0,null,0,0,null,null,8.4695470334311498,41.367607002151871,105.45,67.45957622870219,10.783783783783784,59.315807566858858,28.983783783783785]
[null,null,null,null,null,null,0.79999999999999993,19,19,40,36,null,0,null,0.25961618368249972,"",0,"",1.0995574287564276,215.20000000000005,215.20000000000005,"","",15.107366768919647,"",{"$f":"IF(Y14=\"\",X14,X14+Y14)","v":15.107366768919647},"",9.679482323921313,null,null,null,null,"Strut 9",null,null,null,"","",null,null,null,null,null,null,null,null,null,null,null,null,null,null,0,0,null,0,0,null,0,0,null,null,9.679482323921313,41.367607002151871,105.45,67.45957622870219,12.324324324324323,59.315807566858858,33.124324324324327]
[125,"nzh",null,"Kaave",{"$f":"(SUM(O6:O1007))/($A$7+1)","v":0.25961618368249856},null,0.89999999999999991,19,19,40,36,null,0,null,0.25961618368249972,"",0,"",1.0995574287564276,217.10000000000005,217.10000000000005,"","",15.600637517916397,"",15.600637517916397,"",10.889417614411478,null,null,null,null,"Strut 10",null,null,null,"","",null,null,null,null,null,null,null,null,null,null,null,null,null,null,0,0,null,0,0,null,0,0,null,null,10.889417614411478,41.367607002151871,105.45,67.45957622870219,13.864864864864865,59.315807566858858,37.264864864864869]
[60,"nzd",null,null,null,null,0.99999999999999989,19,19,40,36,null,0,null,0.25961618368249972,"",0,"",1.0995574287564276,219.00000000000006,219.00000000000006,"","",16.093908266913154,"",16.093908266913154,"",12.099352904901641,null,null,null,null,null,null,null,null,null,null,null,null,null,null,null,null,null,null,null,null,null,null,null,null,0,0,null,null,null,null,null,null,null,null,12.099352904901641,41.367607002151871,105.45,67.45957622870219,15.405405405405402,59.315807566858858,41.405405405405403]
[0.1,"dzh",null,"Cave\n(kPa)",{"$f":"(SUM(J6:J1009))/($A$7+1)","v":40},null,1.0999999999999999,19,19,40,36,null,0,null,0.25961618368249972,"",0,"",1.0995574287564276,220.90000000000006,220.90000000000006,"","",16.587179015909904,"",16.587179015909904,"",13.309288195391806,null,null,null,null,null,null,null,null,null,null,null,"Distribution\nMethod:",{"$f":"IF(A27=1,\"Puller\",IF(A27=2,\"FHWA\",IF(A27=3,\"Terzaghi (Clay)\",\"Terzaghi (Sand)\")))","v":"Puller"},null,null,null,null,null,null,null,null,null,null,null,0,0,null,0,0,null,null,null,null,null,13.309288195391806,41.367607002151871,105.45,67.45957622870219,16.945945945945944,59.315807566858858,45.545945945945945]
[0.1,"dzd",null,null,null,null,1.2,19,19,40,36,null,0,null,0.25961618368249972,"",0,"",1.0995574287564276,222.80000000000007,222.80000000000007,"","",17.080449764906653,"",17.080449764906653,"",14.519223485881971,null,null,null,null,null,null,null,"Hydroststic Force\n(kN)",0,null,null,null,null,null,"FS:",{"$f":"AK20/(AK19+AK18-SUM(AO6:AO15))","v":11.659078711943017},null,null,null,null,null,null,null,null,0,0,null,{"$f":"h+d","v":18.5},0,null,null,null,null,null,14.519223485881971,41.367607002151871,105.45,67.45957622870219,18.486486486486488,59.315807566858858,49.686486486486494]
[null,null,null,null,null,null,1.3,19,19,40,36,null,0,null,0.25961618368249972,"",0,"",1.0995574287564276,224.70000000000007,224.70000000000007,"","",17.573720513903403,"",17.573720513903403,"",15.729158776372136,null,null,null,null,null,null,null,"Area(kN)",662.56056507241306,null,null,"Strut\nMethod:",{"$f":"IF(A28=1,\"Half Method\",IF(A28=2,\"Underneath\",\"Hinge Method\"))","v":"Half Method"},null,null,null,null,null,null,null,null,null,null,null,0,0,null,null,null,null,null,null,null,null,15.729158776372136,41.367607002151871,105.45,67.45957622870219,20.027027027027028,59.315807566858858,53.827027027027036]
[1,"γ(kN/m3)",null,null,null,null,1.4000000000000001,19,19,40,36,null,0,null,0.25961618368249972,"",0,"",1.0995574287564276,226.60000000000008,226.60000000000008,"","",18.066991262900153,"",18.066991262900153,"",16.939094066862303,null,null,null,null,"Pa(kN) ",517.62544146282335,null,"Fp(kN)",1331.6753864044135,null,null,null,null,null,null,null,null,null,null,null,null,null,null,null,0,0,null,null,null,null,null,null,null,null,16.939094066862303,41.367607002151871,105.45,67.45957622870219,21.567567567567572,59.315807566858858,57.967567567567585]
[1,"C(kPa)",null,null,null,null,1.5000000000000002,19,19,40,36,null,0,null,0.25961618368249972,"",0,"",1.0995574287564276,228.50000000000009,228.50000000000009,"","",18.560262011896903,"",18.560262011896903,"",18.149029357352468,null,null,null,null,"Fa (e) (kN) ",{"$f":"$E$11*$E$4*$A$34","v":0},null,"Z Fp(m)",{"$f":"IF(A27=1,A30,h)","v":16.203588080311253},null,null,"H or H+D",{"$f":"IF(hd=h,\"H\",\"H+D\")","v":"H+D"},null,null,null,null,null,null,null,null,null,null,null,0,0,null,null,null,null,null,null,null,null,18.149029357352468,41.367607002151871,105.45,67.45957622870219,23.108108108108112,59.315807566858858,62.108108108108119]
[1,"ф",null,null,"ss",null,1.6000000000000003,19,19,40,36,null,0,null,0.25961618368249972,"",0,"",1.0995574287564276,230.40000000000009,230.40000000000009,"","",19.05353276089366,"",19.05353276089366,"",19.358964647842633,null,null,null,null,null,null,null,null,null,null,null,null,null,null,null,null,null,null,null,null,null,null,null,null,0,0,null,null,null,null,null,null,null,null,19.358964647842633,41.367607002151871,105.45,67.45957622870219,24.648648648648656,59.315807566858858,66.248648648648668]
[1,"th",null,null,null,null,1.7000000000000004,19,19,40,36,null,0,null,0.25961618368249972,"",0,"",1.0995574287564276,232.3000000000001,232.3000000000001,"","",19.54680350989041,"",19.54680350989041,"",20.568899938332798,null,null,null,null,null,"Thickness\n(m)","g\n(kN/m3)","gsat\n(kN/m3)","C\n(kPa)","ф","δ","Fs фa","Fs фp","Fs C",null,null,null,null,null,null,null,null,null,null,0,0,null,null,null,null,null,null,null,null,20.568899938332798,41.367607002151871,105.45,67.45957622870219,26.189189189189197,59.315807566858858,70.38918918918921]
[null,null,null,null,null,null,1.8000000000000005,19,19,40,36,null,0,null,0.25961618368249972,"",0,"",1.0995574287564276,234.2000000000001,234.2000000000001,"","",20.040074258887159,"",20.040074258887159,"",21.778835228822963,null,null,null,null,"Soil 1",28,19,19,40,36,0,1,1.2,1,null,null,null,null,null,null,null,null,null,null,0,0,null,null,null,null,null,null,null,null,21.778835228822963,41.367607002151871,105.45,67.45957622870219,27.729729729729737,59.315807566858858,74.529729729729766]
[null,"cf",null,null,null,null,1.9000000000000006,19,19,40,36,null,0,null,0.25961618368249972,"",0,"",1.0995574287564276,236.10000000000011,236.10000000000011,"","",20.533345007883909,"",20.533345007883909,"",22.988770519313128,null,null,null,null,"Soil 2",null,null,null,null,null,null,null,null,null,null,null,null,null,null,null,null,null,null,null,0,0,null,null,null,null,null,null,null,null,22.988770519313128,41.367607002151871,105.45,67.45957622870219,29.270270270270277,59.315807566858858,78.670270270270294]
[null,null,null,null,null,null,2.0000000000000004,19,19,40,36,null,0,null,0.25961618368249972,"",0,"",1.0995574287564276,238.00000000000011,238.00000000000011,"","",21.026615756880659,"",21.026615756880659,"",24.198705809803293,null,null,null,null,"Soil 3",null,null,null,null,null,null,null,null,null,null,null,null,null,null,null,null,null,null,null,0,0,null,null,null,null,null,null,null,null,24.198705809803293,41.367607002151871,105.45,67.45957622870219,30.810810810810818,59.315807566858858,82.810810810810835]
[1,"T-method",null,null,null,null,2.1000000000000005,19,19,40,36,null,0,null,0.25961618368249972,"",0,"",1.0995574287564276,239.90000000000012,239.90000000000012,"","",21.519886505877409,"",21.519886505877409,"",25.408641100293458,null,null,null,null,"Soil 4",null,null,null,null,null,null,null,null,null,null,null,null,null,null,null,null,null,null,null,0,0,null,null,null,null,null,null,null,null,25.408641100293458,41.367607002151871,105.45,67.45957622870219,32.351351351351354,59.315807566858858,86.951351351351377]
[1,"S-method",null,null,null,null,2.2000000000000006,19,19,40,36,null,0,null,0.25961618368249972,"",0,"",1.0995574287564276,241.80000000000013,241.80000000000013,"","",22.013157254874159,"",22.013157254874159,"",26.618576390783623,null,null,null,null,"Soil 5",null,null,null,null,null,null,null,null,null,null,null,null,null,null,null,null,null,null,null,0,0,null,null,null,null,null,null,null,null,26.618576390783623,41.367607002151871,105.45,67.45957622870219,33.891891891891902,59.315807566858858,91.091891891891933]
[null,null,null,null,null,null,2.3000000000000007,19,19,40,36,null,0,null,0.25961618368249972,"",0,"",1.0995574287564276,243.70000000000013,243.70000000000013,"","",22.506428003870916,"",22.506428003870916,"",27.828511681273788,null,null,null,null,"Soil 6",null,null,null,null,null,null,null,null,null,null,null,null,null,null,null,null,null,null,null,0,0,null,null,null,null,null,null,null,null,27.828511681273788,41.367607002151871,105.45,67.45957622870219,35.432432432432442,59.315807566858858,95.232432432432475]
[16.203588080311253,"Zfp",null,null,null,null,2.4000000000000008,19,19,40,36,null,0,null,0.25961618368249972,"",0,"",1.0995574287564276,245.60000000000014,245.60000000000014,"","",22.999698752867666,"",22.999698752867666,"",29.038446971763953,null,null,null,null,"Soil 7",null,null,null,null,null,null,null,null,null,null,null,null,null,null,null,null,null,null,null,0,0,null,null,null,null,null,null,null,null,29.038446971763953,41.367607002151871,105.45,67.45957622870219,36.972972972972983,59.315807566858858,99.372972972973017]
[null,null,null,null,null,null,2.5000000000000009,19,19,40,36,null,0,null,0.25961618368249972,"",0,"",1.0995574287564276,247.50000000000014,247.50000000000014,"","",23.492969501864415,"",23.492969501864415,"",30.248382262254118,null,null,null,null,"Soil 8",null,null,null,null,null,null,null,null,null,null,null,null,null,null,null,null,null,null,null,0,0,null,null,null,null,null,null,null,null,30.248382262254118,41.367607002151871,105.45,67.45957622870219,38.513513513513523,59.315807566858858,103.51351351351356]
[18.5,"h or h+d",null,null,null,null,2.600000000000001,19,19,40,36,null,0,null,0.25961618368249972,"",0,"",1.0995574287564276,249.40000000000015,249.40000000000015,"","",23.986240250861165,"",23.986240250861165,"",31.458317552744283,null,null,null,null,"Soil 9",null,null,null,null,null,null,null,null,null,null,null,null,null,null,null,null,null,null,null,0,0,null,null,null,null,null,null,null,null,31.458317552744283,41.367607002151871,105.45,67.45957622870219,40.054054054054063,59.315807566858858,107.65405405405411]
[null,null,null,null,null,null,2.7000000000000011,19,19,40,36,null,0,null,0.25961618368249972,"",0,"",1.0995574287564276,251.30000000000015,251.30000000000015,"","",24.479510999857915,"",24.479510999857915,"",32.668252843234448,null,null,null,null,"Soil 10",null,null,null,null,null,null,null,null,null,null,null,null,null,null,null,null,null,null,null,0,0,null,null,null,null,null,null,null,null,32.668252843234448,41.367607002151871,105.45,67.45957622870219,41.594594594594611,59.315807566858858,111.79459459459466]
[40,"L",null,null,null,null,2.8000000000000012,19,19,40,36,null,0,null,0.25961618368249972,"",0,"",1.0995574287564276,253.20000000000016,253.20000000000016,"","",24.972781748854665,"",24.972781748854665,"",33.878188133724613,null,null,null,null,null,null,null,null,null,null,null,null,null,null,null,null,null,null,null,null,null,null,null,null,0,0,null,null,null,null,null,null,null,null,33.878188133724613,41.367607002151871,105.45,67.45957622870219,43.135135135135151,59.315807566858858,115.9351351351352]
[null,null,null,null,null,null,2.9000000000000012,19,19,40,36,null,0,null,0.25961618368249972,"",0,"",1.0995574287564276,255.10000000000016,255.10000000000016,"","",25.466052497851415,"",25.466052497851415,"",35.088123424214778,null,null,null,null,null,null,null,null,null,null,null,null,null,null,null,null,null,null,null,null,null,null,null,null,0,0,null,null,null,null,null,null,null,null,35.088123424214778,41.367607002151871,105.45,67.45957622870219,44.675675675675691,59.315807566858858,120.07567567567575]
[null,null,null,null,null,null,3.0000000000000013,19,19,40,36,null,0,null,0.25961618368249972,"",0,"",1.0995574287564276,257.00000000000017,257.00000000000017,"","",25.959323246848165,"",25.959323246848165,"",36.298058714704943,null,null,null,null,null,null,null,null,null,null,null,null,null,null,null,null,null,null,null,null,null,null,null,null,0,0,null,null,null,null,null,null,null,null,36.298058714704943,41.367607002151871,105.45,67.45957622870219,46.216216216216232,59.315807566858858,124.2162162162163]
[null,null,null,null,null,null,3.1000000000000014,19,19,40,36,null,0,null,0.25961618368249972,"",0,"",1.0995574287564276,258.90000000000015,258.90000000000015,"","",26.452593995844914,"",26.452593995844914,"",37.507994005195108,null,null,null,null,null,null,null,null,null,null,null,null,null,null,null,null,null,null,null,null,null,null,null,null,0,0,null,null,null,null,null,null,null,null,37.507994005195108,41.367607002151871,105.45,67.45957622870219,47.756756756756779,59.315807566858858,128.35675675675682]
[null,null,null,null,null,null,3.2000000000000015,19,19,40,36,null,0,null,0.25961618368249972,"",0,"",1.0995574287564276,260.80000000000013,260.80000000000013,"","",26.94586474484165,"",26.94586474484165,"",38.717929295685273,null,null,null,null,null,null,null,null,null,null,null,null,null,null,null,null,null,null,null,null,null,null,null,null,0,0,null,null,null,null,null,null,null,null,38.717929295685273,41.367607002151871,105.45,67.45957622870219,49.29729729729732,59.315807566858858,132.49729729729739]
[null,null,null,null,null,null,3.3000000000000016,19,19,40,36,null,0,null,0.25961618368249972,"",0,"",1.0995574287564276,262.7000000000001,262.7000000000001,"","",27.4391354938384,"",27.4391354938384,"",39.927864586175438,null,null,null,null,null,null,null,null,null,null,null,null,null,null,null,null,null,null,null,null,null,null,null,null,0,0,null,null,null,null,null,null,null,null,39.927864586175438,41.367607002151871,105.45,67.45957622870219,50.83783783783786,59.315807566858858,136.63783783783794]
[null,null,null,null,null,null,3.4000000000000017,19,19,40,36,null,0,null,0.25961618368249972,"",0,"",1.0995574287564276,264.60000000000008,264.60000000000008,"","",27.93240624283515,"",27.93240624283515,"",41.137799876665603,null,null,null,null,null,null,null,null,null,null,null,null,null,null,null,null,null,null,null,null,null,null,null,null,0,0,null,null,null,null,null,null,null,null,41.137799876665603,41.367607002151871,105.45,67.45957622870219,52.3783783783784,59.315807566858858,140.77837837837845]
[null,null,null,null,null,null,3.5000000000000018,19,19,40,36,null,0,null,0.25961618368249972,"",0,"",1.0995574287564276,266.50000000000006,266.50000000000006,"","",28.425676991831885,"",28.425676991831885,"",42.347735167155776,null,null,null,null,null,null,null,null,null,null,null,null,null,null,null,null,null,null,null,null,null,null,null,null,0,0,null,null,null,null,null,null,null,null,42.347735167155776,41.367607002151871,105.45,67.45957622870219,53.918918918918941,59.315807566858858,144.91891891891902]
[null,null,null,null,null,null,3.6000000000000019,19,19,40,36,null,0,null,0.25961618368249972,"",0,"",1.0995574287564276,268.40000000000003,268.40000000000003,"","",28.918947740828635,"",28.918947740828635,"",43.557670457645941,null,null,null,null,null,null,null,null,null,null,null,null,null,null,null,null,null,null,null,null,null,null,null,null,0,0,null,null,null,null,null,null,null,null,43.557670457645941,41.367607002151871,105.45,67.45957622870219,55.459459459459481,59.315807566858858,149.05945945945956]
[null,null,null,null,null,null,3.700000000000002,19,19,40,36,null,0,null,0.25961618368249972,"",0,"",1.0995574287564276,270.3,270.3,"","",29.412218489825371,"",29.412218489825371,"",44.767605748136077,null,null,null,null,null,null,null,null,null,null,null,null,null,null,null,null,null,null,null,null,null,null,null,null,0,0,null,null,null,null,null,null,null,null,44.767605748136077,41.367607002151871,105.45,67.45957622870219,57.000000000000021,59.315807566858858,153.2000000000001]
[null,null,null,null,null,null,3.800000000000002,19,19,40,36,null,0,null,0.25961618368249972,"",0,"",1.0995574287564276,272.2,272.2,"","",29.905489238822121,"",29.905489238822121,"",44.767605748136077,null,null,null,null,null,null,null,null,null,null,null,null,null,null,null,null,null,null,null,null,null,null,null,null,0,0,null,null,null,null,null,null,null,null,44.767605748136077,41.367607002151871,105.45,67.45957622870219,58.540540540540576,59.315807566858858,157.34054054054064]
[null,null,null,null,null,null,3.9000000000000021,19,19,40,36,null,0,null,0.25961618368249972,"",0,"",1.0995574287564276,274.09999999999997,274.09999999999997,"","",30.398759987818856,"",30.398759987818856,"",44.767605748136077,null,null,null,null,null,null,null,null,null,null,null,null,null,null,null,null,null,null,null,null,null,null,null,null,0,0,null,null,null,null,null,null,null,null,44.767605748136077,41.367607002151871,105.45,67.45957622870219,60.081081081081116,59.315807566858858,161.48108108108119]
[null,null,null,null,null,null,4.0000000000000018,19,19,40,36,null,0,null,0.25961618368249972,"",0,"",1.0995574287564276,275.99999999999994,275.99999999999994,"","",30.892030736815606,"",30.892030736815606,"",44.767605748136077,null,null,null,null,null,null,null,null,null,null,null,null,null,null,null,null,null,null,null,null,null,null,null,null,0,0,null,null,null,null,null,null,null,null,44.767605748136077,41.367607002151871,105.45,67.45957622870219,61.621621621621649,59.315807566858858,165.62162162162173]
[null,null,null,null,null,null,4.1000000000000014,19,19,40,36,null,0,null,0.25961618368249972,"",0,"",1.0995574287564276,277.89999999999992,277.89999999999992,"","",31.385301485812356,"",31.385301485812356,"",44.767605748136077,null,null,null,null,null,null,null,null,null,null,null,null,null,null,null,null,null,null,null,null,null,null,null,null,0,0,null,null,null,null,null,null,null,null,44.767605748136077,41.367607002151871,105.45,67.45957622870219,63.16216216216219,59.315807566858858,169.76216216216227]
[null,null,null,null,null,null,4.2000000000000011,19,19,40,36,null,0,null,0.25961618368249972,"",0,"",1.0995574287564276,279.7999999999999,279.7999999999999,"","",31.878572234809091,"",31.878572234809091,"",44.767605748136077,null,null,null,null,null,null,null,null,null,null,null,null,null,null,null,null,null,null,null,null,null,null,null,null,0,0,null,null,null,null,null,null,null,null,44.767605748136077,41.367607002151871,105.45,67.45957622870219,64.702702702702709,59.315807566858858,173.90270270270275]
[null,null,null,null,null,null,4.3000000000000007,19,19,40,36,null,0,null,0.25961618368249972,"",0,"",1.0995574287564276,281.69999999999987,281.69999999999987,"","",32.371842983805841,"",32.371842983805841,"",44.767605748136077,null,null,null,null,null,null,null,null,null,null,null,null,null,null,null,null,null,null,null,null,null,null,null,null,0,0,null,null,null,null,null,null,null,null,44.767605748136077,41.367607002151871,105.45,67.45957622870219,66.243243243243256,59.315807566858858,178.0432432432433]
[null,null,null,null,null,null,4.4000000000000004,19,19,40,36,null,0,null,0.25961618368249972,"",0,"",1.0995574287564276,283.59999999999985,283.59999999999985,"","",32.865113732802577,"",32.865113732802577,"",44.767605748136077,null,null,null,null,null,null,null,null,null,null,null,null,null,null,null,null,null,null,null,null,null,null,null,null,0,0,null,null,null,null,null,null,null,null,44.767605748136077,41.367607002151871,105.45,67.45957622870219,67.78378378378379,59.315807566858858,182.18378378378381]
[null,null,null,null,null,null,4.5,19,19,40,36,null,0,null,0.25961618368249972,"",0,"",1.0995574287564276,285.49999999999983,285.49999999999983,"","",33.358384481799327,"",33.358384481799327,"",44.767605748136077,null,null,null,null,null,null,null,null,null,null,null,null,null,null,null,null,null,null,null,null,null,null,null,null,0,0,null,null,null,null,null,null,null,null,44.767605748136077,41.367607002151871,105.45,67.45957622870219,69.324324324324323,59.315807566858858,186.32432432432435]
[null,null,null,null,null,null,4.5999999999999996,19,19,40,36,null,0,null,0.25961618368249972,"",0,"",1.0995574287564276,287.39999999999981,287.39999999999981,"","",33.851655230796062,"",33.851655230796062,"",44.767605748136077,null,null,null,null,null,null,null,null,null,null,null,null,null,null,null,null,null,null,null,null,null,null,null,null,0,0,null,null,null,null,null,null,null,null,44.767605748136077,41.367607002151871,105.45,67.45957622870219,70.86486486486487,59.315807566858858,190.46486486486489]
[null,null,null,null,null,null,4.6999999999999993,19,19,40,36,null,0,null,0.25961618368249972,"",0,"",1.0995574287564276,289.29999999999978,289.29999999999978,"","",34.344925979792812,"",34.344925979792812,"",44.767605748136077,null,null,null,null,null,null,null,null,null,null,null,null,null,null,null,null,null,null,null,null,null,null,null,null,0,0,null,null,null,null,null,null,null,null,44.767605748136077,41.367607002151871,105.45,67.45957622870219,71.25,59.315807566858858,191.50000000000003]
[null,null,null,null,null,null,4.7999999999999989,19,19,40,36,null,0,null,0.25961618368249972,"",0,"",1.0995574287564276,291.19999999999976,291.19999999999976,"","",34.838196728789548,"",34.838196728789548,"",44.767605748136077,null,null,null,null,null,null,null,null,null,null,null,null,null,null,null,null,null,null,null,null,null,null,null,null,0,0,null,null,null,null,null,null,null,null,44.767605748136077,41.367607002151871,105.45,67.45957622870219,71.25,59.315807566858858,191.50000000000003]
[null,null,null,null,null,null,4.8999999999999986,19,19,40,36,null,0,null,0.25961618368249972,"",0,"",1.0995574287564276,293.09999999999974,293.09999999999974,"","",35.331467477786298,"",35.331467477786298,"",44.767605748136077,null,null,null,null,null,null,null,null,null,null,null,null,null,null,null,null,null,null,null,null,null,null,null,null,0,0,null,null,null,null,null,null,null,null,44.767605748136077,41.367607002151871,105.45,67.45957622870219,71.25,59.315807566858858,191.50000000000003]
[null,null,null,null,null,null,4.9999999999999982,19,19,40,36,null,0,null,0.25961618368249972,"",0,"",1.0995574287564276,294.99999999999972,294.99999999999972,"","",35.824738226783047,"",35.824738226783047,"",44.767605748136077,null,null,null,null,null,null,null,null,null,null,null,null,null,null,null,null,null,null,null,null,null,null,null,null,0,0,null,null,null,null,null,null,null,null,44.767605748136077,41.367607002151871,105.45,67.45957622870219,71.25,59.315807566858858,191.50000000000003]
[null,null,null,null,null,null,5.0999999999999979,19,19,40,36,null,0,null,0.25961618368249972,"",0,"",1.0995574287564276,296.89999999999969,296.89999999999969,"","",36.318008975779783,"",36.318008975779783,"",44.767605748136077,null,null,null,null,null,null,null,null,null,null,null,null,null,null,null,null,null,null,null,null,null,null,null,null,0,0,null,null,null,null,null,null,null,null,44.767605748136077,41.367607002151871,105.45,67.45957622870219,71.25,59.315807566858858,191.50000000000003]
[null,null,null,null,null,null,5.1999999999999975,19,19,40,36,null,0,null,0.25961618368249972,"",0,"",1.0995574287564276,298.79999999999967,298.79999999999967,"","",36.811279724776533,"",36.811279724776533,"",44.767605748136077,null,null,null,null,null,null,null,null,null,null,null,null,null,null,null,null,null,null,null,null,null,null,null,null,0,0,null,null,null,null,null,null,null,null,44.767605748136077,41.367607002151871,105.45,67.45957622870219,71.25,59.315807566858858,191.50000000000003]
[null,null,null,null,null,null,5.2999999999999972,19,19,40,36,null,0,null,0.25961618368249972,"",0,"",1.0995574287564276,300.69999999999965,300.69999999999965,"","",37.304550473773268,"",37.304550473773268,"",44.767605748136077,null,null,null,null,null,null,null,null,null,null,null,null,null,null,null,null,null,null,null,null,null,null,null,null,0,0,null,null,null,null,null,null,null,null,44.767605748136077,41.367607002151871,105.45,67.45957622870219,71.25,59.315807566858858,191.50000000000003]
[null,null,null,null,null,null,5.3999999999999968,19,19,40,36,null,0,null,0.25961618368249972,"",0,"",1.0995574287564276,302.59999999999962,302.59999999999962,"","",37.797821222770018,"",37.797821222770018,"",44.767605748136077,null,null,null,null,null,null,null,null,null,null,null,null,null,null,null,null,null,null,null,null,null,null,null,null,0,0,null,null,null,null,null,null,null,null,44.767605748136077,41.367607002151871,105.45,67.45957622870219,71.25,59.315807566858858,191.50000000000003]
[null,null,null,null,null,null,5.4999999999999964,19,19,40,36,null,0,null,0.25961618368249972,"",0,"",1.0995574287564276,304.4999999999996,304.4999999999996,"","",38.291091971766754,"",38.291091971766754,"",44.767605748136077,null,null,null,null,null,null,null,null,null,null,null,null,null,null,null,null,null,null,null,null,null,null,null,null,0,0,null,null,null,null,null,null,null,null,44.767605748136077,41.367607002151871,105.45,67.45957622870219,71.25,59.315807566858858,191.50000000000003]
[null,null,null,null,null,null,5.5999999999999961,19,19,40,36,null,0,null,0.25961618368249972,"",0,"",1.0995574287564276,306.39999999999958,306.39999999999958,"","",38.784362720763504,"",38.784362720763504,"",44.767605748136077,null,null,null,null,null,null,null,null,null,null,null,null,null,null,null,null,null,null,null,null,null,null,null,null,0,0,null,null,null,null,null,null,null,null,44.767605748136077,41.367607002151871,105.45,67.45957622870219,71.25,59.315807566858858,191.50000000000003]
[null,null,null,null,null,null,5.6999999999999957,19,19,40,36,null,0,null,0.25961618368249972,"",0,"",1.0995574287564276,308.29999999999956,308.29999999999956,"","",39.277633469760239,"",39.277633469760239,"",44.767605748136077,null,null,null,null,null,null,null,null,null,null,null,null,null,null,null,null,null,null,null,null,null,null,null,null,0,0,null,null,null,null,null,null,null,null,44.767605748136077,41.367607002151871,105.45,67.45957622870219,71.25,59.315807566858858,191.50000000000003]
[null,null,null,null,null,null,5.7999999999999954,19,19,40,36,null,0,null,0.25961618368249972,"",0,"",1.0995574287564276,310.19999999999953,310.19999999999953,"","",39.770904218756989,"",39.770904218756989,"",44.767605748136077,null,null,null,null,null,null,null,null,null,null,null,null,null,null,null,null,null,null,null,null,null,null,null,null,0,0,null,null,null,null,null,null,null,null,44.767605748136077,41.367607002151871,105.45,67.45957622870219,71.25,59.315807566858858,191.50000000000003]
[null,null,null,null,null,null,5.899999999999995,19,19,40,36,null,0,null,0.25961618368249972,"",0,"",1.0995574287564276,312.09999999999951,312.09999999999951,"","",40.264174967753739,"",40.264174967753739,"",44.767605748136077,null,null,null,null,null,null,null,null,null,null,null,null,null,null,null,null,null,null,null,null,null,null,null,null,0,0,null,null,null,null,null,null,null,null,44.767605748136077,41.367607002151871,105.45,67.45957622870219,71.25,59.315807566858858,191.50000000000003]
[null,null,null,null,null,null,5.9999999999999947,19,19,40,36,null,0,null,0.25961618368249972,"",0,"",1.0995574287564276,313.99999999999949,313.99999999999949,"","",40.757445716750475,"",40.757445716750475,"",44.767605748136077,null,null,null,null,null,null,null,null,null,null,null,null,null,null,null,null,null,null,null,null,null,null,null,null,0,0,null,null,null,null,null,null,null,null,44.767605748136077,41.367607002151871,105.45,67.45957622870219,71.25,59.315807566858858,191.50000000000003]
[null,null,null,null,null,null,6.0999999999999943,19,19,40,36,null,0,null,0.25961618368249972,"",0,"",1.0995574287564276,315.89999999999947,315.89999999999947,"","",41.250716465747225,"",41.250716465747225,"",44.767605748136077,null,null,null,null,null,null,null,null,null,null,null,null,null,null,null,null,null,null,null,null,null,null,null,null,0,0,null,null,null,null,null,null,null,null,44.767605748136077,41.367607002151871,105.45,67.45957622870219,71.25,59.315807566858858,191.50000000000003]
[null,null,null,null,null,null,6.199999999999994,19,19,40,36,null,0,null,0.25961618368249972,"",0,"",1.0995574287564276,317.79999999999944,317.79999999999944,"",{"$f":"IF(G68<h,(\"\"),(IF(G68<h+dzd,(0),(IF(N68=\"\",(W67+H68*(G68-G67)),(W67+(I68-9.81)*(G68-G67)))))))","v":""},41.74398721474396,"",{"$f":"IF(Y68=\"\",X68,X68+Y68)","v":41.74398721474396},{"$f":"IF(N68=\"\",(\"\"),IF(G68>h,AA67,((G68-nz)*9.81)))","v":""},44.767605748136077,null,null,null,null,null,null,null,null,null,null,null,null,null,null,null,null,null,null,null,null,null,null,null,null,0,0,null,null,null,null,null,null,null,null,44.767605748136077,41.367607002151871,105.45,67.45957622870219,71.25,59.315807566858858,191.50000000000003]
[null,null,null,null,null,null,6.2999999999999936,19,19,40,36,null,0,null,0.25961618368249972,"",0,"",1.0995574287564276,319.69999999999942,319.69999999999942,"","",42.23725796374071,"",42.23725796374071,"",44.767605748136077,null,null,null,null,null,null,null,null,null,null,null,null,null,null,null,null,null,null,null,null,null,null,null,null,0,0,null,null,null,null,null,null,null,null,44.767605748136077,41.367607002151871,105.45,67.45957622870219,71.25,59.315807566858858,191.50000000000003]
[null,null,null,null,null,null,6.3999999999999932,19,19,40,36,null,0,null,0.25961618368249972,"",0,{"$f":"IF(L70=\"\",\"\",(IF(G70=\"\",\"\",IF(G70=h,(R71),(IF(N70=\"\",$E$11,($E$11*V70/W70)))))))","v":""},1.0995574287564276,321.5999999999994,321.5999999999994,{"$f":"IF(G70<h,(\"\"),(IF(G70<h+dzd,(0),(IF(N70=\"\",(V69+H70*(G70-G69)),(V69+(I70)*(G70-G69)))))))","v":""},"",42.730528712737446,{"$f":"IF(G70<h,(\"\"),((-P70*W70-2*J70*(P70^0.5))*COS(RADIANS(M70))))","v":""},42.730528712737446,"",{"$f":"IF(G70=\"\",\"\",IF(G70>hd,0,IF($A$27=1,BK70,IF($A$27=2,BL70,IF($A$27=3,BM70,IF($A$27=4,BN70+ka*($E$4+$E$5),IF($A$27=5,BP70,IF($A$27=6,BO70,BQ70))))))))","v":44.767605748136077},null,null,null,null,null,null,null,null,null,null,null,null,null,null,null,null,null,null,null,null,null,null,null,null,0,0,null,null,null,null,null,null,null,null,{"$f":"IF(G70=\"\",\"\",IF(G70>hd,0,(IF(G70<0.2*(hd),(1.6*($AH$20+$AH$21)/(hd)/0.2/(hd)*G70),(IF(G70<0.8*(hd),(1.6*($AH$20+$AH$21)/(hd)),(1.6*($AH$20+$AH$21)/(hd)-1.6*($AH$20+$AH$21)/(hd)/0.2/(hd)*(G70-0.8*(hd)))))))))","v":44.767605748136077},{"$f":"IF(G70=\"\",\"\",IF(G70>hd,0,(IF(G70<((2/3)*$AH$6),(1.3*($AH$20+$AH$21)/(hd-(1/3)*($AH$6+(hd-MAX($AP$6:$AP$15))))*G70/(2/3*$AH$6)),(IF(G70<(h-2/3*(hd-MAX($AP$6:$AP$15))),1.3*($AH$20+$AH$21)/(hd-1/3*($AH$6+(hd-MAX($AP$6:$AP$15)))),1.3*($AH$20+$AH$21)/(hd-1/3*($AH$6+(hd-MAX($AP$6:$AP$15))))*(1-(G70-(hd-2/3*(hd-MAX($AP$6:$AP$15))))/(2/3*(hd-MAX($AP$6:$AP$15))))))))))","v":41.367607002151871},{"$f":"IF(G70=\"\",\"\",IF(G70>hd,0,(IF(G70<(0.6667*$AH$6),(0.3*g*hd*G70/(0.6667*$AH$6)),(IF(G70<(hd-0.6667*(hd-MAX($AP$6:$AP$15))),0.3*g*hd,0.3*g*hd*(1-(G70-(hd-0.6667*(hd-MAX($AP$6:$AP$15))))/(0.6667*(hd-MAX($AP$6:$AP$15))))))))))","v":105.45},{"$f":"IF(G70=\"\",\"\",IF(G70>hd,0,(IF(G70<((2/3)*$AH$6),(0.65*ka*g*hd*hd/(hd-(1/3)*($AH$6+(hd-MAX($AP$6:$AP$15))))*G70/(2/3*$AH$6)),(IF(G70<(h-2/3*(hd-MAX($AP$6:$AP$15))),0.65*ka*g*hd*hd/(hd-1/3*($AH$6+(hd-MAX($AP$6:$AP$15)))),0.65*ka*g*hd*hd/(hd-1/3*($AH$6+(hd-MAX($AP$6:$AP$15))))*(1-(G70-(hd-2/3*(hd-MAX($AP$6:$AP$15))))/(2/3*(hd-MAX($AP$6:$AP$15))))))))))","v":67.45957622870219},{"$f":"IF(G70=\"\",\"\",IF(G70>hd,0,(IF(G70<(0.25*hd),(0.3*g*h*G70/(0.25*hd)),(IF(G70<(0.75*hd),0.3*g*h,0.3*g*h*(1-(G70-0.75*hd)/0.25/hd)))))))","v":71.25},{"$f":"IF(G70>hd,0,IF(G70=\"\",\"\",0.65*ka*g*hd))","v":59.315807566858858},{"$f":"IF(G70=\"\",\"\",IF(G70>hd,0,(IF(G70<(0.25*hd),(1-4*ca/g/hd)*g*hd*G70/(0.25*hd),((1-4*ca/g/hd)*g*hd)))))","v":191.50000000000003}]
[null,null,null,null,null,null,6.4999999999999929,19,19,40,36,null,0,null,{"$f":"IF(G71=\"\",(\"\"),((SIN(RADIANS($E$9+BA71-K71)))^2)*((SIN(RADIANS($E$9)))^-2)*((COS(RADIANS(BA71)))^-1)*((SIN((RADIANS($E$9+BA71+M71))))^-1)/(1+((SIN(RADIANS(K71+M71)))*(SIN((RADIANS(K71-$E$7-BA71))/(SIN(RADIANS($E$9-$E$7)))/(SIN((RADIANS($E$9+BA71+M71)))))))^0.5)^2)","v":0.25961618368249972},{"$f":"IF(L71=\"\",(\"\"),((SIN(RADIANS($E$9-BB71+L71)))^2)*((SIN(RADIANS($E$9)))^-2)*((COS(RADIANS(BB71)))^-1)*((SIN((RADIANS($E$9-BB71-M71))))^-1)/(1-((SIN(RADIANS(L71+M71)))*(SIN((RADIANS(L71+$E$7-BB71))/(SIN(RADIANS($E$9-$E$7)))/(SIN((RADIANS($E$9-BB71-M71)))))))^0.5)^2)","v":""},{"$f":"IF(G71=\"\",\"\",(IF(N71=\"\",$E$11,($E$11*T71/U71))))","v":0},"",{"$f":"IF(G71=\"\",\"\",0.5*PI()-ATAN((-TAN(RADIANS(K71+M71+(90-$E$9)-$E$7)))+(1/(COS(RADIANS(K71+M71+(90-$E$9)-$E$7))))*((COS((RADIANS(90-$E$9+M71+BA71))))^0.5)*((SIN(RADIANS(K71+M71)))^0.5)*((COS(RADIANS(90-$E$9-$E$7)))^-0.5)*((SIN(RADIANS(K71-$E$7-BA71)))^-0.5)))+$E$7","v":1.0995574287564276},323.49999999999937,323.49999999999937,"","",43.223799461734195,"",43.223799461734195,"",44.767605748136077,null,null,null,null,null,null,null,null,null,null,null,null,null,null,null,null,null,null,null,null,null,null,null,null,{"$f":"ATAN(Q71)/0.017453","v":0},{"$f":"ATAN(Q71)/0.017453","v":0},null,null,null,null,null,null,null,null,44.767605748136077,41.367607002151871,105.45,67.45957622870219,71.25,59.315807566858858,191.50000000000003]
[null,null,null,null,null,null,6.5999999999999925,19,19,40,36,null,0,null,0.25961618368249972,"",0,"",1.0995574287564276,{"$f":"IF(G72=\"\",(\"\"),(IF(N72=\"\",(T71+(G72-G71)*H71),(T71+(G72-G71)*(I71)))))","v":325.39999999999935},{"$f":"IF(G72=\"\",(\"\"),(IF(N72=\"\",(U71+(G72-G71)*H71),(U71+(G72-G71)*(I71-9.81)))))","v":325.39999999999935},"","",{"$f":"IF(G72=\"\",(\"\"),((O72*U72-2*J72*(O72)^0.5))*COS(RADIANS(M72)))","v":43.717070210730945},"",43.717070210730945,"",44.767605748136077,null,null,null,null,null,null,null,null,null,null,null,null,null,null,null,null,null,null,null,null,null,null,null,null,0,0,null,null,null,null,null,null,null,null,44.767605748136077,41.367607002151871,105.45,67.45957622870219,71.25,59.315807566858858,191.50000000000003]
[null,null,null,null,null,null,6.6999999999999922,19,19,40,36,null,0,null,0.25961618368249972,"",0,"",1.0995574287564276,327.29999999999933,327.29999999999933,"","",44.210340959727681,"",44.210340959727681,"",44.767605748136077,null,null,null,null,null,null,null,null,null,null,null,null,null,null,null,null,null,null,null,null,null,null,null,null,0,0,null,null,null,null,null,null,null,null,44.767605748136077,41.367607002151871,105.45,67.45957622870219,71.25,59.315807566858858,191.50000000000003]
[null,null,null,null,null,null,6.7999999999999918,19,19,40,36,null,0,null,0.25961618368249972,"",0,"",1.0995574287564276,329.19999999999931,329.19999999999931,"","",44.703611708724431,"",44.703611708724431,"",44.767605748136077,null,null,null,null,null,null,null,null,null,null,null,null,null,null,null,null,null,null,null,null,null,null,null,null,0,0,null,null,null,null,null,null,null,null,44.767605748136077,41.367607002151871,105.45,67.45957622870219,71.25,59.315807566858858,191.50000000000003]
[null,null,null,null,null,null,6.8999999999999915,19,19,40,36,null,0,null,0.25961618368249972,"",0,"",1.0995574287564276,331.09999999999928,331.09999999999928,"","",45.196882457721166,"",45.196882457721166,"",44.767605748136077,null,null,null,null,null,null,null,null,null,null,null,null,null,null,null,null,null,null,null,null,null,null,null,null,0,0,null,null,null,null,null,null,null,null,44.767605748136077,41.367607002151871,105.45,67.45957622870219,71.25,59.315807566858858,191.50000000000003]
[null,null,null,null,null,null,6.9999999999999911,19,19,40,36,null,0,null,0.25961618368249972,"",0,"",1.0995574287564276,332.99999999999926,332.99999999999926,"","",45.690153206717916,"",45.690153206717916,"",44.767605748136077,null,null,null,null,null,null,null,null,null,null,null,null,null,null,null,null,null,null,null,null,null,null,null,null,0,0,null,null,null,null,null,null,null,null,44.767605748136077,41.367607002151871,105.45,67.45957622870219,71.25,59.315807566858858,191.50000000000003]
[null,null,null,null,null,null,7.0999999999999908,19,19,40,36,null,0,null,0.25961618368249972,"",0,"",1.0995574287564276,334.89999999999924,334.89999999999924,"","",46.183423955714652,"",46.183423955714652,"",44.767605748136077,null,null,null,null,null,null,null,null,null,null,null,null,null,null,null,null,null,null,null,null,null,null,null,null,0,0,null,null,null,null,null,null,null,null,44.767605748136077,41.367607002151871,105.45,67.45957622870219,71.25,59.315807566858858,191.50000000000003]
[null,null,null,null,null,null,7.1999999999999904,19,19,40,36,null,0,null,0.25961618368249972,"",0,"",1.0995574287564276,336.79999999999922,336.79999999999922,"","",46.676694704711402,"",46.676694704711402,"",44.767605748136077,null,null,null,null,null,null,null,null,null,null,null,null,null,null,null,null,null,null,null,null,null,null,null,null,0,0,null,null,null,null,null,null,null,null,44.767605748136077,41.367607002151871,105.45,67.45957622870219,71.25,59.315807566858858,191.50000000000003]
[null,null,null,null,null,null,7.2999999999999901,19,19,40,36,null,0,null,0.25961618368249972,"",0,"",1.0995574287564276,338.69999999999919,338.69999999999919,"","",47.169965453708137,"",47.169965453708137,"",44.767605748136077,null,null,null,null,null,null,null,null,null,null,null,null,null,null,null,null,null,null,null,null,null,null,null,null,0,0,null,null,null,null,null,null,null,null,44.767605748136077,41.367607002151871,105.45,67.45957622870219,71.25,59.315807566858858,191.50000000000003]
[null,null,null,null,null,null,7.3999999999999897,19,19,40,36,null,0,null,0.25961618368249972,"",0,"",1.0995574287564276,340.59999999999917,340.59999999999917,"","",47.663236202704887,"",47.663236202704887,"",44.767605748136077,null,null,null,null,null,null,null,null,null,null,null,null,null,null,null,null,null,null,null,null,null,null,null,null,0,0,null,null,null,null,null,null,null,null,44.767605748136077,41.367607002151871,105.45,67.45957622870219,71.25,59.315807566858858,191.50000000000003]
[null,null,null,null,null,null,7.4999999999999893,19,19,40,36,null,0,null,0.25961618368249972,"",0,"",1.0995574287564276,342.49999999999915,342.49999999999915,"","",48.156506951701637,"",48.156506951701637,"",44.767605748136077,null,null,null,null,null,null,null,null,null,null,null,null,null,null,null,null,null,null,null,null,null,null,null,null,0,0,null,null,null,null,null,null,null,null,44.767605748136077,41.367607002151871,105.45,67.45957622870219,71.25,59.315807566858858,191.50000000000003]
[null,null,null,null,null,null,7.599999999999989,19,19,40,36,null,0,null,0.25961618368249972,"",0,"",1.0995574287564276,344.39999999999912,344.39999999999912,"","",48.649777700698372,"",48.649777700698372,"",44.767605748136077,null,null,null,null,null,null,null,null,null,null,null,null,null,null,null,null,null,null,null,null,null,null,null,null,0,0,null,null,null,null,null,null,null,null,44.767605748136077,41.367607002151871,105.45,67.45957622870219,71.25,59.315807566858858,191.50000000000003]
[null,null,null,null,null,null,7.6999999999999886,19,19,40,36,null,0,null,0.25961618368249972,"",0,"",1.0995574287564276,346.2999999999991,346.2999999999991,"","",49.143048449695122,"",49.143048449695122,"",44.767605748136077,null,null,null,null,null,null,null,null,null,null,null,null,null,null,null,null,null,null,null,null,null,null,null,null,0,0,null,null,null,null,null,null,null,null,44.767605748136077,41.367607002151871,105.45,67.45957622870219,71.25,59.315807566858858,191.50000000000003]
[null,null,null,null,null,null,7.7999999999999883,19,19,40,36,null,0,null,0.25961618368249972,"",0,"",1.0995574287564276,348.19999999999908,348.19999999999908,"","",49.636319198691858,"",49.636319198691858,"",44.767605748136077,null,null,null,null,null,null,null,null,null,null,null,null,null,null,null,null,null,null,null,null,null,null,null,null,0,0,null,null,null,null,null,null,null,null,44.767605748136077,41.367607002151871,105.45,67.45957622870219,71.25,59.315807566858858,191.50000000000003]
[null,null,null,null,null,null,7.8999999999999879,19,19,40,36,null,0,null,0.25961618368249972,"",0,"",1.0995574287564276,350.09999999999906,350.09999999999906,"","",50.129589947688608,"",50.129589947688608,"",44.767605748136077,null,null,null,null,null,null,null,null,null,null,null,null,null,null,null,null,null,null,null,null,null,null,null,null,0,0,null,null,null,null,null,null,null,null,44.767605748136077,41.367607002151871,105.45,67.45957622870219,71.25,59.315807566858858,191.50000000000003]
[null,null,null,null,null,null,7.9999999999999876,19,19,40,36,null,0,null,0.25961618368249972,"",0,"",1.0995574287564276,351.99999999999903,351.99999999999903,"","",50.622860696685343,"",50.622860696685343,"",44.767605748136077,null,null,null,null,null,null,null,null,null,null,null,null,null,null,null,null,null,null,null,null,null,null,null,null,0,0,null,null,null,null,null,null,null,null,44.767605748136077,41.367607002151871,105.45,67.45957622870219,71.25,59.315807566858858,191.50000000000003]
[null,null,null,null,null,null,8.0999999999999872,19,19,40,36,null,0,null,0.25961618368249972,"",0,"",1.0995574287564276,353.89999999999901,353.89999999999901,"","",51.116131445682093,"",51.116131445682093,"",44.767605748136077,null,null,null,null,null,null,null,null,null,null,null,null,null,null,null,null,null,null,null,null,null,null,null,null,0,0,null,null,null,null,null,null,null,null,44.767605748136077,96.318607348294037,105.45,157.07005808473963,71.25,59.315807566858858,191.50000000000003]
[null,null,null,null,null,null,8.1999999999999869,19,19,40,36,null,0,null,0.25961618368249972,"",0,"",1.0995574287564276,355.79999999999899,355.79999999999899,"","",51.609402194678829,"",51.609402194678829,"",44.767605748136077,null,null,null,null,null,null,null,null,null,null,null,null,null,null,null,null,null,null,null,null,null,null,null,null,0,0,null,null,null,null,null,null,null,null,44.767605748136077,95.392466893022004,105.45,155.55976906469411,71.25,59.315807566858858,191.50000000000003]
[null,null,null,null,null,null,8.2999999999999865,19,19,40,36,null,0,null,0.25961618368249972,"",0,"",1.0995574287564276,357.69999999999897,357.69999999999897,"","",52.102672943675579,"",52.102672943675579,"",44.767605748136077,null,null,null,null,null,null,null,null,null,null,null,null,null,null,null,null,null,null,null,null,null,null,null,null,0,0,null,null,null,null,null,null,null,null,44.767605748136077,94.466326437749942,105.45,154.04948004464853,71.25,59.315807566858858,191.50000000000003]
[null,null,null,null,null,null,8.3999999999999861,19,19,40,36,null,0,null,0.25961618368249972,"",0,"",1.0995574287564276,359.59999999999894,359.59999999999894,"","",52.595943692672328,"",52.595943692672328,"",44.767605748136077,null,null,null,null,null,null,null,null,null,null,null,null,null,null,null,null,null,null,null,null,null,null,null,null,0,0,null,null,null,null,null,null,null,null,44.767605748136077,93.540185982477894,105.45,152.53919102460296,71.25,59.315807566858858,191.50000000000003]
[null,null,null,null,null,null,8.4999999999999858,19,19,40,36,null,0,null,0.25961618368249972,"",0,"",1.0995574287564276,361.49999999999892,361.49999999999892,"","",53.089214441669064,"",53.089214441669064,"",44.767605748136077,null,null,null,null,null,null,null,null,null,null,null,null,null,null,null,null,null,null,null,null,null,null,null,null,0,0,null,null,null,null,null,null,null,null,44.767605748136077,92.614045527205832,105.45,151.02890200455741,71.25,59.315807566858858,191.50000000000003]
[null,null,null,null,null,null,8.5999999999999854,19,19,40,36,null,0,null,0.25961618368249972,"",0,"",1.0995574287564276,363.3999999999989,363.3999999999989,"","",53.582485190665814,"",53.582485190665814,"",44.767605748136077,null,null,null,null,null,null,null,null,null,null,null,null,null,null,null,null,null,null,null,null,null,null,null,null,0,0,null,null,null,null,null,null,null,null,44.767605748136077,91.687905071933784,105.45,149.51861298451183,71.25,59.315807566858858,191.50000000000003]
[null,null,null,null,null,null,8.6999999999999851,19,19,40,36,null,0,null,0.25961618368249972,"",0,"",1.0995574287564276,365.29999999999887,365.29999999999887,"","",54.07575593966255,"",54.07575593966255,"",44.767605748136077,null,null,null,null,null,null,null,null,null,null,null,null,null,null,null,null,null,null,null,null,null,null,null,null,0,0,null,null,null,null,null,null,null,null,44.767605748136077,90.761764616661722,105.45,148.00832396446626,71.25,59.315807566858858,191.50000000000003]
[null,null,null,null,null,null,8.7999999999999847,19,19,40,36,null,0,null,0.25961618368249972,"",0,"",1.0995574287564276,367.19999999999885,367.19999999999885,"","",54.569026688659299,"",54.569026688659299,"",44.767605748136077,null,null,null,null,null,null,null,null,null,null,null,null,null,null,null,null,null,null,null,null,null,null,null,null,0,0,null,null,null,null,null,null,null,null,44.767605748136077,89.835624161389674,105.45,146.49803494442068,71.25,59.315807566858858,191.50000000000003]
[null,null,null,null,null,null,8.8999999999999844,19,19,40,36,null,0,null,0.25961618368249972,"",0,"",1.0995574287564276,369.09999999999883,369.09999999999883,"","",55.062297437656035,"",55.062297437656035,"",44.767605748136077,null,null,null,null,null,null,null,null,null,null,null,null,null,null,null,null,null,null,null,null,null,null,null,null,0,0,null,null,null,null,null,null,null,null,44.767605748136077,88.909483706117612,105.45,144.98774592437513,71.25,59.315807566858858,191.50000000000003]
[null,null,null,null,null,null,8.999999999999984,19,19,40,36,null,0,null,0.25961618368249972,"",0,"",1.0995574287564276,370.99999999999881,370.99999999999881,"","",55.555568186652785,"",55.555568186652785,"",44.767605748136077,null,null,null,null,null,null,null,null,null,null,null,null,null,null,null,null,null,null,null,null,null,null,null,null,0,0,null,null,null,null,null,null,null,null,44.767605748136077,87.983343250845564,105.45,143.47745690432956,71.25,59.315807566858858,191.50000000000003]
[null,null,null,null,null,null,9.0999999999999837,19,19,40,36,null,0,null,0.25961618368249972,"",0,"",1.0995574287564276,372.89999999999878,372.89999999999878,"","",56.048838935649535,"",56.048838935649535,"",44.767605748136077,null,null,null,null,null,null,null,null,null,null,null,null,null,null,null,null,null,null,null,null,null,null,null,null,0,0,null,null,null,null,null,null,null,null,44.767605748136077,87.057202795573531,105.45,141.96716788428401,71.25,59.315807566858858,191.50000000000003]
[null,null,null,null,null,null,9.1999999999999833,19,19,40,36,null,0,null,0.25961618368249972,"",0,"",1.0995574287564276,374.79999999999876,374.79999999999876,"","",56.54210968464627,"",56.54210968464627,"",44.767605748136077,null,null,null,null,null,null,null,null,null,null,null,null,null,null,null,null,null,null,null,null,null,null,null,null,0,0,null,null,null,null,null,null,null,null,44.767605748136077,86.131062340301455,105.45,140.45687886423843,71.25,59.315807566858858,191.50000000000003]
[null,null,null,null,null,null,9.2999999999999829,19,19,40,36,null,0,null,0.25961618368249972,"",0,"",1.0995574287564276,376.69999999999874,376.69999999999874,"","",57.03538043364302,"",57.03538043364302,"",44.767605748136077,null,null,null,null,null,null,null,null,null,null,null,null,null,null,null,null,null,null,null,null,null,null,null,null,0,0,null,null,null,null,null,null,null,null,44.767605748136077,85.204921885029421,105.45,138.94658984419289,71.25,59.315807566858858,191.50000000000003]
[null,null,null,null,null,null,9.3999999999999826,19,19,40,36,null,0,null,0.25961618368249972,"",0,"",1.0995574287564276,378.59999999999872,378.59999999999872,"","",57.528651182639756,"",57.528651182639756,"",44.767605748136077,null,null,null,null,null,null,null,null,null,null,null,null,null,null,null,null,null,null,null,null,null,null,null,null,0,0,null,null,null,null,null,null,null,null,44.767605748136077,84.278781429757345,105.45,137.43630082414728,71.25,59.315807566858858,191.50000000000003]
[null,null,null,null,null,null,9.4999999999999822,19,19,40,36,null,0,null,0.25961618368249972,"",0,"",1.0995574287564276,380.49999999999869,380.49999999999869,"","",58.021921931636506,"",58.021921931636506,"",44.767605748136077,null,null,null,null,null,null,null,null,null,null,null,null,null,null,null,null,null,null,null,null,null,null,null,null,0,0,null,null,null,null,null,null,null,null,44.767605748136077,83.352640974485311,105.45,135.92601180410173,71.25,59.315807566858858,191.50000000000003]
[null,null,null,null,null,null,9.5999999999999819,19,19,40,36,null,0,null,0.25961618368249972,"",0,"",1.0995574287564276,382.39999999999867,382.39999999999867,"","",58.515192680633241,"",58.515192680633241,"",44.767605748136077,null,null,null,null,null,null,null,null,null,null,null,null,null,null,null,null,null,null,null,null,null,null,null,null,0,0,null,null,null,null,null,null,null,null,44.767605748136077,82.426500519213249,105.45,134.41572278405619,71.25,59.315807566858858,191.50000000000003]
[null,null,null,null,null,null,9.6999999999999815,19,19,40,36,null,0,null,0.25961618368249972,"",0,"",1.0995574287564276,384.29999999999865,384.29999999999865,"","",59.008463429629991,"",59.008463429629991,"",44.767605748136077,null,null,null,null,null,null,null,null,null,null,null,null,null,null,null,null,null,null,null,null,null,null,null,null,0,0,null,null,null,null,null,null,null,null,44.767605748136077,81.500360063941201,105.45,132.90543376401061,71.25,59.315807566858858,191.50000000000003]
[null,null,null,null,null,null,9.7999999999999812,19,19,40,36,null,0,null,0.25961618368249972,"",0,"",1.0995574287564276,386.19999999999862,386.19999999999862,"","",59.501734178626727,"",59.501734178626727,"",44.767605748136077,null,null,null,null,null,null,null,null,null,null,null,null,null,null,null,null,null,null,null,null,null,null,null,null,0,0,null,null,null,null,null,null,null,null,44.767605748136077,80.574219608669139,105.45,131.39514474396503,71.25,59.315807566858858,191.50000000000003]
[null,null,null,null,null,null,9.8999999999999808,19,19,40,36,null,0,null,0.25961618368249972,"",0,"",1.0995574287564276,388.0999999999986,388.0999999999986,"","",59.995004927623476,"",59.995004927623476,"",44.767605748136077,null,null,null,null,null,null,null,null,null,null,null,null,null,null,null,null,null,null,null,null,null,null,null,null,0,0,null,null,null,null,null,null,null,null,44.767605748136077,79.648079153397092,105.45,129.88485572391946,71.25,59.315807566858858,191.50000000000003]
[null,null,null,null,null,null,9.9999999999999805,19,19,40,36,null,0,null,0.25961618368249972,"",0,"",1.0995574287564276,389.99999999999858,389.99999999999858,"","",60.488275676620226,"",60.488275676620226,"",44.767605748136077,null,null,null,null,null,null,null,null,null,null,null,null,null,null,null,null,null,null,null,null,null,null,null,null,0,0,null,null,null,null,null,null,null,null,44.767605748136077,78.72193869812503,105.45,128.37456670387391,71.25,59.315807566858858,191.50000000000003]
[null,null,null,null,null,null,10.09999999999998,19,19,40,36,null,0,null,0.25961618368249972,"",0,"",1.0995574287564276,391.89999999999856,391.89999999999856,"","",60.981546425616962,"",60.981546425616962,"",44.767605748136077,null,null,null,null,null,null,null,null,null,null,null,null,null,null,null,null,null,null,null,null,null,null,null,null,0,0,null,null,null,null,null,null,null,null,44.767605748136077,77.795798242852982,105.45,126.86427768382833,71.25,59.315807566858858,191.50000000000003]
[null,null,null,null,null,null,10.19999999999998,19,19,40,36,null,0,null,0.25961618368249972,"",0,"",1.0995574287564276,393.79999999999853,393.79999999999853,"","",61.474817174613712,"",61.474817174613712,"",44.767605748136077,null,null,null,null,null,null,null,null,null,null,null,null,null,null,null,null,null,null,null,null,null,null,null,null,0,0,null,null,null,null,null,null,null,null,44.767605748136077,76.86965778758092,105.45,125.35398866378277,71.25,59.315807566858858,191.50000000000003]
[null,null,null,null,null,null,10.299999999999979,19,19,40,36,null,0,null,0.25961618368249972,"",0,"",1.0995574287564276,395.69999999999851,395.69999999999851,"","",61.968087923610447,"",61.968087923610447,"",44.767605748136077,null,null,null,null,null,null,null,null,null,null,null,null,null,null,null,null,null,null,null,null,null,null,null,null,0,0,null,null,null,null,null,null,null,null,44.767605748136077,75.943517332308872,105.45,123.8436996437372,71.25,59.315807566858858,191.50000000000003]
[null,null,null,null,null,null,10.399999999999979,19,19,40,36,null,0,null,0.25961618368249972,"",0,"",1.0995574287564276,397.59999999999849,397.59999999999849,"","",62.461358672607197,"",62.461358672607197,"",44.767605748136077,null,null,null,null,null,null,null,null,null,null,null,null,null,null,null,null,null,null,null,null,null,null,null,null,0,0,null,null,null,null,null,null,null,null,44.767605748136077,75.01737687703681,105.45,122.33341062369163,71.25,59.315807566858858,191.50000000000003]
[null,null,null,null,null,null,10.499999999999979,19,19,40,36,null,0,null,0.25961618368249972,"",0,"",1.0995574287564276,399.49999999999847,399.49999999999847,"","",62.954629421603933,"",62.954629421603933,"",44.767605748136077,null,null,null,null,null,null,null,null,null,null,null,null,null,null,null,null,null,null,null,null,null,null,null,null,0,0,null,null,null,null,null,null,null,null,44.767605748136077,74.091236421764762,105.45,120.82312160364606,71.25,59.315807566858858,191.50000000000003]
[null,null,null,null,null,null,10.599999999999978,19,19,40,36,null,0,null,0.25961618368249972,"",0,"",1.0995574287564276,401.39999999999844,401.39999999999844,"","",63.447900170600683,"",63.447900170600683,"",44.767605748136077,null,null,null,null,null,null,null,null,null,null,null,null,null,null,null,null,null,null,null,null,null,null,null,null,0,0,null,null,null,null,null,null,null,null,44.767605748136077,73.1650959664927,105.45,119.3128325836005,71.25,59.315807566858858,191.50000000000003]
[null,null,null,null,null,null,10.699999999999978,19,19,40,36,null,0,null,0.25961618368249972,"",0,"",1.0995574287564276,403.29999999999842,403.29999999999842,"","",63.941170919597418,"",63.941170919597418,"",44.767605748136077,null,null,null,null,null,null,null,null,null,null,null,null,null,null,null,null,null,null,null,null,null,null,null,null,0,0,null,null,null,null,null,null,null,null,44.767605748136077,72.238955511220652,105.45,117.80254356355493,71.25,59.315807566858858,191.50000000000003]
[null,null,null,null,null,null,10.799999999999978,19,19,40,36,null,0,null,0.25961618368249972,"",0,"",1.0995574287564276,405.1999999999984,405.1999999999984,"","",64.434441668594161,"",64.434441668594161,"",44.767605748136077,null,null,null,null,null,null,null,null,null,null,null,null,null,null,null,null,null,null,null,null,null,null,null,null,0,0,null,null,null,null,null,null,null,null,44.767605748136077,71.312815055948604,105.45,116.29225454350937,71.25,59.315807566858858,191.50000000000003]
[null,null,null,null,null,null,10.899999999999977,19,19,40,36,null,0,null,0.25961618368249972,"",0,"",1.0995574287564276,407.09999999999837,407.09999999999837,"","",64.927712417590925,"",64.927712417590925,"",44.767605748136077,null,null,null,null,null,null,null,null,null,null,null,null,null,null,null,null,null,null,null,null,null,null,null,null,0,0,null,null,null,null,null,null,null,null,44.767605748136077,70.386674600676542,105.45,114.78196552346381,71.25,59.315807566858858,191.50000000000003]
[null,null,null,null,null,null,10.999999999999977,19,19,40,36,null,0,null,0.25961618368249972,"",0,"",1.0995574287564276,408.99999999999835,408.99999999999835,"","",65.420983166587661,"",65.420983166587661,"",44.767605748136077,null,null,null,null,null,null,null,null,null,null,null,null,null,null,null,null,null,null,null,null,null,null,null,null,0,0,null,null,null,null,null,null,null,null,44.767605748136077,69.460534145404495,105.45,113.27167650341823,71.25,59.315807566858858,191.50000000000003]
[null,null,null,null,null,null,11.099999999999977,19,19,40,36,null,0,null,0.25961618368249972,"",0,"",1.0995574287564276,410.89999999999833,410.89999999999833,"","",65.914253915584396,"",65.914253915584396,"",44.767605748136077,null,null,null,null,null,null,null,null,null,null,null,null,null,null,null,null,null,null,null,null,null,null,null,null,0,0,null,null,null,null,null,null,null,null,44.767605748136077,68.534393690132447,105.45,111.76138748337269,71.25,59.315807566858858,191.50000000000003]
[null,null,null,null,null,null,11.199999999999976,19,19,40,36,null,0,null,0.25961618368249972,"",0,"",1.0995574287564276,412.79999999999831,412.79999999999831,"","",66.407524664581132,"",66.407524664581132,"",44.767605748136077,null,null,null,null,null,null,null,null,null,null,null,null,null,null,null,null,null,null,null,null,null,null,null,null,0,0,null,null,null,null,null,null,null,null,44.767605748136077,67.608253234860399,105.45,110.25109846332711,71.25,59.315807566858858,191.50000000000003]
[null,null,null,null,null,null,11.299999999999976,19,19,40,36,null,0,null,0.25961618368249972,"",0,"",1.0995574287564276,414.69999999999828,414.69999999999828,"","",66.900795413577896,"",66.900795413577896,"",44.767605748136077,null,null,null,null,null,null,null,null,null,null,null,null,null,null,null,null,null,null,null,null,null,null,null,null,0,0,null,null,null,null,null,null,null,null,44.767605748136077,66.682112779588337,105.45,108.74080944328155,71.25,59.315807566858858,191.50000000000003]
[null,null,null,null,null,null,11.399999999999975,19,19,40,36,null,0,null,0.25961618368249972,"",0,"",1.0995574287564276,416.59999999999826,416.59999999999826,"","",67.394066162574632,"",67.394066162574632,"",44.767605748136077,null,null,null,null,null,null,null,null,null,null,null,null,null,null,null,null,null,null,null,null,null,null,null,null,0,0,null,null,null,null,null,null,null,null,44.767605748136077,65.755972324316289,105.45,107.23052042323597,71.25,59.315807566858858,191.50000000000003]
[null,null,null,null,null,null,11.499999999999975,19,19,40,36,null,0,null,0.25961618368249972,"",0,"",1.0995574287564276,418.49999999999824,418.49999999999824,"","",67.887336911571367,"",67.887336911571367,"",44.767605748136077,null,null,null,null,null,null,null,null,null,null,null,null,null,null,null,null,null,null,null,null,null,null,null,null,0,0,null,null,null,null,null,null,null,null,44.767605748136077,64.829831869044227,105.45,105.72023140319041,71.25,59.315807566858858,191.50000000000003]
[null,null,null,null,null,null,11.599999999999975,19,19,40,36,null,0,null,0.25961618368249972,"",0,"",1.0995574287564276,420.39999999999822,420.39999999999822,"","",68.380607660568103,"",68.380607660568103,"",44.767605748136077,null,null,null,null,null,null,null,null,null,null,null,null,null,null,null,null,null,null,null,null,null,null,null,null,0,0,null,null,null,null,null,null,null,null,44.767605748136077,63.903691413772172,105.45,104.20994238314483,71.25,59.315807566858858,191.50000000000003]
[null,null,null,null,null,null,11.699999999999974,19,19,40,36,null,0,null,0.25961618368249972,"",0,"",1.0995574287564276,422.29999999999819,422.29999999999819,"","",68.873878409564867,"",68.873878409564867,"",44.767605748136077,null,null,null,null,null,null,null,null,null,null,null,null,null,null,null,null,null,null,null,null,null,null,null,null,0,0,null,null,null,null,null,null,null,null,44.767605748136077,62.977550958500117,105.45,102.69965336309927,71.25,59.315807566858858,191.50000000000003]
[null,null,null,null,null,null,11.799999999999974,19,19,40,36,null,0,null,0.25961618368249972,"",0,"",1.0995574287564276,424.19999999999817,424.19999999999817,"","",69.367149158561602,"",69.367149158561602,"",44.767605748136077,null,null,null,null,null,null,null,null,null,null,null,null,null,null,null,null,null,null,null,null,null,null,null,null,0,0,null,null,null,null,null,null,null,null,44.767605748136077,62.051410503228063,105.45,101.18936434305371,71.25,59.315807566858858,191.50000000000003]
[null,null,null,null,null,null,11.899999999999974,19,19,40,36,null,0,null,0.25961618368249972,"",0,"",1.0995574287564276,426.09999999999815,426.09999999999815,"","",69.860419907558338,"",69.860419907558338,"",44.767605748136077,null,null,null,null,null,null,null,null,null,null,null,null,null,null,null,null,null,null,null,null,null,null,null,null,0,0,null,null,null,null,null,null,null,null,44.767605748136077,61.125270047956008,105.45,99.679075323008135,71.25,59.315807566858858,191.50000000000003]
[null,null,null,null,null,null,11.999999999999973,19,19,40,36,null,0,null,0.25961618368249972,"",0,"",1.0995574287564276,427.99999999999812,427.99999999999812,"","",70.353690656555102,"",70.353690656555102,"",44.767605748136077,null,null,null,null,null,null,null,null,null,null,null,null,null,null,null,null,null,null,null,null,null,null,null,null,0,0,null,null,null,null,null,null,null,null,44.767605748136077,60.199129592683953,105.45,98.168786302962573,71.25,59.315807566858858,191.50000000000003]
[null,null,null,null,null,null,12.099999999999973,19,19,40,36,null,0,null,0.25961618368249972,"",0,"",1.0995574287564276,429.8999999999981,429.8999999999981,"","",70.846961405551838,"",70.846961405551838,"",44.767605748136077,null,null,null,null,null,null,null,null,null,null,null,null,null,null,null,null,null,null,null,null,null,null,null,null,0,0,null,null,null,null,null,null,null,null,44.767605748136077,59.272989137411898,105.45,96.658497282916997,71.25,59.315807566858858,191.50000000000003]
[null,null,null,null,null,null,12.199999999999973,19,19,40,36,null,0,null,0.25961618368249972,"",0,"",1.0995574287564276,431.79999999999808,431.79999999999808,"","",71.340232154548573,"",71.340232154548573,"",44.767605748136077,null,null,null,null,null,null,null,null,null,null,null,null,null,null,null,null,null,null,null,null,null,null,null,null,0,0,null,null,null,null,null,null,null,null,44.767605748136077,58.34684868213985,105.45,95.148208262871449,71.25,59.315807566858858,191.50000000000003]
[null,null,null,null,null,null,12.299999999999972,19,19,40,36,null,0,null,0.25961618368249972,"",0,"",1.0995574287564276,433.69999999999806,433.69999999999806,"","",71.833502903545309,"",71.833502903545309,"",44.767605748136077,null,null,null,null,null,null,null,null,null,null,null,null,null,null,null,null,null,null,null,null,null,null,null,null,0,0,null,null,null,null,null,null,null,null,44.767605748136077,57.420708226867795,105.45,93.637919242825873,71.25,59.315807566858858,191.50000000000003]
[null,null,null,null,null,null,12.399999999999972,19,19,40,36,null,0,null,0.25961618368249972,"",0,"",1.0995574287564276,435.59999999999803,435.59999999999803,"","",72.326773652542073,"",72.326773652542073,"",44.767605748136077,null,null,null,null,null,null,null,null,null,null,null,null,null,null,null,null,null,null,null,null,null,null,null,null,0,0,null,null,null,null,null,null,null,null,44.767605748136077,56.49456777159574,105.45,92.127630222780311,71.25,59.315807566858858,191.50000000000003]
[null,null,null,null,null,null,12.5,19,19,40,36,29.999999999999996,0,null,0.25961618368249972,3.0000000000000004,0,0,1.0995574287564276,437.49999999999858,437.49999999999858,0,0,72.820044401538951,-138.5640646055102,-65.744020203971246,"",44.767605748136077,null,null,null,null,null,null,null,null,null,null,null,null,null,null,null,null,null,null,null,null,null,null,null,null,0,0,null,null,null,null,null,null,null,null,44.767605748136077,55.568427316323422,105.45,90.617341202734309,71.25,59.315807566858858,191.50000000000003]
[null,null,null,null,null,null,12.6,19,19,40,36,29.999999999999996,0,null,0.25961618368249972,3.0000000000000004,0,0,1.0995574287564276,439.39999999999856,439.39999999999856,1.8999999999999932,{"$f":"IF(G132<h,(\"\"),(IF(G132<h+dzd,(0),(IF(N132=\"\",(W131+H132*(G132-G131)),(W131+(I132-9.81)*(G132-G131)))))))","v":1.8999999999999932},73.313315150535686,-144.26406460551019,{"$f":"IF(Y132=\"\",X132,X132+Y132)","v":-70.950749454974499},{"$f":"IF(N132=\"\",(\"\"),IF(G132>h,AA131,((G132-nz)*9.81)))","v":""},44.767605748136077,null,null,null,null,null,null,null,null,null,null,null,null,null,null,null,null,null,null,null,null,null,null,null,null,0,0,null,null,null,null,null,null,null,null,44.767605748136077,54.642286861051367,105.45,89.107052182688733,71.25,59.315807566858858,191.50000000000003]
[null,null,null,null,null,null,12.7,19,19,40,36,29.999999999999996,0,null,0.25961618368249972,3.0000000000000004,0,0,1.0995574287564276,441.29999999999853,441.29999999999853,3.7999999999999865,3.7999999999999865,73.80658589953245,-149.96406460551015,-76.157478705977695,"",44.767605748136077,null,null,null,null,null,null,null,null,null,null,null,null,null,null,null,null,null,null,null,null,null,null,null,null,0,0,null,null,null,null,null,null,null,null,44.767605748136077,53.71614640577932,105.45,87.596763162643185,71.25,59.315807566858858,191.50000000000003]
[null,null,null,null,null,null,12.799999999999999,19,19,40,36,29.999999999999996,0,null,0.25961618368249972,3.0000000000000004,0,{"$f":"IF(L134=\"\",\"\",(IF(G134=\"\",\"\",IF(G134=h,(R135),(IF(N134=\"\",$E$11,($E$11*V134/W134)))))))","v":0},1.0995574287564276,443.19999999999851,443.19999999999851,{"$f":"IF(G134<h,(\"\"),(IF(G134<h+dzd,(0),(IF(N134=\"\",(V133+H134*(G134-G133)),(V133+(I134)*(G134-G133)))))))","v":5.6999999999999797},5.6999999999999797,74.299856648529186,{"$f":"IF(G134<h,(\"\"),((-P134*W134-2*J134*(P134^0.5))*COS(RADIANS(M134))))","v":-155.66406460551013},-81.364207956980948,"",{"$f":"IF(G134=\"\",\"\",IF(G134>hd,0,IF($A$27=1,BK134,IF($A$27=2,BL134,IF($A$27=3,BM134,IF($A$27=4,BN134+ka*($E$4+$E$5),IF($A$27=5,BP134,IF($A$27=6,BO134,BQ134))))))))","v":44.767605748136077},null,null,null,null,null,null,null,null,null,null,null,null,null,null,null,null,null,null,null,null,null,null,null,null,0,0,null,null,null,null,null,null,null,null,{"$f":"IF(G134=\"\",\"\",IF(G134>hd,0,(IF(G134<0.2*(hd),(1.6*($AH$20+$AH$21)/(hd)/0.2/(hd)*G134),(IF(G134<0.8*(hd),(1.6*($AH$20+$AH$21)/(hd)),(1.6*($AH$20+$AH$21)/(hd)-1.6*($AH$20+$AH$21)/(hd)/0.2/(hd)*(G134-0.8*(hd)))))))))","v":44.767605748136077},{"$f":"IF(G134=\"\",\"\",IF(G134>hd,0,(IF(G134<((2/3)*$AH$6),(1.3*($AH$20+$AH$21)/(hd-(1/3)*($AH$6+(hd-MAX($AP$6:$AP$15))))*G134/(2/3*$AH$6)),(IF(G134<(h-2/3*(hd-MAX($AP$6:$AP$15))),1.3*($AH$20+$AH$21)/(hd-1/3*($AH$6+(hd-MAX($AP$6:$AP$15)))),1.3*($AH$20+$AH$21)/(hd-1/3*($AH$6+(hd-MAX($AP$6:$AP$15))))*(1-(G134-(hd-2/3*(hd-MAX($AP$6:$AP$15))))/(2/3*(hd-MAX($AP$6:$AP$15))))))))))","v":52.790005950507265},{"$f":"IF(G134=\"\",\"\",IF(G134>hd,0,(IF(G134<(0.6667*$AH$6),(0.3*g*hd*G134/(0.6667*$AH$6)),(IF(G134<(hd-0.6667*(hd-MAX($AP$6:$AP$15))),0.3*g*hd,0.3*g*hd*(1-(G134-(hd-0.6667*(hd-MAX($AP$6:$AP$15))))/(0.6667*(hd-MAX($AP$6:$AP$15))))))))))","v":105.45},{"$f":"IF(G134=\"\",\"\",IF(G134>hd,0,(IF(G134<((2/3)*$AH$6),(0.65*ka*g*hd*hd/(hd-(1/3)*($AH$6+(hd-MAX($AP$6:$AP$15))))*G134/(2/3*$AH$6)),(IF(G134<(h-2/3*(hd-MAX($AP$6:$AP$15))),0.65*ka*g*hd*hd/(hd-1/3*($AH$6+(hd-MAX($AP$6:$AP$15)))),0.65*ka*g*hd*hd/(hd-1/3*($AH$6+(hd-MAX($AP$6:$AP$15))))*(1-(G134-(hd-2/3*(hd-MAX($AP$6:$AP$15))))/(2/3*(hd-MAX($AP$6:$AP$15))))))))))","v":86.086474142597623},{"$f":"IF(G134=\"\",\"\",IF(G134>hd,0,(IF(G134<(0.25*hd),(0.3*g*h*G134/(0.25*hd)),(IF(G134<(0.75*hd),0.3*g*h,0.3*g*h*(1-(G134-0.75*hd)/0.25/hd)))))))","v":71.25},{"$f":"IF(G134>hd,0,IF(G134=\"\",\"\",0.65*ka*g*hd))","v":59.315807566858858},{"$f":"IF(G134=\"\",\"\",IF(G134>hd,0,(IF(G134<(0.25*hd),(1-4*ca/g/hd)*g*hd*G134/(0.25*hd),((1-4*ca/g/hd)*g*hd)))))","v":191.50000000000003}]
[null,null,null,null,null,null,12.899999999999999,19,19,40,36,29.999999999999996,0,null,{"$f":"IF(G135=\"\",(\"\"),((SIN(RADIANS($E$9+BA135-K135)))^2)*((SIN(RADIANS($E$9)))^-2)*((COS(RADIANS(BA135)))^-1)*((SIN((RADIANS($E$9+BA135+M135))))^-1)/(1+((SIN(RADIANS(K135+M135)))*(SIN((RADIANS(K135-$E$7-BA135))/(SIN(RADIANS($E$9-$E$7)))/(SIN((RADIANS($E$9+BA135+M135)))))))^0.5)^2)","v":0.25961618368249972},{"$f":"IF(L135=\"\",(\"\"),((SIN(RADIANS($E$9-BB135+L135)))^2)*((SIN(RADIANS($E$9)))^-2)*((COS(RADIANS(BB135)))^-1)*((SIN((RADIANS($E$9-BB135-M135))))^-1)/(1-((SIN(RADIANS(L135+M135)))*(SIN((RADIANS(L135+$E$7-BB135))/(SIN(RADIANS($E$9-$E$7)))/(SIN((RADIANS($E$9-BB135-M135)))))))^0.5)^2)","v":3.0000000000000004},{"$f":"IF(G135=\"\",\"\",(IF(N135=\"\",$E$11,($E$11*T135/U135))))","v":0},0,{"$f":"IF(G135=\"\",\"\",0.5*PI()-ATAN((-TAN(RADIANS(K135+M135+(90-$E$9)-$E$7)))+(1/(COS(RADIANS(K135+M135+(90-$E$9)-$E$7))))*((COS((RADIANS(90-$E$9+M135+BA135))))^0.5)*((SIN(RADIANS(K135+M135)))^0.5)*((COS(RADIANS(90-$E$9-$E$7)))^-0.5)*((SIN(RADIANS(K135-$E$7-BA135)))^-0.5)))+$E$7","v":1.0995574287564276},445.09999999999849,445.09999999999849,7.599999999999973,7.599999999999973,74.793127397525922,-161.36406460551012,-86.570937207984201,"",44.767605748136077,null,null,null,null,null,null,null,null,null,null,null,null,null,null,null,null,null,null,null,null,null,null,null,null,{"$f":"ATAN(Q135)/0.017453","v":0},{"$f":"ATAN(Q135)/0.017453","v":0},null,null,null,null,null,null,null,null,44.767605748136077,51.86386549523521,105.45,84.576185122552047,71.25,59.315807566858858,191.50000000000003]
[null,null,null,null,null,null,12.999999999999998,19,19,40,36,29.999999999999996,0,null,0.25961618368249972,3.0000000000000004,0,0,1.0995574287564276,{"$f":"IF(G136=\"\",(\"\"),(IF(N136=\"\",(T135+(G136-G135)*H135),(T135+(G136-G135)*(I135)))))","v":446.99999999999847},{"$f":"IF(G136=\"\",(\"\"),(IF(N136=\"\",(U135+(G136-G135)*H135),(U135+(G136-G135)*(I135-9.81)))))","v":446.99999999999847},9.4999999999999662,9.4999999999999662,{"$f":"IF(G136=\"\",(\"\"),((O136*U136-2*J136*(O136)^0.5))*COS(RADIANS(M136)))","v":75.286398146522686},-167.06406460551011,-91.777666458987426,"",44.767605748136077,null,null,null,null,null,null,null,null,null,null,null,null,null,null,null,null,null,null,null,null,null,null,null,null,0,0,null,null,null,null,null,null,null,null,44.767605748136077,50.937725039963155,105.45,83.065896102506485,71.25,59.315807566858858,191.50000000000003]
[null,null,null,null,null,null,13.099999999999998,19,19,40,36,29.999999999999996,0,null,0.25961618368249972,3.0000000000000004,0,0,1.0995574287564276,448.89999999999844,448.89999999999844,11.399999999999959,11.399999999999959,75.779668895519421,-172.76406460551007,-96.98439570999065,"",44.767605748136077,null,null,null,null,null,null,null,null,null,null,null,null,null,null,null,null,null,null,null,null,null,null,null,null,0,0,null,null,null,null,null,null,null,null,44.767605748136077,50.0115845846911,105.45,81.555607082460909,71.25,59.315807566858858,191.50000000000003]
[null,null,null,null,null,null,13.199999999999998,19,19,40,36,29.999999999999996,0,null,0.25961618368249972,3.0000000000000004,0,0,1.0995574287564276,450.79999999999842,450.79999999999842,13.299999999999953,13.299999999999953,76.272939644516157,-178.46406460551006,-102.1911249609939,"",44.767605748136077,null,null,null,null,null,null,null,null,null,null,null,null,null,null,null,null,null,null,null,null,null,null,null,null,0,0,null,null,null,null,null,null,null,null,44.767605748136077,49.085444129419045,105.45,80.045318062415348,71.25,59.315807566858858,191.50000000000003]
[null,null,null,null,null,null,13.299999999999997,19,19,40,36,29.999999999999996,0,null,0.25961618368249972,3.0000000000000004,0,0,1.0995574287564276,452.6999999999984,452.6999999999984,15.199999999999946,15.199999999999946,76.766210393512893,-184.16406460551005,-107.39785421199716,"",44.767605748136077,null,null,null,null,null,null,null,null,null,null,null,null,null,null,null,null,null,null,null,null,null,null,null,null,0,0,null,null,null,null,null,null,null,null,44.767605748136077,48.159303674147004,105.45,78.535029042369786,71.25,59.315807566858858,191.50000000000003]
[null,null,null,null,null,null,13.399999999999997,19,19,40,36,29.999999999999996,0,null,0.25961618368249972,3.0000000000000004,0,0,1.0995574287564276,454.59999999999837,454.59999999999837,17.099999999999937,17.099999999999937,77.259481142509657,-189.86406460551001,-112.60458346300035,"",44.767605748136077,null,null,null,null,null,null,null,null,null,null,null,null,null,null,null,null,null,null,null,null,null,null,null,null,0,0,null,null,null,null,null,null,null,null,44.767605748136077,47.23316321887495,105.45,77.024740022324224,71.25,59.315807566858858,191.50000000000003]
[null,null,null,null,null,null,13.499999999999996,19,19,40,36,29.999999999999996,0,null,0.25961618368249972,3.0000000000000004,0,0,1.0995574287564276,456.49999999999835,456.49999999999835,18.999999999999929,18.999999999999929,77.752751891506392,-195.56406460551,-117.81131271400361,"",44.767605748136077,null,null,null,null,null,null,null,null,null,null,null,null,null,null,null,null,null,null,null,null,null,null,null,null,0,0,null,null,null,null,null,null,null,null,44.767605748136077,46.307022763602895,105.45,75.514451002278648,71.25,59.315807566858858,191.50000000000003]
[null,null,null,null,null,null,13.599999999999996,19,19,40,36,29.999999999999996,0,null,0.25961618368249972,3.0000000000000004,0,0,1.0995574287564276,458.39999999999833,458.39999999999833,20.89999999999992,20.89999999999992,78.246022640503128,-201.26406460550996,-123.01804196500683,"",44.767605748136077,null,null,null,null,null,null,null,null,null,null,null,null,null,null,null,null,null,null,null,null,null,null,null,null,0,0,null,null,null,null,null,null,null,null,44.767605748136077,45.38088230833084,105.45,74.004161982233086,71.25,59.315807566858858,191.50000000000003]
[null,null,null,null,null,null,13.699999999999996,19,19,40,36,29.999999999999996,0,null,0.25961618368249972,3.0000000000000004,0,0,1.0995574287564276,460.29999999999831,460.29999999999831,22.799999999999912,22.799999999999912,78.739293389499892,-206.96406460550995,-128.22477121601005,"",44.767605748136077,null,null,null,null,null,null,null,null,null,null,null,null,null,null,null,null,null,null,null,null,null,null,null,null,0,0,null,null,null,null,null,null,null,null,44.767605748136077,44.454741853058785,105.45,72.493872962187524,71.25,59.315807566858858,191.50000000000003]
[null,null,null,null,null,null,13.799999999999995,19,19,40,36,29.999999999999996,0,null,0.25961618368249972,3.0000000000000004,0,0,1.0995574287564276,462.19999999999828,462.19999999999828,24.699999999999903,24.699999999999903,79.232564138496627,-212.66406460550991,-133.43150046701328,"",44.767605748136077,null,null,null,null,null,null,null,null,null,null,null,null,null,null,null,null,null,null,null,null,null,null,null,null,0,0,null,null,null,null,null,null,null,null,44.767605748136077,43.52860139778673,105.45,70.983583942141948,71.25,59.315807566858858,191.50000000000003]
[null,null,null,null,null,null,13.899999999999995,19,19,40,36,29.999999999999996,0,null,0.25961618368249972,3.0000000000000004,0,0,1.0995574287564276,464.09999999999826,464.09999999999826,26.599999999999895,26.599999999999895,79.725834887493363,-218.3640646055099,-138.63822971801653,"",44.767605748136077,null,null,null,null,null,null,null,null,null,null,null,null,null,null,null,null,null,null,null,null,null,null,null,null,0,0,null,null,null,null,null,null,null,null,44.767605748136077,42.602460942514675,105.45,69.473294922096386,70.864864864864941,59.315807566858858,191.50000000000003]
[null,null,null,null,null,null,13.999999999999995,19,19,40,36,29.999999999999996,0,null,0.25961618368249972,3.0000000000000004,0,0,1.0995574287564276,465.99999999999824,465.99999999999824,28.499999999999886,28.499999999999886,80.219105636490099,-224.06406460550988,-143.84495896901979,"",44.767605748136077,null,null,null,null,null,null,null,null,null,null,null,null,null,null,null,null,null,null,null,null,null,null,null,null,0,0,null,null,null,null,null,null,null,null,44.767605748136077,41.67632048724262,105.45,67.96300590205081,69.324324324324408,59.315807566858858,191.50000000000003]
[null,null,null,null,null,null,14.099999999999994,19,19,40,36,29.999999999999996,0,null,0.25961618368249972,3.0000000000000004,0,0,1.0995574287564276,467.89999999999822,467.89999999999822,30.399999999999878,30.399999999999878,80.712376385486863,-229.76406460550984,-149.05168822002298,"",44.767605748136077,null,null,null,null,null,null,null,null,null,null,null,null,null,null,null,null,null,null,null,null,null,null,null,null,0,0,null,null,null,null,null,null,null,null,44.767605748136077,40.750180031970565,103.87092585669239,66.452716882005248,67.783783783783875,59.315807566858858,191.50000000000003]
[null,null,null,null,null,null,14.199999999999994,19,19,40,36,29.999999999999996,0,null,0.25961618368249972,3.0000000000000004,0,0,1.0995574287564276,469.79999999999819,469.79999999999819,32.299999999999869,32.299999999999869,81.205647134483598,-235.4640646055098,-154.25841747102621,"",44.767605748136077,null,null,null,null,null,null,null,null,null,null,null,null,null,null,null,null,null,null,null,null,null,null,null,null,0,0,null,null,null,null,null,null,null,null,44.767605748136077,39.82403957669851,101.51022299631303,64.942427861959686,66.243243243243327,59.315807566858858,191.50000000000003]
[null,null,null,null,null,null,14.299999999999994,19,19,40,36,29.999999999999996,0,null,0.25961618368249972,3.0000000000000004,0,0,1.0995574287564276,471.69999999999817,471.69999999999817,34.199999999999861,34.199999999999861,81.698917883480334,-241.16406460550979,-159.46514672202946,"",44.767605748136077,null,null,null,null,null,null,null,null,null,null,null,null,null,null,null,null,null,null,null,null,null,null,null,null,0,0,null,null,null,null,null,null,null,null,44.767605748136077,38.897899121426462,99.14952013593367,63.432138841914124,64.702702702702794,59.315807566858858,191.50000000000003]
[null,null,null,null,null,null,14.399999999999993,19,19,40,36,29.999999999999996,0,null,0.25961618368249972,3.0000000000000004,0,0,1.0995574287564276,473.59999999999815,473.59999999999815,36.099999999999852,36.099999999999852,82.192188632477098,-246.86406460550978,-164.67187597303268,"",44.767605748136077,null,null,null,null,null,null,null,null,null,null,null,null,null,null,null,null,null,null,null,null,null,null,null,null,0,0,null,null,null,null,null,null,null,null,44.767605748136077,37.971758666154408,96.788817275554308,61.921849821868555,63.162162162162268,59.315807566858858,191.50000000000003]
[null,null,null,null,null,null,14.499999999999993,19,19,40,36,29.999999999999996,0,null,0.25961618368249972,3.0000000000000004,0,0,1.0995574287564276,475.49999999999812,475.49999999999812,37.999999999999844,37.999999999999844,82.685459381473834,-252.56406460550974,-169.87860522403591,"",44.767605748136077,null,null,null,null,null,null,null,null,null,null,null,null,null,null,null,null,null,null,null,null,null,null,null,null,0,0,null,null,null,null,null,null,null,null,44.767605748136077,37.045618210882353,94.428114415174946,60.411560801822986,61.621621621621735,59.315807566858858,191.50000000000003]
[null,null,null,null,null,null,14.599999999999993,19,19,40,36,29.999999999999996,0,null,0.25961618368249972,3.0000000000000004,0,0,1.0995574287564276,477.3999999999981,477.3999999999981,39.899999999999835,39.899999999999835,83.178730130470569,-258.2640646055097,-175.08533447503913,"",44.767605748136077,null,null,null,null,null,null,null,null,null,null,null,null,null,null,null,null,null,null,null,null,null,null,null,null,0,0,null,null,null,null,null,null,null,null,44.767605748136077,36.119477755610298,92.067411554795584,58.901271781777417,60.081081081081194,59.315807566858858,191.50000000000003]
[null,null,null,null,null,null,14.699999999999992,19,19,40,36,29.999999999999996,0,null,0.25961618368249972,3.0000000000000004,0,0,1.0995574287564276,479.29999999999808,479.29999999999808,41.799999999999827,41.799999999999827,83.672000879467305,-263.96406460550969,-180.29206372604239,"",44.767605748136077,null,null,null,null,null,null,null,null,null,null,null,null,null,null,null,null,null,null,null,null,null,null,null,null,0,0,null,null,null,null,null,null,null,null,44.767605748136077,35.19333730033825,89.706708694416221,57.390982761731856,58.540540540540661,59.315807566858858,191.50000000000003]
[null,null,null,null,null,null,14.799999999999992,19,19,40,36,29.999999999999996,0,null,0.25961618368249972,3.0000000000000004,0,0,1.0995574287564276,481.19999999999806,481.19999999999806,43.699999999999818,43.699999999999818,84.165271628464069,-269.66406460550968,-185.49879297704561,"",44.767605748136184,null,null,null,null,null,null,null,null,null,null,null,null,null,null,null,null,null,null,null,null,null,null,null,null,0,0,null,null,null,null,null,null,null,null,44.767605748136184,34.267196845066195,87.346005834036859,55.880693741686287,57.000000000000128,59.315807566858858,191.50000000000003]
[null,null,null,null,null,null,14.899999999999991,19,19,40,36,29.999999999999996,0,null,0.25961618368249972,3.0000000000000004,0,0,1.0995574287564276,483.09999999999803,483.09999999999803,45.59999999999981,45.59999999999981,84.658542377460805,-275.36406460550961,-190.70552222804881,"",43.557670457646026,null,null,null,null,null,null,null,null,null,null,null,null,null,null,null,null,null,null,null,null,null,null,null,null,0,0,null,null,null,null,null,null,null,null,43.557670457646026,33.34105638979414,84.985302973657497,54.370404721640718,55.459459459459588,59.315807566858858,191.50000000000003]
[null,null,null,null,null,null,14.999999999999991,19,19,40,36,29.999999999999996,0,null,0.25961618368249972,3.0000000000000004,0,0,1.0995574287564276,484.99999999999801,484.99999999999801,47.499999999999801,47.499999999999801,85.15181312645754,-281.06406460550966,-195.91225147905212,"",42.347735167155868,null,null,null,null,null,null,null,null,null,null,null,null,null,null,null,null,null,null,null,null,null,null,null,null,0,0,null,null,null,null,null,null,null,null,42.347735167155868,32.414915934522085,82.624600113278134,52.860115701595163,53.918918918919054,59.315807566858858,191.50000000000003]
[null,null,null,null,null,null,15.099999999999991,19,19,40,36,29.999999999999996,0,null,0.25961618368249972,3.0000000000000004,0,0,1.0995574287564276,486.89999999999799,486.89999999999799,49.399999999999793,49.399999999999793,85.645083875454276,-286.76406460550959,-201.11898073005531,"",41.137799876665703,null,null,null,null,null,null,null,null,null,null,null,null,null,null,null,null,null,null,null,null,null,null,null,null,0,0,null,null,null,null,null,null,null,null,41.137799876665703,31.48877547925003,80.263897252898772,51.349826681549594,52.378378378378521,59.315807566858858,191.50000000000003]
[null,null,null,null,null,null,15.19999999999999,19,19,40,36,29.999999999999996,0,null,0.25961618368249972,3.0000000000000004,0,0,1.0995574287564276,488.79999999999797,488.79999999999797,51.299999999999784,51.299999999999784,86.13835462445104,-292.46406460550958,-206.32570998105854,"",39.927864586175545,null,null,null,null,null,null,null,null,null,null,null,null,null,null,null,null,null,null,null,null,null,null,null,null,0,0,null,null,null,null,null,null,null,null,39.927864586175545,30.562635023977975,77.903194392519424,49.839537661504025,50.837837837837981,59.315807566858858,191.50000000000003]
[null,null,null,null,null,null,15.29999999999999,19,19,40,36,29.999999999999996,0,null,0.25961618368249972,3.0000000000000004,0,0,1.0995574287564276,490.69999999999794,490.69999999999794,53.199999999999775,53.199999999999775,86.631625373447775,-298.16406460550957,-211.53243923206179,"",38.717929295685387,null,null,null,null,null,null,null,null,null,null,null,null,null,null,null,null,null,null,null,null,null,null,null,null,0,0,null,null,null,null,null,null,null,null,38.717929295685387,29.63649456870592,75.542491532140062,48.329248641458456,49.297297297297447,59.315807566858858,191.50000000000003]
[null,null,null,null,null,null,15.39999999999999,19,19,40,36,29.999999999999996,0,null,0.25961618368249972,3.0000000000000004,0,0,1.0995574287564276,492.59999999999792,492.59999999999792,55.099999999999767,55.099999999999767,87.124896122444511,-303.8640646055095,-216.73916848306499,"",37.507994005195222,null,null,null,null,null,null,null,null,null,null,null,null,null,null,null,null,null,null,null,null,null,null,null,null,0,0,null,null,null,null,null,null,null,null,37.507994005195222,28.710354113433866,73.1817886717607,46.818959621412887,47.756756756756914,59.315807566858858,191.50000000000003]
[null,null,null,null,null,null,15.499999999999989,19,19,40,36,29.999999999999996,0,null,0.25961618368249972,3.0000000000000004,0,0,1.0995574287564276,494.4999999999979,494.4999999999979,56.999999999999758,56.999999999999758,87.618166871441247,-309.56406460550949,-221.94589773406824,"",36.298058714705064,null,null,null,null,null,null,null,null,null,null,null,null,null,null,null,null,null,null,null,null,null,null,null,null,0,0,null,null,null,null,null,null,null,null,36.298058714705064,27.784213658161818,70.821085811381337,45.308670601367325,46.216216216216374,59.315807566858858,191.50000000000003]
[null,null,null,null,null,null,15.599999999999989,19,19,40,36,29.999999999999996,0,null,0.25961618368249972,3.0000000000000004,0,0,1.0995574287564276,496.39999999999787,496.39999999999787,58.89999999999975,58.89999999999975,88.111437620438011,-315.26406460550947,-227.15262698507146,"",35.088123424214906,null,null,null,null,null,null,null,null,null,null,null,null,null,null,null,null,null,null,null,null,null,null,null,null,0,0,null,null,null,null,null,null,null,null,35.088123424214906,26.858073202889763,68.460382951001975,43.798381581321756,44.675675675675848,59.315807566858858,191.50000000000003]
[null,null,null,null,null,null,15.699999999999989,19,19,40,36,29.999999999999996,0,null,0.25961618368249972,3.0000000000000004,0,0,1.0995574287564276,498.29999999999785,498.29999999999785,60.799999999999741,60.799999999999741,88.604708369434746,-320.96406460550941,-232.35935623607466,"",33.878188133724748,null,null,null,null,null,null,null,null,null,null,null,null,null,null,null,null,null,null,null,null,null,null,null,null,0,0,null,null,null,null,null,null,null,null,33.878188133724748,25.931932747617711,66.099680090622613,42.288092561276194,43.135135135135314,59.315807566858858,191.50000000000003]
[null,null,null,null,null,null,15.799999999999988,19,19,40,36,29.999999999999996,0,null,0.25961618368249972,3.0000000000000004,0,0,1.0995574287564276,500.19999999999783,500.19999999999783,62.699999999999733,62.699999999999733,89.097979118431482,-326.66406460550945,-237.56608548707797,"",32.668252843234583,null,null,null,null,null,null,null,null,null,null,null,null,null,null,null,null,null,null,null,null,null,null,null,null,0,0,null,null,null,null,null,null,null,null,32.668252843234583,25.005792292345657,63.73897723024325,40.777803541230625,41.594594594594774,59.315807566858858,191.50000000000003]
[null,null,null,null,null,null,15.899999999999988,19,19,40,36,29.999999999999996,0,null,0.25961618368249972,3.0000000000000004,0,0,1.0995574287564276,502.09999999999781,502.09999999999781,64.599999999999724,64.599999999999724,89.591249867428218,-332.36406460550938,-242.77281473808117,"",31.458317552744425,null,null,null,null,null,null,null,null,null,null,null,null,null,null,null,null,null,null,null,null,null,null,null,null,0,0,null,null,null,null,null,null,null,null,31.458317552744425,24.079651837073602,61.378274369863888,39.267514521185063,40.054054054054241,59.315807566858858,191.50000000000003]
[null,null,null,null,null,null,15.999999999999988,19,19,40,36,29.999999999999996,0,null,0.25961618368249972,3.0000000000000004,0,0,1.0995574287564276,503.99999999999778,503.99999999999778,66.499999999999716,66.499999999999716,90.084520616424982,-338.06406460550937,-247.97954398908439,"",30.248382262254264,null,null,null,null,null,null,null,null,null,null,null,null,null,null,null,null,null,null,null,null,null,null,null,null,0,0,null,null,null,null,null,null,null,null,30.248382262254264,23.153511381801547,59.017571509484526,37.757225501139494,38.513513513513708,59.315807566858858,191.50000000000003]
[null,null,null,null,null,null,16.099999999999987,19,19,40,36,29.999999999999996,0,null,0.25961618368249972,3.0000000000000004,0,0,1.0995574287564276,505.89999999999776,505.89999999999776,68.399999999999707,68.399999999999707,90.577791365421717,-343.76406460550936,-253.18627324008764,"",29.038446971764102,null,null,null,null,null,null,null,null,null,null,null,null,null,null,null,null,null,null,null,null,null,null,null,null,0,0,null,null,null,null,null,null,null,null,29.038446971764102,22.227370926529492,56.656868649105164,36.246936481093925,36.972972972973167,59.315807566858858,191.50000000000003]
[null,null,null,null,null,null,16.199999999999989,19,19,40,36,29.999999999999996,0,null,0.25961618368249972,3.0000000000000004,0,0,1.0995574287564276,507.79999999999779,507.79999999999779,70.299999999999727,70.299999999999727,91.071062114418481,-349.46406460550941,-258.3930024910909,"",27.828511681273923,null,null,null,null,null,null,null,null,null,null,null,null,null,null,null,null,null,null,null,null,null,null,null,null,0,0,null,null,null,null,null,null,null,null,27.828511681273923,21.301230471257423,54.296165788725766,34.736647461048335,35.432432432432606,59.315807566858858,191.50000000000003]
[null,null,null,null,null,null,16.29999999999999,19,19,40,36,29.999999999999996,0,null,0.25961618368249972,3.0000000000000004,0,0,1.0995574287564276,509.69999999999783,509.69999999999783,72.199999999999761,72.199999999999761,91.564332863415245,-355.16406460550951,-263.59973174209426,"",26.61857639078374,null,null,null,null,null,null,null,null,null,null,null,null,null,null,null,null,null,null,null,null,null,null,null,null,0,0,null,null,null,null,null,null,null,null,26.61857639078374,20.375090015985354,51.935462928346361,33.226358441002745,33.891891891892044,59.315807566858858,191.50000000000003]
[null,null,null,null,null,null,16.399999999999991,19,19,40,36,29.999999999999996,0,null,0.25961618368249972,3.0000000000000004,0,0,1.0995574287564276,511.59999999999786,511.59999999999786,74.099999999999795,74.099999999999795,92.057603612411981,-360.86406460550961,-268.80646099309763,"",25.408641100293561,null,null,null,null,null,null,null,null,null,null,null,null,null,null,null,null,null,null,null,null,null,null,null,null,0,0,null,null,null,null,null,null,null,null,25.408641100293561,19.448949560713281,49.574760067966963,31.716069420957144,32.351351351351482,59.315807566858858,191.50000000000003]
[null,null,null,null,null,null,16.499999999999993,19,19,40,36,29.999999999999996,0,null,0.25961618368249972,3.0000000000000004,0,0,1.0995574287564276,513.49999999999784,513.49999999999784,75.999999999999829,75.999999999999829,92.550874361408745,-366.56406460550971,-274.013190244101,"",24.198705809803378,null,null,null,null,null,null,null,null,null,null,null,null,null,null,null,null,null,null,null,null,null,null,null,null,0,0,null,null,null,null,null,null,null,null,24.198705809803378,18.522809105441212,47.214057207587565,30.205780400911554,30.810810810810924,59.315807566858858,191.50000000000003]
[null,null,null,null,null,null,16.599999999999994,19,19,40,36,29.999999999999996,0,null,0.25961618368249972,3.0000000000000004,0,0,1.0995574287564276,515.39999999999782,515.39999999999782,77.899999999999864,77.899999999999864,93.044145110405481,-372.26406460550982,-279.21991949510436,"",22.988770519313196,null,null,null,null,null,null,null,null,null,null,null,null,null,null,null,null,null,null,null,null,null,null,null,null,0,0,null,null,null,null,null,null,null,null,22.988770519313196,17.596668650169143,44.853354347208153,28.695491380865963,29.270270270270359,59.315807566858858,191.50000000000003]
[null,null,null,null,null,null,16.699999999999996,19,19,40,36,29.999999999999996,0,null,0.25961618368249972,3.0000000000000004,0,0,1.0995574287564276,517.29999999999779,517.29999999999779,79.799999999999898,79.799999999999898,93.537415859402216,-377.96406460550992,-284.42664874610773,"",21.778835228823016,null,null,null,null,null,null,null,null,null,null,null,null,null,null,null,null,null,null,null,null,null,null,null,null,0,0,null,null,null,null,null,null,null,null,21.778835228823016,16.670528194897077,42.492651486828755,27.185202360820373,27.729729729729794,59.315807566858858,191.50000000000003]
[null,null,null,null,null,null,16.799999999999997,19,19,40,36,29.999999999999996,0,null,0.25961618368249972,3.0000000000000004,0,0,1.0995574287564276,519.19999999999777,519.19999999999777,81.699999999999932,81.699999999999932,94.03068660839898,-383.66406460551002,-289.63337799711104,"",20.568899938332834,null,null,null,null,null,null,null,null,null,null,null,null,null,null,null,null,null,null,null,null,null,null,null,null,0,0,null,null,null,null,null,null,null,null,20.568899938332834,15.744387739625003,40.131948626449351,25.674913340774772,26.189189189189229,59.315807566858858,191.50000000000003]
[null,null,null,null,null,null,16.899999999999999,19,19,40,36,29.999999999999996,0,null,0.25961618368249972,3.0000000000000004,0,0,1.0995574287564276,521.09999999999775,521.09999999999775,83.599999999999966,83.599999999999966,94.523957357395716,-389.36406460551012,-294.84010724811441,"",19.358964647842651,null,null,null,null,null,null,null,null,null,null,null,null,null,null,null,null,null,null,null,null,null,null,null,null,0,0,null,null,null,null,null,null,null,null,19.358964647842651,14.818247284352934,37.771245766069953,24.164624320729182,24.648648648648674,59.315807566858858,191.50000000000003]
[null,null,null,null,null,null,17,19,19,40,36,29.999999999999996,0,null,0.25961618368249972,3.0000000000000004,0,0,1.0995574287564276,522.99999999999773,522.99999999999773,85.5,85.5,95.017228106392452,-395.06406460551023,-300.04683649911777,"",18.149029357352472,null,null,null,null,null,null,null,null,null,null,null,null,null,null,null,null,null,null,null,null,null,null,null,null,0,0,null,null,null,null,null,null,null,null,18.149029357352472,13.892106829080864,35.410542905690541,22.654335300683591,23.108108108108109,59.315807566858858,191.50000000000003]
[null,null,null,null,null,null,17.100000000000001,19,19,40,36,29.999999999999996,0,null,0.25961618368249972,3.0000000000000004,0,0,1.0995574287564276,524.8999999999977,524.8999999999977,87.400000000000034,87.400000000000034,95.510498855389187,-400.76406460551038,-305.2535657501212,"",16.939094066862289,null,null,null,null,null,null,null,null,null,null,null,null,null,null,null,null,null,null,null,null,null,null,null,null,0,0,null,null,null,null,null,null,null,null,16.939094066862289,12.965966373808792,33.049840045311143,21.144046280637994,21.567567567567544,59.315807566858858,191.50000000000003]
[null,null,null,null,null,null,17.200000000000003,19,19,40,36,29.999999999999996,0,null,0.25961618368249972,3.0000000000000004,0,0,1.0995574287564276,526.79999999999768,526.79999999999768,89.300000000000068,89.300000000000068,96.003769604385951,-406.46406460551043,-310.46029500112445,"",15.72915877637211,null,null,null,null,null,null,null,null,null,null,null,null,null,null,null,null,null,null,null,null,null,null,null,null,0,0,null,null,null,null,null,null,null,null,15.72915877637211,12.039825918536723,30.689137184931734,19.633757260592404,20.027027027026982,59.315807566858858,191.50000000000003]
[null,null,null,null,null,null,17.300000000000004,19,19,40,36,29.999999999999996,0,null,0.25961618368249972,3.0000000000000004,0,0,1.0995574287564276,528.69999999999766,528.69999999999766,91.200000000000102,91.200000000000102,96.497040353382687,-412.16406460551059,-315.66702425212793,"",14.519223485881927,null,null,null,null,null,null,null,null,null,null,null,null,null,null,null,null,null,null,null,null,null,null,null,null,0,0,null,null,null,null,null,null,null,null,14.519223485881927,11.113685463264654,28.328434324552337,18.123468240546813,18.486486486486424,59.315807566858858,191.50000000000003]
[null,null,null,null,null,null,17.400000000000006,19,19,40,36,29.999999999999996,0,null,0.25961618368249972,3.0000000000000004,0,0,1.0995574287564276,530.59999999999764,530.59999999999764,93.100000000000136,93.100000000000136,96.990311102379422,-417.86406460551063,-320.87375350313118,"",13.309288195391744,null,null,null,null,null,null,null,null,null,null,null,null,null,null,null,null,null,null,null,null,null,null,null,null,0,0,null,null,null,null,null,null,null,null,13.309288195391744,10.187545007992581,25.967731464172928,16.613179220501213,16.945945945945859,59.315807566858858,191.50000000000003]
[null,null,null,null,null,null,17.500000000000007,19,19,40,36,29.999999999999996,0,null,0.25961618368249972,3.0000000000000004,0,0,1.0995574287564276,532.49999999999761,532.49999999999761,95.000000000000171,95.000000000000171,97.483581851376186,-423.56406460551079,-326.08048275413461,"",12.099352904901565,null,null,null,null,null,null,null,null,null,null,null,null,null,null,null,null,null,null,null,null,null,null,null,null,0,0,null,null,null,null,null,null,null,null,12.099352904901565,9.2614045527205118,23.60702860379353,15.102890200455622,15.405405405405295,59.315807566858858,191.50000000000003]
[null,null,null,null,null,null,17.600000000000009,19,19,40,36,29.999999999999996,0,null,0.25961618368249972,3.0000000000000004,0,0,1.0995574287564276,534.39999999999759,534.39999999999759,96.900000000000205,96.900000000000205,97.976852600372922,-429.26406460551084,-331.28721200513792,"",10.889417614411379,null,null,null,null,null,null,null,null,null,null,null,null,null,null,null,null,null,null,null,null,null,null,null,null,0,0,null,null,null,null,null,null,null,null,10.889417614411379,8.3352640974484444,21.246325743414122,13.592601180410032,13.864864864864732,59.315807566858858,191.50000000000003]
[null,null,null,null,null,null,17.70000000000001,19,19,40,36,29.999999999999996,0,null,0.25961618368249972,3.0000000000000004,0,0,1.0995574287564276,536.29999999999757,536.29999999999757,98.800000000000239,98.800000000000239,98.470123349369658,-434.964064605511,-336.49394125614134,"",9.6794823239211993,null,null,null,null,null,null,null,null,null,null,null,null,null,null,null,null,null,null,null,null,null,null,null,null,0,0,null,null,null,null,null,null,null,null,9.6794823239211993,7.40912364217637,18.885622883034724,12.082312160364435,12.324324324324175,59.315807566858858,191.50000000000003]
[null,null,null,null,null,null,17.800000000000011,19,19,40,36,29.999999999999996,0,null,0.25961618368249972,3.0000000000000004,0,0,1.0995574287564276,538.19999999999754,538.19999999999754,100.70000000000027,100.70000000000027,98.963394098366393,-440.66406460551104,-341.70067050714465,"",8.4695470334310201,null,null,null,null,null,null,null,null,null,null,null,null,null,null,null,null,null,null,null,null,null,null,null,null,0,0,null,null,null,null,null,null,null,null,8.4695470334310201,6.4829831869043018,16.524920022655316,10.572023140318842,10.78378378378361,59.315807566858858,191.50000000000003]
[null,null,null,null,null,null,17.900000000000013,19,19,40,36,29.999999999999996,0,null,0.25961618368249972,3.0000000000000004,0,0,1.0995574287564276,540.09999999999752,540.09999999999752,102.60000000000031,102.60000000000031,99.456664847363157,-446.3640646055112,-346.90739975814802,"",7.2596117429408409,null,null,null,null,null,null,null,null,null,null,null,null,null,null,null,null,null,null,null,null,null,null,null,null,0,0,null,null,null,null,null,null,null,null,7.2596117429408409,5.5568427316322326,14.164217162275916,9.0617341202732522,9.2432432432430467,59.315807566858858,191.50000000000003]
[null,null,null,null,null,null,18.000000000000014,19,19,40,36,29.999999999999996,0,null,0.25961618368249972,3.0000000000000004,0,0,1.0995574287564276,541.9999999999975,541.9999999999975,104.50000000000034,104.50000000000034,99.949935596359893,-452.06406460551125,-352.11412900915138,"",6.0496764524506546,null,null,null,null,null,null,null,null,null,null,null,null,null,null,null,null,null,null,null,null,null,null,null,null,0,0,null,null,null,null,null,null,null,null,6.0496764524506546,4.63070227636016,11.803514301896508,7.5514451002276539,7.7027027027024815,59.315807566858858,191.50000000000003]
[null,null,null,null,null,null,18.100000000000016,19,19,40,36,29.999999999999996,0,null,0.25961618368249972,3.0000000000000004,0,0,1.0995574287564276,543.89999999999748,543.89999999999748,106.40000000000038,106.40000000000038,100.44320634535663,-457.76406460551141,-357.32085826015475,"",4.8397411619604753,null,null,null,null,null,null,null,null,null,null,null,null,null,null,null,null,null,null,null,null,null,null,null,null,0,0,null,null,null,null,null,null,null,null,4.8397411619604753,3.7045618210880908,9.4428114415171098,6.0411560801820636,6.1621621621619251,59.315807566858858,191.50000000000003]
[null,null,null,null,null,null,18.200000000000017,19,19,40,36,29.999999999999996,0,null,0.25961618368249972,3.0000000000000004,0,0,1.0995574287564276,545.79999999999745,545.79999999999745,108.30000000000041,108.30000000000041,100.93647709435336,-463.46406460551145,-362.52758751115812,"",3.6298058714702961,null,null,null,null,null,null,null,null,null,null,null,null,null,null,null,null,null,null,null,null,null,null,null,null,0,0,null,null,null,null,null,null,null,null,3.6298058714702961,2.7784213658160222,7.0821085811377005,4.5308670601364724,4.6216216216213608,59.315807566858858,191.50000000000003]
[null,null,null,null,null,null,18.300000000000018,19,19,40,36,29.999999999999996,0,null,0.25961618368249972,3.0000000000000004,0,0,1.0995574287564276,547.69999999999743,547.69999999999743,110.20000000000044,110.20000000000044,101.42974784335013,-469.16406460551161,-367.73431676216148,"",2.4198705809801098,null,null,null,null,null,null,null,null,null,null,null,null,null,null,null,null,null,null,null,null,null,null,null,null,0,0,null,null,null,null,null,null,null,null,2.4198705809801098,1.8522809105439491,4.7214057207583036,3.0205780400908746,3.0810810810807965,59.315807566858858,191.50000000000003]
[null,null,null,null,null,null,18.40000000000002,19,19,40,36,29.999999999999996,0,null,0.25961618368249972,3.0000000000000004,0,0,1.0995574287564276,549.59999999999741,549.59999999999741,112.10000000000048,112.10000000000048,101.92301859234686,-474.86406460551166,-372.94104601316479,"",1.2099352904899305,null,null,null,null,null,null,null,null,null,null,null,null,null,null,null,null,null,null,null,null,null,null,null,null,0,0,null,null,null,null,null,null,null,null,1.2099352904899305,0.92614045527188038,2.3607028603788942,1.5102890200452836,1.5405405405402322,59.315807566858858,191.50000000000003]
[null,null,null,null,null,null,18.5,19,19,40,36,29.999999999999996,0,null,0.25961618368249972,3.0000000000000004,0,0,1.0995574287564276,551.49999999999704,551.49999999999704,114.0000000000001,114.0000000000001,102.41628934134351,-480.56406460551057,-378.14777526416708,"",7.1054273576010019E-15,null,null,null,null,null,null,null,null,null,null,null,null,null,null,null,null,null,null,null,null,null,null,null,null,0,0,null,null,null,null,null,null,null,null,7.1054273576010019E-15,9.185453953486771E-15,0,1.4979034952112211E-14,0,59.315807566858858,191.50000000000003]
[null,null,null,null,null,null,null,null,null,null,null,null,null,null,"","","","",{"$error":"#VALUE!"},"","","","","","","","","",null,null,null,null,null,null,null,null,null,null,null,null,null,null,null,null,null,null,null,null,null,null,null,null,{"$error":"#VALUE!"},{"$error":"#VALUE!"},null,null,null,null,null,null,null,null,"","","","","","",""]
[null,null,null,null,null,null,null,null,null,null,null,null,null,null,"","","","",{"$error":"#VALUE!"},"","","","","","","","","",null,null,null,null,null,null,null,null,null,null,null,null,null,null,null,null,null,null,null,null,null,null,null,null,{"$error":"#VALUE!"},{"$error":"#VALUE!"},null,null,null,null,null,null,null,null,"","","","","","",""]
[null,null,null,null,null,null,null,null,null,null,null,null,null,null,"","","","",{"$error":"#VALUE!"},"","","","","","","","","",null,null,null,null,null,null,null,null,null,null,null,null,null,null,null,null,null,null,null,null,null,null,null,null,{"$error":"#VALUE!"},{"$error":"#VALUE!"},null,null,null,null,null,null,null,null,"","","","","","",""]
[null,null,null,null,null,null,null,null,null,null,null,null,null,null,"","","","",{"$error":"#VALUE!"},"","","","","","","","","",null,null,null,null,null,null,null,null,null,null,null,null,null,null,null,null,null,null,null,null,null,null,null,null,{"$error":"#VALUE!"},{"$error":"#VALUE!"},null,null,null,null,null,null,null,null,"","","","","","",""]
[null,null,null,null,null,null,null,null,null,null,null,null,null,null,"","","","",{"$error":"#VALUE!"},"","","",{"$f":"IF(G196<h,(\"\"),(IF(G196<h+dzd,(0),(IF(N196=\"\",(W195+H196*(G196-G195)),(W195+(I196-9.81)*(G196-G195)))))))","v":""},"","",{"$f":"IF(Y196=\"\",X196,X196+Y196)","v":""},{"$f":"IF(N196=\"\",(\"\"),IF(G196>h,AA195,((G196-nz)*9.81)))","v":""},"",null,null,null,null,null,null,null,null,null,null,null,null,null,null,null,null,null,null,null,null,null,null,null,null,{"$error":"#VALUE!"},{"$error":"#VALUE!"},null,null,null,null,null,null,null,null,"","","","","","",""]
[null,null,null,null,null,null,null,null,null,null,null,null,null,null,"","","","",{"$error":"#VALUE!"},"","","","","","","","","",null,null,null,null,null,null,null,null,null,null,null,null,null,null,null,null,null,null,null,null,null,null,null,null,{"$error":"#VALUE!"},{"$error":"#VALUE!"},null,null,null,null,null,null,null,null,"","","","","","",""]
[null,null,null,null,null,null,null,null,null,null,null,null,null,null,"","","",{"$f":"IF(L198=\"\",\"\",(IF(G198=\"\",\"\",IF(G198=h,(R199),(IF(N198=\"\",$E$11,($E$11*V198/W198)))))))","v":""},{"$error":"#VALUE!"},"","",{"$f":"IF(G198<h,(\"\"),(IF(G198<h+dzd,(0),(IF(N198=\"\",(V197+H198*(G198-G197)),(V197+(I198)*(G198-G197)))))))","v":""},"","",{"$f":"IF(G198<h,(\"\"),((-P198*W198-2*J198*(P198^0.5))*COS(RADIANS(M198))))","v":""},"","",{"$f":"IF(G198=\"\",\"\",IF(G198>hd,0,IF($A$27=1,BK198,IF($A$27=2,BL198,IF($A$27=3,BM198,IF($A$27=4,BN198+ka*($E$4+$E$5),IF($A$27=5,BP198,IF($A$27=6,BO198,BQ198))))))))","v":""},null,null,null,null,null,null,null,null,null,null,null,null,null,null,null,null,null,null,null,null,null,null,null,null,{"$error":"#VALUE!"},{"$error":"#VALUE!"},null,null,null,null,null,null,null,null,{"$f":"IF(G198=\"\",\"\",IF(G198>hd,0,(IF(G198<0.2*(hd),(1.6*($AH$20+$AH$21)/(hd)/0.2/(hd)*G198),(IF(G198<0.8*(hd),(1.6*($AH$20+$AH$21)/(hd)),(1.6*($AH$20+$AH$21)/(hd)-1.6*($AH$20+$AH$21)/(hd)/0.2/(hd)*(G198-0.8*(hd)))))))))","v":""},{"$f":"IF(G198=\"\",\"\",IF(G198>hd,0,(IF(G198<((2/3)*$AH$6),(1.3*($AH$20+$AH$21)/(hd-(1/3)*($AH$6+(hd-MAX($AP$6:$AP$15))))*G198/(2/3*$AH$6)),(IF(G198<(h-2/3*(hd-MAX($AP$6:$AP$15))),1.3*($AH$20+$AH$21)/(hd-1/3*($AH$6+(hd-MAX($AP$6:$AP$15)))),1.3*($AH$20+$AH$21)/(hd-1/3*($AH$6+(hd-MAX($AP$6:$AP$15))))*(1-(G198-(hd-2/3*(hd-MAX($AP$6:$AP$15))))/(2/3*(hd-MAX($AP$6:$AP$15))))))))))","v":""},{"$f":"IF(G198=\"\",\"\",IF(G198>hd,0,(IF(G198<(0.6667*$AH$6),(0.3*g*hd*G198/(0.6667*$AH$6)),(IF(G198<(hd-0.6667*(hd-MAX($AP$6:$AP$15))),0.3*g*hd,0.3*g*hd*(1-(G198-(hd-0.6667*(hd-MAX($AP$6:$AP$15))))/(0.6667*(hd-MAX($AP$6:$AP$15))))))))))","v":""},{"$f":"IF(G198=\"\",\"\",IF(G198>hd,0,(IF(G198<((2/3)*$AH$6),(0.65*ka*g*hd*hd/(hd-(1/3)*($AH$6+(hd-MAX($AP$6:$AP$15))))*G198/(2/3*$AH$6)),(IF(G198<(h-2/3*(hd-MAX($AP$6:$AP$15))),0.65*ka*g*hd*hd/(hd-1/3*($AH$6+(hd-MAX($AP$6:$AP$15)))),0.65*ka*g*hd*hd/(hd-1/3*($AH$6+(hd-MAX($AP$6:$AP$15))))*(1-(G198-(hd-2/3*(hd-MAX($AP$6:$AP$15))))/(2/3*(hd-MAX($AP$6:$AP$15))))))))))","v":""},{"$f":"IF(G198=\"\",\"\",IF(G198>hd,0,(IF(G198<(0.25*hd),(0.3*g*h*G198/(0.25*hd)),(IF(G198<(0.75*hd),0.3*g*h,0.3*g*h*(1-(G198-0.75*hd)/0.25/hd)))))))","v":""},{"$f":"IF(G198>hd,0,IF(G198=\"\",\"\",0.65*ka*g*hd))","v":""},{"$f":"IF(G198=\"\",\"\",IF(G198>hd,0,(IF(G198<(0.25*hd),(1-4*ca/g/hd)*g*hd*G198/(0.25*hd),((1-4*ca/g/hd)*g*hd)))))","v":""}]
[null,null,null,null,null,null,null,null,null,null,null,null,null,null,{"$f":"IF(G199=\"\",(\"\"),((SIN(RADIANS($E$9+BA199-K199)))^2)*((SIN(RADIANS($E$9)))^-2)*((COS(RADIANS(BA199)))^-1)*((SIN((RADIANS($E$9+BA199+M199))))^-1)/(1+((SIN(RADIANS(K199+M199)))*(SIN((RADIANS(K199-$E$7-BA199))/(SIN(RADIANS($E$9-$E$7)))/(SIN((RADIANS($E$9+BA199+M199)))))))^0.5)^2)","v":""},{"$f":"IF(L199=\"\",(\"\"),((SIN(RADIANS($E$9-BB199+L199)))^2)*((SIN(RADIANS($E$9)))^-2)*((COS(RADIANS(BB199)))^-1)*((SIN((RADIANS($E$9-BB199-M199))))^-1)/(1-((SIN(RADIANS(L199+M199)))*(SIN((RADIANS(L199+$E$7-BB199))/(SIN(RADIANS($E$9-$E$7)))/(SIN((RADIANS($E$9-BB199-M199)))))))^0.5)^2)","v":""},{"$f":"IF(G199=\"\",\"\",(IF(N199=\"\",$E$11,($E$11*T199/U199))))","v":""},"",{"$f":"IF(G199=\"\",\"\",0.5*PI()-ATAN((-TAN(RADIANS(K199+M199+(90-$E$9)-$E$7)))+(1/(COS(RADIANS(K199+M199+(90-$E$9)-$E$7))))*((COS((RADIANS(90-$E$9+M199+BA199))))^0.5)*((SIN(RADIANS(K199+M199)))^0.5)*((COS(RADIANS(90-$E$9-$E$7)))^-0.5)*((SIN(RADIANS(K199-$E$7-BA199)))^-0.5)))+$E$7","v":{"$error":"#VALUE!"}},"","","","","","","","","",null,null,null,null,null,null,null,null,null,null,null,null,null,null,null,null,null,null,null,null,null,null,null,null,{"$f":"ATAN(Q199)/0.017453","v":{"$error":"#VALUE!"}},{"$f":"ATAN(Q199)/0.017453","v":{"$error":"#VALUE!"}},null,null,null,null,null,null,null,null,"","","","","","",""]
[null,null,null,null,null,null,null,null,null,null,null,null,null,null,"","","","",{"$error":"#VALUE!"},{"$f":"IF(G200=\"\",(\"\"),(IF(N200=\"\",(T199+(G200-G199)*H199),(T199+(G200-G199)*(I199)))))","v":""},{"$f":"IF(G200=\"\",(\"\"),(IF(N200=\"\",(U199+(G200-G199)*H199),(U199+(G200-G199)*(I199-9.81)))))","v":""},"","",{"$f":"IF(G200=\"\",(\"\"),((O200*U200-2*J200*(O200)^0.5))*COS(RADIANS(M200)))","v":""},"","","","",null,null,null,null,null,null,null,null,null,null,null,null,null,null,null,null,null,null,null,null,null,null,null,null,{"$error":"#VALUE!"},{"$error":"#VALUE!"},null,null,null,null,null,null,null,null,"","","","","","",""]
[null,null,null,null,null,null,null,null,null,null,null,null,null,null,"","","","",{"$error":"#VALUE!"},"","","","","","","","","",null,null,null,null,null,null,null,null,null,null,null,null,null,null,null,null,null,null,null,null,null,null,null,null,{"$error":"#VALUE!"},{"$error":"#VALUE!"},null,null,null,null,null,null,null,null,"","","","","","",""]
[null,null,null,null,null,null,null,null,null,null,null,null,null,null,"","","","",{"$error":"#VALUE!"},"","","","","","","","","",null,null,null,null,null,null,null,null,null,null,null,null,null,null,null,null,null,null,null,null,null,null,null,null,{"$error":"#VALUE!"},{"$error":"#VALUE!"},null,null,null,null,null,null,null,null,"","","","","","",""]
[null,null,null,null,null,null,null,null,null,null,null,null,null,null,"","","","",{"$error":"#VALUE!"},"","","","","","","","","",null,null,null,null,null,null,null,null,null,null,null,null,null,null,null,null,null,null,null,null,null,null,null,null,{"$error":"#VALUE!"},{"$error":"#VALUE!"},null,null,null,null,null,null,null,null,"","","","","","",""]
[null,null,null,null,null,null,null,null,null,null,null,null,null,null,"","","","",{"$error":"#VALUE!"},"","","","","","","","","",null,null,null,null,null,null,null,null,null,null,null,null,null,null,null,null,null,null,null,null,null,null,null,null,{"$error":"#VALUE!"},{"$error":"#VALUE!"},null,null,null,null,null,null,null,null,"","","","","","",""]
[null,null,null,null,null,null,null,null,null,null,null,null,null,null,"","","","",{"$error":"#VALUE!"},"","","","","","","","","",null,null,null,null,null,null,null,null,null,null,null,null,null,null,null,null,null,null,null,null,null,null,null,null,{"$error":"#VALUE!"},{"$error":"#VALUE!"},null,null,null,null,null,null,null,null,"","","","","","",""]
[null,null,null,null,null,null,null,null,null,null,null,null,null,null,"","","","",{"$error":"#VALUE!"},"","","","","","","","","",null,null,null,null,null,null,null,null,null,null,null,null,null,null,null,null,null,null,null,null,null,null,null,null,{"$error":"#VALUE!"},{"$error":"#VALUE!"},null,null,null,null,null,null,null,null,"","","","","","",""]
[null,null,null,null,null,null,null,null,null,null,null,null,null,null,"","","","",{"$error":"#VALUE!"},"","","","","","","","","",null,null,null,null,null,null,null,null,null,null,null,null,null,null,null,null,null,null,null,null,null,null,null,null,{"$error":"#VALUE!"},{"$error":"#VALUE!"},null,null,null,null,null,null,null,null,"","","","","","",""]
[null,null,null,null,null,null,null,null,null,null,null,null,null,null,"","","","",{"$error":"#VALUE!"},"","","","","","","","","",null,null,null,null,null,null,null,null,null,null,null,null,null,null,null,null,null,null,null,null,null,null,null,null,{"$error":"#VALUE!"},{"$error":"#VALUE!"},null,null,null,null,null,null,null,null,"","","","","","",""]
[null,null,null,null,null,null,null,null,null,null,null,null,null,null,"","","","",{"$error":"#VALUE!"},"","","","","","","","","",null,null,null,null,null,null,null,null,null,null,null,null,null,null,null,null,null,null,null,null,null,null,null,null,{"$error":"#VALUE!"},{"$error":"#VALUE!"},null,null,null,null,null,null,null,null,"","","","","","",""]
[null,null,null,null,null,null,null,null,null,null,null,null,null,null,"","","","",{"$error":"#VALUE!"},"","","","","","","","","",null,null,null,null,null,null,null,null,null,null,null,null,null,null,null,null,null,null,null,null,null,null,null,null,{"$error":"#VALUE!"},{"$error":"#VALUE!"},null,null,null,null,null,null,null,null,"","","","","","",""]
[null,null,null,null,null,null,null,null,null,null,null,null,null,null,"","","","",{"$error":"#VALUE!"},"","","","","","","","","",null,null,null,null,null,null,null,null,null,null,null,null,null,null,null,null,null,null,null,null,null,null,null,null,{"$error":"#VALUE!"},{"$error":"#VALUE!"},null,null,null,null,null,null,null,null,"","","","","","",""]
[null,null,null,null,null,null,null,null,null,null,null,null,null,null,"","","","",{"$error":"#VALUE!"},"","","","","","","","","",null,null,null,null,null,null,null,null,null,null,null,null,null,null,null,null,null,null,null,null,null,null,null,null,{"$error":"#VALUE!"},{"$error":"#VALUE!"},null,null,null,null,null,null,null,null,"","","","","","",""]
[null,null,null,null,null,null,null,null,null,null,null,null,null,null,"","","","",{"$error":"#VALUE!"},"","","","","","","","","",null,null,null,null,null,null,null,null,null,null,null,null,null,null,null,null,null,null,null,null,null,null,null,null,{"$error":"#VALUE!"},{"$error":"#VALUE!"},null,null,null,null,null,null,null,null,"","","","","","",""]
[null,null,null,null,null,null,null,null,null,null,null,null,null,null,"","","","",{"$error":"#VALUE!"},"","","","","","","","","",null,null,null,null,null,null,null,null,null,null,null,null,null,null,null,null,null,null,null,null,null,null,null,null,{"$error":"#VALUE!"},{"$error":"#VALUE!"},null,null,null,null,null,null,null,null,"","","","","","",""]
[null,null,null,null,null,null,null,null,null,null,null,null,null,null,"","","","",{"$error":"#VALUE!"},"","","","","","","","","",null,null,null,null,null,null,null,null,null,null,null,null,null,null,null,null,null,null,null,null,null,null,null,null,{"$error":"#VALUE!"},{"$error":"#VALUE!"},null,null,null,null,null,null,null,null,"","","","","","",""]
[null,null,null,null,null,null,null,null,null,null,null,null,null,null,"","","","",{"$error":"#VALUE!"},"","","","","","","","","",null,null,null,null,null,null,null,null,null,null,null,null,null,null,null,null,null,null,null,null,null,null,null,null,{"$error":"#VALUE!"},{"$error":"#VALUE!"},null,null,null,null,null,null,null,null,"","","","","","",""]
[null,null,null,null,null,null,null,null,null,null,null,null,null,null,"","","","",{"$error":"#VALUE!"},"","","","","","","","","",null,null,null,null,null,null,null,null,null,null,null,null,null,null,null,null,null,null,null,null,null,null,null,null,{"$error":"#VALUE!"},{"$error":"#VALUE!"},null,null,null,null,null,null,null,null,"","","","","","",""]
[null,null,null,null,null,null,null,null,null,null,null,null,null,null,"","","","",{"$error":"#VALUE!"},"","","","","","","","","",null,null,null,null,null,null,null,null,null,null,null,null,null,null,null,null,null,null,null,null,null,null,null,null,{"$error":"#VALUE!"},{"$error":"#VALUE!"},null,null,null,null,null,null,null,null,"","","","","","",""]
[null,null,null,null,null,null,null,null,null,null,null,null,null,null,"","","","",{"$error":"#VALUE!"},"","","","","","","","","",null,null,null,null,null,null,null,null,null,null,null,null,null,null,null,null,null,null,null,null,null,null,null,null,{"$error":"#VALUE!"},{"$error":"#VALUE!"},null,null,null,null,null,null,null,null,"","","","","","",""]
[null,null,null,null,null,null,null,null,null,null,null,null,null,null,"","","","",{"$error":"#VALUE!"},"","","","","","","","","",null,null,null,null,null,null,null,null,null,null,null,null,null,null,null,null,null,null,null,null,null,null,null,null,{"$error":"#VALUE!"},{"$error":"#VALUE!"},null,null,null,null,null,null,null,null,"","","","","","",""]
[null,null,null,null,null,null,null,null,null,null,null,null,null,null,"","","","",{"$error":"#VALUE!"},"","","","","","","","","",null,null,null,null,null,null,null,null,null,null,null,null,null,null,null,null,null,null,null,null,null,null,null,null,{"$error":"#VALUE!"},{"$error":"#VALUE!"},null,null,null,null,null,null,null,null,"","","","","","",""]
[null,null,null,null,null,null,null,null,null,null,null,null,null,null,"","","","",{"$error":"#VALUE!"},"","","","","","","","","",null,null,null,null,null,null,null,null,null,null,null,null,null,null,null,null,null,null,null,null,null,null,null,null,{"$error":"#VALUE!"},{"$error":"#VALUE!"},null,null,null,null,null,null,null,null,"","","","","","",""]
[null,null,null,null,null,null,null,null,null,null,null,null,null,null,"","","","",{"$error":"#VALUE!"},"","","","","","","","","",null,null,null,null,null,null,null,null,null,null,null,null,null,null,null,null,null,null,null,null,null,null,null,null,{"$error":"#VALUE!"},{"$error":"#VALUE!"},null,null,null,null,null,null,null,null,"","","","","","",""]
[null,null,null,null,null,null,null,null,null,null,null,null,null,null,"","","","",{"$error":"#VALUE!"},"","","","","","","","","",null,null,null,null,null,null,null,null,null,null,null,null,null,null,null,null,null,null,null,null,null,null,null,null,{"$error":"#VALUE!"},{"$error":"#VALUE!"},null,null,null,null,null,null,null,null,"","","","","","",""]
[null,null,null,null,null,null,null,null,null,null,null,null,null,null,"","","","",{"$error":"#VALUE!"},"","","","","","","","","",null,null,null,null,null,null,null,null,null,null,null,null,null,null,null,null,null,null,null,null,null,null,null,null,{"$error":"#VALUE!"},{"$error":"#VALUE!"},null,null,null,null,null,null,null,null,"","","","","","",""]
[null,null,null,null,null,null,null,null,null,null,null,null,null,null,"","","","",{"$error":"#VALUE!"},"","","","","","","","","",null,null,null,null,null,null,null,null,null,null,null,null,null,null,null,null,null,null,null,null,null,null,null,null,{"$error":"#VALUE!"},{"$error":"#VALUE!"},null,null,null,null,null,null,null,null,"","","","","","",""]
[null,null,null,null,null,null,null,null,null,null,null,null,null,null,"","","","",{"$error":"#VALUE!"},"","","","","","","","","",null,null,null,null,null,null,null,null,null,null,null,null,null,null,null,null,null,null,null,null,null,null,null,null,{"$error":"#VALUE!"},{"$error":"#VALUE!"},null,null,null,null,null,null,null,null,"","","","","","",""]
[null,null,null,null,null,null,null,null,null,null,null,null,null,null,"","","","",{"$error":"#VALUE!"},"","","","","","","","","",null,null,null,null,null,null,null,null,null,null,null,null,null,null,null,null,null,null,null,null,null,null,null,null,{"$error":"#VALUE!"},{"$error":"#VALUE!"},null,null,null,null,null,null,null,null,"","","","","","",""]
[null,null,null,null,null,null,null,null,null,null,null,null,null,null,"","","","",{"$error":"#VALUE!"},"","","","","","","","","",null,null,null,null,null,null,null,null,null,null,null,null,null,null,null,null,null,null,null,null,null,null,null,null,{"$error":"#VALUE!"},{"$error":"#VALUE!"},null,null,null,null,null,null,null,null,"","","","","","",""]
[null,null,null,null,null,null,null,null,null,null,null,null,null,null,"","","","",{"$error":"#VALUE!"},"","","","","","","","","",null,null,null,null,null,null,null,null,null,null,null,null,null,null,null,null,null,null,null,null,null,null,null,null,{"$error":"#VALUE!"},{"$error":"#VALUE!"},null,null,null,null,null,null,null,null,"","","","","","",""]
[null,null,null,null,null,null,null,null,null,null,null,null,null,null,"","","","",{"$error":"#VALUE!"},"","","","","","","","","",null,null,null,null,null,null,null,null,null,null,null,null,null,null,null,null,null,null,null,null,null,null,null,null,{"$error":"#VALUE!"},{"$error":"#VALUE!"},null,null,null,null,null,null,null,null,"","","","","","",""]
[null,null,null,null,null,null,null,null,null,null,null,null,null,null,"","","","",{"$error":"#VALUE!"},"","","","","","","","","",null,null,null,null,null,null,null,null,null,null,null,null,null,null,null,null,null,null,null,null,null,null,null,null,{"$error":"#VALUE!"},{"$error":"#VALUE!"},null,null,null,null,null,null,null,null,"","","","","","",""]
[null,null,null,null,null,null,null,null,null,null,null,null,null,null,"","","","",{"$error":"#VALUE!"},"","","","","","","","","",null,null,null,null,null,null,null,null,null,null,null,null,null,null,null,null,null,null,null,null,null,null,null,null,{"$error":"#VALUE!"},{"$error":"#VALUE!"},null,null,null,null,null,null,null,null,"","","","","","",""]
[null,null,null,null,null,null,null,null,null,null,null,null,null,null,"","","","",{"$error":"#VALUE!"},"","","","","","","","","",null,null,null,null,null,null,null,null,null,null,null,null,null,null,null,null,null,null,null,null,null,null,null,null,{"$error":"#VALUE!"},{"$error":"#VALUE!"},null,null,null,null,null,null,null,null,"","","","","","",""]
[null,null,null,null,null,null,null,null,null,null,null,null,null,null,"","","","",{"$error":"#VALUE!"},"","","","","","","","","",null,null,null,null,null,null,null,null,null,null,null,null,null,null,null,null,null,null,null,null,null,null,null,null,{"$error":"#VALUE!"},{"$error":"#VALUE!"},null,null,null,null,null,null,null,null,"","","","","","",""]
[null,null,null,null,null,null,null,null,null,null,null,null,null,null,"","","","",{"$error":"#VALUE!"},"","","","","","","","","",null,null,null,null,null,null,null,null,null,null,null,null,null,null,null,null,null,null,null,null,null,null,null,null,{"$error":"#VALUE!"},{"$error":"#VALUE!"},null,null,null,null,null,null,null,null,"","","","","","",""]
[null,null,null,null,null,null,null,null,null,null,null,null,null,null,"","","","",{"$error":"#VALUE!"},"","","","","","","","","",null,null,null,null,null,null,null,null,null,null,null,null,null,null,null,null,null,null,null,null,null,null,null,null,{"$error":"#VALUE!"},{"$error":"#VALUE!"},null,null,null,null,null,null,null,null,"","","","","","",""]
[null,null,null,null,null,null,null,null,null,null,null,null,null,null,"","","","",{"$error":"#VALUE!"},"","","","","","","","","",null,null,null,null,null,null,null,null,null,null,null,null,null,null,null,null,null,null,null,null,null,null,null,null,{"$error":"#VALUE!"},{"$error":"#VALUE!"},null,null,null,null,null,null,null,null,"","","","","","",""]
[null,null,null,null,null,null,null,null,null,null,null,null,null,null,"","","","",{"$error":"#VALUE!"},"","","","","","","","","",null,null,null,null,null,null,null,null,null,null,null,null,null,null,null,null,null,null,null,null,null,null,null,null,{"$error":"#VALUE!"},{"$error":"#VALUE!"},null,null,null,null,null,null,null,null,"","","","","","",""]
[null,null,null,null,null,null,null,null,null,null,null,null,null,null,"","","","",{"$error":"#VALUE!"},"","","","","","","","","",null,null,null,null,null,null,null,null,null,null,null,null,null,null,null,null,null,null,null,null,null,null,null,null,{"$error":"#VALUE!"},{"$error":"#VALUE!"},null,null,null,null,null,null,null,null,"","","","","","",""]
[null,null,null,null,null,null,null,null,null,null,null,null,null,null,"","","","",{"$error":"#VALUE!"},"","","","","","","","","",null,null,null,null,null,null,null,null,null,null,null,null,null,null,null,null,null,null,null,null,null,null,null,null,{"$error":"#VALUE!"},{"$error":"#VALUE!"},null,null,null,null,null,null,null,null,"","","","","","",""]
[null,null,null,null,null,null,null,null,null,null,null,null,null,null,"","","","",{"$error":"#VALUE!"},"","","","","","","","","",null,null,null,null,null,null,null,null,null,null,null,null,null,null,null,null,null,null,null,null,null,null,null,null,{"$error":"#VALUE!"},{"$error":"#VALUE!"},null,null,null,null,null,null,null,null,"","","","","","",""]
[null,null,null,null,null,null,null,null,null,null,null,null,null,null,"","","","",{"$error":"#VALUE!"},"","","","","","","","","",null,null,null,null,null,null,null,null,null,null,null,null,null,null,null,null,null,null,null,null,null,null,null,null,{"$error":"#VALUE!"},{"$error":"#VALUE!"},null,null,null,null,null,null,null,null,"","","","","","",""]
[null,null,null,null,null,null,null,null,null,null,null,null,null,null,"","","","",{"$error":"#VALUE!"},"","","","","","","","","",null,null,null,null,null,null,null,null,null,null,null,null,null,null,null,null,null,null,null,null,null,null,null,null,{"$error":"#VALUE!"},{"$error":"#VALUE!"},null,null,null,null,null,null,null,null,"","","","","","",""]
[null,null,null,null,null,null,null,null,null,null,null,null,null,null,"","","","",{"$error":"#VALUE!"},"","","","","","","","","",null,null,null,null,null,null,null,null,null,null,null,null,null,null,null,null,null,null,null,null,null,null,null,null,{"$error":"#VALUE!"},{"$error":"#VALUE!"},null,null,null,null,null,null,null,null,"","","","","","",""]
[null,null,null,null,null,null,null,null,null,null,null,null,null,null,"","","","",{"$error":"#VALUE!"},"","","","","","","","","",null,null,null,null,null,null,null,null,null,null,null,null,null,null,null,null,null,null,null,null,null,null,null,null,{"$error":"#VALUE!"},{"$error":"#VALUE!"},null,null,null,null,null,null,null,null,"","","","","","",""]
[null,null,null,null,null,null,null,null,null,null,null,null,null,null,"","","","",{"$error":"#VALUE!"},"","","","","","","","","",null,null,null,null,null,null,null,null,null,null,null,null,null,null,null,null,null,null,null,null,null,null,null,null,{"$error":"#VALUE!"},{"$error":"#VALUE!"},null,null,null,null,null,null,null,null,"","","","","","",""]
[null,null,null,null,null,null,null,null,null,null,null,null,null,null,"","","","",{"$error":"#VALUE!"},"","","","","","","","","",null,null,null,null,null,null,null,null,null,null,null,null,null,null,null,null,null,null,null,null,null,null,null,null,{"$error":"#VALUE!"},{"$error":"#VALUE!"},null,null,null,null,null,null,null,null,"","","","","","",""]
[null,null,null,null,null,null,null,null,null,null,null,null,null,null,"","","","",{"$error":"#VALUE!"},"","","","","","","","","",null,null,null,null,null,null,null,null,null,null,null,null,null,null,null,null,null,null,null,null,null,null,null,null,{"$error":"#VALUE!"},{"$error":"#VALUE!"},null,null,null,null,null,null,null,null,"","","","","","",""]
[null,null,null,null,null,null,null,null,null,null,null,null,null,null,"","","","",{"$error":"#VALUE!"},"","","","","","","","","",null,null,null,null,null,null,null,null,null,null,null,null,null,null,null,null,null,null,null,null,null,null,null,null,{"$error":"#VALUE!"},{"$error":"#VALUE!"},null,null,null,null,null,null,null,null,"","","","","","",""]
[null,null,null,null,null,null,null,null,null,null,null,null,null,null,"","","","",{"$error":"#VALUE!"},"","","","","","","","","",null,null,null,null,null,null,null,null,null,null,null,null,null,null,null,null,null,null,null,null,null,null,null,null,{"$error":"#VALUE!"},{"$error":"#VALUE!"},null,null,null,null,null,null,null,null,"","","","","","",""]
[null,null,null,null,null,null,null,null,null,null,null,null,null,null,"","","","",{"$error":"#VALUE!"},"","","","","","","","","",null,null,null,null,null,null,null,null,null,null,null,null,null,null,null,null,null,null,null,null,null,null,null,null,{"$error":"#VALUE!"},{"$error":"#VALUE!"},null,null,null,null,null,null,null,null,"","","","","","",""]
[null,null,null,null,null,null,null,null,null,null,null,null,null,null,"","","","",{"$error":"#VALUE!"},"","","","","","","","","",null,null,null,null,null,null,null,null,null,null,null,null,null,null,null,null,null,null,null,null,null,null,null,null,{"$error":"#VALUE!"},{"$error":"#VALUE!"},null,null,null,null,null,null,null,null,"","","","","","",""]
[null,null,null,null,null,null,null,null,null,null,null,null,null,null,"","","","",{"$error":"#VALUE!"},"","","","","","","","","",null,null,null,null,null,null,null,null,null,null,null,null,null,null,null,null,null,null,null,null,null,null,null,null,{"$error":"#VALUE!"},{"$error":"#VALUE!"},null,null,null,null,null,null,null,null,"","","","","","",""]
[null,null,null,null,null,null,null,null,null,null,null,null,null,null,"","","","",{"$error":"#VALUE!"},"","","","","","","","","",null,null,null,null,null,null,null,null,null,null,null,null,null,null,null,null,null,null,null,null,null,null,null,null,{"$error":"#VALUE!"},{"$error":"#VALUE!"},null,null,null,null,null,null,null,null,"","","","","","",""]
[null,null,null,null,null,null,null,null,null,null,null,null,null,null,"","","","",{"$error":"#VALUE!"},"","","","","","","","","",null,null,null,null,null,null,null,null,null,null,null,null,null,null,null,null,null,null,null,null,null,null,null,null,{"$error":"#VALUE!"},{"$error":"#VALUE!"},null,null,null,null,null,null,null,null,"","","","","","",""]
[null,null,null,null,null,null,null,null,null,null,null,null,null,null,"","","","",{"$error":"#VALUE!"},"","","","","","","","","",null,null,null,null,null,null,null,null,null,null,null,null,null,null,null,null,null,null,null,null,null,null,null,null,{"$error":"#VALUE!"},{"$error":"#VALUE!"},null,null,null,null,null,null,null,null,"","","","","","",""]
[null,null,null,null,null,null,null,null,null,null,null,null,null,null,"","","","",{"$error":"#VALUE!"},"","","","","","","","","",null,null,null,null,null,null,null,null,null,null,null,null,null,null,null,null,null,null,null,null,null,null,null,null,{"$error":"#VALUE!"},{"$error":"#VALUE!"},null,null,null,null,null,null,null,null,"","","","","","",""]
[null,null,null,null,null,null,null,null,null,null,null,null,null,null,"","","","",{"$error":"#VALUE!"},"","","","","","","","","",null,null,null,null,null,null,null,null,null,null,null,null,null,null,null,null,null,null,null,null,null,null,null,null,{"$error":"#VALUE!"},{"$error":"#VALUE!"},null,null,null,null,null,null,null,null,"","","","","","",""]
[null,null,null,null,null,null,null,null,null,null,null,null,null,null,"","","","",{"$error":"#VALUE!"},"","","",{"$f":"IF(G260<h,(\"\"),(IF(G260<h+dzd,(0),(IF(N260=\"\",(W259+H260*(G260-G259)),(W259+(I260-9.81)*(G260-G259)))))))","v":""},"","",{"$f":"IF(Y260=\"\",X260,X260+Y260)","v":""},{"$f":"IF(N260=\"\",(\"\"),IF(G260>h,AA259,((G260-nz)*9.81)))","v":""},"",null,null,null,null,null,null,null,null,null,null,null,null,null,null,null,null,null,null,null,null,null,null,null,null,{"$error":"#VALUE!"},{"$error":"#VALUE!"},null,null,null,null,null,null,null,null,"","","","","","",""]
[null,null,null,null,null,null,null,null,null,null,null,null,null,null,"","","","",{"$error":"#VALUE!"},"","","","","","","","","",null,null,null,null,null,null,null,null,null,null,null,null,null,null,null,null,null,null,null,null,null,null,null,null,{"$error":"#VALUE!"},{"$error":"#VALUE!"},null,null,null,null,null,null,null,null,"","","","","","",""]
[null,null,null,null,null,null,null,null,null,null,null,null,null,null,"","","",{"$f":"IF(L262=\"\",\"\",(IF(G262=\"\",\"\",IF(G262=h,(R263),(IF(N262=\"\",$E$11,($E$11*V262/W262)))))))","v":""},{"$error":"#VALUE!"},"","",{"$f":"IF(G262<h,(\"\"),(IF(G262<h+dzd,(0),(IF(N262=\"\",(V261+H262*(G262-G261)),(V261+(I262)*(G262-G261)))))))","v":""},"","",{"$f":"IF(G262<h,(\"\"),((-P262*W262-2*J262*(P262^0.5))*COS(RADIANS(M262))))","v":""},"","",{"$f":"IF(G262=\"\",\"\",IF(G262>hd,0,IF($A$27=1,BK262,IF($A$27=2,BL262,IF($A$27=3,BM262,IF($A$27=4,BN262+ka*($E$4+$E$5),IF($A$27=5,BP262,IF($A$27=6,BO262,BQ262))))))))","v":""},null,null,null,null,null,null,null,null,null,null,null,null,null,null,null,null,null,null,null,null,null,null,null,null,{"$error":"#VALUE!"},{"$error":"#VALUE!"},null,null,null,null,null,null,null,null,{"$f":"IF(G262=\"\",\"\",IF(G262>hd,0,(IF(G262<0.2*(hd),(1.6*($AH$20+$AH$21)/(hd)/0.2/(hd)*G262),(IF(G262<0.8*(hd),(1.6*($AH$20+$AH$21)/(hd)),(1.6*($AH$20+$AH$21)/(hd)-1.6*($AH$20+$AH$21)/(hd)/0.2/(hd)*(G262-0.8*(hd)))))))))","v":""},{"$f":"IF(G262=\"\",\"\",IF(G262>hd,0,(IF(G262<((2/3)*$AH$6),(1.3*($AH$20+$AH$21)/(hd-(1/3)*($AH$6+(hd-MAX($AP$6:$AP$15))))*G262/(2/3*$AH$6)),(IF(G262<(h-2/3*(hd-MAX($AP$6:$AP$15))),1.3*($AH$20+$AH$21)/(hd-1/3*($AH$6+(hd-MAX($AP$6:$AP$15)))),1.3*($AH$20+$AH$21)/(hd-1/3*($AH$6+(hd-MAX($AP$6:$AP$15))))*(1-(G262-(hd-2/3*(hd-MAX($AP$6:$AP$15))))/(2/3*(hd-MAX($AP$6:$AP$15))))))))))","v":""},{"$f":"IF(G262=\"\",\"\",IF(G262>hd,0,(IF(G262<(0.6667*$AH$6),(0.3*g*hd*G262/(0.6667*$AH$6)),(IF(G262<(hd-0.6667*(hd-MAX($AP$6:$AP$15))),0.3*g*hd,0.3*g*hd*(1-(G262-(hd-0.6667*(hd-MAX($AP$6:$AP$15))))/(0.6667*(hd-MAX($AP$6:$AP$15))))))))))","v":""},{"$f":"IF(G262=\"\",\"\",IF(G262>hd,0,(IF(G262<((2/3)*$AH$6),(0.65*ka*g*hd*hd/(hd-(1/3)*($AH$6+(hd-MAX($AP$6:$AP$15))))*G262/(2/3*$AH$6)),(IF(G262<(h-2/3*(hd-MAX($AP$6:$AP$15))),0.65*ka*g*hd*hd/(hd-1/3*($AH$6+(hd-MAX($AP$6:$AP$15)))),0.65*ka*g*hd*hd/(hd-1/3*($AH$6+(hd-MAX($AP$6:$AP$15))))*(1-(G262-(hd-2/3*(hd-MAX($AP$6:$AP$15))))/(2/3*(hd-MAX($AP$6:$AP$15))))))))))","v":""},{"$f":"IF(G262=\"\",\"\",IF(G262>hd,0,(IF(G262<(0.25*hd),(0.3*g*h*G262/(0.25*hd)),(IF(G262<(0.75*hd),0.3*g*h,0.3*g*h*(1-(G262-0.75*hd)/0.25/hd)))))))","v":""},{"$f":"IF(G262>hd,0,IF(G262=\"\",\"\",0.65*ka*g*hd))","v":""},{"$f":"IF(G262=\"\",\"\",IF(G262>hd,0,(IF(G262<(0.25*hd),(1-4*ca/g/hd)*g*hd*G262/(0.25*hd),((1-4*ca/g/hd)*g*hd)))))","v":""}]
[null,null,null,null,null,null,null,null,null,null,null,null,null,null,{"$f":"IF(G263=\"\",(\"\"),((SIN(RADIANS($E$9+BA263-K263)))^2)*((SIN(RADIANS($E$9)))^-2)*((COS(RADIANS(BA263)))^-1)*((SIN((RADIANS($E$9+BA263+M263))))^-1)/(1+((SIN(RADIANS(K263+M263)))*(SIN((RADIANS(K263-$E$7-BA263))/(SIN(RADIANS($E$9-$E$7)))/(SIN((RADIANS($E$9+BA263+M263)))))))^0.5)^2)","v":""},{"$f":"IF(L263=\"\",(\"\"),((SIN(RADIANS($E$9-BB263+L263)))^2)*((SIN(RADIANS($E$9)))^-2)*((COS(RADIANS(BB263)))^-1)*((SIN((RADIANS($E$9-BB263-M263))))^-1)/(1-((SIN(RADIANS(L263+M263)))*(SIN((RADIANS(L263+$E$7-BB263))/(SIN(RADIANS($E$9-$E$7)))/(SIN((RADIANS($E$9-BB263-M263)))))))^0.5)^2)","v":""},{"$f":"IF(G263=\"\",\"\",(IF(N263=\"\",$E$11,($E$11*T263/U263))))","v":""},"",{"$f":"IF(G263=\"\",\"\",0.5*PI()-ATAN((-TAN(RADIANS(K263+M263+(90-$E$9)-$E$7)))+(1/(COS(RADIANS(K263+M263+(90-$E$9)-$E$7))))*((COS((RADIANS(90-$E$9+M263+BA263))))^0.5)*((SIN(RADIANS(K263+M263)))^0.5)*((COS(RADIANS(90-$E$9-$E$7)))^-0.5)*((SIN(RADIANS(K263-$E$7-BA263)))^-0.5)))+$E$7","v":{"$error":"#VALUE!"}},"","","","","","","","","",null,null,null,null,null,null,null,null,null,null,null,null,null,null,null,null,null,null,null,null,null,null,null,null,{"$f":"ATAN(Q263)/0.017453","v":{"$error":"#VALUE!"}},{"$f":"ATAN(Q263)/0.017453","v":{"$error":"#VALUE!"}},null,null,null,null,null,null,null,null,"","","","","","",""]
[null,null,null,null,null,null,null,null,null,null,null,null,null,null,"","","","",{"$error":"#VALUE!"},{"$f":"IF(G264=\"\",(\"\"),(IF(N264=\"\",(T263+(G264-G263)*H263),(T263+(G264-G263)*(I263)))))","v":""},{"$f":"IF(G264=\"\",(\"\"),(IF(N264=\"\",(U263+(G264-G263)*H263),(U263+(G264-G263)*(I263-9.81)))))","v":""},"","",{"$f":"IF(G264=\"\",(\"\"),((O264*U264-2*J264*(O264)^0.5))*COS(RADIANS(M264)))","v":""},"","","","",null,null,null,null,null,null,null,null,null,null,null,null,null,null,null,null,null,null,null,null,null,null,null,null,{"$error":"#VALUE!"},{"$error":"#VALUE!"},null,null,null,null,null,null,null,null,"","","","","","",""]
[null,null,null,null,null,null,null,null,null,null,null,null,null,null,"","","","",{"$error":"#VALUE!"},"","","","","","","","","",null,null,null,null,null,null,null,null,null,null,null,null,null,null,null,null,null,null,null,null,null,null,null,null,{"$error":"#VALUE!"},{"$error":"#VALUE!"},null,null,null,null,null,null,null,null,"","","","","","",""]
[null,null,null,null,null,null,null,null,null,null,null,null,null,null,"","","","",{"$error":"#VALUE!"},"","","","","","","","","",null,null,null,null,null,null,null,null,null,null,null,null,null,null,null,null,null,null,null,null,null,null,null,null,{"$error":"#VALUE!"},{"$error":"#VALUE!"},null,null,null,null,null,null,null,null,"","","","","","",""]
[null,null,null,null,null,null,null,null,null,null,null,null,null,null,"","","","",{"$error":"#VALUE!"},"","","","","","","","","",null,null,null,null,null,null,null,null,null,null,null,null,null,null,null,null,null,null,null,null,null,null,null,null,{"$error":"#VALUE!"},{"$error":"#VALUE!"},null,null,null,null,null,null,null,null,"","","","","","",""]
[null,null,null,null,null,null,null,null,null,null,null,null,null,null,"","","","",{"$error":"#VALUE!"},"","","","","","","","","",null,null,null,null,null,null,null,null,null,null,null,null,null,null,null,null,null,null,null,null,null,null,null,null,{"$error":"#VALUE!"},{"$error":"#VALUE!"},null,null,null,null,null,null,null,null,"","","","","","",""]
[null,null,null,null,null,null,null,null,null,null,null,null,null,null,"","","","",{"$error":"#VALUE!"},"","","","","","","","","",null,null,null,null,null,null,null,null,null,null,null,null,null,null,null,null,null,null,null,null,null,null,null,null,{"$error":"#VALUE!"},{"$error":"#VALUE!"},null,null,null,null,null,null,null,null,"","","","","","",""]
[null,null,null,null,null,null,null,null,null,null,null,null,null,null,"","","","",{"$error":"#VALUE!"},"","","","","","","","","",null,null,null,null,null,null,null,null,null,null,null,null,null,null,null,null,null,null,null,null,null,null,null,null,{"$error":"#VALUE!"},{"$error":"#VALUE!"},null,null,null,null,null,null,null,null,"","","","","","",""]
[null,null,null,null,null,null,null,null,null,null,null,null,null,null,"","","","",{"$error":"#VALUE!"},"","","","","","","","","",null,null,null,null,null,null,null,null,null,null,null,null,null,null,null,null,null,null,null,null,null,null,null,null,{"$error":"#VALUE!"},{"$error":"#VALUE!"},null,null,null,null,null,null,null,null,"","","","","","",""]
[null,null,null,null,null,null,null,null,null,null,null,null,null,null,"","","","",{"$error":"#VALUE!"},"","","","","","","","","",null,null,null,null,null,null,null,null,null,null,null,null,null,null,null,null,null,null,null,null,null,null,null,null,{"$error":"#VALUE!"},{"$error":"#VALUE!"},null,null,null,null,null,null,null,null,"","","","","","",""]
[null,null,null,null,null,null,null,null,null,null,null,null,null,null,"","","","",{"$error":"#VALUE!"},"","","","","","","","","",null,null,null,null,null,null,null,null,null,null,null,null,null,null,null,null,null,null,null,null,null,null,null,null,{"$error":"#VALUE!"},{"$error":"#VALUE!"},null,null,null,null,null,null,null,null,"","","","","","",""]
[null,null,null,null,null,null,null,null,null,null,null,null,null,null,"","","","",{"$error":"#VALUE!"},"","","","","","","","","",null,null,null,null,null,null,null,null,null,null,null,null,null,null,null,null,null,null,null,null,null,null,null,null,{"$error":"#VALUE!"},{"$error":"#VALUE!"},null,null,null,null,null,null,null,null,"","","","","","",""]
[null,null,null,null,null,null,null,null,null,null,null,null,null,null,"","","","",{"$error":"#VALUE!"},"","","","","","","","","",null,null,null,null,null,null,null,null,null,null,null,null,null,null,null,null,null,null,null,null,null,null,null,null,{"$error":"#VALUE!"},{"$error":"#VALUE!"},null,null,null,null,null,null,null,null,"","","","","","",""]
[null,null,null,null,null,null,null,null,null,null,null,null,null,null,"","","","",{"$error":"#VALUE!"},"","","","","","","","","",null,null,null,null,null,null,null,null,null,null,null,null,null,null,null,null,null,null,null,null,null,null,null,null,{"$error":"#VALUE!"},{"$error":"#VALUE!"},null,null,null,null,null,null,null,null,"","","","","","",""]
[null,null,null,null,null,null,null,null,null,null,null,null,null,null,"","","","",{"$error":"#VALUE!"},"","","","","","","","","",null,null,null,null,null,null,null,null,null,null,null,null,null,null,null,null,null,null,null,null,null,null,null,null,{"$error":"#VALUE!"},{"$error":"#VALUE!"},null,null,null,null,null,null,null,null,"","","","","","",""]
[null,null,null,null,null,null,null,null,null,null,null,null,null,null,"","","","",{"$error":"#VALUE!"},"","","","","","","","","",null,null,null,null,null,null,null,null,null,null,null,null,null,null,null,null,null,null,null,null,null,null,null,null,{"$error":"#VALUE!"},{"$error":"#VALUE!"},null,null,null,null,null,null,null,null,"","","","","","",""]
[null,null,null,null,null,null,null,null,null,null,null,null,null,null,"","","","",{"$error":"#VALUE!"},"","","","","","","","","",null,null,null,null,null,null,null,null,null,null,null,null,null,null,null,null,null,null,null,null,null,null,null,null,{"$error":"#VALUE!"},{"$error":"#VALUE!"},null,null,null,null,null,null,null,null,"","","","","","",""]
[null,null,null,null,null,null,null,null,null,null,null,null,null,null,"","","","",{"$error":"#VALUE!"},"","","","","","","","","",null,null,null,null,null,null,null,null,null,null,null,null,null,null,null,null,null,null,null,null,null,null,null,null,{"$error":"#VALUE!"},{"$error":"#VALUE!"},null,null,null,null,null,null,null,null,"","","","","","",""]
[null,null,null,null,null,null,null,null,null,null,null,null,null,null,"","","","",{"$error":"#VALUE!"},"","","","","","","","","",null,null,null,null,null,null,null,null,null,null,null,null,null,null,null,null,null,null,null,null,null,null,null,null,{"$error":"#VALUE!"},{"$error":"#VALUE!"},null,null,null,null,null,null,null,null,"","","","","","",""]
[null,null,null,null,null,null,null,null,null,null,null,null,null,null,"","","","",{"$error":"#VALUE!"},"","","","","","","","","",null,null,null,null,null,null,null,null,null,null,null,null,null,null,null,null,null,null,null,null,null,null,null,null,{"$error":"#VALUE!"},{"$error":"#VALUE!"},null,null,null,null,null,null,null,null,"","","","","","",""]
[null,null,null,null,null,null,null,null,null,null,null,null,null,null,"","","","",{"$error":"#VALUE!"},"","","","","","","","","",null,null,null,null,null,null,null,null,null,null,null,null,null,null,null,null,null,null,null,null,null,null,null,null,{"$error":"#VALUE!"},{"$error":"#VALUE!"},null,null,null,null,null,null,null,null,"","","","","","",""]
[null,null,null,null,null,null,null,null,null,null,null,null,null,null,"","","","",{"$error":"#VALUE!"},"","","","","","","","","",null,null,null,null,null,null,null,null,null,null,null,null,null,null,null,null,null,null,null,null,null,null,null,null,{"$error":"#VALUE!"},{"$error":"#VALUE!"},null,null,null,null,null,null,null,null,"","","","","","",""]
[null,null,null,null,null,null,null,null,null,null,null,null,null,null,"","","","",{"$error":"#VALUE!"},"","","","","","","","","",null,null,null,null,null,null,null,null,null,null,null,null,null,null,null,null,null,null,null,null,null,null,null,null,{"$error":"#VALUE!"},{"$error":"#VALUE!"},null,null,null,null,null,null,null,null,"","","","","","",""]
[null,null,null,null,null,null,null,null,null,null,null,null,null,null,"","","","",{"$error":"#VALUE!"},"","","","","","","","","",null,null,null,null,null,null,null,null,null,null,null,null,null,null,null,null,null,null,null,null,null,null,null,null,{"$error":"#VALUE!"},{"$error":"#VALUE!"},null,null,null,null,null,null,null,null,"","","","","","",""]
[null,null,null,null,null,null,null,null,null,null,null,null,null,null,"","","","",{"$error":"#VALUE!"},"","","","","","","","","",null,null,null,null,null,null,null,null,null,null,null,null,null,null,null,null,null,null,null,null,null,null,null,null,{"$error":"#VALUE!"},{"$error":"#VALUE!"},null,null,null,null,null,null,null,null,"","","","","","",""]
[null,null,null,null,null,null,null,null,null,null,null,null,null,null,"","","","",{"$error":"#VALUE!"},"","","","","","","","","",null,null,null,null,null,null,null,null,null,null,null,null,null,null,null,null,null,null,null,null,null,null,null,null,{"$error":"#VALUE!"},{"$error":"#VALUE!"},null,null,null,null,null,null,null,null,"","","","","","",""]
[null,null,null,null,null,null,null,null,null,null,null,null,null,null,"","","","",{"$error":"#VALUE!"},"","","","","","","","","",null,null,null,null,null,null,null,null,null,null,null,null,null,null,null,null,null,null,null,null,null,null,null,null,{"$error":"#VALUE!"},{"$error":"#VALUE!"},null,null,null,null,null,null,null,null,"","","","","","",""]
[null,null,null,null,null,null,null,null,null,null,null,null,null,null,"","","","",{"$error":"#VALUE!"},"","","","","","","","","",null,null,null,null,null,null,null,null,null,null,null,null,null,null,null,null,null,null,null,null,null,null,null,null,{"$error":"#VALUE!"},{"$error":"#VALUE!"},null,null,null,null,null,null,null,null,"","","","","","",""]
[null,null,null,null,null,null,null,null,null,null,null,null,null,null,"","","","",{"$error":"#VALUE!"},"","","","","","","","","",null,null,null,null,null,null,null,null,null,null,null,null,null,null,null,null,null,null,null,null,null,null,null,null,{"$error":"#VALUE!"},{"$error":"#VALUE!"},null,null,null,null,null,null,null,null,"","","","","","",""]
[null,null,null,null,null,null,null,null,null,null,null,null,null,null,"","","","",{"$error":"#VALUE!"},"","","","","","","","","",null,null,null,null,null,null,null,null,null,null,null,null,null,null,null,null,null,null,null,null,null,null,null,null,{"$error":"#VALUE!"},{"$error":"#VALUE!"},null,null,null,null,null,null,null,null,"","","","","","",""]
[null,null,null,null,null,null,null,null,null,null,null,null,null,null,"","","","",{"$error":"#VALUE!"},"","","","","","","","","",null,null,null,null,null,null,null,null,null,null,null,null,null,null,null,null,null,null,null,null,null,null,null,null,{"$error":"#VALUE!"},{"$error":"#VALUE!"},null,null,null,null,null,null,null,null,"","","","","","",""]
[null,null,null,null,null,null,null,null,null,null,null,null,null,null,"","","","",{"$error":"#VALUE!"},"","","","","","","","","",null,null,null,null,null,null,null,null,null,null,null,null,null,null,null,null,null,null,null,null,null,null,null,null,{"$error":"#VALUE!"},{"$error":"#VALUE!"},null,null,null,null,null,null,null,null,"","","","","","",""]
[null,null,null,null,null,null,null,null,null,null,null,null,null,null,"","","","",{"$error":"#VALUE!"},"","","","","","","","","",null,null,null,null,null,null,null,null,null,null,null,null,null,null,null,null,null,null,null,null,null,null,null,null,{"$error":"#VALUE!"},{"$error":"#VALUE!"},null,null,null,null,null,null,null,null,"","","","","","",""]
[null,null,null,null,null,null,null,null,null,null,null,null,null,null,"","","","",{"$error":"#VALUE!"},"","","","","","","","","",null,null,null,null,null,null,null,null,null,null,null,null,null,null,null,null,null,null,null,null,null,null,null,null,{"$error":"#VALUE!"},{"$error":"#VALUE!"},null,null,null,null,null,null,null,null,"","","","","","",""]
[null,null,null,null,null,null,null,null,null,null,null,null,null,null,"","","","",{"$error":"#VALUE!"},"","","","","","","","","",null,null,null,null,null,null,null,null,null,null,null,null,null,null,null,null,null,null,null,null,null,null,null,null,{"$error":"#VALUE!"},{"$error":"#VALUE!"},null,null,null,null,null,null,null,null,"","","","","","",""]
[null,null,null,null,null,null,null,null,null,null,null,null,null,null,"","","","",{"$error":"#VALUE!"},"","","","","","","","","",null,null,null,null,null,null,null,null,null,null,null,null,null,null,null,null,null,null,null,null,null,null,null,null,{"$error":"#VALUE!"},{"$error":"#VALUE!"},null,null,null,null,null,null,null,null,"","","","","","",""]
[null,null,null,null,null,null,null,null,null,null,null,null,null,null,"","","","",{"$error":"#VALUE!"},"","","","","","","","","",null,null,null,null,null,null,null,null,null,null,null,null,null,null,null,null,null,null,null,null,null,null,null,null,{"$error":"#VALUE!"},{"$error":"#VALUE!"},null,null,null,null,null,null,null,null,"","","","","","",""]
[null,null,null,null,null,null,null,null,null,null,null,null,null,null,"","","","",{"$error":"#VALUE!"},"","","","","","","","","",null,null,null,null,null,null,null,null,null,null,null,null,null,null,null,null,null,null,null,null,null,null,null,null,{"$error":"#VALUE!"},{"$error":"#VALUE!"},null,null,null,null,null,null,null,null,"","","","","","",""]
[null,null,null,null,null,null,null,null,null,null,null,null,null,null,"","","","",{"$error":"#VALUE!"},"","","","","","","","","",null,null,null,null,null,null,null,null,null,null,null,null,null,null,null,null,null,null,null,null,null,null,null,null,{"$error":"#VALUE!"},{"$error":"#VALUE!"},null,null,null,null,null,null,null,null,"","","","","","",""]
[null,null,null,null,null,null,null,null,null,null,null,null,null,null,"","","","",{"$error":"#VALUE!"},"","","","","","","","","",null,null,null,null,null,null,null,null,null,null,null,null,null,null,null,null,null,null,null,null,null,null,null,null,{"$error":"#VALUE!"},{"$error":"#VALUE!"},null,null,null,null,null,null,null,null,"","","","","","",""]
[null,null,null,null,null,null,null,null,null,null,null,null,null,null,"","","","",{"$error":"#VALUE!"},"","","","","","","","","",null,null,null,null,null,null,null,null,null,null,null,null,null,null,null,null,null,null,null,null,null,null,null,null,{"$error":"#VALUE!"},{"$error":"#VALUE!"},null,null,null,null,null,null,null,null,"","","","","","",""]
[null,null,null,null,null,null,null,null,null,null,null,null,null,null,"","","","",{"$error":"#VALUE!"},"","","","","","","","","",null,null,null,null,null,null,null,null,null,null,null,null,null,null,null,null,null,null,null,null,null,null,null,null,{"$error":"#VALUE!"},{"$error":"#VALUE!"},null,null,null,null,null,null,null,null,"","","","","","",""]
[null,null,null,null,null,null,null,null,null,null,null,null,null,null,"","","","",{"$error":"#VALUE!"},"","","","","","","","","",null,null,null,null,null,null,null,null,null,null,null,null,null,null,null,null,null,null,null,null,null,null,null,null,{"$error":"#VALUE!"},{"$error":"#VALUE!"},null,null,null,null,null,null,null,null,"","","","","","",""]
[null,null,null,null,null,null,null,null,null,null,null,null,null,null,"","","","",{"$error":"#VALUE!"},"","","","","","","","","",null,null,null,null,null,null,null,null,null,null,null,null,null,null,null,null,null,null,null,null,null,null,null,null,{"$error":"#VALUE!"},{"$error":"#VALUE!"},null,null,null,null,null,null,null,null,"","","","","","",""]
[null,null,null,null,null,null,null,null,null,null,null,null,null,null,"","","","",{"$error":"#VALUE!"},"","","","","","","","","",null,null,null,null,null,null,null,null,null,null,null,null,null,null,null,null,null,null,null,null,null,null,null,null,{"$error":"#VALUE!"},{"$error":"#VALUE!"},null,null,null,null,null,null,null,null,"","","","","","",""]
[null,null,null,null,null,null,null,null,null,null,null,null,null,null,"","","","",{"$error":"#VALUE!"},"","","","","","","","","",null,null,null,null,null,null,null,null,null,null,null,null,null,null,null,null,null,null,null,null,null,null,null,null,{"$error":"#VALUE!"},{"$error":"#VALUE!"},null,null,null,null,null,null,null,null,"","","","","","",""]
[null,null,null,null,null,null,null,null,null,null,null,null,null,null,"","","","",{"$error":"#VALUE!"},"","","","","","","","","",null,null,null,null,null,null,null,null,null,null,null,null,null,null,null,null,null,null,null,null,null,null,null,null,{"$error":"#VALUE!"},{"$error":"#VALUE!"},null,null,null,null,null,null,null,null,"","","","","","",""]
[null,null,null,null,null,null,null,null,null,null,null,null,null,null,"","","","",{"$error":"#VALUE!"},"","","","","","","","","",null,null,null,null,null,null,null,null,null,null,null,null,null,null,null,null,null,null,null,null,null,null,null,null,{"$error":"#VALUE!"},{"$error":"#VALUE!"},null,null,null,null,null,null,null,null,"","","","","","",""]
[null,null,null,null,null,null,null,null,null,null,null,null,null,null,"","","","",{"$error":"#VALUE!"},"","","","","","","","","",null,null,null,null,null,null,null,null,null,null,null,null,null,null,null,null,null,null,null,null,null,null,null,null,{"$error":"#VALUE!"},{"$error":"#VALUE!"},null,null,null,null,null,null,null,null,"","","","","","",""]
[null,null,null,null,null,null,null,null,null,null,null,null,null,null,"","","","",{"$error":"#VALUE!"},"","","","","","","","","",null,null,null,null,null,null,null,null,null,null,null,null,null,null,null,null,null,null,null,null,null,null,null,null,{"$error":"#VALUE!"},{"$error":"#VALUE!"},null,null,null,null,null,null,null,null,"","","","","","",""]
[null,null,null,null,null,null,null,null,null,null,null,null,null,null,"","","","",{"$error":"#VALUE!"},"","","","","","","","","",null,null,null,null,null,null,null,null,null,null,null,null,null,null,null,null,null,null,null,null,null,null,null,null,{"$error":"#VALUE!"},{"$error":"#VALUE!"},null,null,null,null,null,null,null,null,"","","","","","",""]
[null,null,null,null,null,null,null,null,null,null,null,null,null,null,"","","","",{"$error":"#VALUE!"},"","","","","","","","","",null,null,null,null,null,null,null,null,null,null,null,null,null,null,null,null,null,null,null,null,null,null,null,null,{"$error":"#VALUE!"},{"$error":"#VALUE!"},null,null,null,null,null,null,null,null,"","","","","","",""]
[null,null,null,null,null,null,null,null,null,null,null,null,null,null,"","","","",{"$error":"#VALUE!"},"","","","","","","","","",null,null,null,null,null,null,null,null,null,null,null,null,null,null,null,null,null,null,null,null,null,null,null,null,{"$error":"#VALUE!"},{"$error":"#VALUE!"},null,null,null,null,null,null,null,null,"","","","","","",""]
[null,null,null,null,null,null,null,null,null,null,null,null,null,null,"","","","",{"$error":"#VALUE!"},"","","","","","","","","",null,null,null,null,null,null,null,null,null,null,null,null,null,null,null,null,null,null,null,null,null,null,null,null,{"$error":"#VALUE!"},{"$error":"#VALUE!"},null,null,null,null,null,null,null,null,"","","","","","",""]
[null,null,null,null,null,null,null,null,null,null,null,null,null,null,"","","","",{"$error":"#VALUE!"},"","","","","","","","","",null,null,null,null,null,null,null,null,null,null,null,null,null,null,null,null,null,null,null,null,null,null,null,null,{"$error":"#VALUE!"},{"$error":"#VALUE!"},null,null,null,null,null,null,null,null,"","","","","","",""]
[null,null,null,null,null,null,null,null,null,null,null,null,null,null,"","","","",{"$error":"#VALUE!"},"","","","","","","","","",null,null,null,null,null,null,null,null,null,null,null,null,null,null,null,null,null,null,null,null,null,null,null,null,{"$error":"#VALUE!"},{"$error":"#VALUE!"},null,null,null,null,null,null,null,null,"","","","","","",""]
[null,null,null,null,null,null,null,null,null,null,null,null,null,null,"","","","",{"$error":"#VALUE!"},"","","","","","","","","",null,null,null,null,null,null,null,null,null,null,null,null,null,null,null,null,null,null,null,null,null,null,null,null,{"$error":"#VALUE!"},{"$error":"#VALUE!"},null,null,null,null,null,null,null,null,"","","","","","",""]
[null,null,null,null,null,null,null,null,null,null,null,null,null,null,"","","","",{"$error":"#VALUE!"},"","","","","","","","","",null,null,null,null,null,null,null,null,null,null,null,null,null,null,null,null,null,null,null,null,null,null,null,null,{"$error":"#VALUE!"},{"$error":"#VALUE!"},null,null,null,null,null,null,null,null,"","","","","","",""]
[null,null,null,null,null,null,null,null,null,null,null,null,null,null,"","","","",{"$error":"#VALUE!"},"","","","","","","","","",null,null,null,null,null,null,null,null,null,null,null,null,null,null,null,null,null,null,null,null,null,null,null,null,{"$error":"#VALUE!"},{"$error":"#VALUE!"},null,null,null,null,null,null,null,null,"","","","","","",""]
[null,null,null,null,null,null,null,null,null,null,null,null,null,null,"","","","",{"$error":"#VALUE!"},"","","","","","","","","",null,null,null,null,null,null,null,null,null,null,null,null,null,null,null,null,null,null,null,null,null,null,null,null,{"$error":"#VALUE!"},{"$error":"#VALUE!"},null,null,null,null,null,null,null,null,"","","","","","",""]
[null,null,null,null,null,null,null,null,null,null,null,null,null,null,"","","","",{"$error":"#VALUE!"},"","","","","","","","","",null,null,null,null,null,null,null,null,null,null,null,null,null,null,null,null,null,null,null,null,null,null,null,null,{"$error":"#VALUE!"},{"$error":"#VALUE!"},null,null,null,null,null,null,null,null,"","","","","","",""]
[null,null,null,null,null,null,null,null,null,null,null,null,null,null,"","","","",{"$error":"#VALUE!"},"","","",{"$f":"IF(G324<h,(\"\"),(IF(G324<h+dzd,(0),(IF(N324=\"\",(W323+H324*(G324-G323)),(W323+(I324-9.81)*(G324-G323)))))))","v":""},"","",{"$f":"IF(Y324=\"\",X324,X324+Y324)","v":""},{"$f":"IF(N324=\"\",(\"\"),IF(G324>h,AA323,((G324-nz)*9.81)))","v":""},"",null,null,null,null,null,null,null,null,null,null,null,null,null,null,null,null,null,null,null,null,null,null,null,null,{"$error":"#VALUE!"},{"$error":"#VALUE!"},null,null,null,null,null,null,null,null,"","","","","","",""]
[null,null,null,null,null,null,null,null,null,null,null,null,null,null,"","","","",{"$error":"#VALUE!"},"","","","","","","","","",null,null,null,null,null,null,null,null,null,null,null,null,null,null,null,null,null,null,null,null,null,null,null,null,{"$error":"#VALUE!"},{"$error":"#VALUE!"},null,null,null,null,null,null,null,null,"","","","","","",""]
[null,null,null,null,null,null,null,null,null,null,null,null,null,null,"","","",{"$f":"IF(L326=\"\",\"\",(IF(G326=\"\",\"\",IF(G326=h,(R327),(IF(N326=\"\",$E$11,($E$11*V326/W326)))))))","v":""},{"$error":"#VALUE!"},"","",{"$f":"IF(G326<h,(\"\"),(IF(G326<h+dzd,(0),(IF(N326=\"\",(V325+H326*(G326-G325)),(V325+(I326)*(G326-G325)))))))","v":""},"","",{"$f":"IF(G326<h,(\"\"),((-P326*W326-2*J326*(P326^0.5))*COS(RADIANS(M326))))","v":""},"","",{"$f":"IF(G326=\"\",\"\",IF(G326>hd,0,IF($A$27=1,BK326,IF($A$27=2,BL326,IF($A$27=3,BM326,IF($A$27=4,BN326+ka*($E$4+$E$5),IF($A$27=5,BP326,IF($A$27=6,BO326,BQ326))))))))","v":""},null,null,null,null,null,null,null,null,null,null,null,null,null,null,null,null,null,null,null,null,null,null,null,null,{"$error":"#VALUE!"},{"$error":"#VALUE!"},null,null,null,null,null,null,null,null,{"$f":"IF(G326=\"\",\"\",IF(G326>hd,0,(IF(G326<0.2*(hd),(1.6*($AH$20+$AH$21)/(hd)/0.2/(hd)*G326),(IF(G326<0.8*(hd),(1.6*($AH$20+$AH$21)/(hd)),(1.6*($AH$20+$AH$21)/(hd)-1.6*($AH$20+$AH$21)/(hd)/0.2/(hd)*(G326-0.8*(hd)))))))))","v":""},{"$f":"IF(G326=\"\",\"\",IF(G326>hd,0,(IF(G326<((2/3)*$AH$6),(1.3*($AH$20+$AH$21)/(hd-(1/3)*($AH$6+(hd-MAX($AP$6:$AP$15))))*G326/(2/3*$AH$6)),(IF(G326<(h-2/3*(hd-MAX($AP$6:$AP$15))),1.3*($AH$20+$AH$21)/(hd-1/3*($AH$6+(hd-MAX($AP$6:$AP$15)))),1.3*($AH$20+$AH$21)/(hd-1/3*($AH$6+(hd-MAX($AP$6:$AP$15))))*(1-(G326-(hd-2/3*(hd-MAX($AP$6:$AP$15))))/(2/3*(hd-MAX($AP$6:$AP$15))))))))))","v":""},{"$f":"IF(G326=\"\",\"\",IF(G326>hd,0,(IF(G326<(0.6667*$AH$6),(0.3*g*hd*G326/(0.6667*$AH$6)),(IF(G326<(hd-0.6667*(hd-MAX($AP$6:$AP$15))),0.3*g*hd,0.3*g*hd*(1-(G326-(hd-0.6667*(hd-MAX($AP$6:$AP$15))))/(0.6667*(hd-MAX($AP$6:$AP$15))))))))))","v":""},{"$f":"IF(G326=\"\",\"\",IF(G326>hd,0,(IF(G326<((2/3)*$AH$6),(0.65*ka*g*hd*hd/(hd-(1/3)*($AH$6+(hd-MAX($AP$6:$AP$15))))*G326/(2/3*$AH$6)),(IF(G326<(h-2/3*(hd-MAX($AP$6:$AP$15))),0.65*ka*g*hd*hd/(hd-1/3*($AH$6+(hd-MAX($AP$6:$AP$15)))),0.65*ka*g*hd*hd/(hd-1/3*($AH$6+(hd-MAX($AP$6:$AP$15))))*(1-(G326-(hd-2/3*(hd-MAX($AP$6:$AP$15))))/(2/3*(hd-MAX($AP$6:$AP$15))))))))))","v":""},{"$f":"IF(G326=\"\",\"\",IF(G326>hd,0,(IF(G326<(0.25*hd),(0.3*g*h*G326/(0.25*hd)),(IF(G326<(0.75*hd),0.3*g*h,0.3*g*h*(1-(G326-0.75*hd)/0.25/hd)))))))","v":""},{"$f":"IF(G326>hd,0,IF(G326=\"\",\"\",0.65*ka*g*hd))","v":""},{"$f":"IF(G326=\"\",\"\",IF(G326>hd,0,(IF(G326<(0.25*hd),(1-4*ca/g/hd)*g*hd*G326/(0.25*hd),((1-4*ca/g/hd)*g*hd)))))","v":""}]
[null,null,null,null,null,null,null,null,null,null,null,null,null,null,{"$f":"IF(G327=\"\",(\"\"),((SIN(RADIANS($E$9+BA327-K327)))^2)*((SIN(RADIANS($E$9)))^-2)*((COS(RADIANS(BA327)))^-1)*((SIN((RADIANS($E$9+BA327+M327))))^-1)/(1+((SIN(RADIANS(K327+M327)))*(SIN((RADIANS(K327-$E$7-BA327))/(SIN(RADIANS($E$9-$E$7)))/(SIN((RADIANS($E$9+BA327+M327)))))))^0.5)^2)","v":""},{"$f":"IF(L327=\"\",(\"\"),((SIN(RADIANS($E$9-BB327+L327)))^2)*((SIN(RADIANS($E$9)))^-2)*((COS(RADIANS(BB327)))^-1)*((SIN((RADIANS($E$9-BB327-M327))))^-1)/(1-((SIN(RADIANS(L327+M327)))*(SIN((RADIANS(L327+$E$7-BB327))/(SIN(RADIANS($E$9-$E$7)))/(SIN((RADIANS($E$9-BB327-M327)))))))^0.5)^2)","v":""},{"$f":"IF(G327=\"\",\"\",(IF(N327=\"\",$E$11,($E$11*T327/U327))))","v":""},"",{"$f":"IF(G327=\"\",\"\",0.5*PI()-ATAN((-TAN(RADIANS(K327+M327+(90-$E$9)-$E$7)))+(1/(COS(RADIANS(K327+M327+(90-$E$9)-$E$7))))*((COS((RADIANS(90-$E$9+M327+BA327))))^0.5)*((SIN(RADIANS(K327+M327)))^0.5)*((COS(RADIANS(90-$E$9-$E$7)))^-0.5)*((SIN(RADIANS(K327-$E$7-BA327)))^-0.5)))+$E$7","v":{"$error":"#VALUE!"}},"","","","","","","","","",null,null,null,null,null,null,null,null,null,null,null,null,null,null,null,null,null,null,null,null,null,null,null,null,{"$f":"ATAN(Q327)/0.017453","v":{"$error":"#VALUE!"}},{"$f":"ATAN(Q327)/0.017453","v":{"$error":"#VALUE!"}},null,null,null,null,null,null,null,null,"","","","","","",""]
[null,null,null,null,null,null,null,null,null,null,null,null,null,null,"","","","",{"$error":"#VALUE!"},{"$f":"IF(G328=\"\",(\"\"),(IF(N328=\"\",(T327+(G328-G327)*H327),(T327+(G328-G327)*(I327)))))","v":""},{"$f":"IF(G328=\"\",(\"\"),(IF(N328=\"\",(U327+(G328-G327)*H327),(U327+(G328-G327)*(I327-9.81)))))","v":""},"","",{"$f":"IF(G328=\"\",(\"\"),((O328*U328-2*J328*(O328)^0.5))*COS(RADIANS(M328)))","v":""},"","","","",null,null,null,null,null,null,null,null,null,null,null,null,null,null,null,null,null,null,null,null,null,null,null,null,{"$error":"#VALUE!"},{"$error":"#VALUE!"},null,null,null,null,null,null,null,null,"","","","","","",""]
[null,null,null,null,null,null,null,null,null,null,null,null,null,null,"","","","",{"$error":"#VALUE!"},"","","","","","","","","",null,null,null,null,null,null,null,null,null,null,null,null,null,null,null,null,null,null,null,null,null,null,null,null,{"$error":"#VALUE!"},{"$error":"#VALUE!"},null,null,null,null,null,null,null,null,"","","","","","",""]
[null,null,null,null,null,null,null,null,null,null,null,null,null,null,"","","","",{"$error":"#VALUE!"},"","","","","","","","","",null,null,null,null,null,null,null,null,null,null,null,null,null,null,null,null,null,null,null,null,null,null,null,null,{"$error":"#VALUE!"},{"$error":"#VALUE!"},null,null,null,null,null,null,null,null,"","","","","","",""]
[null,null,null,null,null,null,null,null,null,null,null,null,null,null,"","","","",{"$error":"#VALUE!"},"","","","","","","","","",null,null,null,null,null,null,null,null,null,null,null,null,null,null,null,null,null,null,null,null,null,null,null,null,{"$error":"#VALUE!"},{"$error":"#VALUE!"},null,null,null,null,null,null,null,null,"","","","","","",""]
[null,null,null,null,null,null,null,null,null,null,null,null,null,null,"","","","",{"$error":"#VALUE!"},"","","","","","","","","",null,null,null,null,null,null,null,null,null,null,null,null,null,null,null,null,null,null,null,null,null,null,null,null,{"$error":"#VALUE!"},{"$error":"#VALUE!"},null,null,null,null,null,null,null,null,"","","","","","",""]
[null,null,null,null,null,null,null,null,null,null,null,null,null,null,"","","","",{"$error":"#VALUE!"},"","","","","","","","","",null,null,null,null,null,null,null,null,null,null,null,null,null,null,null,null,null,null,null,null,null,null,null,null,{"$error":"#VALUE!"},{"$error":"#VALUE!"},null,null,null,null,null,null,null,null,"","","","","","",""]
[null,null,null,null,null,null,null,null,null,null,null,null,null,null,"","","","",{"$error":"#VALUE!"},"","","","","","","","","",null,null,null,null,null,null,null,null,null,null,null,null,null,null,null,null,null,null,null,null,null,null,null,null,{"$error":"#VALUE!"},{"$error":"#VALUE!"},null,null,null,null,null,null,null,null,"","","","","","",""]
[null,null,null,null,null,null,null,null,null,null,null,null,null,null,"","","","",{"$error":"#VALUE!"},"","","","","","","","","",null,null,null,null,null,null,null,null,null,null,null,null,null,null,null,null,null,null,null,null,null,null,null,null,{"$error":"#VALUE!"},{"$error":"#VALUE!"},null,null,null,null,null,null,null,null,"","","","","","",""]
[null,null,null,null,null,null,null,null,null,null,null,null,null,null,"","","","",{"$error":"#VALUE!"},"","","","","","","","","",null,null,null,null,null,null,null,null,null,null,null,null,null,null,null,null,null,null,null,null,null,null,null,null,{"$error":"#VALUE!"},{"$error":"#VALUE!"},null,null,null,null,null,null,null,null,"","","","","","",""]
[null,null,null,null,null,null,null,null,null,null,null,null,null,null,"","","","",{"$error":"#VALUE!"},"","","","","","","","","",null,null,null,null,null,null,null,null,null,null,null,null,null,null,null,null,null,null,null,null,null,null,null,null,{"$error":"#VALUE!"},{"$error":"#VALUE!"},null,null,null,null,null,null,null,null,"","","","","","",""]
[null,null,null,null,null,null,null,null,null,null,null,null,null,null,"","","","",{"$error":"#VALUE!"},"","","","","","","","","",null,null,null,null,null,null,null,null,null,null,null,null,null,null,null,null,null,null,null,null,null,null,null,null,{"$error":"#VALUE!"},{"$error":"#VALUE!"},null,null,null,null,null,null,null,null,"","","","","","",""]
[null,null,null,null,null,null,null,null,null,null,null,null,null,null,"","","","",{"$error":"#VALUE!"},"","","","","","","","","",null,null,null,null,null,null,null,null,null,null,null,null,null,null,null,null,null,null,null,null,null,null,null,null,{"$error":"#VALUE!"},{"$error":"#VALUE!"},null,null,null,null,null,null,null,null,"","","","","","",""]
[null,null,null,null,null,null,null,null,null,null,null,null,null,null,"","","","",{"$error":"#VALUE!"},"","","","","","","","","",null,null,null,null,null,null,null,null,null,null,null,null,null,null,null,null,null,null,null,null,null,null,null,null,{"$error":"#VALUE!"},{"$error":"#VALUE!"},null,null,null,null,null,null,null,null,"","","","","","",""]
[null,null,null,null,null,null,null,null,null,null,null,null,null,null,"","","","",{"$error":"#VALUE!"},"","","","","","","","","",null,null,null,null,null,null,null,null,null,null,null,null,null,null,null,null,null,null,null,null,null,null,null,null,{"$error":"#VALUE!"},{"$error":"#VALUE!"},null,null,null,null,null,null,null,null,"","","","","","",""]
[null,null,null,null,null,null,null,null,null,null,null,null,null,null,"","","","",{"$error":"#VALUE!"},"","","","","","","","","",null,null,null,null,null,null,null,null,null,null,null,null,null,null,null,null,null,null,null,null,null,null,null,null,{"$error":"#VALUE!"},{"$error":"#VALUE!"},null,null,null,null,null,null,null,null,"","","","","","",""]
[null,null,null,null,null,null,null,null,null,null,null,null,null,null,"","","","",{"$error":"#VALUE!"},"","","","","","","","","",null,null,null,null,null,null,null,null,null,null,null,null,null,null,null,null,null,null,null,null,null,null,null,null,{"$error":"#VALUE!"},{"$error":"#VALUE!"},null,null,null,null,null,null,null,null,"","","","","","",""]
[null,null,null,null,null,null,null,null,null,null,null,null,null,null,"","","","",{"$error":"#VALUE!"},"","","","","","","","","",null,null,null,null,null,null,null,null,null,null,null,null,null,null,null,null,null,null,null,null,null,null,null,null,{"$error":"#VALUE!"},{"$error":"#VALUE!"},null,null,null,null,null,null,null,null,"","","","","","",""]
[null,null,null,null,null,null,null,null,null,null,null,null,null,null,"","","","",{"$error":"#VALUE!"},"","","","","","","","","",null,null,null,null,null,null,null,null,null,null,null,null,null,null,null,null,null,null,null,null,null,null,null,null,{"$error":"#VALUE!"},{"$error":"#VALUE!"},null,null,null,null,null,null,null,null,"","","","","","",""]
[null,null,null,null,null,null,null,null,null,null,null,null,null,null,"","","","",{"$error":"#VALUE!"},"","","","","","","","","",null,null,null,null,null,null,null,null,null,null,null,null,null,null,null,null,null,null,null,null,null,null,null,null,{"$error":"#VALUE!"},{"$error":"#VALUE!"},null,null,null,null,null,null,null,null,"","","","","","",""]
[null,null,null,null,null,null,null,null,null,null,null,null,null,null,"","","","",{"$error":"#VALUE!"},"","","","","","","","","",null,null,null,null,null,null,null,null,null,null,null,null,null,null,null,null,null,null,null,null,null,null,null,null,{"$error":"#VALUE!"},{"$error":"#VALUE!"},null,null,null,null,null,null,null,null,"","","","","","",""]
[null,null,null,null,null,null,null,null,null,null,null,null,null,null,"","","","",{"$error":"#VALUE!"},"","","","","","","","","",null,null,null,null,null,null,null,null,null,null,null,null,null,null,null,null,null,null,null,null,null,null,null,null,{"$error":"#VALUE!"},{"$error":"#VALUE!"},null,null,null,null,null,null,null,null,"","","","","","",""]
[null,null,null,null,null,null,null,null,null,null,null,null,null,null,"","","","",{"$error":"#VALUE!"},"","","","","","","","","",null,null,null,null,null,null,null,null,null,null,null,null,null,null,null,null,null,null,null,null,null,null,null,null,{"$error":"#VALUE!"},{"$error":"#VALUE!"},null,null,null,null,null,null,null,null,"","","","","","",""]
[null,null,null,null,null,null,null,null,null,null,null,null,null,null,"","","","",{"$error":"#VALUE!"},"","","","","","","","","",null,null,null,null,null,null,null,null,null,null,null,null,null,null,null,null,null,null,null,null,null,null,null,null,{"$error":"#VALUE!"},{"$error":"#VALUE!"},null,null,null,null,null,null,null,null,"","","","","","",""]
[null,null,null,null,null,null,null,null,null,null,null,null,null,null,"","","","",{"$error":"#VALUE!"},"","","","","","","","","",null,null,null,null,null,null,null,null,null,null,null,null,null,null,null,null,null,null,null,null,null,null,null,null,{"$error":"#VALUE!"},{"$error":"#VALUE!"},null,null,null,null,null,null,null,null,"","","","","","",""]
[null,null,null,null,null,null,null,null,null,null,null,null,null,null,"","","","",{"$error":"#VALUE!"},"","","","","","","","","",null,null,null,null,null,null,null,null,null,null,null,null,null,null,null,null,null,null,null,null,null,null,null,null,{"$error":"#VALUE!"},{"$error":"#VALUE!"},null,null,null,null,null,null,null,null,"","","","","","",""]
[null,null,null,null,null,null,null,null,null,null,null,null,null,null,"","","","",{"$error":"#VALUE!"},"","","","","","","","","",null,null,null,null,null,null,null,null,null,null,null,null,null,null,null,null,null,null,null,null,null,null,null,null,{"$error":"#VALUE!"},{"$error":"#VALUE!"},null,null,null,null,null,null,null,null,"","","","","","",""]
[null,null,null,null,null,null,null,null,null,null,null,null,null,null,"","","","",{"$error":"#VALUE!"},"","","","","","","","","",null,null,null,null,null,null,null,null,null,null,null,null,null,null,null,null,null,null,null,null,null,null,null,null,{"$error":"#VALUE!"},{"$error":"#VALUE!"},null,null,null,null,null,null,null,null,"","","","","","",""]
[null,null,null,null,null,null,null,null,null,null,null,null,null,null,"","","","",{"$error":"#VALUE!"},"","","","","","","","","",null,null,null,null,null,null,null,null,null,null,null,null,null,null,null,null,null,null,null,null,null,null,null,null,{"$error":"#VALUE!"},{"$error":"#VALUE!"},null,null,null,null,null,null,null,null,"","","","","","",""]
[null,null,null,null,null,null,null,null,null,null,null,null,null,null,"","","","",{"$error":"#VALUE!"},"","","","","","","","","",null,null,null,null,null,null,null,null,null,null,null,null,null,null,null,null,null,null,null,null,null,null,null,null,{"$error":"#VALUE!"},{"$error":"#VALUE!"},null,null,null,null,null,null,null,null,"","","","","","",""]
[null,null,null,null,null,null,null,null,null,null,null,null,null,null,"","","","",{"$error":"#VALUE!"},"","","","","","","","","",null,null,null,null,null,null,null,null,null,null,null,null,null,null,null,null,null,null,null,null,null,null,null,null,{"$error":"#VALUE!"},{"$error":"#VALUE!"},null,null,null,null,null,null,null,null,"","","","","","",""]
[null,null,null,null,null,null,null,null,null,null,null,null,null,null,"","","","",{"$error":"#VALUE!"},"","","","","","","","","",null,null,null,null,null,null,null,null,null,null,null,null,null,null,null,null,null,null,null,null,null,null,null,null,{"$error":"#VALUE!"},{"$error":"#VALUE!"},null,null,null,null,null,null,null,null,"","","","","","",""]
[null,null,null,null,null,null,null,null,null,null,null,null,null,null,"","","","",{"$error":"#VALUE!"},"","","","","","","","","",null,null,null,null,null,null,null,null,null,null,null,null,null,null,null,null,null,null,null,null,null,null,null,null,{"$error":"#VALUE!"},{"$error":"#VALUE!"},null,null,null,null,null,null,null,null,"","","","","","",""]
[null,null,null,null,null,null,null,null,null,null,null,null,null,null,"","","","",{"$error":"#VALUE!"},"","","","","","","","","",null,null,null,null,null,null,null,null,null,null,null,null,null,null,null,null,null,null,null,null,null,null,null,null,{"$error":"#VALUE!"},{"$error":"#VALUE!"},null,null,null,null,null,null,null,null,"","","","","","",""]
[null,null,null,null,null,null,null,null,null,null,null,null,null,null,"","","","",{"$error":"#VALUE!"},"","","","","","","","","",null,null,null,null,null,null,null,null,null,null,null,null,null,null,null,null,null,null,null,null,null,null,null,null,{"$error":"#VALUE!"},{"$error":"#VALUE!"},null,null,null,null,null,null,null,null,"","","","","","",""]
[null,null,null,null,null,null,null,null,null,null,null,null,null,null,"","","","",{"$error":"#VALUE!"},"","","","","","","","","",null,null,null,null,null,null,null,null,null,null,null,null,null,null,null,null,null,null,null,null,null,null,null,null,{"$error":"#VALUE!"},{"$error":"#VALUE!"},null,null,null,null,null,null,null,null,"","","","","","",""]
[null,null,null,null,null,null,null,null,null,null,null,null,null,null,"","","","",{"$error":"#VALUE!"},"","","","","","","","","",null,null,null,null,null,null,null,null,null,null,null,null,null,null,null,null,null,null,null,null,null,null,null,null,{"$error":"#VALUE!"},{"$error":"#VALUE!"},null,null,null,null,null,null,null,null,"","","","","","",""]
[null,null,null,null,null,null,null,null,null,null,null,null,null,null,"","","","",{"$error":"#VALUE!"},"","","","","","","","","",null,null,null,null,null,null,null,null,null,null,null,null,null,null,null,null,null,null,null,null,null,null,null,null,{"$error":"#VALUE!"},{"$error":"#VALUE!"},null,null,null,null,null,null,null,null,"","","","","","",""]
[null,null,null,null,null,null,null,null,null,null,null,null,null,null,"","","","",{"$error":"#VALUE!"},"","","","","","","","","",null,null,null,null,null,null,null,null,null,null,null,null,null,null,null,null,null,null,null,null,null,null,null,null,{"$error":"#VALUE!"},{"$error":"#VALUE!"},null,null,null,null,null,null,null,null,"","","","","","",""]
[null,null,null,null,null,null,null,null,null,null,null,null,null,null,"","","","",{"$error":"#VALUE!"},"","","","","","","","","",null,null,null,null,null,null,null,null,null,null,null,null,null,null,null,null,null,null,null,null,null,null,null,null,{"$error":"#VALUE!"},{"$error":"#VALUE!"},null,null,null,null,null,null,null,null,"","","","","","",""]
[null,null,null,null,null,null,null,null,null,null,null,null,null,null,"","","","",{"$error":"#VALUE!"},"","","","","","","","","",null,null,null,null,null,null,null,null,null,null,null,null,null,null,null,null,null,null,null,null,null,null,null,null,{"$error":"#VALUE!"},{"$error":"#VALUE!"},null,null,null,null,null,null,null,null,"","","","","","",""]
[null,null,null,null,null,null,null,null,null,null,null,null,null,null,"","","","",{"$error":"#VALUE!"},"","","","","","","","","",null,null,null,null,null,null,null,null,null,null,null,null,null,null,null,null,null,null,null,null,null,null,null,null,{"$error":"#VALUE!"},{"$error":"#VALUE!"},null,null,null,null,null,null,null,null,"","","","","","",""]
[null,null,null,null,null,null,null,null,null,null,null,null,null,null,"","","","",{"$error":"#VALUE!"},"","","","","","","","","",null,null,null,null,null,null,null,null,null,null,null,null,null,null,null,null,null,null,null,null,null,null,null,null,{"$error":"#VALUE!"},{"$error":"#VALUE!"},null,null,null,null,null,null,null,null,"","","","","","",""]
[null,null,null,null,null,null,null,null,null,null,null,null,null,null,"","","","",{"$error":"#VALUE!"},"","","","","","","","","",null,null,null,null,null,null,null,null,null,null,null,null,null,null,null,null,null,null,null,null,null,null,null,null,{"$error":"#VALUE!"},{"$error":"#VALUE!"},null,null,null,null,null,null,null,null,"","","","","","",""]
[null,null,null,null,null,null,null,null,null,null,null,null,null,null,"","","","",{"$error":"#VALUE!"},"","","","","","","","","",null,null,null,null,null,null,null,null,null,null,null,null,null,null,null,null,null,null,null,null,null,null,null,null,{"$error":"#VALUE!"},{"$error":"#VALUE!"},null,null,null,null,null,null,null,null,"","","","","","",""]
[null,null,null,null,null,null,null,null,null,null,null,null,null,null,"","","","",{"$error":"#VALUE!"},"","","","","","","","","",null,null,null,null,null,null,null,null,null,null,null,null,null,null,null,null,null,null,null,null,null,null,null,null,{"$error":"#VALUE!"},{"$error":"#VALUE!"},null,null,null,null,null,null,null,null,"","","","","","",""]
[null,null,null,null,null,null,null,null,null,null,null,null,null,null,"","","","",{"$error":"#VALUE!"},"","","","","","","","","",null,null,null,null,null,null,null,null,null,null,null,null,null,null,null,null,null,null,null,null,null,null,null,null,{"$error":"#VALUE!"},{"$error":"#VALUE!"},null,null,null,null,null,null,null,null,"","","","","","",""]
[null,null,null,null,null,null,null,null,null,null,null,null,null,null,"","","","",{"$error":"#VALUE!"},"","","","","","","","","",null,null,null,null,null,null,null,null,null,null,null,null,null,null,null,null,null,null,null,null,null,null,null,null,{"$error":"#VALUE!"},{"$error":"#VALUE!"},null,null,null,null,null,null,null,null,"","","","","","",""]
[null,null,null,null,null,null,null,null,null,null,null,null,null,null,"","","","",{"$error":"#VALUE!"},"","","","","","","","","",null,null,null,null,null,null,null,null,null,null,null,null,null,null,null,null,null,null,null,null,null,null,null,null,{"$error":"#VALUE!"},{"$error":"#VALUE!"},null,null,null,null,null,null,null,null,"","","","","","",""]
[null,null,null,null,null,null,null,null,null,null,null,null,null,null,"","","","",{"$error":"#VALUE!"},"","","","","","","","","",null,null,null,null,null,null,null,null,null,null,null,null,null,null,null,null,null,null,null,null,null,null,null,null,{"$error":"#VALUE!"},{"$error":"#VALUE!"},null,null,null,null,null,null,null,null,"","","","","","",""]
[null,null,null,null,null,null,null,null,null,null,null,null,null,null,"","","","",{"$error":"#VALUE!"},"","","","","","","","","",null,null,null,null,null,null,null,null,null,null,null,null,null,null,null,null,null,null,null,null,null,null,null,null,{"$error":"#VALUE!"},{"$error":"#VALUE!"},null,null,null,null,null,null,null,null,"","","","","","",""]
[null,null,null,null,null,null,null,null,null,null,null,null,null,null,"","","","",{"$error":"#VALUE!"},"","","","","","","","","",null,null,null,null,null,null,null,null,null,null,null,null,null,null,null,null,null,null,null,null,null,null,null,null,{"$error":"#VALUE!"},{"$error":"#VALUE!"},null,null,null,null,null,null,null,null,"","","","","","",""]
[null,null,null,null,null,null,null,null,null,null,null,null,null,null,"","","","",{"$error":"#VALUE!"},"","","","","","","","","",null,null,null,null,null,null,null,null,null,null,null,null,null,null,null,null,null,null,null,null,null,null,null,null,{"$error":"#VALUE!"},{"$error":"#VALUE!"},null,null,null,null,null,null,null,null,"","","","","","",""]
[null,null,null,null,null,null,null,null,null,null,null,null,null,null,"","","","",{"$error":"#VALUE!"},"","","","","","","","","",null,null,null,null,null,null,null,null,null,null,null,null,null,null,null,null,null,null,null,null,null,null,null,null,{"$error":"#VALUE!"},{"$error":"#VALUE!"},null,null,null,null,null,null,null,null,"","","","","","",""]
[null,null,null,null,null,null,null,null,null,null,null,null,null,null,"","","","",{"$error":"#VALUE!"},"","","","","","","","","",null,null,null,null,null,null,null,null,null,null,null,null,null,null,null,null,null,null,null,null,null,null,null,null,{"$error":"#VALUE!"},{"$error":"#VALUE!"},null,null,null,null,null,null,null,null,"","","","","","",""]
[null,null,null,null,null,null,null,null,null,null,null,null,null,null,"","","","",{"$error":"#VALUE!"},"","","","","","","","","",null,null,null,null,null,null,null,null,null,null,null,null,null,null,null,null,null,null,null,null,null,null,null,null,{"$error":"#VALUE!"},{"$error":"#VALUE!"},null,null,null,null,null,null,null,null,"","","","","","",""]
[null,null,null,null,null,null,null,null,null,null,null,null,null,null,"","","","",{"$error":"#VALUE!"},"","","","","","","","","",null,null,null,null,null,null,null,null,null,null,null,null,null,null,null,null,null,null,null,null,null,null,null,null,{"$error":"#VALUE!"},{"$error":"#VALUE!"},null,null,null,null,null,null,null,null,"","","","","","",""]
[null,null,null,null,null,null,null,null,null,null,null,null,null,null,"","","","",{"$error":"#VALUE!"},"","","","","","","","","",null,null,null,null,null,null,null,null,null,null,null,null,null,null,null,null,null,null,null,null,null,null,null,null,{"$error":"#VALUE!"},{"$error":"#VALUE!"},null,null,null,null,null,null,null,null,"","","","","","",""]
[null,null,null,null,null,null,null,null,null,null,null,null,null,null,"","","","",{"$error":"#VALUE!"},"","","","","","","","","",null,null,null,null,null,null,null,null,null,null,null,null,null,null,null,null,null,null,null,null,null,null,null,null,{"$error":"#VALUE!"},{"$error":"#VALUE!"},null,null,null,null,null,null,null,null,"","","","","","",""]
[null,null,null,null,null,null,null,null,null,null,null,null,null,null,"","","","",{"$error":"#VALUE!"},"","","","","","","","","",null,null,null,null,null,null,null,null,null,null,null,null,null,null,null,null,null,null,null,null,null,null,null,null,{"$error":"#VALUE!"},{"$error":"#VALUE!"},null,null,null,null,null,null,null,null,"","","","","","",""]
[null,null,null,null,null,null,null,null,null,null,null,null,null,null,"","","","",{"$error":"#VALUE!"},"","","","","","","","","",null,null,null,null,null,null,null,null,null,null,null,null,null,null,null,null,null,null,null,null,null,null,null,null,{"$error":"#VALUE!"},{"$error":"#VALUE!"},null,null,null,null,null,null,null,null,"","","","","","",""]
[null,null,null,null,null,null,null,null,null,null,null,null,null,null,"","","","",{"$error":"#VALUE!"},"","","",{"$f":"IF(G388<h,(\"\"),(IF(G388<h+dzd,(0),(IF(N388=\"\",(W387+H388*(G388-G387)),(W387+(I388-9.81)*(G388-G387)))))))","v":""},"","",{"$f":"IF(Y388=\"\",X388,X388+Y388)","v":""},{"$f":"IF(N388=\"\",(\"\"),IF(G388>h,AA387,((G388-nz)*9.81)))","v":""},"",null,null,null,null,null,null,null,null,null,null,null,null,null,null,null,null,null,null,null,null,null,null,null,null,{"$error":"#VALUE!"},{"$error":"#VALUE!"},null,null,null,null,null,null,null,null,"","","","","","",""]
[null,null,null,null,null,null,null,null,null,null,null,null,null,null,"","","","",{"$error":"#VALUE!"},"","","","","","","","","",null,null,null,null,null,null,null,null,null,null,null,null,null,null,null,null,null,null,null,null,null,null,null,null,{"$error":"#VALUE!"},{"$error":"#VALUE!"},null,null,null,null,null,null,null,null,"","","","","","",""]
[null,null,null,null,null,null,null,null,null,null,null,null,null,null,"","","",{"$f":"IF(L390=\"\",\"\",(IF(G390=\"\",\"\",IF(G390=h,(R391),(IF(N390=\"\",$E$11,($E$11*V390/W390)))))))","v":""},{"$error":"#VALUE!"},"","",{"$f":"IF(G390<h,(\"\"),(IF(G390<h+dzd,(0),(IF(N390=\"\",(V389+H390*(G390-G389)),(V389+(I390)*(G390-G389)))))))","v":""},"","",{"$f":"IF(G390<h,(\"\"),((-P390*W390-2*J390*(P390^0.5))*COS(RADIANS(M390))))","v":""},"","",{"$f":"IF(G390=\"\",\"\",IF(G390>hd,0,IF($A$27=1,BK390,IF($A$27=2,BL390,IF($A$27=3,BM390,IF($A$27=4,BN390+ka*($E$4+$E$5),IF($A$27=5,BP390,IF($A$27=6,BO390,BQ390))))))))","v":""},null,null,null,null,null,null,null,null,null,null,null,null,null,null,null,null,null,null,null,null,null,null,null,null,{"$error":"#VALUE!"},{"$error":"#VALUE!"},null,null,null,null,null,null,null,null,{"$f":"IF(G390=\"\",\"\",IF(G390>hd,0,(IF(G390<0.2*(hd),(1.6*($AH$20+$AH$21)/(hd)/0.2/(hd)*G390),(IF(G390<0.8*(hd),(1.6*($AH$20+$AH$21)/(hd)),(1.6*($AH$20+$AH$21)/(hd)-1.6*($AH$20+$AH$21)/(hd)/0.2/(hd)*(G390-0.8*(hd)))))))))","v":""},{"$f":"IF(G390=\"\",\"\",IF(G390>hd,0,(IF(G390<((2/3)*$AH$6),(1.3*($AH$20+$AH$21)/(hd-(1/3)*($AH$6+(hd-MAX($AP$6:$AP$15))))*G390/(2/3*$AH$6)),(IF(G390<(h-2/3*(hd-MAX($AP$6:$AP$15))),1.3*($AH$20+$AH$21)/(hd-1/3*($AH$6+(hd-MAX($AP$6:$AP$15)))),1.3*($AH$20+$AH$21)/(hd-1/3*($AH$6+(hd-MAX($AP$6:$AP$15))))*(1-(G390-(hd-2/3*(hd-MAX($AP$6:$AP$15))))/(2/3*(hd-MAX($AP$6:$AP$15))))))))))","v":""},{"$f":"IF(G390=\"\",\"\",IF(G390>hd,0,(IF(G390<(0.6667*$AH$6),(0.3*g*hd*G390/(0.6667*$AH$6)),(IF(G390<(hd-0.6667*(hd-MAX($AP$6:$AP$15))),0.3*g*hd,0.3*g*hd*(1-(G390-(hd-0.6667*(hd-MAX($AP$6:$AP$15))))/(0.6667*(hd-MAX($AP$6:$AP$15))))))))))","v":""},{"$f":"IF(G390=\"\",\"\",IF(G390>hd,0,(IF(G390<((2/3)*$AH$6),(0.65*ka*g*hd*hd/(hd-(1/3)*($AH$6+(hd-MAX($AP$6:$AP$15))))*G390/(2/3*$AH$6)),(IF(G390<(h-2/3*(hd-MAX($AP$6:$AP$15))),0.65*ka*g*hd*hd/(hd-1/3*($AH$6+(hd-MAX($AP$6:$AP$15)))),0.65*ka*g*hd*hd/(hd-1/3*($AH$6+(hd-MAX($AP$6:$AP$15))))*(1-(G390-(hd-2/3*(hd-MAX($AP$6:$AP$15))))/(2/3*(hd-MAX($AP$6:$AP$15))))))))))","v":""},{"$f":"IF(G390=\"\",\"\",IF(G390>hd,0,(IF(G390<(0.25*hd),(0.3*g*h*G390/(0.25*hd)),(IF(G390<(0.75*hd),0.3*g*h,0.3*g*h*(1-(G390-0.75*hd)/0.25/hd)))))))","v":""},{"$f":"IF(G390>hd,0,IF(G390=\"\",\"\",0.65*ka*g*hd))","v":""},{"$f":"IF(G390=\"\",\"\",IF(G390>hd,0,(IF(G390<(0.25*hd),(1-4*ca/g/hd)*g*hd*G390/(0.25*hd),((1-4*ca/g/hd)*g*hd)))))","v":""}]
[null,null,null,null,null,null,null,null,null,null,null,null,null,null,{"$f":"IF(G391=\"\",(\"\"),((SIN(RADIANS($E$9+BA391-K391)))^2)*((SIN(RADIANS($E$9)))^-2)*((COS(RADIANS(BA391)))^-1)*((SIN((RADIANS($E$9+BA391+M391))))^-1)/(1+((SIN(RADIANS(K391+M391)))*(SIN((RADIANS(K391-$E$7-BA391))/(SIN(RADIANS($E$9-$E$7)))/(SIN((RADIANS($E$9+BA391+M391)))))))^0.5)^2)","v":""},{"$f":"IF(L391=\"\",(\"\"),((SIN(RADIANS($E$9-BB391+L391)))^2)*((SIN(RADIANS($E$9)))^-2)*((COS(RADIANS(BB391)))^-1)*((SIN((RADIANS($E$9-BB391-M391))))^-1)/(1-((SIN(RADIANS(L391+M391)))*(SIN((RADIANS(L391+$E$7-BB391))/(SIN(RADIANS($E$9-$E$7)))/(SIN((RADIANS($E$9-BB391-M391)))))))^0.5)^2)","v":""},{"$f":"IF(G391=\"\",\"\",(IF(N391=\"\",$E$11,($E$11*T391/U391))))","v":""},"",{"$f":"IF(G391=\"\",\"\",0.5*PI()-ATAN((-TAN(RADIANS(K391+M391+(90-$E$9)-$E$7)))+(1/(COS(RADIANS(K391+M391+(90-$E$9)-$E$7))))*((COS((RADIANS(90-$E$9+M391+BA391))))^0.5)*((SIN(RADIANS(K391+M391)))^0.5)*((COS(RADIANS(90-$E$9-$E$7)))^-0.5)*((SIN(RADIANS(K391-$E$7-BA391)))^-0.5)))+$E$7","v":{"$error":"#VALUE!"}},"","","","","","","","","",null,null,null,null,null,null,null,null,null,null,null,null,null,null,null,null,null,null,null,null,null,null,null,null,{"$f":"ATAN(Q391)/0.017453","v":{"$error":"#VALUE!"}},{"$f":"ATAN(Q391)/0.017453","v":{"$error":"#VALUE!"}},null,null,null,null,null,null,null,null,"","","","","","",""]
[null,null,null,null,null,null,null,null,null,null,null,null,null,null,"","","","",{"$error":"#VALUE!"},{"$f":"IF(G392=\"\",(\"\"),(IF(N392=\"\",(T391+(G392-G391)*H391),(T391+(G392-G391)*(I391)))))","v":""},{"$f":"IF(G392=\"\",(\"\"),(IF(N392=\"\",(U391+(G392-G391)*H391),(U391+(G392-G391)*(I391-9.81)))))","v":""},"","",{"$f":"IF(G392=\"\",(\"\"),((O392*U392-2*J392*(O392)^0.5))*COS(RADIANS(M392)))","v":""},"","","","",null,null,null,null,null,null,null,null,null,null,null,null,null,null,null,null,null,null,null,null,null,null,null,null,{"$error":"#VALUE!"},{"$error":"#VALUE!"},null,null,null,null,null,null,null,null,"","","","","","",""]
[null,null,null,null,null,null,null,null,null,null,null,null,null,null,"","","","",{"$error":"#VALUE!"},"","","","","","","","","",null,null,null,null,null,null,null,null,null,null,null,null,null,null,null,null,null,null,null,null,null,null,null,null,{"$error":"#VALUE!"},{"$error":"#VALUE!"},null,null,null,null,null,null,null,null,"","","","","","",""]
[null,null,null,null,null,null,null,null,null,null,null,null,null,null,"","","","",{"$error":"#VALUE!"},"","","","","","","","","",null,null,null,null,null,null,null,null,null,null,null,null,null,null,null,null,null,null,null,null,null,null,null,null,{"$error":"#VALUE!"},{"$error":"#VALUE!"},null,null,null,null,null,null,null,null,"","","","","","",""]
[null,null,null,null,null,null,null,null,null,null,null,null,null,null,"","","","",{"$error":"#VALUE!"},"","","","","","","","","",null,null,null,null,null,null,null,null,null,null,null,null,null,null,null,null,null,null,null,null,null,null,null,null,{"$error":"#VALUE!"},{"$error":"#VALUE!"},null,null,null,null,null,null,null,null,"","","","","","",""]
[null,null,null,null,null,null,null,null,null,null,null,null,null,null,"","","","",{"$error":"#VALUE!"},"","","","","","","","","",null,null,null,null,null,null,null,null,null,null,null,null,null,null,null,null,null,null,null,null,null,null,null,null,{"$error":"#VALUE!"},{"$error":"#VALUE!"},null,null,null,null,null,null,null,null,"","","","","","",""]
[null,null,null,null,null,null,null,null,null,null,null,null,null,null,"","","","",{"$error":"#VALUE!"},"","","","","","","","","",null,null,null,null,null,null,null,null,null,null,null,null,null,null,null,null,null,null,null,null,null,null,null,null,{"$error":"#VALUE!"},{"$error":"#VALUE!"},null,null,null,null,null,null,null,null,"","","","","","",""]
[null,null,null,null,null,null,null,null,null,null,null,null,null,null,"","","","",{"$error":"#VALUE!"},"","","","","","","","","",null,null,null,null,null,null,null,null,null,null,null,null,null,null,null,null,null,null,null,null,null,null,null,null,{"$error":"#VALUE!"},{"$error":"#VALUE!"},null,null,null,null,null,null,null,null,"","","","","","",""]
[null,null,null,null,null,null,null,null,null,null,null,null,null,null,"","","","",{"$error":"#VALUE!"},"","","","","","","","","",null,null,null,null,null,null,null,null,null,null,null,null,null,null,null,null,null,null,null,null,null,null,null,null,{"$error":"#VALUE!"},{"$error":"#VALUE!"},null,null,null,null,null,null,null,null,"","","","","","",""]
[null,null,null,null,null,null,null,null,null,null,null,null,null,null,"","","","",{"$error":"#VALUE!"},"","","","","","","","","",null,null,null,null,null,null,null,null,null,null,null,null,null,null,null,null,null,null,null,null,null,null,null,null,{"$error":"#VALUE!"},{"$error":"#VALUE!"},null,null,null,null,null,null,null,null,"","","","","","",""]
[null,null,null,null,null,null,null,null,null,null,null,null,null,null,"","","","",{"$error":"#VALUE!"},"","","","","","","","","",null,null,null,null,null,null,null,null,null,null,null,null,null,null,null,null,null,null,null,null,null,null,null,null,{"$error":"#VALUE!"},{"$error":"#VALUE!"},null,null,null,null,null,null,null,null,"","","","","","",""]
[null,null,null,null,null,null,null,null,null,null,null,null,null,null,"","","","",{"$error":"#VALUE!"},"","","","","","","","","",null,null,null,null,null,null,null,null,null,null,null,null,null,null,null,null,null,null,null,null,null,null,null,null,{"$error":"#VALUE!"},{"$error":"#VALUE!"},null,null,null,null,null,null,null,null,"","","","","","",""]
[null,null,null,null,null,null,null,null,null,null,null,null,null,null,"","","","",{"$error":"#VALUE!"},"","","","","","","","","",null,null,null,null,null,null,null,null,null,null,null,null,null,null,null,null,null,null,null,null,null,null,null,null,{"$error":"#VALUE!"},{"$error":"#VALUE!"},null,null,null,null,null,null,null,null,"","","","","","",""]
[null,null,null,null,null,null,null,null,null,null,null,null,null,null,"","","","",{"$error":"#VALUE!"},"","","","","","","","","",null,null,null,null,null,null,null,null,null,null,null,null,null,null,null,null,null,null,null,null,null,null,null,null,{"$error":"#VALUE!"},{"$error":"#VALUE!"},null,null,null,null,null,null,null,null,"","","","","","",""]
[null,null,null,null,null,null,null,null,null,null,null,null,null,null,"","","","",{"$error":"#VALUE!"},"","","","","","","","","",null,null,null,null,null,null,null,null,null,null,null,null,null,null,null,null,null,null,null,null,null,null,null,null,{"$error":"#VALUE!"},{"$error":"#VALUE!"},null,null,null,null,null,null,null,null,"","","","","","",""]
[null,null,null,null,null,null,null,null,null,null,null,null,null,null,"","","","",{"$error":"#VALUE!"},"","","","","","","","","",null,null,null,null,null,null,null,null,null,null,null,null,null,null,null,null,null,null,null,null,null,null,null,null,{"$error":"#VALUE!"},{"$error":"#VALUE!"},null,null,null,null,null,null,null,null,"","","","","","",""]
[null,null,null,null,null,null,null,null,null,null,null,null,null,null,"","","","",{"$error":"#VALUE!"},"","","","","","","","","",null,null,null,null,null,null,null,null,null,null,null,null,null,null,null,null,null,null,null,null,null,null,null,null,{"$error":"#VALUE!"},{"$error":"#VALUE!"},null,null,null,null,null,null,null,null,"","","","","","",""]
[null,null,null,null,null,null,null,null,null,null,null,null,null,null,"","","","",{"$error":"#VALUE!"},"","","","","","","","","",null,null,null,null,null,null,null,null,null,null,null,null,null,null,null,null,null,null,null,null,null,null,null,null,{"$error":"#VALUE!"},{"$error":"#VALUE!"},null,null,null,null,null,null,null,null,"","","","","","",""]
[null,null,null,null,null,null,null,null,null,null,null,null,null,null,"","","","",{"$error":"#VALUE!"},"","","","","","","","","",null,null,null,null,null,null,null,null,null,null,null,null,null,null,null,null,null,null,null,null,null,null,null,null,{"$error":"#VALUE!"},{"$error":"#VALUE!"},null,null,null,null,null,null,null,null,"","","","","","",""]
[null,null,null,null,null,null,null,null,null,null,null,null,null,null,"","","","",{"$error":"#VALUE!"},"","","","","","","","","",null,null,null,null,null,null,null,null,null,null,null,null,null,null,null,null,null,null,null,null,null,null,null,null,{"$error":"#VALUE!"},{"$error":"#VALUE!"},null,null,null,null,null,null,null,null,"","","","","","",""]
[null,null,null,null,null,null,null,null,null,null,null,null,null,null,"","","","",{"$error":"#VALUE!"},"","","","","","","","","",null,null,null,null,null,null,null,null,null,null,null,null,null,null,null,null,null,null,null,null,null,null,null,null,{"$error":"#VALUE!"},{"$error":"#VALUE!"},null,null,null,null,null,null,null,null,"","","","","","",""]
[null,null,null,null,null,null,null,null,null,null,null,null,null,null,"","","","",{"$error":"#VALUE!"},"","","","","","","","","",null,null,null,null,null,null,null,null,null,null,null,null,null,null,null,null,null,null,null,null,null,null,null,null,{"$error":"#VALUE!"},{"$error":"#VALUE!"},null,null,null,null,null,null,null,null,"","","","","","",""]
[null,null,null,null,null,null,null,null,null,null,null,null,null,null,"","","","",{"$error":"#VALUE!"},"","","","","","","","","",null,null,null,null,null,null,null,null,null,null,null,null,null,null,null,null,null,null,null,null,null,null,null,null,{"$error":"#VALUE!"},{"$error":"#VALUE!"},null,null,null,null,null,null,null,null,"","","","","","",""]
[null,null,null,null,null,null,null,null,null,null,null,null,null,null,"","","","",{"$error":"#VALUE!"},"","","","","","","","","",null,null,null,null,null,null,null,null,null,null,null,null,null,null,null,null,null,null,null,null,null,null,null,null,{"$error":"#VALUE!"},{"$error":"#VALUE!"},null,null,null,null,null,null,null,null,"","","","","","",""]
[null,null,null,null,null,null,null,null,null,null,null,null,null,null,"","","","",{"$error":"#VALUE!"},"","","","","","","","","",null,null,null,null,null,null,null,null,null,null,null,null,null,null,null,null,null,null,null,null,null,null,null,null,{"$error":"#VALUE!"},{"$error":"#VALUE!"},null,null,null,null,null,null,null,null,"","","","","","",""]
[null,null,null,null,null,null,null,null,null,null,null,null,null,null,"","","","",{"$error":"#VALUE!"},"","","","","","","","","",null,null,null,null,null,null,null,null,null,null,null,null,null,null,null,null,null,null,null,null,null,null,null,null,{"$error":"#VALUE!"},{"$error":"#VALUE!"},null,null,null,null,null,null,null,null,"","","","","","",""]
[null,null,null,null,null,null,null,null,null,null,null,null,null,null,"","","","",{"$error":"#VALUE!"},"","","","","","","","","",null,null,null,null,null,null,null,null,null,null,null,null,null,null,null,null,null,null,null,null,null,null,null,null,{"$error":"#VALUE!"},{"$error":"#VALUE!"},null,null,null,null,null,null,null,null,"","","","","","",""]
[null,null,null,null,null,null,null,null,null,null,null,null,null,null,"","","","",{"$error":"#VALUE!"},"","","","","","","","","",null,null,null,null,null,null,null,null,null,null,null,null,null,null,null,null,null,null,null,null,null,null,null,null,{"$error":"#VALUE!"},{"$error":"#VALUE!"},null,null,null,null,null,null,null,null,"","","","","","",""]
[null,null,null,null,null,null,null,null,null,null,null,null,null,null,"","","","",{"$error":"#VALUE!"},"","","","","","","","","",null,null,null,null,null,null,null,null,null,null,null,null,null,null,null,null,null,null,null,null,null,null,null,null,{"$error":"#VALUE!"},{"$error":"#VALUE!"},null,null,null,null,null,null,null,null,"","","","","","",""]
[null,null,null,null,null,null,null,null,null,null,null,null,null,null,"","","","",{"$error":"#VALUE!"},"","","","","","","","","",null,null,null,null,null,null,null,null,null,null,null,null,null,null,null,null,null,null,null,null,null,null,null,null,{"$error":"#VALUE!"},{"$error":"#VALUE!"},null,null,null,null,null,null,null,null,"","","","","","",""]
[null,null,null,null,null,null,null,null,null,null,null,null,null,null,"","","","",{"$error":"#VALUE!"},"","","","","","","","","",null,null,null,null,null,null,null,null,null,null,null,null,null,null,null,null,null,null,null,null,null,null,null,null,{"$error":"#VALUE!"},{"$error":"#VALUE!"},null,null,null,null,null,null,null,null,"","","","","","",""]
[null,null,null,null,null,null,null,null,null,null,null,null,null,null,"","","","",{"$error":"#VALUE!"},"","","","","","","","","",null,null,null,null,null,null,null,null,null,null,null,null,null,null,null,null,null,null,null,null,null,null,null,null,{"$error":"#VALUE!"},{"$error":"#VALUE!"},null,null,null,null,null,null,null,null,"","","","","","",""]
[null,null,null,null,null,null,null,null,null,null,null,null,null,null,"","","","",{"$error":"#VALUE!"},"","","","","","","","","",null,null,null,null,null,null,null,null,null,null,null,null,null,null,null,null,null,null,null,null,null,null,null,null,{"$error":"#VALUE!"},{"$error":"#VALUE!"},null,null,null,null,null,null,null,null,"","","","","","",""]
[null,null,null,null,null,null,null,null,null,null,null,null,null,null,"","","","",{"$error":"#VALUE!"},"","","","","","","","","",null,null,null,null,null,null,null,null,null,null,null,null,null,null,null,null,null,null,null,null,null,null,null,null,{"$error":"#VALUE!"},{"$error":"#VALUE!"},null,null,null,null,null,null,null,null,"","","","","","",""]
[null,null,null,null,null,null,null,null,null,null,null,null,null,null,"","","","",{"$error":"#VALUE!"},"","","","","","","","","",null,null,null,null,null,null,null,null,null,null,null,null,null,null,null,null,null,null,null,null,null,null,null,null,{"$error":"#VALUE!"},{"$error":"#VALUE!"},null,null,null,null,null,null,null,null,"","","","","","",""]
[null,null,null,null,null,null,null,null,null,null,null,null,null,null,"","","","",{"$error":"#VALUE!"},"","","","","","","","","",null,null,null,null,null,null,null,null,null,null,null,null,null,null,null,null,null,null,null,null,null,null,null,null,{"$error":"#VALUE!"},{"$error":"#VALUE!"},null,null,null,null,null,null,null,null,"","","","","","",""]
[null,null,null,null,null,null,null,null,null,null,null,null,null,null,"","","","",{"$error":"#VALUE!"},"","","","","","","","","",null,null,null,null,null,null,null,null,null,null,null,null,null,null,null,null,null,null,null,null,null,null,null,null,{"$error":"#VALUE!"},{"$error":"#VALUE!"},null,null,null,null,null,null,null,null,"","","","","","",""]
[null,null,null,null,null,null,null,null,null,null,null,null,null,null,"","","","",{"$error":"#VALUE!"},"","","","","","","","","",null,null,null,null,null,null,null,null,null,null,null,null,null,null,null,null,null,null,null,null,null,null,null,null,{"$error":"#VALUE!"},{"$error":"#VALUE!"},null,null,null,null,null,null,null,null,"","","","","","",""]
[null,null,null,null,null,null,null,null,null,null,null,null,null,null,"","","","",{"$error":"#VALUE!"},"","","","","","","","","",null,null,null,null,null,null,null,null,null,null,null,null,null,null,null,null,null,null,null,null,null,null,null,null,{"$error":"#VALUE!"},{"$error":"#VALUE!"},null,null,null,null,null,null,null,null,"","","","","","",""]
[null,null,null,null,null,null,null,null,null,null,null,null,null,null,"","","","",{"$error":"#VALUE!"},"","","","","","","","","",null,null,null,null,null,null,null,null,null,null,null,null,null,null,null,null,null,null,null,null,null,null,null,null,{"$error":"#VALUE!"},{"$error":"#VALUE!"},null,null,null,null,null,null,null,null,"","","","","","",""]
[null,null,null,null,null,null,null,null,null,null,null,null,null,null,"","","","",{"$error":"#VALUE!"},"","","","","","","","","",null,null,null,null,null,null,null,null,null,null,null,null,null,null,null,null,null,null,null,null,null,null,null,null,{"$error":"#VALUE!"},{"$error":"#VALUE!"},null,null,null,null,null,null,null,null,"","","","","","",""]
[null,null,null,null,null,null,null,null,null,null,null,null,null,null,"","","","",{"$error":"#VALUE!"},"","","","","","","","","",null,null,null,null,null,null,null,null,null,null,null,null,null,null,null,null,null,null,null,null,null,null,null,null,{"$error":"#VALUE!"},{"$error":"#VALUE!"},null,null,null,null,null,null,null,null,"","","","","","",""]
[null,null,null,null,null,null,null,null,null,null,null,null,null,null,"","","","",{"$error":"#VALUE!"},"","","","","","","","","",null,null,null,null,null,null,null,null,null,null,null,null,null,null,null,null,null,null,null,null,null,null,null,null,{"$error":"#VALUE!"},{"$error":"#VALUE!"},null,null,null,null,null,null,null,null,"","","","","","",""]
[null,null,null,null,null,null,null,null,null,null,null,null,null,null,"","","","",{"$error":"#VALUE!"},"","","","","","","","","",null,null,null,null,null,null,null,null,null,null,null,null,null,null,null,null,null,null,null,null,null,null,null,null,{"$error":"#VALUE!"},{"$error":"#VALUE!"},null,null,null,null,null,null,null,null,"","","","","","",""]
[null,null,null,null,null,null,null,null,null,null,null,null,null,null,"","","","",{"$error":"#VALUE!"},"","","","","","","","","",null,null,null,null,null,null,null,null,null,null,null,null,null,null,null,null,null,null,null,null,null,null,null,null,{"$error":"#VALUE!"},{"$error":"#VALUE!"},null,null,null,null,null,null,null,null,"","","","","","",""]
[null,null,null,null,null,null,null,null,null,null,null,null,null,null,"","","","",{"$error":"#VALUE!"},"","","","","","","","","",null,null,null,null,null,null,null,null,null,null,null,null,null,null,null,null,null,null,null,null,null,null,null,null,{"$error":"#VALUE!"},{"$error":"#VALUE!"},null,null,null,null,null,null,null,null,"","","","","","",""]
[null,null,null,null,null,null,null,null,null,null,null,null,null,null,"","","","",{"$error":"#VALUE!"},"","","","","","","","","",null,null,null,null,null,null,null,null,null,null,null,null,null,null,null,null,null,null,null,null,null,null,null,null,{"$error":"#VALUE!"},{"$error":"#VALUE!"},null,null,null,null,null,null,null,null,"","","","","","",""]
[null,null,null,null,null,null,null,null,null,null,null,null,null,null,"","","","",{"$error":"#VALUE!"},"","","","","","","","","",null,null,null,null,null,null,null,null,null,null,null,null,null,null,null,null,null,null,null,null,null,null,null,null,{"$error":"#VALUE!"},{"$error":"#VALUE!"},null,null,null,null,null,null,null,null,"","","","","","",""]
[null,null,null,null,null,null,null,null,null,null,null,null,null,null,"","","","",{"$error":"#VALUE!"},"","","","","","","","","",null,null,null,null,null,null,null,null,null,null,null,null,null,null,null,null,null,null,null,null,null,null,null,null,{"$error":"#VALUE!"},{"$error":"#VALUE!"},null,null,null,null,null,null,null,null,"","","","","","",""]
[null,null,null,null,null,null,null,null,null,null,null,null,null,null,"","","","",{"$error":"#VALUE!"},"","","","","","","","","",null,null,null,null,null,null,null,null,null,null,null,null,null,null,null,null,null,null,null,null,null,null,null,null,{"$error":"#VALUE!"},{"$error":"#VALUE!"},null,null,null,null,null,null,null,null,"","","","","","",""]
[null,null,null,null,null,null,null,null,null,null,null,null,null,null,"","","","",{"$error":"#VALUE!"},"","","","","","","","","",null,null,null,null,null,null,null,null,null,null,null,null,null,null,null,null,null,null,null,null,null,null,null,null,{"$error":"#VALUE!"},{"$error":"#VALUE!"},null,null,null,null,null,null,null,null,"","","","","","",""]
[null,null,null,null,null,null,null,null,null,null,null,null,null,null,"","","","",{"$error":"#VALUE!"},"","","","","","","","","",null,null,null,null,null,null,null,null,null,null,null,null,null,null,null,null,null,null,null,null,null,null,null,null,{"$error":"#VALUE!"},{"$error":"#VALUE!"},null,null,null,null,null,null,null,null,"","","","","","",""]
[null,null,null,null,null,null,null,null,null,null,null,null,null,null,"","","","",{"$error":"#VALUE!"},"","","","","","","","","",null,null,null,null,null,null,null,null,null,null,null,null,null,null,null,null,null,null,null,null,null,null,null,null,{"$error":"#VALUE!"},{"$error":"#VALUE!"},null,null,null,null,null,null,null,null,"","","","","","",""]
[null,null,null,null,null,null,null,null,null,null,null,null,null,null,"","","","",{"$error":"#VALUE!"},"","","","","","","","","",null,null,null,null,null,null,null,null,null,null,null,null,null,null,null,null,null,null,null,null,null,null,null,null,{"$error":"#VALUE!"},{"$error":"#VALUE!"},null,null,null,null,null,null,null,null,"","","","","","",""]
[null,null,null,null,null,null,null,null,null,null,null,null,null,null,"","","","",{"$error":"#VALUE!"},"","","","","","","","","",null,null,null,null,null,null,null,null,null,null,null,null,null,null,null,null,null,null,null,null,null,null,null,null,{"$error":"#VALUE!"},{"$error":"#VALUE!"},null,null,null,null,null,null,null,null,"","","","","","",""]
[null,null,null,null,null,null,null,null,null,null,null,null,null,null,"","","","",{"$error":"#VALUE!"},"","","","","","","","","",null,null,null,null,null,null,null,null,null,null,null,null,null,null,null,null,null,null,null,null,null,null,null,null,{"$error":"#VALUE!"},{"$error":"#VALUE!"},null,null,null,null,null,null,null,null,"","","","","","",""]
[null,null,null,null,null,null,null,null,null,null,null,null,null,null,"","","","",{"$error":"#VALUE!"},"","","","","","","","","",null,null,null,null,null,null,null,null,null,null,null,null,null,null,null,null,null,null,null,null,null,null,null,null,{"$error":"#VALUE!"},{"$error":"#VALUE!"},null,null,null,null,null,null,null,null,"","","","","","",""]
[null,null,null,null,null,null,null,null,null,null,null,null,null,null,"","","","",{"$error":"#VALUE!"},"","","","","","","","","",null,null,null,null,null,null,null,null,null,null,null,null,null,null,null,null,null,null,null,null,null,null,null,null,{"$error":"#VALUE!"},{"$error":"#VALUE!"},null,null,null,null,null,null,null,null,"","","","","","",""]
[null,null,null,null,null,null,null,null,null,null,null,null,null,null,"","","","",{"$error":"#VALUE!"},"","","","","","","","","",null,null,null,null,null,null,null,null,null,null,null,null,null,null,null,null,null,null,null,null,null,null,null,null,{"$error":"#VALUE!"},{"$error":"#VALUE!"},null,null,null,null,null,null,null,null,"","","","","","",""]
[null,null,null,null,null,null,null,null,null,null,null,null,null,null,"","","","",{"$error":"#VALUE!"},"","","","","","","","","",null,null,null,null,null,null,null,null,null,null,null,null,null,null,null,null,null,null,null,null,null,null,null,null,{"$error":"#VALUE!"},{"$error":"#VALUE!"},null,null,null,null,null,null,null,null,"","","","","","",""]
[null,null,null,null,null,null,null,null,null,null,null,null,null,null,"","","","",{"$error":"#VALUE!"},"","","","","","","","","",null,null,null,null,null,null,null,null,null,null,null,null,null,null,null,null,null,null,null,null,null,null,null,null,{"$error":"#VALUE!"},{"$error":"#VALUE!"},null,null,null,null,null,null,null,null,"","","","","","",""]
[null,null,null,null,null,null,null,null,null,null,null,null,null,null,"","","","",{"$error":"#VALUE!"},"","","",{"$f":"IF(G452<h,(\"\"),(IF(G452<h+dzd,(0),(IF(N452=\"\",(W451+H452*(G452-G451)),(W451+(I452-9.81)*(G452-G451)))))))","v":""},"","",{"$f":"IF(Y452=\"\",X452,X452+Y452)","v":""},{"$f":"IF(N452=\"\",(\"\"),IF(G452>h,AA451,((G452-nz)*9.81)))","v":""},"",null,null,null,null,null,null,null,null,null,null,null,null,null,null,null,null,null,null,null,null,null,null,null,null,{"$error":"#VALUE!"},{"$error":"#VALUE!"},null,null,null,null,null,null,null,null,"","","","","","",""]
[null,null,null,null,null,null,null,null,null,null,null,null,null,null,"","","","",{"$error":"#VALUE!"},"","","","","","","","","",null,null,null,null,null,null,null,null,null,null,null,null,null,null,null,null,null,null,null,null,null,null,null,null,{"$error":"#VALUE!"},{"$error":"#VALUE!"},null,null,null,null,null,null,null,null,"","","","","","",""]
[null,null,null,null,null,null,null,null,null,null,null,null,null,null,"","","",{"$f":"IF(L454=\"\",\"\",(IF(G454=\"\",\"\",IF(G454=h,(R455),(IF(N454=\"\",$E$11,($E$11*V454/W454)))))))","v":""},{"$error":"#VALUE!"},"","",{"$f":"IF(G454<h,(\"\"),(IF(G454<h+dzd,(0),(IF(N454=\"\",(V453+H454*(G454-G453)),(V453+(I454)*(G454-G453)))))))","v":""},"","",{"$f":"IF(G454<h,(\"\"),((-P454*W454-2*J454*(P454^0.5))*COS(RADIANS(M454))))","v":""},"","",{"$f":"IF(G454=\"\",\"\",IF(G454>hd,0,IF($A$27=1,BK454,IF($A$27=2,BL454,IF($A$27=3,BM454,IF($A$27=4,BN454+ka*($E$4+$E$5),IF($A$27=5,BP454,IF($A$27=6,BO454,BQ454))))))))","v":""},null,null,null,null,null,null,null,null,null,null,null,null,null,null,null,null,null,null,null,null,null,null,null,null,{"$error":"#VALUE!"},{"$error":"#VALUE!"},null,null,null,null,null,null,null,null,{"$f":"IF(G454=\"\",\"\",IF(G454>hd,0,(IF(G454<0.2*(hd),(1.6*($AH$20+$AH$21)/(hd)/0.2/(hd)*G454),(IF(G454<0.8*(hd),(1.6*($AH$20+$AH$21)/(hd)),(1.6*($AH$20+$AH$21)/(hd)-1.6*($AH$20+$AH$21)/(hd)/0.2/(hd)*(G454-0.8*(hd)))))))))","v":""},{"$f":"IF(G454=\"\",\"\",IF(G454>hd,0,(IF(G454<((2/3)*$AH$6),(1.3*($AH$20+$AH$21)/(hd-(1/3)*($AH$6+(hd-MAX($AP$6:$AP$15))))*G454/(2/3*$AH$6)),(IF(G454<(h-2/3*(hd-MAX($AP$6:$AP$15))),1.3*($AH$20+$AH$21)/(hd-1/3*($AH$6+(hd-MAX($AP$6:$AP$15)))),1.3*($AH$20+$AH$21)/(hd-1/3*($AH$6+(hd-MAX($AP$6:$AP$15))))*(1-(G454-(hd-2/3*(hd-MAX($AP$6:$AP$15))))/(2/3*(hd-MAX($AP$6:$AP$15))))))))))","v":""},{"$f":"IF(G454=\"\",\"\",IF(G454>hd,0,(IF(G454<(0.6667*$AH$6),(0.3*g*hd*G454/(0.6667*$AH$6)),(IF(G454<(hd-0.6667*(hd-MAX($AP$6:$AP$15))),0.3*g*hd,0.3*g*hd*(1-(G454-(hd-0.6667*(hd-MAX($AP$6:$AP$15))))/(0.6667*(hd-MAX($AP$6:$AP$15))))))))))","v":""},{"$f":"IF(G454=\"\",\"\",IF(G454>hd,0,(IF(G454<((2/3)*$AH$6),(0.65*ka*g*hd*hd/(hd-(1/3)*($AH$6+(hd-MAX($AP$6:$AP$15))))*G454/(2/3*$AH$6)),(IF(G454<(h-2/3*(hd-MAX($AP$6:$AP$15))),0.65*ka*g*hd*hd/(hd-1/3*($AH$6+(hd-MAX($AP$6:$AP$15)))),0.65*ka*g*hd*hd/(hd-1/3*($AH$6+(hd-MAX($AP$6:$AP$15))))*(1-(G454-(hd-2/3*(hd-MAX($AP$6:$AP$15))))/(2/3*(hd-MAX($AP$6:$AP$15))))))))))","v":""},{"$f":"IF(G454=\"\",\"\",IF(G454>hd,0,(IF(G454<(0.25*hd),(0.3*g*h*G454/(0.25*hd)),(IF(G454<(0.75*hd),0.3*g*h,0.3*g*h*(1-(G454-0.75*hd)/0.25/hd)))))))","v":""},{"$f":"IF(G454>hd,0,IF(G454=\"\",\"\",0.65*ka*g*hd))","v":""},{"$f":"IF(G454=\"\",\"\",IF(G454>hd,0,(IF(G454<(0.25*hd),(1-4*ca/g/hd)*g*hd*G454/(0.25*hd),((1-4*ca/g/hd)*g*hd)))))","v":""}]
[null,null,null,null,null,null,null,null,null,null,null,null,null,null,{"$f":"IF(G455=\"\",(\"\"),((SIN(RADIANS($E$9+BA455-K455)))^2)*((SIN(RADIANS($E$9)))^-2)*((COS(RADIANS(BA455)))^-1)*((SIN((RADIANS($E$9+BA455+M455))))^-1)/(1+((SIN(RADIANS(K455+M455)))*(SIN((RADIANS(K455-$E$7-BA455))/(SIN(RADIANS($E$9-$E$7)))/(SIN((RADIANS($E$9+BA455+M455)))))))^0.5)^2)","v":""},{"$f":"IF(L455=\"\",(\"\"),((SIN(RADIANS($E$9-BB455+L455)))^2)*((SIN(RADIANS($E$9)))^-2)*((COS(RADIANS(BB455)))^-1)*((SIN((RADIANS($E$9-BB455-M455))))^-1)/(1-((SIN(RADIANS(L455+M455)))*(SIN((RADIANS(L455+$E$7-BB455))/(SIN(RADIANS($E$9-$E$7)))/(SIN((RADIANS($E$9-BB455-M455)))))))^0.5)^2)","v":""},{"$f":"IF(G455=\"\",\"\",(IF(N455=\"\",$E$11,($E$11*T455/U455))))","v":""},"",{"$f":"IF(G455=\"\",\"\",0.5*PI()-ATAN((-TAN(RADIANS(K455+M455+(90-$E$9)-$E$7)))+(1/(COS(RADIANS(K455+M455+(90-$E$9)-$E$7))))*((COS((RADIANS(90-$E$9+M455+BA455))))^0.5)*((SIN(RADIANS(K455+M455)))^0.5)*((COS(RADIANS(90-$E$9-$E$7)))^-0.5)*((SIN(RADIANS(K455-$E$7-BA455)))^-0.5)))+$E$7","v":{"$error":"#VALUE!"}},"","","","","","","","","",null,null,null,null,null,null,null,null,null,null,null,null,null,null,null,null,null,null,null,null,null,null,null,null,{"$f":"ATAN(Q455)/0.017453","v":{"$error":"#VALUE!"}},{"$f":"ATAN(Q455)/0.017453","v":{"$error":"#VALUE!"}},null,null,null,null,null,null,null,null,"","","","","","",""]
[null,null,null,null,null,null,null,null,null,null,null,null,null,null,"","","","",{"$error":"#VALUE!"},{"$f":"IF(G456=\"\",(\"\"),(IF(N456=\"\",(T455+(G456-G455)*H455),(T455+(G456-G455)*(I455)))))","v":""},{"$f":"IF(G456=\"\",(\"\"),(IF(N456=\"\",(U455+(G456-G455)*H455),(U455+(G456-G455)*(I455-9.81)))))","v":""},"","",{"$f":"IF(G456=\"\",(\"\"),((O456*U456-2*J456*(O456)^0.5))*COS(RADIANS(M456)))","v":""},"","","","",null,null,null,null,null,null,null,null,null,null,null,null,null,null,null,null,null,null,null,null,null,null,null,null,{"$error":"#VALUE!"},{"$error":"#VALUE!"},null,null,null,null,null,null,null,null,"","","","","","",""]
[null,null,null,null,null,null,null,null,null,null,null,null,null,null,"","","","",{"$error":"#VALUE!"},"","","","","","","","","",null,null,null,null,null,null,null,null,null,null,null,null,null,null,null,null,null,null,null,null,null,null,null,null,{"$error":"#VALUE!"},{"$error":"#VALUE!"},null,null,null,null,null,null,null,null,"","","","","","",""]
[null,null,null,null,null,null,null,null,null,null,null,null,null,null,"","","","",{"$error":"#VALUE!"},"","","","","","","","","",null,null,null,null,null,null,null,null,null,null,null,null,null,null,null,null,null,null,null,null,null,null,null,null,{"$error":"#VALUE!"},{"$error":"#VALUE!"},null,null,null,null,null,null,null,null,"","","","","","",""]
[null,null,null,null,null,null,null,null,null,null,null,null,null,null,"","","","",{"$error":"#VALUE!"},"","","","","","","","","",null,null,null,null,null,null,null,null,null,null,null,null,null,null,null,null,null,null,null,null,null,null,null,null,{"$error":"#VALUE!"},{"$error":"#VALUE!"},null,null,null,null,null,null,null,null,"","","","","","",""]
[null,null,null,null,null,null,null,null,null,null,null,null,null,null,"","","","",{"$error":"#VALUE!"},"","","","","","","","","",null,null,null,null,null,null,null,null,null,null,null,null,null,null,null,null,null,null,null,null,null,null,null,null,{"$error":"#VALUE!"},{"$error":"#VALUE!"},null,null,null,null,null,null,null,null,"","","","","","",""]
[null,null,null,null,null,null,null,null,null,null,null,null,null,null,"","","","",{"$error":"#VALUE!"},"","","","","","","","","",null,null,null,null,null,null,null,null,null,null,null,null,null,null,null,null,null,null,null,null,null,null,null,null,{"$error":"#VALUE!"},{"$error":"#VALUE!"},null,null,null,null,null,null,null,null,"","","","","","",""]
[null,null,null,null,null,null,null,null,null,null,null,null,null,null,"","","","",{"$error":"#VALUE!"},"","","","","","","","","",null,null,null,null,null,null,null,null,null,null,null,null,null,null,null,null,null,null,null,null,null,null,null,null,{"$error":"#VALUE!"},{"$error":"#VALUE!"},null,null,null,null,null,null,null,null,"","","","","","",""]
[null,null,null,null,null,null,null,null,null,null,null,null,null,null,"","","","",{"$error":"#VALUE!"},"","","","","","","","","",null,null,null,null,null,null,null,null,null,null,null,null,null,null,null,null,null,null,null,null,null,null,null,null,{"$error":"#VALUE!"},{"$error":"#VALUE!"},null,null,null,null,null,null,null,null,"","","","","","",""]
[null,null,null,null,null,null,null,null,null,null,null,null,null,null,"","","","",{"$error":"#VALUE!"},"","","","","","","","","",null,null,null,null,null,null,null,null,null,null,null,null,null,null,null,null,null,null,null,null,null,null,null,null,{"$error":"#VALUE!"},{"$error":"#VALUE!"},null,null,null,null,null,null,null,null,"","","","","","",""]
[null,null,null,null,null,null,null,null,null,null,null,null,null,null,"","","","",{"$error":"#VALUE!"},"","","","","","","","","",null,null,null,null,null,null,null,null,null,null,null,null,null,null,null,null,null,null,null,null,null,null,null,null,{"$error":"#VALUE!"},{"$error":"#VALUE!"},null,null,null,null,null,null,null,null,"","","","","","",""]
[null,null,null,null,null,null,null,null,null,null,null,null,null,null,"","","","",{"$error":"#VALUE!"},"","","","","","","","","",null,null,null,null,null,null,null,null,null,null,null,null,null,null,null,null,null,null,null,null,null,null,null,null,{"$error":"#VALUE!"},{"$error":"#VALUE!"},null,null,null,null,null,null,null,null,"","","","","","",""]
[null,null,null,null,null,null,null,null,null,null,null,null,null,null,"","","","",{"$error":"#VALUE!"},"","","","","","","","","",null,null,null,null,null,null,null,null,null,null,null,null,null,null,null,null,null,null,null,null,null,null,null,null,{"$error":"#VALUE!"},{"$error":"#VALUE!"},null,null,null,null,null,null,null,null,"","","","","","",""]
[null,null,null,null,null,null,null,null,null,null,null,null,null,null,"","","","",{"$error":"#VALUE!"},"","","","","","","","","",null,null,null,null,null,null,null,null,null,null,null,null,null,null,null,null,null,null,null,null,null,null,null,null,{"$error":"#VALUE!"},{"$error":"#VALUE!"},null,null,null,null,null,null,null,null,"","","","","","",""]
[null,null,null,null,null,null,null,null,null,null,null,null,null,null,"","","","",{"$error":"#VALUE!"},"","","","","","","","","",null,null,null,null,null,null,null,null,null,null,null,null,null,null,null,null,null,null,null,null,null,null,null,null,{"$error":"#VALUE!"},{"$error":"#VALUE!"},null,null,null,null,null,null,null,null,"","","","","","",""]
[null,null,null,null,null,null,null,null,null,null,null,null,null,null,"","","","",{"$error":"#VALUE!"},"","","","","","","","","",null,null,null,null,null,null,null,null,null,null,null,null,null,null,null,null,null,null,null,null,null,null,null,null,{"$error":"#VALUE!"},{"$error":"#VALUE!"},null,null,null,null,null,null,null,null,"","","","","","",""]
[null,null,null,null,null,null,null,null,null,null,null,null,null,null,"","","","",{"$error":"#VALUE!"},"","","","","","","","","",null,null,null,null,null,null,null,null,null,null,null,null,null,null,null,null,null,null,null,null,null,null,null,null,{"$error":"#VALUE!"},{"$error":"#VALUE!"},null,null,null,null,null,null,null,null,"","","","","","",""]
[null,null,null,null,null,null,null,null,null,null,null,null,null,null,"","","","",{"$error":"#VALUE!"},"","","","","","","","","",null,null,null,null,null,null,null,null,null,null,null,null,null,null,null,null,null,null,null,null,null,null,null,null,{"$error":"#VALUE!"},{"$error":"#VALUE!"},null,null,null,null,null,null,null,null,"","","","","","",""]
[null,null,null,null,null,null,null,null,null,null,null,null,null,null,"","","","",{"$error":"#VALUE!"},"","","","","","","","","",null,null,null,null,null,null,null,null,null,null,null,null,null,null,null,null,null,null,null,null,null,null,null,null,{"$error":"#VALUE!"},{"$error":"#VALUE!"},null,null,null,null,null,null,null,null,"","","","","","",""]
[null,null,null,null,null,null,null,null,null,null,null,null,null,null,"","","","",{"$error":"#VALUE!"},"","","","","","","","","",null,null,null,null,null,null,null,null,null,null,null,null,null,null,null,null,null,null,null,null,null,null,null,null,{"$error":"#VALUE!"},{"$error":"#VALUE!"},null,null,null,null,null,null,null,null,"","","","","","",""]
[null,null,null,null,null,null,null,null,null,null,null,null,null,null,"","","","",{"$error":"#VALUE!"},"","","","","","","","","",null,null,null,null,null,null,null,null,null,null,null,null,null,null,null,null,null,null,null,null,null,null,null,null,{"$error":"#VALUE!"},{"$error":"#VALUE!"},null,null,null,null,null,null,null,null,"","","","","","",""]
[null,null,null,null,null,null,null,null,null,null,null,null,null,null,"","","","",{"$error":"#VALUE!"},"","","","","","","","","",null,null,null,null,null,null,null,null,null,null,null,null,null,null,null,null,null,null,null,null,null,null,null,null,{"$error":"#VALUE!"},{"$error":"#VALUE!"},null,null,null,null,null,null,null,null,"","","","","","",""]
[null,null,null,null,null,null,null,null,null,null,null,null,null,null,"","","","",{"$error":"#VALUE!"},"","","","","","","","","",null,null,null,null,null,null,null,null,null,null,null,null,null,null,null,null,null,null,null,null,null,null,null,null,{"$error":"#VALUE!"},{"$error":"#VALUE!"},null,null,null,null,null,null,null,null,"","","","","","",""]
[null,null,null,null,null,null,null,null,null,null,null,null,null,null,"","","","",{"$error":"#VALUE!"},"","","","","","","","","",null,null,null,null,null,null,null,null,null,null,null,null,null,null,null,null,null,null,null,null,null,null,null,null,{"$error":"#VALUE!"},{"$error":"#VALUE!"},null,null,null,null,null,null,null,null,"","","","","","",""]
[null,null,null,null,null,null,null,null,null,null,null,null,null,null,"","","","",{"$error":"#VALUE!"},"","","","","","","","","",null,null,null,null,null,null,null,null,null,null,null,null,null,null,null,null,null,null,null,null,null,null,null,null,{"$error":"#VALUE!"},{"$error":"#VALUE!"},null,null,null,null,null,null,null,null,"","","","","","",""]
[null,null,null,null,null,null,null,null,null,null,null,null,null,null,"","","","",{"$error":"#VALUE!"},"","","","","","","","","",null,null,null,null,null,null,null,null,null,null,null,null,null,null,null,null,null,null,null,null,null,null,null,null,{"$error":"#VALUE!"},{"$error":"#VALUE!"},null,null,null,null,null,null,null,null,"","","","","","",""]
[null,null,null,null,null,null,null,null,null,null,null,null,null,null,"","","","",{"$error":"#VALUE!"},"","","","","","","","","",null,null,null,null,null,null,null,null,null,null,null,null,null,null,null,null,null,null,null,null,null,null,null,null,{"$error":"#VALUE!"},{"$error":"#VALUE!"},null,null,null,null,null,null,null,null,"","","","","","",""]
[null,null,null,null,null,null,null,null,null,null,null,null,null,null,"","","","",{"$error":"#VALUE!"},"","","","","","","","","",null,null,null,null,null,null,null,null,null,null,null,null,null,null,null,null,null,null,null,null,null,null,null,null,{"$error":"#VALUE!"},{"$error":"#VALUE!"},null,null,null,null,null,null,null,null,"","","","","","",""]
[null,null,null,null,null,null,null,null,null,null,null,null,null,null,"","","","",{"$error":"#VALUE!"},"","","","","","","","","",null,null,null,null,null,null,null,null,null,null,null,null,null,null,null,null,null,null,null,null,null,null,null,null,{"$error":"#VALUE!"},{"$error":"#VALUE!"},null,null,null,null,null,null,null,null,"","","","","","",""]
[null,null,null,null,null,null,null,null,null,null,null,null,null,null,"","","","",{"$error":"#VALUE!"},"","","","","","","","","",null,null,null,null,null,null,null,null,null,null,null,null,null,null,null,null,null,null,null,null,null,null,null,null,{"$error":"#VALUE!"},{"$error":"#VALUE!"},null,null,null,null,null,null,null,null,"","","","","","",""]
[null,null,null,null,null,null,null,null,null,null,null,null,null,null,"","","","",{"$error":"#VALUE!"},"","","","","","","","","",null,null,null,null,null,null,null,null,null,null,null,null,null,null,null,null,null,null,null,null,null,null,null,null,{"$error":"#VALUE!"},{"$error":"#VALUE!"},null,null,null,null,null,null,null,null,"","","","","","",""]
[null,null,null,null,null,null,null,null,null,null,null,null,null,null,"","","","",{"$error":"#VALUE!"},"","","","","","","","","",null,null,null,null,null,null,null,null,null,null,null,null,null,null,null,null,null,null,null,null,null,null,null,null,{"$error":"#VALUE!"},{"$error":"#VALUE!"},null,null,null,null,null,null,null,null,"","","","","","",""]
[null,null,null,null,null,null,null,null,null,null,null,null,null,null,"","","","",{"$error":"#VALUE!"},"","","","","","","","","",null,null,null,null,null,null,null,null,null,null,null,null,null,null,null,null,null,null,null,null,null,null,null,null,{"$error":"#VALUE!"},{"$error":"#VALUE!"},null,null,null,null,null,null,null,null,"","","","","","",""]
[null,null,null,null,null,null,null,null,null,null,null,null,null,null,"","","","",{"$error":"#VALUE!"},"","","","","","","","","",null,null,null,null,null,null,null,null,null,null,null,null,null,null,null,null,null,null,null,null,null,null,null,null,{"$error":"#VALUE!"},{"$error":"#VALUE!"},null,null,null,null,null,null,null,null,"","","","","","",""]
[null,null,null,null,null,null,null,null,null,null,null,null,null,null,"","","","",{"$error":"#VALUE!"},"","","","","","","","","",null,null,null,null,null,null,null,null,null,null,null,null,null,null,null,null,null,null,null,null,null,null,null,null,{"$error":"#VALUE!"},{"$error":"#VALUE!"},null,null,null,null,null,null,null,null,"","","","","","",""]
[null,null,null,null,null,null,null,null,null,null,null,null,null,null,"","","","",{"$error":"#VALUE!"},"","","","","","","","","",null,null,null,null,null,null,null,null,null,null,null,null,null,null,null,null,null,null,null,null,null,null,null,null,{"$error":"#VALUE!"},{"$error":"#VALUE!"},null,null,null,null,null,null,null,null,"","","","","","",""]
[null,null,null,null,null,null,null,null,null,null,null,null,null,null,"","","","",{"$error":"#VALUE!"},"","","","","","","","","",null,null,null,null,null,null,null,null,null,null,null,null,null,null,null,null,null,null,null,null,null,null,null,null,{"$error":"#VALUE!"},{"$error":"#VALUE!"},null,null,null,null,null,null,null,null,"","","","","","",""]
[null,null,null,null,null,null,null,null,null,null,null,null,null,null,"","","","",{"$error":"#VALUE!"},"","","","","","","","","",null,null,null,null,null,null,null,null,null,null,null,null,null,null,null,null,null,null,null,null,null,null,null,null,{"$error":"#VALUE!"},{"$error":"#VALUE!"},null,null,null,null,null,null,null,null,"","","","","","",""]
[null,null,null,null,null,null,null,null,null,null,null,null,null,null,"","","","",{"$error":"#VALUE!"},"","","","","","","","","",null,null,null,null,null,null,null,null,null,null,null,null,null,null,null,null,null,null,null,null,null,null,null,null,{"$error":"#VALUE!"},{"$error":"#VALUE!"},null,null,null,null,null,null,null,null,"","","","","","",""]
[null,null,null,null,null,null,null,null,null,null,null,null,null,null,"","","","",{"$error":"#VALUE!"},"","","","","","","","","",null,null,null,null,null,null,null,null,null,null,null,null,null,null,null,null,null,null,null,null,null,null,null,null,{"$error":"#VALUE!"},{"$error":"#VALUE!"},null,null,null,null,null,null,null,null,"","","","","","",""]
[null,null,null,null,null,null,null,null,null,null,null,null,null,null,"","","","",{"$error":"#VALUE!"},"","","","","","","","","",null,null,null,null,null,null,null,null,null,null,null,null,null,null,null,null,null,null,null,null,null,null,null,null,{"$error":"#VALUE!"},{"$error":"#VALUE!"},null,null,null,null,null,null,null,null,"","","","","","",""]
[null,null,null,null,null,null,null,null,null,null,null,null,null,null,"","","","",{"$error":"#VALUE!"},"","","","","","","","","",null,null,null,null,null,null,null,null,null,null,null,null,null,null,null,null,null,null,null,null,null,null,null,null,{"$error":"#VALUE!"},{"$error":"#VALUE!"},null,null,null,null,null,null,null,null,"","","","","","",""]
[null,null,null,null,null,null,null,null,null,null,null,null,null,null,"","","","",{"$error":"#VALUE!"},"","","","","","","","","",null,null,null,null,null,null,null,null,null,null,null,null,null,null,null,null,null,null,null,null,null,null,null,null,{"$error":"#VALUE!"},{"$error":"#VALUE!"},null,null,null,null,null,null,null,null,"","","","","","",""]
[null,null,null,null,null,null,null,null,null,null,null,null,null,null,"","","","",{"$error":"#VALUE!"},"","","","","","","","","",null,null,null,null,null,null,null,null,null,null,null,null,null,null,null,null,null,null,null,null,null,null,null,null,{"$error":"#VALUE!"},{"$error":"#VALUE!"},null,null,null,null,null,null,null,null,"","","","","","",""]
[null,null,null,null,null,null,null,null,null,null,null,null,null,null,"","","","",{"$error":"#VALUE!"},"","","","","","","","","",null,null,null,null,null,null,null,null,null,null,null,null,null,null,null,null,null,null,null,null,null,null,null,null,{"$error":"#VALUE!"},{"$error":"#VALUE!"},null,null,null,null,null,null,null,null,"","","","","","",""]
[null,null,null,null,null,null,null,null,null,null,null,null,null,null,"","","","",{"$error":"#VALUE!"},"","","","","","","","","",null,null,null,null,null,null,null,null,null,null,null,null,null,null,null,null,null,null,null,null,null,null,null,null,{"$error":"#VALUE!"},{"$error":"#VALUE!"},null,null,null,null,null,null,null,null,"","","","","","",""]
[null,null,null,null,null,null,null,null,null,null,null,null,null,null,"","","","",{"$error":"#VALUE!"},"","","","","","","","","",null,null,null,null,null,null,null,null,null,null,null,null,null,null,null,null,null,null,null,null,null,null,null,null,{"$error":"#VALUE!"},{"$error":"#VALUE!"},null,null,null,null,null,null,null,null,"","","","","","",""]
[null,null,null,null,null,null,null,null,null,null,null,null,null,null,"","","","",{"$error":"#VALUE!"},"","","","","","","","","",null,null,null,null,null,null,null,null,null,null,null,null,null,null,null,null,null,null,null,null,null,null,null,null,{"$error":"#VALUE!"},{"$error":"#VALUE!"},null,null,null,null,null,null,null,null,"","","","","","",""]
[null,null,null,null,null,null,null,null,null,null,null,null,null,null,"","","","",{"$error":"#VALUE!"},"","","","","","","","","",null,null,null,null,null,null,null,null,null,null,null,null,null,null,null,null,null,null,null,null,null,null,null,null,{"$error":"#VALUE!"},{"$error":"#VALUE!"},null,null,null,null,null,null,null,null,"","","","","","",""]
[null,null,null,null,null,null,null,null,null,null,null,null,null,null,"","","","",{"$error":"#VALUE!"},"","","","","","","","","",null,null,null,null,null,null,null,null,null,null,null,null,null,null,null,null,null,null,null,null,null,null,null,null,{"$error":"#VALUE!"},{"$error":"#VALUE!"},null,null,null,null,null,null,null,null,"","","","","","",""]
[null,null,null,null,null,null,null,null,null,null,null,null,null,null,"","","","",{"$error":"#VALUE!"},"","","","","","","","","",null,null,null,null,null,null,null,null,null,null,null,null,null,null,null,null,null,null,null,null,null,null,null,null,{"$error":"#VALUE!"},{"$error":"#VALUE!"},null,null,null,null,null,null,null,null,"","","","","","",""]
[null,null,null,null,null,null,null,null,null,null,null,null,null,null,"","","","",{"$error":"#VALUE!"},"","","","","","","","","",null,null,null,null,null,null,null,null,null,null,null,null,null,null,null,null,null,null,null,null,null,null,null,null,{"$error":"#VALUE!"},{"$error":"#VALUE!"},null,null,null,null,null,null,null,null,"","","","","","",""]
[null,null,null,null,null,null,null,null,null,null,null,null,null,null,"","","","",{"$error":"#VALUE!"},"","","","","","","","","",null,null,null,null,null,null,null,null,null,null,null,null,null,null,null,null,null,null,null,null,null,null,null,null,{"$error":"#VALUE!"},{"$error":"#VALUE!"},null,null,null,null,null,null,null,null,"","","","","","",""]
[null,null,null,null,null,null,null,null,null,null,null,null,null,null,"","","","",{"$error":"#VALUE!"},"","","","","","","","","",null,null,null,null,null,null,null,null,null,null,null,null,null,null,null,null,null,null,null,null,null,null,null,null,{"$error":"#VALUE!"},{"$error":"#VALUE!"},null,null,null,null,null,null,null,null,"","","","","","",""]
[null,null,null,null,null,null,null,null,null,null,null,null,null,null,"","","","",{"$error":"#VALUE!"},"","","","","","","","","",null,null,null,null,null,null,null,null,null,null,null,null,null,null,null,null,null,null,null,null,null,null,null,null,{"$error":"#VALUE!"},{"$error":"#VALUE!"},null,null,null,null,null,null,null,null,"","","","","","",""]
[null,null,null,null,null,null,null,null,null,null,null,null,null,null,"","","","",{"$error":"#VALUE!"},"","","","","","","","","",null,null,null,null,null,null,null,null,null,null,null,null,null,null,null,null,null,null,null,null,null,null,null,null,{"$error":"#VALUE!"},{"$error":"#VALUE!"},null,null,null,null,null,null,null,null,"","","","","","",""]
[null,null,null,null,null,null,null,null,null,null,null,null,null,null,"","","","",{"$error":"#VALUE!"},"","","","","","","","","",null,null,null,null,null,null,null,null,null,null,null,null,null,null,null,null,null,null,null,null,null,null,null,null,{"$error":"#VALUE!"},{"$error":"#VALUE!"},null,null,null,null,null,null,null,null,"","","","","","",""]
[null,null,null,null,null,null,null,null,null,null,null,null,null,null,"","","","",{"$error":"#VALUE!"},"","","","","","","","","",null,null,null,null,null,null,null,null,null,null,null,null,null,null,null,null,null,null,null,null,null,null,null,null,{"$error":"#VALUE!"},{"$error":"#VALUE!"},null,null,null,null,null,null,null,null,"","","","","","",""]
[null,null,null,null,null,null,null,null,null,null,null,null,null,null,"","","","",{"$error":"#VALUE!"},"","","","","","","","","",null,null,null,null,null,null,null,null,null,null,null,null,null,null,null,null,null,null,null,null,null,null,null,null,{"$error":"#VALUE!"},{"$error":"#VALUE!"},null,null,null,null,null,null,null,null,"","","","","","",""]
[null,null,null,null,null,null,null,null,null,null,null,null,null,null,"","","","",{"$error":"#VALUE!"},"","","","","","","","","",null,null,null,null,null,null,null,null,null,null,null,null,null,null,null,null,null,null,null,null,null,null,null,null,{"$error":"#VALUE!"},{"$error":"#VALUE!"},null,null,null,null,null,null,null,null,"","","","","","",""]
[null,null,null,null,null,null,null,null,null,null,null,null,null,null,"","","","",{"$error":"#VALUE!"},"","","","","","","","","",null,null,null,null,null,null,null,null,null,null,null,null,null,null,null,null,null,null,null,null,null,null,null,null,{"$error":"#VALUE!"},{"$error":"#VALUE!"},null,null,null,null,null,null,null,null,"","","","","","",""]
[null,null,null,null,null,null,null,null,null,null,null,null,null,null,"","","","",{"$error":"#VALUE!"},"","","",{"$f":"IF(G516<h,(\"\"),(IF(G516<h+dzd,(0),(IF(N516=\"\",(W515+H516*(G516-G515)),(W515+(I516-9.81)*(G516-G515)))))))","v":""},"","",{"$f":"IF(Y516=\"\",X516,X516+Y516)","v":""},{"$f":"IF(N516=\"\",(\"\"),IF(G516>h,AA515,((G516-nz)*9.81)))","v":""},"",null,null,null,null,null,null,null,null,null,null,null,null,null,null,null,null,null,null,null,null,null,null,null,null,{"$error":"#VALUE!"},{"$error":"#VALUE!"},null,null,null,null,null,null,null,null,"","","","","","",""]
[null,null,null,null,null,null,null,null,null,null,null,null,null,null,"","","","",{"$error":"#VALUE!"},"","","","","","","","","",null,null,null,null,null,null,null,null,null,null,null,null,null,null,null,null,null,null,null,null,null,null,null,null,{"$error":"#VALUE!"},{"$error":"#VALUE!"},null,null,null,null,null,null,null,null,"","","","","","",""]
[null,null,null,null,null,null,null,null,null,null,null,null,null,null,"","","",{"$f":"IF(L518=\"\",\"\",(IF(G518=\"\",\"\",IF(G518=h,(R519),(IF(N518=\"\",$E$11,($E$11*V518/W518)))))))","v":""},{"$error":"#VALUE!"},"","",{"$f":"IF(G518<h,(\"\"),(IF(G518<h+dzd,(0),(IF(N518=\"\",(V517+H518*(G518-G517)),(V517+(I518)*(G518-G517)))))))","v":""},"","",{"$f":"IF(G518<h,(\"\"),((-P518*W518-2*J518*(P518^0.5))*COS(RADIANS(M518))))","v":""},"","",{"$f":"IF(G518=\"\",\"\",IF(G518>hd,0,IF($A$27=1,BK518,IF($A$27=2,BL518,IF($A$27=3,BM518,IF($A$27=4,BN518+ka*($E$4+$E$5),IF($A$27=5,BP518,IF($A$27=6,BO518,BQ518))))))))","v":""},null,null,null,null,null,null,null,null,null,null,null,null,null,null,null,null,null,null,null,null,null,null,null,null,{"$error":"#VALUE!"},{"$error":"#VALUE!"},null,null,null,null,null,null,null,null,{"$f":"IF(G518=\"\",\"\",IF(G518>hd,0,(IF(G518<0.2*(hd),(1.6*($AH$20+$AH$21)/(hd)/0.2/(hd)*G518),(IF(G518<0.8*(hd),(1.6*($AH$20+$AH$21)/(hd)),(1.6*($AH$20+$AH$21)/(hd)-1.6*($AH$20+$AH$21)/(hd)/0.2/(hd)*(G518-0.8*(hd)))))))))","v":""},{"$f":"IF(G518=\"\",\"\",IF(G518>hd,0,(IF(G518<((2/3)*$AH$6),(1.3*($AH$20+$AH$21)/(hd-(1/3)*($AH$6+(hd-MAX($AP$6:$AP$15))))*G518/(2/3*$AH$6)),(IF(G518<(h-2/3*(hd-MAX($AP$6:$AP$15))),1.3*($AH$20+$AH$21)/(hd-1/3*($AH$6+(hd-MAX($AP$6:$AP$15)))),1.3*($AH$20+$AH$21)/(hd-1/3*($AH$6+(hd-MAX($AP$6:$AP$15))))*(1-(G518-(hd-2/3*(hd-MAX($AP$6:$AP$15))))/(2/3*(hd-MAX($AP$6:$AP$15))))))))))","v":""},{"$f":"IF(G518=\"\",\"\",IF(G518>hd,0,(IF(G518<(0.6667*$AH$6),(0.3*g*hd*G518/(0.6667*$AH$6)),(IF(G518<(hd-0.6667*(hd-MAX($AP$6:$AP$15))),0.3*g*hd,0.3*g*hd*(1-(G518-(hd-0.6667*(hd-MAX($AP$6:$AP$15))))/(0.6667*(hd-MAX($AP$6:$AP$15))))))))))","v":""},{"$f":"IF(G518=\"\",\"\",IF(G518>hd,0,(IF(G518<((2/3)*$AH$6),(0.65*ka*g*hd*hd/(hd-(1/3)*($AH$6+(hd-MAX($AP$6:$AP$15))))*G518/(2/3*$AH$6)),(IF(G518<(h-2/3*(hd-MAX($AP$6:$AP$15))),0.65*ka*g*hd*hd/(hd-1/3*($AH$6+(hd-MAX($AP$6:$AP$15)))),0.65*ka*g*hd*hd/(hd-1/3*($AH$6+(hd-MAX($AP$6:$AP$15))))*(1-(G518-(hd-2/3*(hd-MAX($AP$6:$AP$15))))/(2/3*(hd-MAX($AP$6:$AP$15))))))))))","v":""},{"$f":"IF(G518=\"\",\"\",IF(G518>hd,0,(IF(G518<(0.25*hd),(0.3*g*h*G518/(0.25*hd)),(IF(G518<(0.75*hd),0.3*g*h,0.3*g*h*(1-(G518-0.75*hd)/0.25/hd)))))))","v":""},{"$f":"IF(G518>hd,0,IF(G518=\"\",\"\",0.65*ka*g*hd))","v":""},{"$f":"IF(G518=\"\",\"\",IF(G518>hd,0,(IF(G518<(0.25*hd),(1-4*ca/g/hd)*g*hd*G518/(0.25*hd),((1-4*ca/g/hd)*g*hd)))))","v":""}]
[null,null,null,null,null,null,null,null,null,null,null,null,null,null,{"$f":"IF(G519=\"\",(\"\"),((SIN(RADIANS($E$9+BA519-K519)))^2)*((SIN(RADIANS($E$9)))^-2)*((COS(RADIANS(BA519)))^-1)*((SIN((RADIANS($E$9+BA519+M519))))^-1)/(1+((SIN(RADIANS(K519+M519)))*(SIN((RADIANS(K519-$E$7-BA519))/(SIN(RADIANS($E$9-$E$7)))/(SIN((RADIANS($E$9+BA519+M519)))))))^0.5)^2)","v":""},{"$f":"IF(L519=\"\",(\"\"),((SIN(RADIANS($E$9-BB519+L519)))^2)*((SIN(RADIANS($E$9)))^-2)*((COS(RADIANS(BB519)))^-1)*((SIN((RADIANS($E$9-BB519-M519))))^-1)/(1-((SIN(RADIANS(L519+M519)))*(SIN((RADIANS(L519+$E$7-BB519))/(SIN(RADIANS($E$9-$E$7)))/(SIN((RADIANS($E$9-BB519-M519)))))))^0.5)^2)","v":""},{"$f":"IF(G519=\"\",\"\",(IF(N519=\"\",$E$11,($E$11*T519/U519))))","v":""},"",{"$f":"IF(G519=\"\",\"\",0.5*PI()-ATAN((-TAN(RADIANS(K519+M519+(90-$E$9)-$E$7)))+(1/(COS(RADIANS(K519+M519+(90-$E$9)-$E$7))))*((COS((RADIANS(90-$E$9+M519+BA519))))^0.5)*((SIN(RADIANS(K519+M519)))^0.5)*((COS(RADIANS(90-$E$9-$E$7)))^-0.5)*((SIN(RADIANS(K519-$E$7-BA519)))^-0.5)))+$E$7","v":{"$error":"#VALUE!"}},"","","","","","","","","",null,null,null,null,null,null,null,null,null,null,null,null,null,null,null,null,null,null,null,null,null,null,null,null,{"$f":"ATAN(Q519)/0.017453","v":{"$error":"#VALUE!"}},{"$f":"ATAN(Q519)/0.017453","v":{"$error":"#VALUE!"}},null,null,null,null,null,null,null,null,"","","","","","",""]
[null,null,null,null,null,null,null,null,null,null,null,null,null,null,"","","","",{"$error":"#VALUE!"},{"$f":"IF(G520=\"\",(\"\"),(IF(N520=\"\",(T519+(G520-G519)*H519),(T519+(G520-G519)*(I519)))))","v":""},{"$f":"IF(G520=\"\",(\"\"),(IF(N520=\"\",(U519+(G520-G519)*H519),(U519+(G520-G519)*(I519-9.81)))))","v":""},"","",{"$f":"IF(G520=\"\",(\"\"),((O520*U520-2*J520*(O520)^0.5))*COS(RADIANS(M520)))","v":""},"","","","",null,null,null,null,null,null,null,null,null,null,null,null,null,null,null,null,null,null,null,null,null,null,null,null,{"$error":"#VALUE!"},{"$error":"#VALUE!"},null,null,null,null,null,null,null,null,"","","","","","",""]
[null,null,null,null,null,null,null,null,null,null,null,null,null,null,"","","","",{"$error":"#VALUE!"},"","","","","","","","","",null,null,null,null,null,null,null,null,null,null,null,null,null,null,null,null,null,null,null,null,null,null,null,null,{"$error":"#VALUE!"},{"$error":"#VALUE!"},null,null,null,null,null,null,null,null,"","","","","","",""]
[null,null,null,null,null,null,null,null,null,null,null,null,null,null,"","","","",{"$error":"#VALUE!"},"","","","","","","","","",null,null,null,null,null,null,null,null,null,null,null,null,null,null,null,null,null,null,null,null,null,null,null,null,{"$error":"#VALUE!"},{"$error":"#VALUE!"},null,null,null,null,null,null,null,null,"","","","","","",""]
[null,null,null,null,null,null,null,null,null,null,null,null,null,null,"","","","",{"$error":"#VALUE!"},"","","","","","","","","",null,null,null,null,null,null,null,null,null,null,null,null,null,null,null,null,null,null,null,null,null,null,null,null,{"$error":"#VALUE!"},{"$error":"#VALUE!"},null,null,null,null,null,null,null,null,"","","","","","",""]
[null,null,null,null,null,null,null,null,null,null,null,null,null,null,"","","","",{"$error":"#VALUE!"},"","","","","","","","","",null,null,null,null,null,null,null,null,null,null,null,null,null,null,null,null,null,null,null,null,null,null,null,null,{"$error":"#VALUE!"},{"$error":"#VALUE!"},null,null,null,null,null,null,null,null,"","","","","","",""]
[null,null,null,null,null,null,null,null,null,null,null,null,null,null,"","","","",{"$error":"#VALUE!"},"","","","","","","","","",null,null,null,null,null,null,null,null,null,null,null,null,null,null,null,null,null,null,null,null,null,null,null,null,{"$error":"#VALUE!"},{"$error":"#VALUE!"},null,null,null,null,null,null,null,null,"","","","","","",""]
[null,null,null,null,null,null,null,null,null,null,null,null,null,null,"","","","",{"$error":"#VALUE!"},"","","","","","","","","",null,null,null,null,null,null,null,null,null,null,null,null,null,null,null,null,null,null,null,null,null,null,null,null,{"$error":"#VALUE!"},{"$error":"#VALUE!"},null,null,null,null,null,null,null,null,"","","","","","",""]
[null,null,null,null,null,null,null,null,null,null,null,null,null,null,"","","","",{"$error":"#VALUE!"},"","","","","","","","","",null,null,null,null,null,null,null,null,null,null,null,null,null,null,null,null,null,null,null,null,null,null,null,null,{"$error":"#VALUE!"},{"$error":"#VALUE!"},null,null,null,null,null,null,null,null,"","","","","","",""]
[null,null,null,null,null,null,null,null,null,null,null,null,null,null,"","","","",{"$error":"#VALUE!"},"","","","","","","","","",null,null,null,null,null,null,null,null,null,null,null,null,null,null,null,null,null,null,null,null,null,null,null,null,{"$error":"#VALUE!"},{"$error":"#VALUE!"},null,null,null,null,null,null,null,null,"","","","","","",""]
[null,null,null,null,null,null,null,null,null,null,null,null,null,null,"","","","",{"$error":"#VALUE!"},"","","","","","","","","",null,null,null,null,null,null,null,null,null,null,null,null,null,null,null,null,null,null,null,null,null,null,null,null,{"$error":"#VALUE!"},{"$error":"#VALUE!"},null,null,null,null,null,null,null,null,"","","","","","",""]
[null,null,null,null,null,null,null,null,null,null,null,null,null,null,"","","","",{"$error":"#VALUE!"},"","","","","","","","","",null,null,null,null,null,null,null,null,null,null,null,null,null,null,null,null,null,null,null,null,null,null,null,null,{"$error":"#VALUE!"},{"$error":"#VALUE!"},null,null,null,null,null,null,null,null,"","","","","","",""]
[null,null,null,null,null,null,null,null,null,null,null,null,null,null,"","","","",{"$error":"#VALUE!"},"","","","","","","","","",null,null,null,null,null,null,null,null,null,null,null,null,null,null,null,null,null,null,null,null,null,null,null,null,{"$error":"#VALUE!"},{"$error":"#VALUE!"},null,null,null,null,null,null,null,null,"","","","","","",""]
[null,null,null,null,null,null,null,null,null,null,null,null,null,null,"","","","",{"$error":"#VALUE!"},"","","","","","","","","",null,null,null,null,null,null,null,null,null,null,null,null,null,null,null,null,null,null,null,null,null,null,null,null,{"$error":"#VALUE!"},{"$error":"#VALUE!"},null,null,null,null,null,null,null,null,"","","","","","",""]
[null,null,null,null,null,null,null,null,null,null,null,null,null,null,"","","","",{"$error":"#VALUE!"},"","","","","","","","","",null,null,null,null,null,null,null,null,null,null,null,null,null,null,null,null,null,null,null,null,null,null,null,null,{"$error":"#VALUE!"},{"$error":"#VALUE!"},null,null,null,null,null,null,null,null,"","","","","","",""]
[null,null,null,null,null,null,null,null,null,null,null,null,null,null,"","","","",{"$error":"#VALUE!"},"","","","","","","","","",null,null,null,null,null,null,null,null,null,null,null,null,null,null,null,null,null,null,null,null,null,null,null,null,{"$error":"#VALUE!"},{"$error":"#VALUE!"},null,null,null,null,null,null,null,null,"","","","","","",""]
[null,null,null,null,null,null,null,null,null,null,null,null,null,null,"","","","",{"$error":"#VALUE!"},"","","","","","","","","",null,null,null,null,null,null,null,null,null,null,null,null,null,null,null,null,null,null,null,null,null,null,null,null,{"$error":"#VALUE!"},{"$error":"#VALUE!"},null,null,null,null,null,null,null,null,"","","","","","",""]
[null,null,null,null,null,null,null,null,null,null,null,null,null,null,"","","","",{"$error":"#VALUE!"},"","","","","","","","","",null,null,null,null,null,null,null,null,null,null,null,null,null,null,null,null,null,null,null,null,null,null,null,null,{"$error":"#VALUE!"},{"$error":"#VALUE!"},null,null,null,null,null,null,null,null,"","","","","","",""]
[null,null,null,null,null,null,null,null,null,null,null,null,null,null,"","","","",{"$error":"#VALUE!"},"","","","","","","","","",null,null,null,null,null,null,null,null,null,null,null,null,null,null,null,null,null,null,null,null,null,null,null,null,{"$error":"#VALUE!"},{"$error":"#VALUE!"},null,null,null,null,null,null,null,null,"","","","","","",""]
[null,null,null,null,null,null,null,null,null,null,null,null,null,null,"","","","",{"$error":"#VALUE!"},"","","","","","","","","",null,null,null,null,null,null,null,null,null,null,null,null,null,null,null,null,null,null,null,null,null,null,null,null,{"$error":"#VALUE!"},{"$error":"#VALUE!"},null,null,null,null,null,null,null,null,"","","","","","",""]
[null,null,null,null,null,null,null,null,null,null,null,null,null,null,"","","","",{"$error":"#VALUE!"},"","","","","","","","","",null,null,null,null,null,null,null,null,null,null,null,null,null,null,null,null,null,null,null,null,null,null,null,null,{"$error":"#VALUE!"},{"$error":"#VALUE!"},null,null,null,null,null,null,null,null,"","","","","","",""]
[null,null,null,null,null,null,null,null,null,null,null,null,null,null,"","","","",{"$error":"#VALUE!"},"","","","","","","","","",null,null,null,null,null,null,null,null,null,null,null,null,null,null,null,null,null,null,null,null,null,null,null,null,{"$error":"#VALUE!"},{"$error":"#VALUE!"},null,null,null,null,null,null,null,null,"","","","","","",""]
[null,null,null,null,null,null,null,null,null,null,null,null,null,null,"","","","",{"$error":"#VALUE!"},"","","","","","","","","",null,null,null,null,null,null,null,null,null,null,null,null,null,null,null,null,null,null,null,null,null,null,null,null,{"$error":"#VALUE!"},{"$error":"#VALUE!"},null,null,null,null,null,null,null,null,"","","","","","",""]
[null,null,null,null,null,null,null,null,null,null,null,null,null,null,"","","","",{"$error":"#VALUE!"},"","","","","","","","","",null,null,null,null,null,null,null,null,null,null,null,null,null,null,null,null,null,null,null,null,null,null,null,null,{"$error":"#VALUE!"},{"$error":"#VALUE!"},null,null,null,null,null,null,null,null,"","","","","","",""]
[null,null,null,null,null,null,null,null,null,null,null,null,null,null,"","","","",{"$error":"#VALUE!"},"","","","","","","","","",null,null,null,null,null,null,null,null,null,null,null,null,null,null,null,null,null,null,null,null,null,null,null,null,{"$error":"#VALUE!"},{"$error":"#VALUE!"},null,null,null,null,null,null,null,null,"","","","","","",""]
[null,null,null,null,null,null,null,null,null,null,null,null,null,null,"","","","",{"$error":"#VALUE!"},"","","","","","","","","",null,null,null,null,null,null,null,null,null,null,null,null,null,null,null,null,null,null,null,null,null,null,null,null,{"$error":"#VALUE!"},{"$error":"#VALUE!"},null,null,null,null,null,null,null,null,"","","","","","",""]
[null,null,null,null,null,null,null,null,null,null,null,null,null,null,"","","","",{"$error":"#VALUE!"},"","","","","","","","","",null,null,null,null,null,null,null,null,null,null,null,null,null,null,null,null,null,null,null,null,null,null,null,null,{"$error":"#VALUE!"},{"$error":"#VALUE!"},null,null,null,null,null,null,null,null,"","","","","","",""]
[null,null,null,null,null,null,null,null,null,null,null,null,null,null,"","","","",{"$error":"#VALUE!"},"","","","","","","","","",null,null,null,null,null,null,null,null,null,null,null,null,null,null,null,null,null,null,null,null,null,null,null,null,{"$error":"#VALUE!"},{"$error":"#VALUE!"},null,null,null,null,null,null,null,null,"","","","","","",""]
[null,null,null,null,null,null,null,null,null,null,null,null,null,null,"","","","",{"$error":"#VALUE!"},"","","","","","","","","",null,null,null,null,null,null,null,null,null,null,null,null,null,null,null,null,null,null,null,null,null,null,null,null,{"$error":"#VALUE!"},{"$error":"#VALUE!"},null,null,null,null,null,null,null,null,"","","","","","",""]
[null,null,null,null,null,null,null,null,null,null,null,null,null,null,"","","","",{"$error":"#VALUE!"},"","","","","","","","","",null,null,null,null,null,null,null,null,null,null,null,null,null,null,null,null,null,null,null,null,null,null,null,null,{"$error":"#VALUE!"},{"$error":"#VALUE!"},null,null,null,null,null,null,null,null,"","","","","","",""]
[null,null,null,null,null,null,null,null,null,null,null,null,null,null,"","","","",{"$error":"#VALUE!"},"","","","","","","","","",null,null,null,null,null,null,null,null,null,null,null,null,null,null,null,null,null,null,null,null,null,null,null,null,{"$error":"#VALUE!"},{"$error":"#VALUE!"},null,null,null,null,null,null,null,null,"","","","","","",""]
[null,null,null,null,null,null,null,null,null,null,null,null,null,null,"","","","",{"$error":"#VALUE!"},"","","","","","","","","",null,null,null,null,null,null,null,null,null,null,null,null,null,null,null,null,null,null,null,null,null,null,null,null,{"$error":"#VALUE!"},{"$error":"#VALUE!"},null,null,null,null,null,null,null,null,"","","","","","",""]
[null,null,null,null,null,null,null,null,null,null,null,null,null,null,"","","","",{"$error":"#VALUE!"},"","","","","","","","","",null,null,null,null,null,null,null,null,null,null,null,null,null,null,null,null,null,null,null,null,null,null,null,null,{"$error":"#VALUE!"},{"$error":"#VALUE!"},null,null,null,null,null,null,null,null,"","","","","","",""]
[null,null,null,null,null,null,null,null,null,null,null,null,null,null,"","","","",{"$error":"#VALUE!"},"","","","","","","","","",null,null,null,null,null,null,null,null,null,null,null,null,null,null,null,null,null,null,null,null,null,null,null,null,{"$error":"#VALUE!"},{"$error":"#VALUE!"},null,null,null,null,null,null,null,null,"","","","","","",""]
[null,null,null,null,null,null,null,null,null,null,null,null,null,null,"","","","",{"$error":"#VALUE!"},"","","","","","","","","",null,null,null,null,null,null,null,null,null,null,null,null,null,null,null,null,null,null,null,null,null,null,null,null,{"$error":"#VALUE!"},{"$error":"#VALUE!"},null,null,null,null,null,null,null,null,"","","","","","",""]
[null,null,null,null,null,null,null,null,null,null,null,null,null,null,"","","","",{"$error":"#VALUE!"},"","","","","","","","","",null,null,null,null,null,null,null,null,null,null,null,null,null,null,null,null,null,null,null,null,null,null,null,null,{"$error":"#VALUE!"},{"$error":"#VALUE!"},null,null,null,null,null,null,null,null,"","","","","","",""]
[null,null,null,null,null,null,null,null,null,null,null,null,null,null,"","","","",{"$error":"#VALUE!"},"","","","","","","","","",null,null,null,null,null,null,null,null,null,null,null,null,null,null,null,null,null,null,null,null,null,null,null,null,{"$error":"#VALUE!"},{"$error":"#VALUE!"},null,null,null,null,null,null,null,null,"","","","","","",""]
[null,null,null,null,null,null,null,null,null,null,null,null,null,null,"","","","",{"$error":"#VALUE!"},"","","","","","","","","",null,null,null,null,null,null,null,null,null,null,null,null,null,null,null,null,null,null,null,null,null,null,null,null,{"$error":"#VALUE!"},{"$error":"#VALUE!"},null,null,null,null,null,null,null,null,"","","","","","",""]
[null,null,null,null,null,null,null,null,null,null,null,null,null,null,"","","","",{"$error":"#VALUE!"},"","","","","","","","","",null,null,null,null,null,null,null,null,null,null,null,null,null,null,null,null,null,null,null,null,null,null,null,null,{"$error":"#VALUE!"},{"$error":"#VALUE!"},null,null,null,null,null,null,null,null,"","","","","","",""]
[null,null,null,null,null,null,null,null,null,null,null,null,null,null,"","","","",{"$error":"#VALUE!"},"","","","","","","","","",null,null,null,null,null,null,null,null,null,null,null,null,null,null,null,null,null,null,null,null,null,null,null,null,{"$error":"#VALUE!"},{"$error":"#VALUE!"},null,null,null,null,null,null,null,null,"","","","","","",""]
[null,null,null,null,null,null,null,null,null,null,null,null,null,null,"","","","",{"$error":"#VALUE!"},"","","","","","","","","",null,null,null,null,null,null,null,null,null,null,null,null,null,null,null,null,null,null,null,null,null,null,null,null,{"$error":"#VALUE!"},{"$error":"#VALUE!"},null,null,null,null,null,null,null,null,"","","","","","",""]
[null,null,null,null,null,null,null,null,null,null,null,null,null,null,"","","","",{"$error":"#VALUE!"},"","","","","","","","","",null,null,null,null,null,null,null,null,null,null,null,null,null,null,null,null,null,null,null,null,null,null,null,null,{"$error":"#VALUE!"},{"$error":"#VALUE!"},null,null,null,null,null,null,null,null,"","","","","","",""]
[null,null,null,null,null,null,null,null,null,null,null,null,null,null,"","","","",{"$error":"#VALUE!"},"","","","","","","","","",null,null,null,null,null,null,null,null,null,null,null,null,null,null,null,null,null,null,null,null,null,null,null,null,{"$error":"#VALUE!"},{"$error":"#VALUE!"},null,null,null,null,null,null,null,null,"","","","","","",""]
[null,null,null,null,null,null,null,null,null,null,null,null,null,null,"","","","",{"$error":"#VALUE!"},"","","","","","","","","",null,null,null,null,null,null,null,null,null,null,null,null,null,null,null,null,null,null,null,null,null,null,null,null,{"$error":"#VALUE!"},{"$error":"#VALUE!"},null,null,null,null,null,null,null,null,"","","","","","",""]
[null,null,null,null,null,null,null,null,null,null,null,null,null,null,"","","","",{"$error":"#VALUE!"},"","","","","","","","","",null,null,null,null,null,null,null,null,null,null,null,null,null,null,null,null,null,null,null,null,null,null,null,null,{"$error":"#VALUE!"},{"$error":"#VALUE!"},null,null,null,null,null,null,null,null,"","","","","","",""]
[null,null,null,null,null,null,null,null,null,null,null,null,null,null,"","","","",{"$error":"#VALUE!"},"","","","","","","","","",null,null,null,null,null,null,null,null,null,null,null,null,null,null,null,null,null,null,null,null,null,null,null,null,{"$error":"#VALUE!"},{"$error":"#VALUE!"},null,null,null,null,null,null,null,null,"","","","","","",""]
[null,null,null,null,null,null,null,null,null,null,null,null,null,null,"","","","",{"$error":"#VALUE!"},"","","","","","","","","",null,null,null,null,null,null,null,null,null,null,null,null,null,null,null,null,null,null,null,null,null,null,null,null,{"$error":"#VALUE!"},{"$error":"#VALUE!"},null,null,null,null,null,null,null,null,"","","","","","",""]
[null,null,null,null,null,null,null,null,null,null,null,null,null,null,"","","","",{"$error":"#VALUE!"},"","","","","","","","","",null,null,null,null,null,null,null,null,null,null,null,null,null,null,null,null,null,null,null,null,null,null,null,null,{"$error":"#VALUE!"},{"$error":"#VALUE!"},null,null,null,null,null,null,null,null,"","","","","","",""]
[null,null,null,null,null,null,null,null,null,null,null,null,null,null,"","","","",{"$error":"#VALUE!"},"","","","","","","","","",null,null,null,null,null,null,null,null,null,null,null,null,null,null,null,null,null,null,null,null,null,null,null,null,{"$error":"#VALUE!"},{"$error":"#VALUE!"},null,null,null,null,null,null,null,null,"","","","","","",""]
[null,null,null,null,null,null,null,null,null,null,null,null,null,null,"","","","",{"$error":"#VALUE!"},"","","","","","","","","",null,null,null,null,null,null,null,null,null,null,null,null,null,null,null,null,null,null,null,null,null,null,null,null,{"$error":"#VALUE!"},{"$error":"#VALUE!"},null,null,null,null,null,null,null,null,"","","","","","",""]
[null,null,null,null,null,null,null,null,null,null,null,null,null,null,"","","","",{"$error":"#VALUE!"},"","","","","","","","","",null,null,null,null,null,null,null,null,null,null,null,null,null,null,null,null,null,null,null,null,null,null,null,null,{"$error":"#VALUE!"},{"$error":"#VALUE!"},null,null,null,null,null,null,null,null,"","","","","","",""]
[null,null,null,null,null,null,null,null,null,null,null,null,null,null,"","","","",{"$error":"#VALUE!"},"","","","","","","","","",null,null,null,null,null,null,null,null,null,null,null,null,null,null,null,null,null,null,null,null,null,null,null,null,{"$error":"#VALUE!"},{"$error":"#VALUE!"},null,null,null,null,null,null,null,null,"","","","","","",""]
[null,null,null,null,null,null,null,null,null,null,null,null,null,null,"","","","",{"$error":"#VALUE!"},"","","","","","","","","",null,null,null,null,null,null,null,null,null,null,null,null,null,null,null,null,null,null,null,null,null,null,null,null,{"$error":"#VALUE!"},{"$error":"#VALUE!"},null,null,null,null,null,null,null,null,"","","","","","",""]
[null,null,null,null,null,null,null,null,null,null,null,null,null,null,"","","","",{"$error":"#VALUE!"},"","","","","","","","","",null,null,null,null,null,null,null,null,null,null,null,null,null,null,null,null,null,null,null,null,null,null,null,null,{"$error":"#VALUE!"},{"$error":"#VALUE!"},null,null,null,null,null,null,null,null,"","","","","","",""]
[null,null,null,null,null,null,null,null,null,null,null,null,null,null,"","","","",{"$error":"#VALUE!"},"","","","","","","","","",null,null,null,null,null,null,null,null,null,null,null,null,null,null,null,null,null,null,null,null,null,null,null,null,{"$error":"#VALUE!"},{"$error":"#VALUE!"},null,null,null,null,null,null,null,null,"","","","","","",""]
[null,null,null,null,null,null,null,null,null,null,null,null,null,null,"","","","",{"$error":"#VALUE!"},"","","","","","","","","",null,null,null,null,null,null,null,null,null,null,null,null,null,null,null,null,null,null,null,null,null,null,null,null,{"$error":"#VALUE!"},{"$error":"#VALUE!"},null,null,null,null,null,null,null,null,"","","","","","",""]
[null,null,null,null,null,null,null,null,null,null,null,null,null,null,"","","","",{"$error":"#VALUE!"},"","","","","","","","","",null,null,null,null,null,null,null,null,null,null,null,null,null,null,null,null,null,null,null,null,null,null,null,null,{"$error":"#VALUE!"},{"$error":"#VALUE!"},null,null,null,null,null,null,null,null,"","","","","","",""]
[null,null,null,null,null,null,null,null,null,null,null,null,null,null,"","","","",{"$error":"#VALUE!"},"","","","","","","","","",null,null,null,null,null,null,null,null,null,null,null,null,null,null,null,null,null,null,null,null,null,null,null,null,{"$error":"#VALUE!"},{"$error":"#VALUE!"},null,null,null,null,null,null,null,null,"","","","","","",""]
[null,null,null,null,null,null,null,null,null,null,null,null,null,null,"","","","",{"$error":"#VALUE!"},"","","","","","","","","",null,null,null,null,null,null,null,null,null,null,null,null,null,null,null,null,null,null,null,null,null,null,null,null,{"$error":"#VALUE!"},{"$error":"#VALUE!"},null,null,null,null,null,null,null,null,"","","","","","",""]
[null,null,null,null,null,null,null,null,null,null,null,null,null,null,"","","","",{"$error":"#VALUE!"},"","","","","","","","","",null,null,null,null,null,null,null,null,null,null,null,null,null,null,null,null,null,null,null,null,null,null,null,null,{"$error":"#VALUE!"},{"$error":"#VALUE!"},null,null,null,null,null,null,null,null,"","","","","","",""]
[null,null,null,null,null,null,null,null,null,null,null,null,null,null,"","","","",{"$error":"#VALUE!"},"","","","","","","","","",null,null,null,null,null,null,null,null,null,null,null,null,null,null,null,null,null,null,null,null,null,null,null,null,{"$error":"#VALUE!"},{"$error":"#VALUE!"},null,null,null,null,null,null,null,null,"","","","","","",""]
[null,null,null,null,null,null,null,null,null,null,null,null,null,null,"","","","",{"$error":"#VALUE!"},"","","",{"$f":"IF(G580<h,(\"\"),(IF(G580<h+dzd,(0),(IF(N580=\"\",(W579+H580*(G580-G579)),(W579+(I580-9.81)*(G580-G579)))))))","v":""},"","",{"$f":"IF(Y580=\"\",X580,X580+Y580)","v":""},{"$f":"IF(N580=\"\",(\"\"),IF(G580>h,AA579,((G580-nz)*9.81)))","v":""},"",null,null,null,null,null,null,null,null,null,null,null,null,null,null,null,null,null,null,null,null,null,null,null,null,{"$error":"#VALUE!"},{"$error":"#VALUE!"},null,null,null,null,null,null,null,null,"","","","","","",""]
[null,null,null,null,null,null,null,null,null,null,null,null,null,null,"","","","",{"$error":"#VALUE!"},"","","","","","","","","",null,null,null,null,null,null,null,null,null,null,null,null,null,null,null,null,null,null,null,null,null,null,null,null,{"$error":"#VALUE!"},{"$error":"#VALUE!"},null,null,null,null,null,null,null,null,"","","","","","",""]
[null,null,null,null,null,null,null,null,null,null,null,null,null,null,"","","",{"$f":"IF(L582=\"\",\"\",(IF(G582=\"\",\"\",IF(G582=h,(R583),(IF(N582=\"\",$E$11,($E$11*V582/W582)))))))","v":""},{"$error":"#VALUE!"},"","",{"$f":"IF(G582<h,(\"\"),(IF(G582<h+dzd,(0),(IF(N582=\"\",(V581+H582*(G582-G581)),(V581+(I582)*(G582-G581)))))))","v":""},"","",{"$f":"IF(G582<h,(\"\"),((-P582*W582-2*J582*(P582^0.5))*COS(RADIANS(M582))))","v":""},"","",{"$f":"IF(G582=\"\",\"\",IF(G582>hd,0,IF($A$27=1,BK582,IF($A$27=2,BL582,IF($A$27=3,BM582,IF($A$27=4,BN582+ka*($E$4+$E$5),IF($A$27=5,BP582,IF($A$27=6,BO582,BQ582))))))))","v":""},null,null,null,null,null,null,null,null,null,null,null,null,null,null,null,null,null,null,null,null,null,null,null,null,{"$error":"#VALUE!"},{"$error":"#VALUE!"},null,null,null,null,null,null,null,null,{"$f":"IF(G582=\"\",\"\",IF(G582>hd,0,(IF(G582<0.2*(hd),(1.6*($AH$20+$AH$21)/(hd)/0.2/(hd)*G582),(IF(G582<0.8*(hd),(1.6*($AH$20+$AH$21)/(hd)),(1.6*($AH$20+$AH$21)/(hd)-1.6*($AH$20+$AH$21)/(hd)/0.2/(hd)*(G582-0.8*(hd)))))))))","v":""},{"$f":"IF(G582=\"\",\"\",IF(G582>hd,0,(IF(G582<((2/3)*$AH$6),(1.3*($AH$20+$AH$21)/(hd-(1/3)*($AH$6+(hd-MAX($AP$6:$AP$15))))*G582/(2/3*$AH$6)),(IF(G582<(h-2/3*(hd-MAX($AP$6:$AP$15))),1.3*($AH$20+$AH$21)/(hd-1/3*($AH$6+(hd-MAX($AP$6:$AP$15)))),1.3*($AH$20+$AH$21)/(hd-1/3*($AH$6+(hd-MAX($AP$6:$AP$15))))*(1-(G582-(hd-2/3*(hd-MAX($AP$6:$AP$15))))/(2/3*(hd-MAX($AP$6:$AP$15))))))))))","v":""},{"$f":"IF(G582=\"\",\"\",IF(G582>hd,0,(IF(G582<(0.6667*$AH$6),(0.3*g*hd*G582/(0.6667*$AH$6)),(IF(G582<(hd-0.6667*(hd-MAX($AP$6:$AP$15))),0.3*g*hd,0.3*g*hd*(1-(G582-(hd-0.6667*(hd-MAX($AP$6:$AP$15))))/(0.6667*(hd-MAX($AP$6:$AP$15))))))))))","v":""},{"$f":"IF(G582=\"\",\"\",IF(G582>hd,0,(IF(G582<((2/3)*$AH$6),(0.65*ka*g*hd*hd/(hd-(1/3)*($AH$6+(hd-MAX($AP$6:$AP$15))))*G582/(2/3*$AH$6)),(IF(G582<(h-2/3*(hd-MAX($AP$6:$AP$15))),0.65*ka*g*hd*hd/(hd-1/3*($AH$6+(hd-MAX($AP$6:$AP$15)))),0.65*ka*g*hd*hd/(hd-1/3*($AH$6+(hd-MAX($AP$6:$AP$15))))*(1-(G582-(hd-2/3*(hd-MAX($AP$6:$AP$15))))/(2/3*(hd-MAX($AP$6:$AP$15))))))))))","v":""},{"$f":"IF(G582=\"\",\"\",IF(G582>hd,0,(IF(G582<(0.25*hd),(0.3*g*h*G582/(0.25*hd)),(IF(G582<(0.75*hd),0.3*g*h,0.3*g*h*(1-(G582-0.75*hd)/0.25/hd)))))))","v":""},{"$f":"IF(G582>hd,0,IF(G582=\"\",\"\",0.65*ka*g*hd))","v":""},{"$f":"IF(G582=\"\",\"\",IF(G582>hd,0,(IF(G582<(0.25*hd),(1-4*ca/g/hd)*g*hd*G582/(0.25*hd),((1-4*ca/g/hd)*g*hd)))))","v":""}]
[null,null,null,null,null,null,null,null,null,null,null,null,null,null,{"$f":"IF(G583=\"\",(\"\"),((SIN(RADIANS($E$9+BA583-K583)))^2)*((SIN(RADIANS($E$9)))^-2)*((COS(RADIANS(BA583)))^-1)*((SIN((RADIANS($E$9+BA583+M583))))^-1)/(1+((SIN(RADIANS(K583+M583)))*(SIN((RADIANS(K583-$E$7-BA583))/(SIN(RADIANS($E$9-$E$7)))/(SIN((RADIANS($E$9+BA583+M583)))))))^0.5)^2)","v":""},{"$f":"IF(L583=\"\",(\"\"),((SIN(RADIANS($E$9-BB583+L583)))^2)*((SIN(RADIANS($E$9)))^-2)*((COS(RADIANS(BB583)))^-1)*((SIN((RADIANS($E$9-BB583-M583))))^-1)/(1-((SIN(RADIANS(L583+M583)))*(SIN((RADIANS(L583+$E$7-BB583))/(SIN(RADIANS($E$9-$E$7)))/(SIN((RADIANS($E$9-BB583-M583)))))))^0.5)^2)","v":""},{"$f":"IF(G583=\"\",\"\",(IF(N583=\"\",$E$11,($E$11*T583/U583))))","v":""},"",{"$f":"IF(G583=\"\",\"\",0.5*PI()-ATAN((-TAN(RADIANS(K583+M583+(90-$E$9)-$E$7)))+(1/(COS(RADIANS(K583+M583+(90-$E$9)-$E$7))))*((COS((RADIANS(90-$E$9+M583+BA583))))^0.5)*((SIN(RADIANS(K583+M583)))^0.5)*((COS(RADIANS(90-$E$9-$E$7)))^-0.5)*((SIN(RADIANS(K583-$E$7-BA583)))^-0.5)))+$E$7","v":{"$error":"#VALUE!"}},"","","","","","","","","",null,null,null,null,null,null,null,null,null,null,null,null,null,null,null,null,null,null,null,null,null,null,null,null,{"$f":"ATAN(Q583)/0.017453","v":{"$error":"#VALUE!"}},{"$f":"ATAN(Q583)/0.017453","v":{"$error":"#VALUE!"}},null,null,null,null,null,null,null,null,"","","","","","",""]
[null,null,null,null,null,null,null,null,null,null,null,null,null,null,"","","","",{"$error":"#VALUE!"},{"$f":"IF(G584=\"\",(\"\"),(IF(N584=\"\",(T583+(G584-G583)*H583),(T583+(G584-G583)*(I583)))))","v":""},{"$f":"IF(G584=\"\",(\"\"),(IF(N584=\"\",(U583+(G584-G583)*H583),(U583+(G584-G583)*(I583-9.81)))))","v":""},"","",{"$f":"IF(G584=\"\",(\"\"),((O584*U584-2*J584*(O584)^0.5))*COS(RADIANS(M584)))","v":""},"","","","",null,null,null,null,null,null,null,null,null,null,null,null,null,null,null,null,null,null,null,null,null,null,null,null,{"$error":"#VALUE!"},{"$error":"#VALUE!"},null,null,null,null,null,null,null,null,"","","","","","",""]
[null,null,null,null,null,null,null,null,null,null,null,null,null,null,"","","","",{"$error":"#VALUE!"},"","","","","","","","","",null,null,null,null,null,null,null,null,null,null,null,null,null,null,null,null,null,null,null,null,null,null,null,null,{"$error":"#VALUE!"},{"$error":"#VALUE!"},null,null,null,null,null,null,null,null,"","","","","","",""]
[null,null,null,null,null,null,null,null,null,null,null,null,null,null,"","","","",{"$error":"#VALUE!"},"","","","","","","","","",null,null,null,null,null,null,null,null,null,null,null,null,null,null,null,null,null,null,null,null,null,null,null,null,{"$error":"#VALUE!"},{"$error":"#VALUE!"},null,null,null,null,null,null,null,null,"","","","","","",""]
[null,null,null,null,null,null,null,null,null,null,null,null,null,null,"","","","",{"$error":"#VALUE!"},"","","","","","","","","",null,null,null,null,null,null,null,null,null,null,null,null,null,null,null,null,null,null,null,null,null,null,null,null,{"$error":"#VALUE!"},{"$error":"#VALUE!"},null,null,null,null,null,null,null,null,"","","","","","",""]
[null,null,null,null,null,null,null,null,null,null,null,null,null,null,"","","","",{"$error":"#VALUE!"},"","","","","","","","","",null,null,null,null,null,null,null,null,null,null,null,null,null,null,null,null,null,null,null,null,null,null,null,null,{"$error":"#VALUE!"},{"$error":"#VALUE!"},null,null,null,null,null,null,null,null,"","","","","","",""]
[null,null,null,null,null,null,null,null,null,null,null,null,null,null,"","","","",{"$error":"#VALUE!"},"","","","","","","","","",null,null,null,null,null,null,null,null,null,null,null,null,null,null,null,null,null,null,null,null,null,null,null,null,{"$error":"#VALUE!"},{"$error":"#VALUE!"},null,null,null,null,null,null,null,null,"","","","","","",""]
[null,null,null,null,null,null,null,null,null,null,null,null,null,null,"","","","",{"$error":"#VALUE!"},"","","","","","","","","",null,null,null,null,null,null,null,null,null,null,null,null,null,null,null,null,null,null,null,null,null,null,null,null,{"$error":"#VALUE!"},{"$error":"#VALUE!"},null,null,null,null,null,null,null,null,"","","","","","",""]
[null,null,null,null,null,null,null,null,null,null,null,null,null,null,"","","","",{"$error":"#VALUE!"},"","","","","","","","","",null,null,null,null,null,null,null,null,null,null,null,null,null,null,null,null,null,null,null,null,null,null,null,null,{"$error":"#VALUE!"},{"$error":"#VALUE!"},null,null,null,null,null,null,null,null,"","","","","","",""]
[null,null,null,null,null,null,null,null,null,null,null,null,null,null,"","","","",{"$error":"#VALUE!"},"","","","","","","","","",null,null,null,null,null,null,null,null,null,null,null,null,null,null,null,null,null,null,null,null,null,null,null,null,{"$error":"#VALUE!"},{"$error":"#VALUE!"},null,null,null,null,null,null,null,null,"","","","","","",""]
[null,null,null,null,null,null,null,null,null,null,null,null,null,null,"","","","",{"$error":"#VALUE!"},"","","","","","","","","",null,null,null,null,null,null,null,null,null,null,null,null,null,null,null,null,null,null,null,null,null,null,null,null,{"$error":"#VALUE!"},{"$error":"#VALUE!"},null,null,null,null,null,null,null,null,"","","","","","",""]
[null,null,null,null,null,null,null,null,null,null,null,null,null,null,"","","","",{"$error":"#VALUE!"},"","","","","","","","","",null,null,null,null,null,null,null,null,null,null,null,null,null,null,null,null,null,null,null,null,null,null,null,null,{"$error":"#VALUE!"},{"$error":"#VALUE!"},null,null,null,null,null,null,null,null,"","","","","","",""]
[null,null,null,null,null,null,null,null,null,null,null,null,null,null,"","","","",{"$error":"#VALUE!"},"","","","","","","","","",null,null,null,null,null,null,null,null,null,null,null,null,null,null,null,null,null,null,null,null,null,null,null,null,{"$error":"#VALUE!"},{"$error":"#VALUE!"},null,null,null,null,null,null,null,null,"","","","","","",""]
[null,null,null,null,null,null,null,null,null,null,null,null,null,null,"","","","",{"$error":"#VALUE!"},"","","","","","","","","",null,null,null,null,null,null,null,null,null,null,null,null,null,null,null,null,null,null,null,null,null,null,null,null,{"$error":"#VALUE!"},{"$error":"#VALUE!"},null,null,null,null,null,null,null,null,"","","","","","",""]
[null,null,null,null,null,null,null,null,null,null,null,null,null,null,"","","","",{"$error":"#VALUE!"},"","","","","","","","","",null,null,null,null,null,null,null,null,null,null,null,null,null,null,null,null,null,null,null,null,null,null,null,null,{"$error":"#VALUE!"},{"$error":"#VALUE!"},null,null,null,null,null,null,null,null,"","","","","","",""]
[null,null,null,null,null,null,null,null,null,null,null,null,null,null,"","","","",{"$error":"#VALUE!"},"","","","","","","","","",null,null,null,null,null,null,null,null,null,null,null,null,null,null,null,null,null,null,null,null,null,null,null,null,{"$error":"#VALUE!"},{"$error":"#VALUE!"},null,null,null,null,null,null,null,null,"","","","","","",""]
[null,null,null,null,null,null,null,null,null,null,null,null,null,null,"","","","",{"$error":"#VALUE!"},"","","","","","","","","",null,null,null,null,null,null,null,null,null,null,null,null,null,null,null,null,null,null,null,null,null,null,null,null,{"$error":"#VALUE!"},{"$error":"#VALUE!"},null,null,null,null,null,null,null,null,"","","","","","",""]
[null,null,null,null,null,null,null,null,null,null,null,null,null,null,"","","","",{"$error":"#VALUE!"},"","","","","","","","","",null,null,null,null,null,null,null,null,null,null,null,null,null,null,null,null,null,null,null,null,null,null,null,null,{"$error":"#VALUE!"},{"$error":"#VALUE!"},null,null,null,null,null,null,null,null,"","","","","","",""]
[null,null,null,null,null,null,null,null,null,null,null,null,null,null,"","","","",{"$error":"#VALUE!"},"","","","","","","","","",null,null,null,null,null,null,null,null,null,null,null,null,null,null,null,null,null,null,null,null,null,null,null,null,{"$error":"#VALUE!"},{"$error":"#VALUE!"},null,null,null,null,null,null,null,null,"","","","","","",""]
[null,null,null,null,null,null,null,null,null,null,null,null,null,null,"","","","",{"$error":"#VALUE!"},"","","","","","","","","",null,null,null,null,null,null,null,null,null,null,null,null,null,null,null,null,null,null,null,null,null,null,null,null,{"$error":"#VALUE!"},{"$error":"#VALUE!"},null,null,null,null,null,null,null,null,"","","","","","",""]
[null,null,null,null,null,null,null,null,null,null,null,null,null,null,"","","","",{"$error":"#VALUE!"},"","","","","","","","","",null,null,null,null,null,null,null,null,null,null,null,null,null,null,null,null,null,null,null,null,null,null,null,null,{"$error":"#VALUE!"},{"$error":"#VALUE!"},null,null,null,null,null,null,null,null,"","","","","","",""]
[null,null,null,null,null,null,null,null,null,null,null,null,null,null,"","","","",{"$error":"#VALUE!"},"","","","","","","","","",null,null,null,null,null,null,null,null,null,null,null,null,null,null,null,null,null,null,null,null,null,null,null,null,{"$error":"#VALUE!"},{"$error":"#VALUE!"},null,null,null,null,null,null,null,null,"","","","","","",""]
[null,null,null,null,null,null,null,null,null,null,null,null,null,null,"","","","",{"$error":"#VALUE!"},"","","","","","","","","",null,null,null,null,null,null,null,null,null,null,null,null,null,null,null,null,null,null,null,null,null,null,null,null,{"$error":"#VALUE!"},{"$error":"#VALUE!"},null,null,null,null,null,null,null,null,"","","","","","",""]
[null,null,null,null,null,null,null,null,null,null,null,null,null,null,"","","","",{"$error":"#VALUE!"},"","","","","","","","","",null,null,null,null,null,null,null,null,null,null,null,null,null,null,null,null,null,null,null,null,null,null,null,null,{"$error":"#VALUE!"},{"$error":"#VALUE!"},null,null,null,null,null,null,null,null,"","","","","","",""]
[null,null,null,null,null,null,null,null,null,null,null,null,null,null,"","","","",{"$error":"#VALUE!"},"","","","","","","","","",null,null,null,null,null,null,null,null,null,null,null,null,null,null,null,null,null,null,null,null,null,null,null,null,{"$error":"#VALUE!"},{"$error":"#VALUE!"},null,null,null,null,null,null,null,null,"","","","","","",""]
[null,null,null,null,null,null,null,null,null,null,null,null,null,null,"","","","",{"$error":"#VALUE!"},"","","","","","","","","",null,null,null,null,null,null,null,null,null,null,null,null,null,null,null,null,null,null,null,null,null,null,null,null,{"$error":"#VALUE!"},{"$error":"#VALUE!"},null,null,null,null,null,null,null,null,"","","","","","",""]
[null,null,null,null,null,null,null,null,null,null,null,null,null,null,"","","","",{"$error":"#VALUE!"},"","","","","","","","","",null,null,null,null,null,null,null,null,null,null,null,null,null,null,null,null,null,null,null,null,null,null,null,null,{"$error":"#VALUE!"},{"$error":"#VALUE!"},null,null,null,null,null,null,null,null,"","","","","","",""]
[null,null,null,null,null,null,null,null,null,null,null,null,null,null,"","","","",{"$error":"#VALUE!"},"","","","","","","","","",null,null,null,null,null,null,null,null,null,null,null,null,null,null,null,null,null,null,null,null,null,null,null,null,{"$error":"#VALUE!"},{"$error":"#VALUE!"},null,null,null,null,null,null,null,null,"","","","","","",""]
[null,null,null,null,null,null,null,null,null,null,null,null,null,null,"","","","",{"$error":"#VALUE!"},"","","","","","","","","",null,null,null,null,null,null,null,null,null,null,null,null,null,null,null,null,null,null,null,null,null,null,null,null,{"$error":"#VALUE!"},{"$error":"#VALUE!"},null,null,null,null,null,null,null,null,"","","","","","",""]
[null,null,null,null,null,null,null,null,null,null,null,null,null,null,"","","","",{"$error":"#VALUE!"},"","","","","","","","","",null,null,null,null,null,null,null,null,null,null,null,null,null,null,null,null,null,null,null,null,null,null,null,null,{"$error":"#VALUE!"},{"$error":"#VALUE!"},null,null,null,null,null,null,null,null,"","","","","","",""]
[null,null,null,null,null,null,null,null,null,null,null,null,null,null,"","","","",{"$error":"#VALUE!"},"","","","","","","","","",null,null,null,null,null,null,null,null,null,null,null,null,null,null,null,null,null,null,null,null,null,null,null,null,{"$error":"#VALUE!"},{"$error":"#VALUE!"},null,null,null,null,null,null,null,null,"","","","","","",""]
[null,null,null,null,null,null,null,null,null,null,null,null,null,null,"","","","",{"$error":"#VALUE!"},"","","","","","","","","",null,null,null,null,null,null,null,null,null,null,null,null,null,null,null,null,null,null,null,null,null,null,null,null,{"$error":"#VALUE!"},{"$error":"#VALUE!"},null,null,null,null,null,null,null,null,"","","","","","",""]
[null,null,null,null,null,null,null,null,null,null,null,null,null,null,"","","","",{"$error":"#VALUE!"},"","","","","","","","","",null,null,null,null,null,null,null,null,null,null,null,null,null,null,null,null,null,null,null,null,null,null,null,null,{"$error":"#VALUE!"},{"$error":"#VALUE!"},null,null,null,null,null,null,null,null,"","","","","","",""]
[null,null,null,null,null,null,null,null,null,null,null,null,null,null,"","","","",{"$error":"#VALUE!"},"","","","","","","","","",null,null,null,null,null,null,null,null,null,null,null,null,null,null,null,null,null,null,null,null,null,null,null,null,{"$error":"#VALUE!"},{"$error":"#VALUE!"},null,null,null,null,null,null,null,null,"","","","","","",""]
[null,null,null,null,null,null,null,null,null,null,null,null,null,null,"","","","",{"$error":"#VALUE!"},"","","","","","","","","",null,null,null,null,null,null,null,null,null,null,null,null,null,null,null,null,null,null,null,null,null,null,null,null,{"$error":"#VALUE!"},{"$error":"#VALUE!"},null,null,null,null,null,null,null,null,"","","","","","",""]
[null,null,null,null,null,null,null,null,null,null,null,null,null,null,"","","","",{"$error":"#VALUE!"},"","","","","","","","","",null,null,null,null,null,null,null,null,null,null,null,null,null,null,null,null,null,null,null,null,null,null,null,null,{"$error":"#VALUE!"},{"$error":"#VALUE!"},null,null,null,null,null,null,null,null,"","","","","","",""]
[null,null,null,null,null,null,null,null,null,null,null,null,null,null,"","","","",{"$error":"#VALUE!"},"","","","","","","","","",null,null,null,null,null,null,null,null,null,null,null,null,null,null,null,null,null,null,null,null,null,null,null,null,{"$error":"#VALUE!"},{"$error":"#VALUE!"},null,null,null,null,null,null,null,null,"","","","","","",""]
[null,null,null,null,null,null,null,null,null,null,null,null,null,null,"","","","",{"$error":"#VALUE!"},"","","","","","","","","",null,null,null,null,null,null,null,null,null,null,null,null,null,null,null,null,null,null,null,null,null,null,null,null,{"$error":"#VALUE!"},{"$error":"#VALUE!"},null,null,null,null,null,null,null,null,"","","","","","",""]
[null,null,null,null,null,null,null,null,null,null,null,null,null,null,"","","","",{"$error":"#VALUE!"},"","","","","","","","","",null,null,null,null,null,null,null,null,null,null,null,null,null,null,null,null,null,null,null,null,null,null,null,null,{"$error":"#VALUE!"},{"$error":"#VALUE!"},null,null,null,null,null,null,null,null,"","","","","","",""]
[null,null,null,null,null,null,null,null,null,null,null,null,null,null,"","","","",{"$error":"#VALUE!"},"","","","","","","","","",null,null,null,null,null,null,null,null,null,null,null,null,null,null,null,null,null,null,null,null,null,null,null,null,{"$error":"#VALUE!"},{"$error":"#VALUE!"},null,null,null,null,null,null,null,null,"","","","","","",""]
[null,null,null,null,null,null,null,null,null,null,null,null,null,null,"","","","",{"$error":"#VALUE!"},"","","","","","","","","",null,null,null,null,null,null,null,null,null,null,null,null,null,null,null,null,null,null,null,null,null,null,null,null,{"$error":"#VALUE!"},{"$error":"#VALUE!"},null,null,null,null,null,null,null,null,"","","","","","",""]
[null,null,null,null,null,null,null,null,null,null,null,null,null,null,"","","","",{"$error":"#VALUE!"},"","","","","","","","","",null,null,null,null,null,null,null,null,null,null,null,null,null,null,null,null,null,null,null,null,null,null,null,null,{"$error":"#VALUE!"},{"$error":"#VALUE!"},null,null,null,null,null,null,null,null,"","","","","","",""]
[null,null,null,null,null,null,null,null,null,null,null,null,null,null,"","","","",{"$error":"#VALUE!"},"","","","","","","","","",null,null,null,null,null,null,null,null,null,null,null,null,null,null,null,null,null,null,null,null,null,null,null,null,{"$error":"#VALUE!"},{"$error":"#VALUE!"},null,null,null,null,null,null,null,null,"","","","","","",""]
[null,null,null,null,null,null,null,null,null,null,null,null,null,null,"","","","",{"$error":"#VALUE!"},"","","","","","","","","",null,null,null,null,null,null,null,null,null,null,null,null,null,null,null,null,null,null,null,null,null,null,null,null,{"$error":"#VALUE!"},{"$error":"#VALUE!"},null,null,null,null,null,null,null,null,"","","","","","",""]
[null,null,null,null,null,null,null,null,null,null,null,null,null,null,"","","","",{"$error":"#VALUE!"},"","","","","","","","","",null,null,null,null,null,null,null,null,null,null,null,null,null,null,null,null,null,null,null,null,null,null,null,null,{"$error":"#VALUE!"},{"$error":"#VALUE!"},null,null,null,null,null,null,null,null,"","","","","","",""]
[null,null,null,null,null,null,null,null,null,null,null,null,null,null,"","","","",{"$error":"#VALUE!"},"","","","","","","","","",null,null,null,null,null,null,null,null,null,null,null,null,null,null,null,null,null,null,null,null,null,null,null,null,{"$error":"#VALUE!"},{"$error":"#VALUE!"},null,null,null,null,null,null,null,null,"","","","","","",""]
[null,null,null,null,null,null,null,null,null,null,null,null,null,null,"","","","",{"$error":"#VALUE!"},"","","","","","","","","",null,null,null,null,null,null,null,null,null,null,null,null,null,null,null,null,null,null,null,null,null,null,null,null,{"$error":"#VALUE!"},{"$error":"#VALUE!"},null,null,null,null,null,null,null,null,"","","","","","",""]
[null,null,null,null,null,null,null,null,null,null,null,null,null,null,"","","","",{"$error":"#VALUE!"},"","","","","","","","","",null,null,null,null,null,null,null,null,null,null,null,null,null,null,null,null,null,null,null,null,null,null,null,null,{"$error":"#VALUE!"},{"$error":"#VALUE!"},null,null,null,null,null,null,null,null,"","","","","","",""]
[null,null,null,null,null,null,null,null,null,null,null,null,null,null,"","","","",{"$error":"#VALUE!"},"","","","","","","","","",null,null,null,null,null,null,null,null,null,null,null,null,null,null,null,null,null,null,null,null,null,null,null,null,{"$error":"#VALUE!"},{"$error":"#VALUE!"},null,null,null,null,null,null,null,null,"","","","","","",""]
[null,null,null,null,null,null,null,null,null,null,null,null,null,null,"","","","",{"$error":"#VALUE!"},"","","","","","","","","",null,null,null,null,null,null,null,null,null,null,null,null,null,null,null,null,null,null,null,null,null,null,null,null,{"$error":"#VALUE!"},{"$error":"#VALUE!"},null,null,null,null,null,null,null,null,"","","","","","",""]
[null,null,null,null,null,null,null,null,null,null,null,null,null,null,"","","","",{"$error":"#VALUE!"},"","","","","","","","","",null,null,null,null,null,null,null,null,null,null,null,null,null,null,null,null,null,null,null,null,null,null,null,null,{"$error":"#VALUE!"},{"$error":"#VALUE!"},null,null,null,null,null,null,null,null,"","","","","","",""]
[null,null,null,null,null,null,null,null,null,null,null,null,null,null,"","","","",{"$error":"#VALUE!"},"","","","","","","","","",null,null,null,null,null,null,null,null,null,null,null,null,null,null,null,null,null,null,null,null,null,null,null,null,{"$error":"#VALUE!"},{"$error":"#VALUE!"},null,null,null,null,null,null,null,null,"","","","","","",""]
[null,null,null,null,null,null,null,null,null,null,null,null,null,null,"","","","",{"$error":"#VALUE!"},"","","","","","","","","",null,null,null,null,null,null,null,null,null,null,null,null,null,null,null,null,null,null,null,null,null,null,null,null,{"$error":"#VALUE!"},{"$error":"#VALUE!"},null,null,null,null,null,null,null,null,"","","","","","",""]
[null,null,null,null,null,null,null,null,null,null,null,null,null,null,"","","","",{"$error":"#VALUE!"},"","","","","","","","","",null,null,null,null,null,null,null,null,null,null,null,null,null,null,null,null,null,null,null,null,null,null,null,null,{"$error":"#VALUE!"},{"$error":"#VALUE!"},null,null,null,null,null,null,null,null,"","","","","","",""]
[null,null,null,null,null,null,null,null,null,null,null,null,null,null,"","","","",{"$error":"#VALUE!"},"","","","","","","","","",null,null,null,null,null,null,null,null,null,null,null,null,null,null,null,null,null,null,null,null,null,null,null,null,{"$error":"#VALUE!"},{"$error":"#VALUE!"},null,null,null,null,null,null,null,null,"","","","","","",""]
[null,null,null,null,null,null,null,null,null,null,null,null,null,null,"","","","",{"$error":"#VALUE!"},"","","","","","","","","",null,null,null,null,null,null,null,null,null,null,null,null,null,null,null,null,null,null,null,null,null,null,null,null,{"$error":"#VALUE!"},{"$error":"#VALUE!"},null,null,null,null,null,null,null,null,"","","","","","",""]
[null,null,null,null,null,null,null,null,null,null,null,null,null,null,"","","","",{"$error":"#VALUE!"},"","","","","","","","","",null,null,null,null,null,null,null,null,null,null,null,null,null,null,null,null,null,null,null,null,null,null,null,null,{"$error":"#VALUE!"},{"$error":"#VALUE!"},null,null,null,null,null,null,null,null,"","","","","","",""]
[null,null,null,null,null,null,null,null,null,null,null,null,null,null,"","","","",{"$error":"#VALUE!"},"","","","","","","","","",null,null,null,null,null,null,null,null,null,null,null,null,null,null,null,null,null,null,null,null,null,null,null,null,{"$error":"#VALUE!"},{"$error":"#VALUE!"},null,null,null,null,null,null,null,null,"","","","","","",""]
[null,null,null,null,null,null,null,null,null,null,null,null,null,null,"","","","",{"$error":"#VALUE!"},"","","","","","","","","",null,null,null,null,null,null,null,null,null,null,null,null,null,null,null,null,null,null,null,null,null,null,null,null,{"$error":"#VALUE!"},{"$error":"#VALUE!"},null,null,null,null,null,null,null,null,"","","","","","",""]
[null,null,null,null,null,null,null,null,null,null,null,null,null,null,"","","","",{"$error":"#VALUE!"},"","","","","","","","","",null,null,null,null,null,null,null,null,null,null,null,null,null,null,null,null,null,null,null,null,null,null,null,null,{"$error":"#VALUE!"},{"$error":"#VALUE!"},null,null,null,null,null,null,null,null,"","","","","","",""]
[null,null,null,null,null,null,null,null,null,null,null,null,null,null,"","","","",{"$error":"#VALUE!"},"","","","","","","","","",null,null,null,null,null,null,null,null,null,null,null,null,null,null,null,null,null,null,null,null,null,null,null,null,{"$error":"#VALUE!"},{"$error":"#VALUE!"},null,null,null,null,null,null,null,null,"","","","","","",""]
[null,null,null,null,null,null,null,null,null,null,null,null,null,null,"","","","",{"$error":"#VALUE!"},"","","",{"$f":"IF(G644<h,(\"\"),(IF(G644<h+dzd,(0),(IF(N644=\"\",(W643+H644*(G644-G643)),(W643+(I644-9.81)*(G644-G643)))))))","v":""},"","",{"$f":"IF(Y644=\"\",X644,X644+Y644)","v":""},{"$f":"IF(N644=\"\",(\"\"),IF(G644>h,AA643,((G644-nz)*9.81)))","v":""},"",null,null,null,null,null,null,null,null,null,null,null,null,null,null,null,null,null,null,null,null,null,null,null,null,{"$error":"#VALUE!"},{"$error":"#VALUE!"},null,null,null,null,null,null,null,null,"","","","","","",""]
[null,null,null,null,null,null,null,null,null,null,null,null,null,null,"","","","",{"$error":"#VALUE!"},"","","","","","","","","",null,null,null,null,null,null,null,null,null,null,null,null,null,null,null,null,null,null,null,null,null,null,null,null,{"$error":"#VALUE!"},{"$error":"#VALUE!"},null,null,null,null,null,null,null,null,"","","","","","",""]
[null,null,null,null,null,null,null,null,null,null,null,null,null,null,"","","",{"$f":"IF(L646=\"\",\"\",(IF(G646=\"\",\"\",IF(G646=h,(R647),(IF(N646=\"\",$E$11,($E$11*V646/W646)))))))","v":""},{"$error":"#VALUE!"},"","",{"$f":"IF(G646<h,(\"\"),(IF(G646<h+dzd,(0),(IF(N646=\"\",(V645+H646*(G646-G645)),(V645+(I646)*(G646-G645)))))))","v":""},"","",{"$f":"IF(G646<h,(\"\"),((-P646*W646-2*J646*(P646^0.5))*COS(RADIANS(M646))))","v":""},"","",{"$f":"IF(G646=\"\",\"\",IF(G646>hd,0,IF($A$27=1,BK646,IF($A$27=2,BL646,IF($A$27=3,BM646,IF($A$27=4,BN646+ka*($E$4+$E$5),IF($A$27=5,BP646,IF($A$27=6,BO646,BQ646))))))))","v":""},null,null,null,null,null,null,null,null,null,null,null,null,null,null,null,null,null,null,null,null,null,null,null,null,{"$error":"#VALUE!"},{"$error":"#VALUE!"},null,null,null,null,null,null,null,null,{"$f":"IF(G646=\"\",\"\",IF(G646>hd,0,(IF(G646<0.2*(hd),(1.6*($AH$20+$AH$21)/(hd)/0.2/(hd)*G646),(IF(G646<0.8*(hd),(1.6*($AH$20+$AH$21)/(hd)),(1.6*($AH$20+$AH$21)/(hd)-1.6*($AH$20+$AH$21)/(hd)/0.2/(hd)*(G646-0.8*(hd)))))))))","v":""},{"$f":"IF(G646=\"\",\"\",IF(G646>hd,0,(IF(G646<((2/3)*$AH$6),(1.3*($AH$20+$AH$21)/(hd-(1/3)*($AH$6+(hd-MAX($AP$6:$AP$15))))*G646/(2/3*$AH$6)),(IF(G646<(h-2/3*(hd-MAX($AP$6:$AP$15))),1.3*($AH$20+$AH$21)/(hd-1/3*($AH$6+(hd-MAX($AP$6:$AP$15)))),1.3*($AH$20+$AH$21)/(hd-1/3*($AH$6+(hd-MAX($AP$6:$AP$15))))*(1-(G646-(hd-2/3*(hd-MAX($AP$6:$AP$15))))/(2/3*(hd-MAX($AP$6:$AP$15))))))))))","v":""},{"$f":"IF(G646=\"\",\"\",IF(G646>hd,0,(IF(G646<(0.6667*$AH$6),(0.3*g*hd*G646/(0.6667*$AH$6)),(IF(G646<(hd-0.6667*(hd-MAX($AP$6:$AP$15))),0.3*g*hd,0.3*g*hd*(1-(G646-(hd-0.6667*(hd-MAX($AP$6:$AP$15))))/(0.6667*(hd-MAX($AP$6:$AP$15))))))))))","v":""},{"$f":"IF(G646=\"\",\"\",IF(G646>hd,0,(IF(G646<((2/3)*$AH$6),(0.65*ka*g*hd*hd/(hd-(1/3)*($AH$6+(hd-MAX($AP$6:$AP$15))))*G646/(2/3*$AH$6)),(IF(G646<(h-2/3*(hd-MAX($AP$6:$AP$15))),0.65*ka*g*hd*hd/(hd-1/3*($AH$6+(hd-MAX($AP$6:$AP$15)))),0.65*ka*g*hd*hd/(hd-1/3*($AH$6+(hd-MAX($AP$6:$AP$15))))*(1-(G646-(hd-2/3*(hd-MAX($AP$6:$AP$15))))/(2/3*(hd-MAX($AP$6:$AP$15))))))))))","v":""},{"$f":"IF(G646=\"\",\"\",IF(G646>hd,0,(IF(G646<(0.25*hd),(0.3*g*h*G646/(0.25*hd)),(IF(G646<(0.75*hd),0.3*g*h,0.3*g*h*(1-(G646-0.75*hd)/0.25/hd)))))))","v":""},{"$f":"IF(G646>hd,0,IF(G646=\"\",\"\",0.65*ka*g*hd))","v":""},{"$f":"IF(G646=\"\",\"\",IF(G646>hd,0,(IF(G646<(0.25*hd),(1-4*ca/g/hd)*g*hd*G646/(0.25*hd),((1-4*ca/g/hd)*g*hd)))))","v":""}]
[null,null,null,null,null,null,null,null,null,null,null,null,null,null,{"$f":"IF(G647=\"\",(\"\"),((SIN(RADIANS($E$9+BA647-K647)))^2)*((SIN(RADIANS($E$9)))^-2)*((COS(RADIANS(BA647)))^-1)*((SIN((RADIANS($E$9+BA647+M647))))^-1)/(1+((SIN(RADIANS(K647+M647)))*(SIN((RADIANS(K647-$E$7-BA647))/(SIN(RADIANS($E$9-$E$7)))/(SIN((RADIANS($E$9+BA647+M647)))))))^0.5)^2)","v":""},{"$f":"IF(L647=\"\",(\"\"),((SIN(RADIANS($E$9-BB647+L647)))^2)*((SIN(RADIANS($E$9)))^-2)*((COS(RADIANS(BB647)))^-1)*((SIN((RADIANS($E$9-BB647-M647))))^-1)/(1-((SIN(RADIANS(L647+M647)))*(SIN((RADIANS(L647+$E$7-BB647))/(SIN(RADIANS($E$9-$E$7)))/(SIN((RADIANS($E$9-BB647-M647)))))))^0.5)^2)","v":""},{"$f":"IF(G647=\"\",\"\",(IF(N647=\"\",$E$11,($E$11*T647/U647))))","v":""},"",{"$f":"IF(G647=\"\",\"\",0.5*PI()-ATAN((-TAN(RADIANS(K647+M647+(90-$E$9)-$E$7)))+(1/(COS(RADIANS(K647+M647+(90-$E$9)-$E$7))))*((COS((RADIANS(90-$E$9+M647+BA647))))^0.5)*((SIN(RADIANS(K647+M647)))^0.5)*((COS(RADIANS(90-$E$9-$E$7)))^-0.5)*((SIN(RADIANS(K647-$E$7-BA647)))^-0.5)))+$E$7","v":{"$error":"#VALUE!"}},"","","","","","","","","",null,null,null,null,null,null,null,null,null,null,null,null,null,null,null,null,null,null,null,null,null,null,null,null,{"$f":"ATAN(Q647)/0.017453","v":{"$error":"#VALUE!"}},{"$f":"ATAN(Q647)/0.017453","v":{"$error":"#VALUE!"}},null,null,null,null,null,null,null,null,"","","","","","",""]
[null,null,null,null,null,null,null,null,null,null,null,null,null,null,"","","","",{"$error":"#VALUE!"},{"$f":"IF(G648=\"\",(\"\"),(IF(N648=\"\",(T647+(G648-G647)*H647),(T647+(G648-G647)*(I647)))))","v":""},{"$f":"IF(G648=\"\",(\"\"),(IF(N648=\"\",(U647+(G648-G647)*H647),(U647+(G648-G647)*(I647-9.81)))))","v":""},"","",{"$f":"IF(G648=\"\",(\"\"),((O648*U648-2*J648*(O648)^0.5))*COS(RADIANS(M648)))","v":""},"","","","",null,null,null,null,null,null,null,null,null,null,null,null,null,null,null,null,null,null,null,null,null,null,null,null,{"$error":"#VALUE!"},{"$error":"#VALUE!"},null,null,null,null,null,null,null,null,"","","","","","",""]
[null,null,null,null,null,null,null,null,null,null,null,null,null,null,"","","","",{"$error":"#VALUE!"},"","","","","","","","","",null,null,null,null,null,null,null,null,null,null,null,null,null,null,null,null,null,null,null,null,null,null,null,null,{"$error":"#VALUE!"},{"$error":"#VALUE!"},null,null,null,null,null,null,null,null,"","","","","","",""]
[null,null,null,null,null,null,null,null,null,null,null,null,null,null,"","","","",{"$error":"#VALUE!"},"","","","","","","","","",null,null,null,null,null,null,null,null,null,null,null,null,null,null,null,null,null,null,null,null,null,null,null,null,{"$error":"#VALUE!"},{"$error":"#VALUE!"},null,null,null,null,null,null,null,null,"","","","","","",""]
[null,null,null,null,null,null,null,null,null,null,null,null,null,null,"","","","",{"$error":"#VALUE!"},"","","","","","","","","",null,null,null,null,null,null,null,null,null,null,null,null,null,null,null,null,null,null,null,null,null,null,null,null,{"$error":"#VALUE!"},{"$error":"#VALUE!"},null,null,null,null,null,null,null,null,"","","","","","",""]
[null,null,null,null,null,null,null,null,null,null,null,null,null,null,"","","","",{"$error":"#VALUE!"},"","","","","","","","","",null,null,null,null,null,null,null,null,null,null,null,null,null,null,null,null,null,null,null,null,null,null,null,null,{"$error":"#VALUE!"},{"$error":"#VALUE!"},null,null,null,null,null,null,null,null,"","","","","","",""]
[null,null,null,null,null,null,null,null,null,null,null,null,null,null,"","","","",{"$error":"#VALUE!"},"","","","","","","","","",null,null,null,null,null,null,null,null,null,null,null,null,null,null,null,null,null,null,null,null,null,null,null,null,{"$error":"#VALUE!"},{"$error":"#VALUE!"},null,null,null,null,null,null,null,null,"","","","","","",""]
[null,null,null,null,null,null,null,null,null,null,null,null,null,null,"","","","",{"$error":"#VALUE!"},"","","","","","","","","",null,null,null,null,null,null,null,null,null,null,null,null,null,null,null,null,null,null,null,null,null,null,null,null,{"$error":"#VALUE!"},{"$error":"#VALUE!"},null,null,null,null,null,null,null,null,"","","","","","",""]
[null,null,null,null,null,null,null,null,null,null,null,null,null,null,"","","","",{"$error":"#VALUE!"},"","","","","","","","","",null,null,null,null,null,null,null,null,null,null,null,null,null,null,null,null,null,null,null,null,null,null,null,null,{"$error":"#VALUE!"},{"$error":"#VALUE!"},null,null,null,null,null,null,null,null,"","","","","","",""]
[null,null,null,null,null,null,null,null,null,null,null,null,null,null,"","","","",{"$error":"#VALUE!"},"","","","","","","","","",null,null,null,null,null,null,null,null,null,null,null,null,null,null,null,null,null,null,null,null,null,null,null,null,{"$error":"#VALUE!"},{"$error":"#VALUE!"},null,null,null,null,null,null,null,null,"","","","","","",""]
[null,null,null,null,null,null,null,null,null,null,null,null,null,null,"","","","",{"$error":"#VALUE!"},"","","","","","","","","",null,null,null,null,null,null,null,null,null,null,null,null,null,null,null,null,null,null,null,null,null,null,null,null,{"$error":"#VALUE!"},{"$error":"#VALUE!"},null,null,null,null,null,null,null,null,"","","","","","",""]
[null,null,null,null,null,null,null,null,null,null,null,null,null,null,"","","","",{"$error":"#VALUE!"},"","","","","","","","","",null,null,null,null,null,null,null,null,null,null,null,null,null,null,null,null,null,null,null,null,null,null,null,null,{"$error":"#VALUE!"},{"$error":"#VALUE!"},null,null,null,null,null,null,null,null,"","","","","","",""]
[null,null,null,null,null,null,null,null,null,null,null,null,null,null,"","","","",{"$error":"#VALUE!"},"","","","","","","","","",null,null,null,null,null,null,null,null,null,null,null,null,null,null,null,null,null,null,null,null,null,null,null,null,{"$error":"#VALUE!"},{"$error":"#VALUE!"},null,null,null,null,null,null,null,null,"","","","","","",""]
[null,null,null,null,null,null,null,null,null,null,null,null,null,null,"","","","",{"$error":"#VALUE!"},"","","","","","","","","",null,null,null,null,null,null,null,null,null,null,null,null,null,null,null,null,null,null,null,null,null,null,null,null,{"$error":"#VALUE!"},{"$error":"#VALUE!"},null,null,null,null,null,null,null,null,"","","","","","",""]
[null,null,null,null,null,null,null,null,null,null,null,null,null,null,"","","","",{"$error":"#VALUE!"},"","","","","","","","","",null,null,null,null,null,null,null,null,null,null,null,null,null,null,null,null,null,null,null,null,null,null,null,null,{"$error":"#VALUE!"},{"$error":"#VALUE!"},null,null,null,null,null,null,null,null,"","","","","","",""]
[null,null,null,null,null,null,null,null,null,null,null,null,null,null,"","","","",{"$error":"#VALUE!"},"","","","","","","","","",null,null,null,null,null,null,null,null,null,null,null,null,null,null,null,null,null,null,null,null,null,null,null,null,{"$error":"#VALUE!"},{"$error":"#VALUE!"},null,null,null,null,null,null,null,null,"","","","","","",""]
[null,null,null,null,null,null,null,null,null,null,null,null,null,null,"","","","",{"$error":"#VALUE!"},"","","","","","","","","",null,null,null,null,null,null,null,null,null,null,null,null,null,null,null,null,null,null,null,null,null,null,null,null,{"$error":"#VALUE!"},{"$error":"#VALUE!"},null,null,null,null,null,null,null,null,"","","","","","",""]
[null,null,null,null,null,null,null,null,null,null,null,null,null,null,"","","","",{"$error":"#VALUE!"},"","","","","","","","","",null,null,null,null,null,null,null,null,null,null,null,null,null,null,null,null,null,null,null,null,null,null,null,null,{"$error":"#VALUE!"},{"$error":"#VALUE!"},null,null,null,null,null,null,null,null,"","","","","","",""]
[null,null,null,null,null,null,null,null,null,null,null,null,null,null,"","","","",{"$error":"#VALUE!"},"","","","","","","","","",null,null,null,null,null,null,null,null,null,null,null,null,null,null,null,null,null,null,null,null,null,null,null,null,{"$error":"#VALUE!"},{"$error":"#VALUE!"},null,null,null,null,null,null,null,null,"","","","","","",""]
[null,null,null,null,null,null,null,null,null,null,null,null,null,null,"","","","",{"$error":"#VALUE!"},"","","","","","","","","",null,null,null,null,null,null,null,null,null,null,null,null,null,null,null,null,null,null,null,null,null,null,null,null,{"$error":"#VALUE!"},{"$error":"#VALUE!"},null,null,null,null,null,null,null,null,"","","","","","",""]
[null,null,null,null,null,null,null,null,null,null,null,null,null,null,"","","","",{"$error":"#VALUE!"},"","","","","","","","","",null,null,null,null,null,null,null,null,null,null,null,null,null,null,null,null,null,null,null,null,null,null,null,null,{"$error":"#VALUE!"},{"$error":"#VALUE!"},null,null,null,null,null,null,null,null,"","","","","","",""]
[null,null,null,null,null,null,null,null,null,null,null,null,null,null,"","","","",{"$error":"#VALUE!"},"","","","","","","","","",null,null,null,null,null,null,null,null,null,null,null,null,null,null,null,null,null,null,null,null,null,null,null,null,{"$error":"#VALUE!"},{"$error":"#VALUE!"},null,null,null,null,null,null,null,null,"","","","","","",""]
[null,null,null,null,null,null,null,null,null,null,null,null,null,null,"","","","",{"$error":"#VALUE!"},"","","","","","","","","",null,null,null,null,null,null,null,null,null,null,null,null,null,null,null,null,null,null,null,null,null,null,null,null,{"$error":"#VALUE!"},{"$error":"#VALUE!"},null,null,null,null,null,null,null,null,"","","","","","",""]
[null,null,null,null,null,null,null,null,null,null,null,null,null,null,"","","","",{"$error":"#VALUE!"},"","","","","","","","","",null,null,null,null,null,null,null,null,null,null,null,null,null,null,null,null,null,null,null,null,null,null,null,null,{"$error":"#VALUE!"},{"$error":"#VALUE!"},null,null,null,null,null,null,null,null,"","","","","","",""]
[null,null,null,null,null,null,null,null,null,null,null,null,null,null,"","","","",{"$error":"#VALUE!"},"","","","","","","","","",null,null,null,null,null,null,null,null,null,null,null,null,null,null,null,null,null,null,null,null,null,null,null,null,{"$error":"#VALUE!"},{"$error":"#VALUE!"},null,null,null,null,null,null,null,null,"","","","","","",""]
[null,null,null,null,null,null,null,null,null,null,null,null,null,null,"","","","",{"$error":"#VALUE!"},"","","","","","","","","",null,null,null,null,null,null,null,null,null,null,null,null,null,null,null,null,null,null,null,null,null,null,null,null,{"$error":"#VALUE!"},{"$error":"#VALUE!"},null,null,null,null,null,null,null,null,"","","","","","",""]
[null,null,null,null,null,null,null,null,null,null,null,null,null,null,"","","","",{"$error":"#VALUE!"},"","","","","","","","","",null,null,null,null,null,null,null,null,null,null,null,null,null,null,null,null,null,null,null,null,null,null,null,null,{"$error":"#VALUE!"},{"$error":"#VALUE!"},null,null,null,null,null,null,null,null,"","","","","","",""]
[null,null,null,null,null,null,null,null,null,null,null,null,null,null,"","","","",{"$error":"#VALUE!"},"","","","","","","","","",null,null,null,null,null,null,null,null,null,null,null,null,null,null,null,null,null,null,null,null,null,null,null,null,{"$error":"#VALUE!"},{"$error":"#VALUE!"},null,null,null,null,null,null,null,null,"","","","","","",""]
[null,null,null,null,null,null,null,null,null,null,null,null,null,null,"","","","",{"$error":"#VALUE!"},"","","","","","","","","",null,null,null,null,null,null,null,null,null,null,null,null,null,null,null,null,null,null,null,null,null,null,null,null,{"$error":"#VALUE!"},{"$error":"#VALUE!"},null,null,null,null,null,null,null,null,"","","","","","",""]
[null,null,null,null,null,null,null,null,null,null,null,null,null,null,"","","","",{"$error":"#VALUE!"},"","","","","","","","","",null,null,null,null,null,null,null,null,null,null,null,null,null,null,null,null,null,null,null,null,null,null,null,null,{"$error":"#VALUE!"},{"$error":"#VALUE!"},null,null,null,null,null,null,null,null,"","","","","","",""]
[null,null,null,null,null,null,null,null,null,null,null,null,null,null,"","","","",{"$error":"#VALUE!"},"","","","","","","","","",null,null,null,null,null,null,null,null,null,null,null,null,null,null,null,null,null,null,null,null,null,null,null,null,{"$error":"#VALUE!"},{"$error":"#VALUE!"},null,null,null,null,null,null,null,null,"","","","","","",""]
[null,null,null,null,null,null,null,null,null,null,null,null,null,null,"","","","",{"$error":"#VALUE!"},"","","","","","","","","",null,null,null,null,null,null,null,null,null,null,null,null,null,null,null,null,null,null,null,null,null,null,null,null,{"$error":"#VALUE!"},{"$error":"#VALUE!"},null,null,null,null,null,null,null,null,"","","","","","",""]
[null,null,null,null,null,null,null,null,null,null,null,null,null,null,"","","","",{"$error":"#VALUE!"},"","","","","","","","","",null,null,null,null,null,null,null,null,null,null,null,null,null,null,null,null,null,null,null,null,null,null,null,null,{"$error":"#VALUE!"},{"$error":"#VALUE!"},null,null,null,null,null,null,null,null,"","","","","","",""]
[null,null,null,null,null,null,null,null,null,null,null,null,null,null,"","","","",{"$error":"#VALUE!"},"","","","","","","","","",null,null,null,null,null,null,null,null,null,null,null,null,null,null,null,null,null,null,null,null,null,null,null,null,{"$error":"#VALUE!"},{"$error":"#VALUE!"},null,null,null,null,null,null,null,null,"","","","","","",""]
[null,null,null,null,null,null,null,null,null,null,null,null,null,null,"","","","",{"$error":"#VALUE!"},"","","","","","","","","",null,null,null,null,null,null,null,null,null,null,null,null,null,null,null,null,null,null,null,null,null,null,null,null,{"$error":"#VALUE!"},{"$error":"#VALUE!"},null,null,null,null,null,null,null,null,"","","","","","",""]
[null,null,null,null,null,null,null,null,null,null,null,null,null,null,"","","","",{"$error":"#VALUE!"},"","","","","","","","","",null,null,null,null,null,null,null,null,null,null,null,null,null,null,null,null,null,null,null,null,null,null,null,null,{"$error":"#VALUE!"},{"$error":"#VALUE!"},null,null,null,null,null,null,null,null,"","","","","","",""]
[null,null,null,null,null,null,null,null,null,null,null,null,null,null,"","","","",{"$error":"#VALUE!"},"","","","","","","","","",null,null,null,null,null,null,null,null,null,null,null,null,null,null,null,null,null,null,null,null,null,null,null,null,{"$error":"#VALUE!"},{"$error":"#VALUE!"},null,null,null,null,null,null,null,null,"","","","","","",""]
[null,null,null,null,null,null,null,null,null,null,null,null,null,null,"","","","",{"$error":"#VALUE!"},"","","","","","","","","",null,null,null,null,null,null,null,null,null,null,null,null,null,null,null,null,null,null,null,null,null,null,null,null,{"$error":"#VALUE!"},{"$error":"#VALUE!"},null,null,null,null,null,null,null,null,"","","","","","",""]
[null,null,null,null,null,null,null,null,null,null,null,null,null,null,"","","","",{"$error":"#VALUE!"},"","","","","","","","","",null,null,null,null,null,null,null,null,null,null,null,null,null,null,null,null,null,null,null,null,null,null,null,null,{"$error":"#VALUE!"},{"$error":"#VALUE!"},null,null,null,null,null,null,null,null,"","","","","","",""]
[null,null,null,null,null,null,null,null,null,null,null,null,null,null,"","","","",{"$error":"#VALUE!"},"","","","","","","","","",null,null,null,null,null,null,null,null,null,null,null,null,null,null,null,null,null,null,null,null,null,null,null,null,{"$error":"#VALUE!"},{"$error":"#VALUE!"},null,null,null,null,null,null,null,null,"","","","","","",""]
[null,null,null,null,null,null,null,null,null,null,null,null,null,null,"","","","",{"$error":"#VALUE!"},"","","","","","","","","",null,null,null,null,null,null,null,null,null,null,null,null,null,null,null,null,null,null,null,null,null,null,null,null,{"$error":"#VALUE!"},{"$error":"#VALUE!"},null,null,null,null,null,null,null,null,"","","","","","",""]
[null,null,null,null,null,null,null,null,null,null,null,null,null,null,"","","","",{"$error":"#VALUE!"},"","","","","","","","","",null,null,null,null,null,null,null,null,null,null,null,null,null,null,null,null,null,null,null,null,null,null,null,null,{"$error":"#VALUE!"},{"$error":"#VALUE!"},null,null,null,null,null,null,null,null,"","","","","","",""]
[null,null,null,null,null,null,null,null,null,null,null,null,null,null,"","","","",{"$error":"#VALUE!"},"","","","","","","","","",null,null,null,null,null,null,null,null,null,null,null,null,null,null,null,null,null,null,null,null,null,null,null,null,{"$error":"#VALUE!"},{"$error":"#VALUE!"},null,null,null,null,null,null,null,null,"","","","","","",""]
[null,null,null,null,null,null,null,null,null,null,null,null,null,null,"","","","",{"$error":"#VALUE!"},"","","","","","","","","",null,null,null,null,null,null,null,null,null,null,null,null,null,null,null,null,null,null,null,null,null,null,null,null,{"$error":"#VALUE!"},{"$error":"#VALUE!"},null,null,null,null,null,null,null,null,"","","","","","",""]
[null,null,null,null,null,null,null,null,null,null,null,null,null,null,"","","","",{"$error":"#VALUE!"},"","","","","","","","","",null,null,null,null,null,null,null,null,null,null,null,null,null,null,null,null,null,null,null,null,null,null,null,null,{"$error":"#VALUE!"},{"$error":"#VALUE!"},null,null,null,null,null,null,null,null,"","","","","","",""]
[null,null,null,null,null,null,null,null,null,null,null,null,null,null,"","","","",{"$error":"#VALUE!"},"","","","","","","","","",null,null,null,null,null,null,null,null,null,null,null,null,null,null,null,null,null,null,null,null,null,null,null,null,{"$error":"#VALUE!"},{"$error":"#VALUE!"},null,null,null,null,null,null,null,null,"","","","","","",""]
[null,null,null,null,null,null,null,null,null,null,null,null,null,null,"","","","",{"$error":"#VALUE!"},"","","","","","","","","",null,null,null,null,null,null,null,null,null,null,null,null,null,null,null,null,null,null,null,null,null,null,null,null,{"$error":"#VALUE!"},{"$error":"#VALUE!"},null,null,null,null,null,null,null,null,"","","","","","",""]
[null,null,null,null,null,null,null,null,null,null,null,null,null,null,"","","","",{"$error":"#VALUE!"},"","","","","","","","","",null,null,null,null,null,null,null,null,null,null,null,null,null,null,null,null,null,null,null,null,null,null,null,null,{"$error":"#VALUE!"},{"$error":"#VALUE!"},null,null,null,null,null,null,null,null,"","","","","","",""]
[null,null,null,null,null,null,null,null,null,null,null,null,null,null,"","","","",{"$error":"#VALUE!"},"","","","","","","","","",null,null,null,null,null,null,null,null,null,null,null,null,null,null,null,null,null,null,null,null,null,null,null,null,{"$error":"#VALUE!"},{"$error":"#VALUE!"},null,null,null,null,null,null,null,null,"","","","","","",""]
[null,null,null,null,null,null,null,null,null,null,null,null,null,null,"","","","",{"$error":"#VALUE!"},"","","","","","","","","",null,null,null,null,null,null,null,null,null,null,null,null,null,null,null,null,null,null,null,null,null,null,null,null,{"$error":"#VALUE!"},{"$error":"#VALUE!"},null,null,null,null,null,null,null,null,"","","","","","",""]
[null,null,null,null,null,null,null,null,null,null,null,null,null,null,"","","","",{"$error":"#VALUE!"},"","","","","","","","","",{"$f":"IF(G697>h,\"\",IF(G697=\"\",\"\",IF($A$28=1,IF(G697<0.25*h,0.3*$E$13*h*G697/0.25/h,IF(G697<0.75*h,0.3*$E$13*h,0.3*$E$13*h*(1-(G697-0.75*h)/0.25/h))),(2))))","v":""},null,null,null,null,null,null,null,null,null,null,null,null,null,null,null,null,null,null,null,null,null,null,null,{"$error":"#VALUE!"},{"$error":"#VALUE!"},null,null,null,null,null,null,null,null,"","","","","","",""]
[null,null,null,null,null,null,null,null,null,null,null,null,null,null,"","","","",{"$error":"#VALUE!"},"","","","","","","","","","",null,null,null,null,null,null,null,null,null,null,null,null,null,null,null,null,null,null,null,null,null,null,null,{"$error":"#VALUE!"},{"$error":"#VALUE!"},null,null,null,null,null,null,null,null,"","","","","","",""]
[null,null,null,null,null,null,null,null,null,null,null,null,null,null,"","","","",{"$error":"#VALUE!"},"","","","","","","","","","",null,null,null,null,null,null,null,null,null,null,null,null,null,null,null,null,null,null,null,null,null,null,null,{"$error":"#VALUE!"},{"$error":"#VALUE!"},null,null,null,null,null,null,null,null,"","","","","","",""]
[null,null,null,null,null,null,null,null,null,null,null,null,null,null,"","","","",{"$error":"#VALUE!"},"","","","","","","","","","",null,null,null,null,null,null,null,null,null,null,null,null,null,null,null,null,null,null,null,null,null,null,null,{"$error":"#VALUE!"},{"$error":"#VALUE!"},null,null,null,null,null,null,null,null,"","","","","","",""]
[null,null,null,null,null,null,null,null,null,null,null,null,null,null,"","","","",{"$error":"#VALUE!"},"","","","","","","","","","",null,null,null,null,null,null,null,null,null,null,null,null,null,null,null,null,null,null,null,null,null,null,null,{"$error":"#VALUE!"},{"$error":"#VALUE!"},null,null,null,null,null,null,null,null,"","","","","","",""]
[null,null,null,null,null,null,null,null,null,null,null,null,null,null,"","","","",{"$error":"#VALUE!"},"","","","","","","","","","",null,null,null,null,null,null,null,null,null,null,null,null,null,null,null,null,null,null,null,null,null,null,null,{"$error":"#VALUE!"},{"$error":"#VALUE!"},null,null,null,null,null,null,null,null,"","","","","","",""]
[null,null,null,null,null,null,null,null,null,null,null,null,null,null,"","","","",{"$error":"#VALUE!"},"","","","","","","","","","",null,null,null,null,null,null,null,null,null,null,null,null,null,null,null,null,null,null,null,null,null,null,null,{"$error":"#VALUE!"},{"$error":"#VALUE!"},null,null,null,null,null,null,null,null,"","","","","","",""]
[null,null,null,null,null,null,null,null,null,null,null,null,null,null,"","","","",{"$error":"#VALUE!"},"","","","","","","","","","",null,null,null,null,null,null,null,null,null,null,null,null,null,null,null,null,null,null,null,null,null,null,null,{"$error":"#VALUE!"},{"$error":"#VALUE!"},null,null,null,null,null,null,null,null,"","","","","","",""]
[null,null,null,null,null,null,null,null,null,null,null,null,null,null,"","","","",{"$error":"#VALUE!"},"","","","","","","","","","",null,null,null,null,null,null,null,null,null,null,null,null,null,null,null,null,null,null,null,null,null,null,null,{"$error":"#VALUE!"},{"$error":"#VALUE!"},null,null,null,null,null,null,null,null,"","","","","","",""]
[null,null,null,null,null,null,null,null,null,null,null,null,null,null,"","","","",{"$error":"#VALUE!"},"","","","","","","","","","",null,null,null,null,null,null,null,null,null,null,null,null,null,null,null,null,null,null,null,null,null,null,null,{"$error":"#VALUE!"},{"$error":"#VALUE!"},null,null,null,null,null,null,null,null,"","","","","","",""]
[null,null,null,null,null,null,null,null,null,null,null,null,null,null,"","","","",{"$error":"#VALUE!"},"","","","","","","","","","",null,null,null,null,null,null,null,null,null,null,null,null,null,null,null,null,null,null,null,null,null,null,null,{"$error":"#VALUE!"},{"$error":"#VALUE!"},null,null,null,null,null,null,null,null,"","","","","","",""]
[null,null,null,null,null,null,null,null,null,null,null,null,null,null,"","","","",{"$error":"#VALUE!"},"","","",{"$f":"IF(G708<h,(\"\"),(IF(G708<h+dzd,(0),(IF(N708=\"\",(W707+H708*(G708-G707)),(W707+(I708-9.81)*(G708-G707)))))))","v":""},"","",{"$f":"IF(Y708=\"\",X708,X708+Y708)","v":""},{"$f":"IF(N708=\"\",(\"\"),IF(G708>h,AA707,((G708-nz)*9.81)))","v":""},"","",null,null,null,null,null,null,null,null,null,null,null,null,null,null,null,null,null,null,null,null,null,null,null,{"$error":"#VALUE!"},{"$error":"#VALUE!"},null,null,null,null,null,null,null,null,"","","","","","",""]
[null,null,null,null,null,null,null,null,null,null,null,null,null,null,"","","","",{"$error":"#VALUE!"},"","","","","","","","","","",null,null,null,null,null,null,null,null,null,null,null,null,null,null,null,null,null,null,null,null,null,null,null,{"$error":"#VALUE!"},{"$error":"#VALUE!"},null,null,null,null,null,null,null,null,"","","","","","",""]
[null,null,null,null,null,null,null,null,null,null,null,null,null,null,"","","",{"$f":"IF(L710=\"\",\"\",(IF(G710=\"\",\"\",IF(G710=h,(R711),(IF(N710=\"\",$E$11,($E$11*V710/W710)))))))","v":""},{"$error":"#VALUE!"},"","",{"$f":"IF(G710<h,(\"\"),(IF(G710<h+dzd,(0),(IF(N710=\"\",(V709+H710*(G710-G709)),(V709+(I710)*(G710-G709)))))))","v":""},"","",{"$f":"IF(G710<h,(\"\"),((-P710*W710-2*J710*(P710^0.5))*COS(RADIANS(M710))))","v":""},"","",{"$f":"IF(G710=\"\",\"\",IF(G710>hd,0,IF($A$27=1,BK710,IF($A$27=2,BL710,IF($A$27=3,BM710,IF($A$27=4,BN710+ka*($E$4+$E$5),IF($A$27=5,BP710,IF($A$27=6,BO710,BQ710))))))))","v":""},{"$f":"IF(G710>h,\"\",IF(G710=\"\",\"\",IF($A$28=1,IF(G710<0.25*h,0.3*$E$13*h*G710/0.25/h,IF(G710<0.75*h,0.3*$E$13*h,0.3*$E$13*h*(1-(G710-0.75*h)/0.25/h))),(2))))","v":""},null,null,null,null,null,null,null,null,null,null,null,null,null,null,null,null,null,null,null,null,null,null,null,{"$error":"#VALUE!"},{"$error":"#VALUE!"},null,null,null,null,null,null,null,null,{"$f":"IF(G710=\"\",\"\",IF(G710>hd,0,(IF(G710<0.2*(hd),(1.6*($AH$20+$AH$21)/(hd)/0.2/(hd)*G710),(IF(G710<0.8*(hd),(1.6*($AH$20+$AH$21)/(hd)),(1.6*($AH$20+$AH$21)/(hd)-1.6*($AH$20+$AH$21)/(hd)/0.2/(hd)*(G710-0.8*(hd)))))))))","v":""},{"$f":"IF(G710=\"\",\"\",IF(G710>hd,0,(IF(G710<((2/3)*$AH$6),(1.3*($AH$20+$AH$21)/(hd-(1/3)*($AH$6+(hd-MAX($AP$6:$AP$15))))*G710/(2/3*$AH$6)),(IF(G710<(h-2/3*(hd-MAX($AP$6:$AP$15))),1.3*($AH$20+$AH$21)/(hd-1/3*($AH$6+(hd-MAX($AP$6:$AP$15)))),1.3*($AH$20+$AH$21)/(hd-1/3*($AH$6+(hd-MAX($AP$6:$AP$15))))*(1-(G710-(hd-2/3*(hd-MAX($AP$6:$AP$15))))/(2/3*(hd-MAX($AP$6:$AP$15))))))))))","v":""},{"$f":"IF(G710=\"\",\"\",IF(G710>hd,0,(IF(G710<(0.6667*$AH$6),(0.3*g*hd*G710/(0.6667*$AH$6)),(IF(G710<(hd-0.6667*(hd-MAX($AP$6:$AP$15))),0.3*g*hd,0.3*g*hd*(1-(G710-(hd-0.6667*(hd-MAX($AP$6:$AP$15))))/(0.6667*(hd-MAX($AP$6:$AP$15))))))))))","v":""},{"$f":"IF(G710=\"\",\"\",IF(G710>hd,0,(IF(G710<((2/3)*$AH$6),(0.65*ka*g*hd*hd/(hd-(1/3)*($AH$6+(hd-MAX($AP$6:$AP$15))))*G710/(2/3*$AH$6)),(IF(G710<(h-2/3*(hd-MAX($AP$6:$AP$15))),0.65*ka*g*hd*hd/(hd-1/3*($AH$6+(hd-MAX($AP$6:$AP$15)))),0.65*ka*g*hd*hd/(hd-1/3*($AH$6+(hd-MAX($AP$6:$AP$15))))*(1-(G710-(hd-2/3*(hd-MAX($AP$6:$AP$15))))/(2/3*(hd-MAX($AP$6:$AP$15))))))))))","v":""},{"$f":"IF(G710=\"\",\"\",IF(G710>hd,0,(IF(G710<(0.25*hd),(0.3*g*h*G710/(0.25*hd)),(IF(G710<(0.75*hd),0.3*g*h,0.3*g*h*(1-(G710-0.75*hd)/0.25/hd)))))))","v":""},{"$f":"IF(G710>hd,0,IF(G710=\"\",\"\",0.65*ka*g*hd))","v":""},{"$f":"IF(G710=\"\",\"\",IF(G710>hd,0,(IF(G710<(0.25*hd),(1-4*ca/g/hd)*g*hd*G710/(0.25*hd),((1-4*ca/g/hd)*g*hd)))))","v":""}]
[null,null,null,null,null,null,null,null,null,null,null,null,null,null,{"$f":"IF(G711=\"\",(\"\"),((SIN(RADIANS($E$9+BA711-K711)))^2)*((SIN(RADIANS($E$9)))^-2)*((COS(RADIANS(BA711)))^-1)*((SIN((RADIANS($E$9+BA711+M711))))^-1)/(1+((SIN(RADIANS(K711+M711)))*(SIN((RADIANS(K711-$E$7-BA711))/(SIN(RADIANS($E$9-$E$7)))/(SIN((RADIANS($E$9+BA711+M711)))))))^0.5)^2)","v":""},{"$f":"IF(L711=\"\",(\"\"),((SIN(RADIANS($E$9-BB711+L711)))^2)*((SIN(RADIANS($E$9)))^-2)*((COS(RADIANS(BB711)))^-1)*((SIN((RADIANS($E$9-BB711-M711))))^-1)/(1-((SIN(RADIANS(L711+M711)))*(SIN((RADIANS(L711+$E$7-BB711))/(SIN(RADIANS($E$9-$E$7)))/(SIN((RADIANS($E$9-BB711-M711)))))))^0.5)^2)","v":""},{"$f":"IF(G711=\"\",\"\",(IF(N711=\"\",$E$11,($E$11*T711/U711))))","v":""},"",{"$f":"IF(G711=\"\",\"\",0.5*PI()-ATAN((-TAN(RADIANS(K711+M711+(90-$E$9)-$E$7)))+(1/(COS(RADIANS(K711+M711+(90-$E$9)-$E$7))))*((COS((RADIANS(90-$E$9+M711+BA711))))^0.5)*((SIN(RADIANS(K711+M711)))^0.5)*((COS(RADIANS(90-$E$9-$E$7)))^-0.5)*((SIN(RADIANS(K711-$E$7-BA711)))^-0.5)))+$E$7","v":{"$error":"#VALUE!"}},"","","","","","","","","","",null,null,null,null,null,null,null,null,null,null,null,null,null,null,null,null,null,null,null,null,null,null,null,{"$f":"ATAN(Q711)/0.017453","v":{"$error":"#VALUE!"}},{"$f":"ATAN(Q711)/0.017453","v":{"$error":"#VALUE!"}},null,null,null,null,null,null,null,null,"","","","","","",""]
[null,null,null,null,null,null,null,null,null,null,null,null,null,null,"","","","",{"$error":"#VALUE!"},{"$f":"IF(G712=\"\",(\"\"),(IF(N712=\"\",(T711+(G712-G711)*H711),(T711+(G712-G711)*(I711)))))","v":""},{"$f":"IF(G712=\"\",(\"\"),(IF(N712=\"\",(U711+(G712-G711)*H711),(U711+(G712-G711)*(I711-9.81)))))","v":""},"","",{"$f":"IF(G712=\"\",(\"\"),((O712*U712-2*J712*(O712)^0.5))*COS(RADIANS(M712)))","v":""},"","","","","",null,null,null,null,null,null,null,null,null,null,null,null,null,null,null,null,null,null,null,null,null,null,null,{"$error":"#VALUE!"},{"$error":"#VALUE!"},null,null,null,null,null,null,null,null,"","","","","","",""]
[null,null,null,null,null,null,null,null,null,null,null,null,null,null,"","","","",{"$error":"#VALUE!"},"","","","","","","","","","",null,null,null,null,null,null,null,null,null,null,null,null,null,null,null,null,null,null,null,null,null,null,null,{"$error":"#VALUE!"},{"$error":"#VALUE!"},null,null,null,null,null,null,null,null,"","","","","","",""]
[null,null,null,null,null,null,null,null,null,null,null,null,null,null,"","","","",{"$error":"#VALUE!"},"","","","","","","","","","",null,null,null,null,null,null,null,null,null,null,null,null,null,null,null,null,null,null,null,null,null,null,null,{"$error":"#VALUE!"},{"$error":"#VALUE!"},null,null,null,null,null,null,null,null,"","","","","","",""]
[null,null,null,null,null,null,null,null,null,null,null,null,null,null,"","","","",{"$error":"#VALUE!"},"","","","","","","","","","",null,null,null,null,null,null,null,null,null,null,null,null,null,null,null,null,null,null,null,null,null,null,null,{"$error":"#VALUE!"},{"$error":"#VALUE!"},null,null,null,null,null,null,null,null,"","","","","","",""]
[null,null,null,null,null,null,null,null,null,null,null,null,null,null,"","","","",{"$error":"#VALUE!"},"","","","","","","","","","",null,null,null,null,null,null,null,null,null,null,null,null,null,null,null,null,null,null,null,null,null,null,null,{"$error":"#VALUE!"},{"$error":"#VALUE!"},null,null,null,null,null,null,null,null,"","","","","","",""]
[null,null,null,null,null,null,null,null,null,null,null,null,null,null,"","","","",{"$error":"#VALUE!"},"","","","","","","","","","",null,null,null,null,null,null,null,null,null,null,null,null,null,null,null,null,null,null,null,null,null,null,null,{"$error":"#VALUE!"},{"$error":"#VALUE!"},null,null,null,null,null,null,null,null,"","","","","","",""]
[null,null,null,null,null,null,null,null,null,null,null,null,null,null,"","","","",{"$error":"#VALUE!"},"","","","","","","","","","",null,null,null,null,null,null,null,null,null,null,null,null,null,null,null,null,null,null,null,null,null,null,null,{"$error":"#VALUE!"},{"$error":"#VALUE!"},null,null,null,null,null,null,null,null,"","","","","","",""]
[null,null,null,null,null,null,null,null,null,null,null,null,null,null,"","","","",{"$error":"#VALUE!"},"","","","","","","","","","",null,null,null,null,null,null,null,null,null,null,null,null,null,null,null,null,null,null,null,null,null,null,null,{"$error":"#VALUE!"},{"$error":"#VALUE!"},null,null,null,null,null,null,null,null,"","","","","","",""]
[null,null,null,null,null,null,null,null,null,null,null,null,null,null,"","","","",{"$error":"#VALUE!"},"","","","","","","","","","",null,null,null,null,null,null,null,null,null,null,null,null,null,null,null,null,null,null,null,null,null,null,null,{"$error":"#VALUE!"},{"$error":"#VALUE!"},null,null,null,null,null,null,null,null,"","","","","","",""]
[null,null,null,null,null,null,null,null,null,null,null,null,null,null,"","","","",{"$error":"#VALUE!"},"","","","","","","","","","",null,null,null,null,null,null,null,null,null,null,null,null,null,null,null,null,null,null,null,null,null,null,null,{"$error":"#VALUE!"},{"$error":"#VALUE!"},null,null,null,null,null,null,null,null,"","","","","","",""]
[null,null,null,null,null,null,null,null,null,null,null,null,null,null,"","","","",{"$error":"#VALUE!"},"","","","","","","","","","",null,null,null,null,null,null,null,null,null,null,null,null,null,null,null,null,null,null,null,null,null,null,null,{"$error":"#VALUE!"},{"$error":"#VALUE!"},null,null,null,null,null,null,null,null,"","","","","","",""]
[null,null,null,null,null,null,null,null,null,null,null,null,null,null,"","","","",{"$error":"#VALUE!"},"","","","","","","","","","",null,null,null,null,null,null,null,null,null,null,null,null,null,null,null,null,null,null,null,null,null,null,null,{"$error":"#VALUE!"},{"$error":"#VALUE!"},null,null,null,null,null,null,null,null,"","","","","","",""]
[null,null,null,null,null,null,null,null,null,null,null,null,null,null,"","","","",{"$error":"#VALUE!"},"","","","","","","","","","",null,null,null,null,null,null,null,null,null,null,null,null,null,null,null,null,null,null,null,null,null,null,null,{"$error":"#VALUE!"},{"$error":"#VALUE!"},null,null,null,null,null,null,null,null,"","","","","","",""]
[null,null,null,null,null,null,null,null,null,null,null,null,null,null,"","","","",{"$error":"#VALUE!"},"","","","","","","","","","",null,null,null,null,null,null,null,null,null,null,null,null,null,null,null,null,null,null,null,null,null,null,null,{"$error":"#VALUE!"},{"$error":"#VALUE!"},null,null,null,null,null,null,null,null,"","","","","","",""]
[null,null,null,null,null,null,null,null,null,null,null,null,null,null,"","","","",{"$error":"#VALUE!"},"","","","","","","","","","",null,null,null,null,null,null,null,null,null,null,null,null,null,null,null,null,null,null,null,null,null,null,null,{"$error":"#VALUE!"},{"$error":"#VALUE!"},null,null,null,null,null,null,null,null,"","","","","","",""]
[null,null,null,null,null,null,null,null,null,null,null,null,null,null,"","","","",{"$error":"#VALUE!"},"","","","","","","","","","",null,null,null,null,null,null,null,null,null,null,null,null,null,null,null,null,null,null,null,null,null,null,null,{"$error":"#VALUE!"},{"$error":"#VALUE!"},null,null,null,null,null,null,null,null,"","","","","","",""]
[null,null,null,null,null,null,null,null,null,null,null,null,null,null,"","","","",{"$error":"#VALUE!"},"","","","","","","","","","",null,null,null,null,null,null,null,null,null,null,null,null,null,null,null,null,null,null,null,null,null,null,null,{"$error":"#VALUE!"},{"$error":"#VALUE!"},null,null,null,null,null,null,null,null,"","","","","","",""]
[null,null,null,null,null,null,null,null,null,null,null,null,null,null,"","","","",{"$error":"#VALUE!"},"","","","","","","","","","",null,null,null,null,null,null,null,null,null,null,null,null,null,null,null,null,null,null,null,null,null,null,null,{"$error":"#VALUE!"},{"$error":"#VALUE!"},null,null,null,null,null,null,null,null,"","","","","","",""]
[null,null,null,null,null,null,null,null,null,null,null,null,null,null,"","","","",{"$error":"#VALUE!"},"","","","","","","","","","",null,null,null,null,null,null,null,null,null,null,null,null,null,null,null,null,null,null,null,null,null,null,null,{"$error":"#VALUE!"},{"$error":"#VALUE!"},null,null,null,null,null,null,null,null,"","","","","","",""]
[null,null,null,null,null,null,null,null,null,null,null,null,null,null,"","","","",{"$error":"#VALUE!"},"","","","","","","","","","",null,null,null,null,null,null,null,null,null,null,null,null,null,null,null,null,null,null,null,null,null,null,null,{"$error":"#VALUE!"},{"$error":"#VALUE!"},null,null,null,null,null,null,null,null,"","","","","","",""]
[null,null,null,null,null,null,null,null,null,null,null,null,null,null,"","","","",{"$error":"#VALUE!"},"","","","","","","","","","",null,null,null,null,null,null,null,null,null,null,null,null,null,null,null,null,null,null,null,null,null,null,null,{"$error":"#VALUE!"},{"$error":"#VALUE!"},null,null,null,null,null,null,null,null,"","","","","","",""]
[null,null,null,null,null,null,null,null,null,null,null,null,null,null,"","","","",{"$error":"#VALUE!"},"","","","","","","","","","",null,null,null,null,null,null,null,null,null,null,null,null,null,null,null,null,null,null,null,null,null,null,null,{"$error":"#VALUE!"},{"$error":"#VALUE!"},null,null,null,null,null,null,null,null,"","","","","","",""]
[null,null,null,null,null,null,null,null,null,null,null,null,null,null,"","","","",{"$error":"#VALUE!"},"","","","","","","","","","",null,null,null,null,null,null,null,null,null,null,null,null,null,null,null,null,null,null,null,null,null,null,null,{"$error":"#VALUE!"},{"$error":"#VALUE!"},null,null,null,null,null,null,null,null,"","","","","","",""]
[null,null,null,null,null,null,null,null,null,null,null,null,null,null,"","","","",{"$error":"#VALUE!"},"","","","","","","","","","",null,null,null,null,null,null,null,null,null,null,null,null,null,null,null,null,null,null,null,null,null,null,null,{"$error":"#VALUE!"},{"$error":"#VALUE!"},null,null,null,null,null,null,null,null,"","","","","","",""]
[null,null,null,null,null,null,null,null,null,null,null,null,null,null,"","","","",{"$error":"#VALUE!"},"","","","","","","","","","",null,null,null,null,null,null,null,null,null,null,null,null,null,null,null,null,null,null,null,null,null,null,null,{"$error":"#VALUE!"},{"$error":"#VALUE!"},null,null,null,null,null,null,null,null,"","","","","","",""]
[null,null,null,null,null,null,null,null,null,null,null,null,null,null,"","","","",{"$error":"#VALUE!"},"","","","","","","","","","",null,null,null,null,null,null,null,null,null,null,null,null,null,null,null,null,null,null,null,null,null,null,null,{"$error":"#VALUE!"},{"$error":"#VALUE!"},null,null,null,null,null,null,null,null,"","","","","","",""]
[null,null,null,null,null,null,null,null,null,null,null,null,null,null,"","","","",{"$error":"#VALUE!"},"","","","","","","","","","",null,null,null,null,null,null,null,null,null,null,null,null,null,null,null,null,null,null,null,null,null,null,null,{"$error":"#VALUE!"},{"$error":"#VALUE!"},null,null,null,null,null,null,null,null,"","","","","","",""]
[null,null,null,null,null,null,null,null,null,null,null,null,null,null,"","","","",{"$error":"#VALUE!"},"","","","","","","","","","",null,null,null,null,null,null,null,null,null,null,null,null,null,null,null,null,null,null,null,null,null,null,null,{"$error":"#VALUE!"},{"$error":"#VALUE!"},null,null,null,null,null,null,null,null,"","","","","","",""]
[null,null,null,null,null,null,null,null,null,null,null,null,null,null,"","","","",{"$error":"#VALUE!"},"","","","","","","","","","",null,null,null,null,null,null,null,null,null,null,null,null,null,null,null,null,null,null,null,null,null,null,null,{"$error":"#VALUE!"},{"$error":"#VALUE!"},null,null,null,null,null,null,null,null,"","","","","","",""]
[null,null,null,null,null,null,null,null,null,null,null,null,null,null,"","","","",{"$error":"#VALUE!"},"","","","","","","","","","",null,null,null,null,null,null,null,null,null,null,null,null,null,null,null,null,null,null,null,null,null,null,null,{"$error":"#VALUE!"},{"$error":"#VALUE!"},null,null,null,null,null,null,null,null,"","","","","","",""]
[null,null,null,null,null,null,null,null,null,null,null,null,null,null,"","","","",{"$error":"#VALUE!"},"","","","","","","","","","",null,null,null,null,null,null,null,null,null,null,null,null,null,null,null,null,null,null,null,null,null,null,null,{"$error":"#VALUE!"},{"$error":"#VALUE!"},null,null,null,null,null,null,null,null,"","","","","","",""]
[null,null,null,null,null,null,null,null,null,null,null,null,null,null,"","","","",{"$error":"#VALUE!"},"","","","","","","","","","",null,null,null,null,null,null,null,null,null,null,null,null,null,null,null,null,null,null,null,null,null,null,null,{"$error":"#VALUE!"},{"$error":"#VALUE!"},null,null,null,null,null,null,null,null,"","","","","","",""]
[null,null,null,null,null,null,null,null,null,null,null,null,null,null,"","","","",{"$error":"#VALUE!"},"","","","","","","","","","",null,null,null,null,null,null,null,null,null,null,null,null,null,null,null,null,null,null,null,null,null,null,null,{"$error":"#VALUE!"},{"$error":"#VALUE!"},null,null,null,null,null,null,null,null,"","","","","","",""]
[null,null,null,null,null,null,null,null,null,null,null,null,null,null,"","","","",{"$error":"#VALUE!"},"","","","","","","","","","",null,null,null,null,null,null,null,null,null,null,null,null,null,null,null,null,null,null,null,null,null,null,null,{"$error":"#VALUE!"},{"$error":"#VALUE!"},null,null,null,null,null,null,null,null,"","","","","","",""]
[null,null,null,null,null,null,null,null,null,null,null,null,null,null,"","","","",{"$error":"#VALUE!"},"","","","","","","","","","",null,null,null,null,null,null,null,null,null,null,null,null,null,null,null,null,null,null,null,null,null,null,null,{"$error":"#VALUE!"},{"$error":"#VALUE!"},null,null,null,null,null,null,null,null,"","","","","","",""]
[null,null,null,null,null,null,null,null,null,null,null,null,null,null,"","","","",{"$error":"#VALUE!"},"","","","","","","","","","",null,null,null,null,null,null,null,null,null,null,null,null,null,null,null,null,null,null,null,null,null,null,null,{"$error":"#VALUE!"},{"$error":"#VALUE!"},null,null,null,null,null,null,null,null,"","","","","","",""]
[null,null,null,null,null,null,null,null,null,null,null,null,null,null,"","","","",{"$error":"#VALUE!"},"","","","","","","","","","",null,null,null,null,null,null,null,null,null,null,null,null,null,null,null,null,null,null,null,null,null,null,null,{"$error":"#VALUE!"},{"$error":"#VALUE!"},null,null,null,null,null,null,null,null,"","","","","","",""]
[null,null,null,null,null,null,null,null,null,null,null,null,null,null,"","","","",{"$error":"#VALUE!"},"","","","","","","","","","",null,null,null,null,null,null,null,null,null,null,null,null,null,null,null,null,null,null,null,null,null,null,null,{"$error":"#VALUE!"},{"$error":"#VALUE!"},null,null,null,null,null,null,null,null,"","","","","","",""]
[null,null,null,null,null,null,null,null,null,null,null,null,null,null,"","","","",{"$error":"#VALUE!"},"","","","","","","","","","",null,null,null,null,null,null,null,null,null,null,null,null,null,null,null,null,null,null,null,null,null,null,null,{"$error":"#VALUE!"},{"$error":"#VALUE!"},null,null,null,null,null,null,null,null,"","","","","","",""]
[null,null,null,null,null,null,null,null,null,null,null,null,null,null,"","","","",{"$error":"#VALUE!"},"","","","","","","","","","",null,null,null,null,null,null,null,null,null,null,null,null,null,null,null,null,null,null,null,null,null,null,null,{"$error":"#VALUE!"},{"$error":"#VALUE!"},null,null,null,null,null,null,null,null,"","","","","","",""]
[null,null,null,null,null,null,null,null,null,null,null,null,null,null,"","","","",{"$error":"#VALUE!"},"","","","","","","","","","",null,null,null,null,null,null,null,null,null,null,null,null,null,null,null,null,null,null,null,null,null,null,null,{"$error":"#VALUE!"},{"$error":"#VALUE!"},null,null,null,null,null,null,null,null,"","","","","","",""]
[null,null,null,null,null,null,null,null,null,null,null,null,null,null,"","","","",{"$error":"#VALUE!"},"","","","","","","","","","",null,null,null,null,null,null,null,null,null,null,null,null,null,null,null,null,null,null,null,null,null,null,null,{"$error":"#VALUE!"},{"$error":"#VALUE!"},null,null,null,null,null,null,null,null,"","","","","","",""]
[null,null,null,null,null,null,null,null,null,null,null,null,null,null,"","","","",{"$error":"#VALUE!"},"","","","","","","","","","",null,null,null,null,null,null,null,null,null,null,null,null,null,null,null,null,null,null,null,null,null,null,null,{"$error":"#VALUE!"},{"$error":"#VALUE!"},null,null,null,null,null,null,null,null,"","","","","","",""]
[null,null,null,null,null,null,null,null,null,null,null,null,null,null,"","","","",{"$error":"#VALUE!"},"","","","","","","","","","",null,null,null,null,null,null,null,null,null,null,null,null,null,null,null,null,null,null,null,null,null,null,null,{"$error":"#VALUE!"},{"$error":"#VALUE!"},null,null,null,null,null,null,null,null,"","","","","","",""]
[null,null,null,null,null,null,null,null,null,null,null,null,null,null,"","","","",{"$error":"#VALUE!"},"","","","","","","","","","",null,null,null,null,null,null,null,null,null,null,null,null,null,null,null,null,null,null,null,null,null,null,null,{"$error":"#VALUE!"},{"$error":"#VALUE!"},null,null,null,null,null,null,null,null,"","","","","","",""]
[null,null,null,null,null,null,null,null,null,null,null,null,null,null,"","","","",{"$error":"#VALUE!"},"","","","","","","","","","",null,null,null,null,null,null,null,null,null,null,null,null,null,null,null,null,null,null,null,null,null,null,null,{"$error":"#VALUE!"},{"$error":"#VALUE!"},null,null,null,null,null,null,null,null,"","","","","","",""]
[null,null,null,null,null,null,null,null,null,null,null,null,null,null,"","","","",{"$error":"#VALUE!"},"","","","","","","","","","",null,null,null,null,null,null,null,null,null,null,null,null,null,null,null,null,null,null,null,null,null,null,null,{"$error":"#VALUE!"},{"$error":"#VALUE!"},null,null,null,null,null,null,null,null,"","","","","","",""]
[null,null,null,null,null,null,null,null,null,null,null,null,null,null,"","","","",{"$error":"#VALUE!"},"","","","","","","","","","",null,null,null,null,null,null,null,null,null,null,null,null,null,null,null,null,null,null,null,null,null,null,null,{"$error":"#VALUE!"},{"$error":"#VALUE!"},null,null,null,null,null,null,null,null,"","","","","","",""]
[null,null,null,null,null,null,null,null,null,null,null,null,null,null,"","","","",{"$error":"#VALUE!"},"","","","","","","","","","",null,null,null,null,null,null,null,null,null,null,null,null,null,null,null,null,null,null,null,null,null,null,null,{"$error":"#VALUE!"},{"$error":"#VALUE!"},null,null,null,null,null,null,null,null,"","","","","","",""]
[null,null,null,null,null,null,null,null,null,null,null,null,null,null,"","","","",{"$error":"#VALUE!"},"","","","","","","","","","",null,null,null,null,null,null,null,null,null,null,null,null,null,null,null,null,null,null,null,null,null,null,null,{"$error":"#VALUE!"},{"$error":"#VALUE!"},null,null,null,null,null,null,null,null,"","","","","","",""]
[null,null,null,null,null,null,null,null,null,null,null,null,null,null,"","","","",{"$error":"#VALUE!"},"","","","","","","","","","",null,null,null,null,null,null,null,null,null,null,null,null,null,null,null,null,null,null,null,null,null,null,null,{"$error":"#VALUE!"},{"$error":"#VALUE!"},null,null,null,null,null,null,null,null,"","","","","","",""]
[null,null,null,null,null,null,null,null,null,null,null,null,null,null,"","","","",{"$error":"#VALUE!"},"","","","","","","","","","",null,null,null,null,null,null,null,null,null,null,null,null,null,null,null,null,null,null,null,null,null,null,null,{"$error":"#VALUE!"},{"$error":"#VALUE!"},null,null,null,null,null,null,null,null,"","","","","","",""]
[null,null,null,null,null,null,null,null,null,null,null,null,null,null,"","","","",{"$error":"#VALUE!"},"","","","","","","","","","",null,null,null,null,null,null,null,null,null,null,null,null,null,null,null,null,null,null,null,null,null,null,null,{"$error":"#VALUE!"},{"$error":"#VALUE!"},null,null,null,null,null,null,null,null,"","","","","","",""]
[null,null,null,null,null,null,null,null,null,null,null,null,null,null,"","","","",{"$error":"#VALUE!"},"","","","","","","","","","",null,null,null,null,null,null,null,null,null,null,null,null,null,null,null,null,null,null,null,null,null,null,null,{"$error":"#VALUE!"},{"$error":"#VALUE!"},null,null,null,null,null,null,null,null,"","","","","","",""]
[null,null,null,null,null,null,null,null,null,null,null,null,null,null,"","","","",{"$error":"#VALUE!"},"","","","","","","","","","",null,null,null,null,null,null,null,null,null,null,null,null,null,null,null,null,null,null,null,null,null,null,null,{"$error":"#VALUE!"},{"$error":"#VALUE!"},null,null,null,null,null,null,null,null,"","","","","","",""]
[null,null,null,null,null,null,null,null,null,null,null,null,null,null,"","","","",{"$error":"#VALUE!"},"","","","","","","","","","",null,null,null,null,null,null,null,null,null,null,null,null,null,null,null,null,null,null,null,null,null,null,null,{"$error":"#VALUE!"},{"$error":"#VALUE!"},null,null,null,null,null,null,null,null,"","","","","","",""]
[null,null,null,null,null,null,null,null,null,null,null,null,null,null,"","","","",{"$error":"#VALUE!"},"","","","","","","","","","",null,null,null,null,null,null,null,null,null,null,null,null,null,null,null,null,null,null,null,null,null,null,null,{"$error":"#VALUE!"},{"$error":"#VALUE!"},null,null,null,null,null,null,null,null,"","","","","","",""]
[null,null,null,null,null,null,null,null,null,null,null,null,null,null,"","","","",{"$error":"#VALUE!"},"","","","","","","","","","",null,null,null,null,null,null,null,null,null,null,null,null,null,null,null,null,null,null,null,null,null,null,null,{"$error":"#VALUE!"},{"$error":"#VALUE!"},null,null,null,null,null,null,null,null,"","","","","","",""]
[null,null,null,null,null,null,null,null,null,null,null,null,null,null,"","","","",{"$error":"#VALUE!"},"","","","","","","","","","",null,null,null,null,null,null,null,null,null,null,null,null,null,null,null,null,null,null,null,null,null,null,null,{"$error":"#VALUE!"},{"$error":"#VALUE!"},null,null,null,null,null,null,null,null,"","","","","","",""]
[null,null,null,null,null,null,null,null,null,null,null,null,null,null,"","","","",{"$error":"#VALUE!"},"","","","","","","","","","",null,null,null,null,null,null,null,null,null,null,null,null,null,null,null,null,null,null,null,null,null,null,null,{"$error":"#VALUE!"},{"$error":"#VALUE!"},null,null,null,null,null,null,null,null,"","","","","","",""]
[null,null,null,null,null,null,null,null,null,null,null,null,null,null,"","","","",{"$error":"#VALUE!"},"","","",{"$f":"IF(G772<h,(\"\"),(IF(G772<h+dzd,(0),(IF(N772=\"\",(W771+H772*(G772-G771)),(W771+(I772-9.81)*(G772-G771)))))))","v":""},"","",{"$f":"IF(Y772=\"\",X772,X772+Y772)","v":""},{"$f":"IF(N772=\"\",(\"\"),IF(G772>h,AA771,((G772-nz)*9.81)))","v":""},"","",null,null,null,null,null,null,null,null,null,null,null,null,null,null,null,null,null,null,null,null,null,null,null,{"$error":"#VALUE!"},{"$error":"#VALUE!"},null,null,null,null,null,null,null,null,"","","","","","",""]
[null,null,null,null,null,null,null,null,null,null,null,null,null,null,"","","","",{"$error":"#VALUE!"},"","","","","","","","","","",null,null,null,null,null,null,null,null,null,null,null,null,null,null,null,null,null,null,null,null,null,null,null,{"$error":"#VALUE!"},{"$error":"#VALUE!"},null,null,null,null,null,null,null,null,"","","","","","",""]
[null,null,null,null,null,null,null,null,null,null,null,null,null,null,"","","",{"$f":"IF(L774=\"\",\"\",(IF(G774=\"\",\"\",IF(G774=h,(R775),(IF(N774=\"\",$E$11,($E$11*V774/W774)))))))","v":""},{"$error":"#VALUE!"},"","",{"$f":"IF(G774<h,(\"\"),(IF(G774<h+dzd,(0),(IF(N774=\"\",(V773+H774*(G774-G773)),(V773+(I774)*(G774-G773)))))))","v":""},"","",{"$f":"IF(G774<h,(\"\"),((-P774*W774-2*J774*(P774^0.5))*COS(RADIANS(M774))))","v":""},"","",{"$f":"IF(G774=\"\",\"\",IF(G774>hd,0,IF($A$27=1,BK774,IF($A$27=2,BL774,IF($A$27=3,BM774,IF($A$27=4,BN774+ka*($E$4+$E$5),IF($A$27=5,BP774,IF($A$27=6,BO774,BQ774))))))))","v":""},{"$f":"IF(G774>h,\"\",IF(G774=\"\",\"\",IF($A$28=1,IF(G774<0.25*h,0.3*$E$13*h*G774/0.25/h,IF(G774<0.75*h,0.3*$E$13*h,0.3*$E$13*h*(1-(G774-0.75*h)/0.25/h))),(2))))","v":""},null,null,null,null,null,null,null,null,null,null,null,null,null,null,null,null,null,null,null,null,null,null,null,{"$error":"#VALUE!"},{"$error":"#VALUE!"},null,null,null,null,null,null,null,null,{"$f":"IF(G774=\"\",\"\",IF(G774>hd,0,(IF(G774<0.2*(hd),(1.6*($AH$20+$AH$21)/(hd)/0.2/(hd)*G774),(IF(G774<0.8*(hd),(1.6*($AH$20+$AH$21)/(hd)),(1.6*($AH$20+$AH$21)/(hd)-1.6*($AH$20+$AH$21)/(hd)/0.2/(hd)*(G774-0.8*(hd)))))))))","v":""},{"$f":"IF(G774=\"\",\"\",IF(G774>hd,0,(IF(G774<((2/3)*$AH$6),(1.3*($AH$20+$AH$21)/(hd-(1/3)*($AH$6+(hd-MAX($AP$6:$AP$15))))*G774/(2/3*$AH$6)),(IF(G774<(h-2/3*(hd-MAX($AP$6:$AP$15))),1.3*($AH$20+$AH$21)/(hd-1/3*($AH$6+(hd-MAX($AP$6:$AP$15)))),1.3*($AH$20+$AH$21)/(hd-1/3*($AH$6+(hd-MAX($AP$6:$AP$15))))*(1-(G774-(hd-2/3*(hd-MAX($AP$6:$AP$15))))/(2/3*(hd-MAX($AP$6:$AP$15))))))))))","v":""},{"$f":"IF(G774=\"\",\"\",IF(G774>hd,0,(IF(G774<(0.6667*$AH$6),(0.3*g*hd*G774/(0.6667*$AH$6)),(IF(G774<(hd-0.6667*(hd-MAX($AP$6:$AP$15))),0.3*g*hd,0.3*g*hd*(1-(G774-(hd-0.6667*(hd-MAX($AP$6:$AP$15))))/(0.6667*(hd-MAX($AP$6:$AP$15))))))))))","v":""},{"$f":"IF(G774=\"\",\"\",IF(G774>hd,0,(IF(G774<((2/3)*$AH$6),(0.65*ka*g*hd*hd/(hd-(1/3)*($AH$6+(hd-MAX($AP$6:$AP$15))))*G774/(2/3*$AH$6)),(IF(G774<(h-2/3*(hd-MAX($AP$6:$AP$15))),0.65*ka*g*hd*hd/(hd-1/3*($AH$6+(hd-MAX($AP$6:$AP$15)))),0.65*ka*g*hd*hd/(hd-1/3*($AH$6+(hd-MAX($AP$6:$AP$15))))*(1-(G774-(hd-2/3*(hd-MAX($AP$6:$AP$15))))/(2/3*(hd-MAX($AP$6:$AP$15))))))))))","v":""},{"$f":"IF(G774=\"\",\"\",IF(G774>hd,0,(IF(G774<(0.25*hd),(0.3*g*h*G774/(0.25*hd)),(IF(G774<(0.75*hd),0.3*g*h,0.3*g*h*(1-(G774-0.75*hd)/0.25/hd)))))))","v":""},{"$f":"IF(G774>hd,0,IF(G774=\"\",\"\",0.65*ka*g*hd))","v":""},{"$f":"IF(G774=\"\",\"\",IF(G774>hd,0,(IF(G774<(0.25*hd),(1-4*ca/g/hd)*g*hd*G774/(0.25*hd),((1-4*ca/g/hd)*g*hd)))))","v":""}]
[null,null,null,null,null,null,null,null,null,null,null,null,null,null,{"$f":"IF(G775=\"\",(\"\"),((SIN(RADIANS($E$9+BA775-K775)))^2)*((SIN(RADIANS($E$9)))^-2)*((COS(RADIANS(BA775)))^-1)*((SIN((RADIANS($E$9+BA775+M775))))^-1)/(1+((SIN(RADIANS(K775+M775)))*(SIN((RADIANS(K775-$E$7-BA775))/(SIN(RADIANS($E$9-$E$7)))/(SIN((RADIANS($E$9+BA775+M775)))))))^0.5)^2)","v":""},{"$f":"IF(L775=\"\",(\"\"),((SIN(RADIANS($E$9-BB775+L775)))^2)*((SIN(RADIANS($E$9)))^-2)*((COS(RADIANS(BB775)))^-1)*((SIN((RADIANS($E$9-BB775-M775))))^-1)/(1-((SIN(RADIANS(L775+M775)))*(SIN((RADIANS(L775+$E$7-BB775))/(SIN(RADIANS($E$9-$E$7)))/(SIN((RADIANS($E$9-BB775-M775)))))))^0.5)^2)","v":""},{"$f":"IF(G775=\"\",\"\",(IF(N775=\"\",$E$11,($E$11*T775/U775))))","v":""},"",{"$f":"IF(G775=\"\",\"\",0.5*PI()-ATAN((-TAN(RADIANS(K775+M775+(90-$E$9)-$E$7)))+(1/(COS(RADIANS(K775+M775+(90-$E$9)-$E$7))))*((COS((RADIANS(90-$E$9+M775+BA775))))^0.5)*((SIN(RADIANS(K775+M775)))^0.5)*((COS(RADIANS(90-$E$9-$E$7)))^-0.5)*((SIN(RADIANS(K775-$E$7-BA775)))^-0.5)))+$E$7","v":{"$error":"#VALUE!"}},"","","","","","","","","","",null,null,null,null,null,null,null,null,null,null,null,null,null,null,null,null,null,null,null,null,null,null,null,{"$f":"ATAN(Q775)/0.017453","v":{"$error":"#VALUE!"}},{"$f":"ATAN(Q775)/0.017453","v":{"$error":"#VALUE!"}},null,null,null,null,null,null,null,null,"","","","","","",""]
[null,null,null,null,null,null,null,null,null,null,null,null,null,null,"","","","",{"$error":"#VALUE!"},{"$f":"IF(G776=\"\",(\"\"),(IF(N776=\"\",(T775+(G776-G775)*H775),(T775+(G776-G775)*(I775)))))","v":""},{"$f":"IF(G776=\"\",(\"\"),(IF(N776=\"\",(U775+(G776-G775)*H775),(U775+(G776-G775)*(I775-9.81)))))","v":""},"","",{"$f":"IF(G776=\"\",(\"\"),((O776*U776-2*J776*(O776)^0.5))*COS(RADIANS(M776)))","v":""},"","","","","",null,null,null,null,null,null,null,null,null,null,null,null,null,null,null,null,null,null,null,null,null,null,null,{"$error":"#VALUE!"},{"$error":"#VALUE!"},null,null,null,null,null,null,null,null,"","","","","","",""]
[null,null,null,null,null,null,null,null,null,null,null,null,null,null,"","","","",{"$error":"#VALUE!"},"","","","","","","","","","",null,null,null,null,null,null,null,null,null,null,null,null,null,null,null,null,null,null,null,null,null,null,null,{"$error":"#VALUE!"},{"$error":"#VALUE!"},null,null,null,null,null,null,null,null,"","","","","","",""]
[null,null,null,null,null,null,null,null,null,null,null,null,null,null,"","","","",{"$error":"#VALUE!"},"","","","","","","","","","",null,null,null,null,null,null,null,null,null,null,null,null,null,null,null,null,null,null,null,null,null,null,null,{"$error":"#VALUE!"},{"$error":"#VALUE!"},null,null,null,null,null,null,null,null,"","","","","","",""]
[null,null,null,null,null,null,null,null,null,null,null,null,null,null,"","","","",{"$error":"#VALUE!"},"","","","","","","","","","",null,null,null,null,null,null,null,null,null,null,null,null,null,null,null,null,null,null,null,null,null,null,null,{"$error":"#VALUE!"},{"$error":"#VALUE!"},null,null,null,null,null,null,null,null,"","","","","","",""]
[null,null,null,null,null,null,null,null,null,null,null,null,null,null,"","","","",{"$error":"#VALUE!"},"","","","","","","","","","",null,null,null,null,null,null,null,null,null,null,null,null,null,null,null,null,null,null,null,null,null,null,null,{"$error":"#VALUE!"},{"$error":"#VALUE!"},null,null,null,null,null,null,null,null,"","","","","","",""]
[null,null,null,null,null,null,null,null,null,null,null,null,null,null,"","","","",{"$error":"#VALUE!"},"","","","","","","","","","",null,null,null,null,null,null,null,null,null,null,null,null,null,null,null,null,null,null,null,null,null,null,null,{"$error":"#VALUE!"},{"$error":"#VALUE!"},null,null,null,null,null,null,null,null,"","","","","","",""]
[null,null,null,null,null,null,null,null,null,null,null,null,null,null,"","","","",{"$error":"#VALUE!"},"","","","","","","","","","",null,null,null,null,null,null,null,null,null,null,null,null,null,null,null,null,null,null,null,null,null,null,null,{"$error":"#VALUE!"},{"$error":"#VALUE!"},null,null,null,null,null,null,null,null,"","","","","","",""]
[null,null,null,null,null,null,null,null,null,null,null,null,null,null,"","","","",{"$error":"#VALUE!"},"","","","","","","","","","",null,null,null,null,null,null,null,null,null,null,null,null,null,null,null,null,null,null,null,null,null,null,null,{"$error":"#VALUE!"},{"$error":"#VALUE!"},null,null,null,null,null,null,null,null,"","","","","","",""]
[null,null,null,null,null,null,null,null,null,null,null,null,null,null,"","","","",{"$error":"#VALUE!"},"","","","","","","","","","",null,null,null,null,null,null,null,null,null,null,null,null,null,null,null,null,null,null,null,null,null,null,null,{"$error":"#VALUE!"},{"$error":"#VALUE!"},null,null,null,null,null,null,null,null,"","","","","","",""]
[null,null,null,null,null,null,null,null,null,null,null,null,null,null,"","","","",{"$error":"#VALUE!"},"","","","","","","","","","",null,null,null,null,null,null,null,null,null,null,null,null,null,null,null,null,null,null,null,null,null,null,null,{"$error":"#VALUE!"},{"$error":"#VALUE!"},null,null,null,null,null,null,null,null,"","","","","","",""]
[null,null,null,null,null,null,null,null,null,null,null,null,null,null,"","","","",{"$error":"#VALUE!"},"","","","","","","","","","",null,null,null,null,null,null,null,null,null,null,null,null,null,null,null,null,null,null,null,null,null,null,null,{"$error":"#VALUE!"},{"$error":"#VALUE!"},null,null,null,null,null,null,null,null,"","","","","","",""]
[null,null,null,null,null,null,null,null,null,null,null,null,null,null,"","","","",{"$error":"#VALUE!"},"","","","","","","","","","",null,null,null,null,null,null,null,null,null,null,null,null,null,null,null,null,null,null,null,null,null,null,null,{"$error":"#VALUE!"},{"$error":"#VALUE!"},null,null,null,null,null,null,null,null,"","","","","","",""]
[null,null,null,null,null,null,null,null,null,null,null,null,null,null,"","","","",{"$error":"#VALUE!"},"","","","","","","","","","",null,null,null,null,null,null,null,null,null,null,null,null,null,null,null,null,null,null,null,null,null,null,null,{"$error":"#VALUE!"},{"$error":"#VALUE!"},null,null,null,null,null,null,null,null,"","","","","","",""]
[null,null,null,null,null,null,null,null,null,null,null,null,null,null,"","","","",{"$error":"#VALUE!"},"","","","","","","","","","",null,null,null,null,null,null,null,null,null,null,null,null,null,null,null,null,null,null,null,null,null,null,null,{"$error":"#VALUE!"},{"$error":"#VALUE!"},null,null,null,null,null,null,null,null,"","","","","","",""]
[null,null,null,null,null,null,null,null,null,null,null,null,null,null,"","","","",{"$error":"#VALUE!"},"","","","","","","","","","",null,null,null,null,null,null,null,null,null,null,null,null,null,null,null,null,null,null,null,null,null,null,null,{"$error":"#VALUE!"},{"$error":"#VALUE!"},null,null,null,null,null,null,null,null,"","","","","","",""]
[null,null,null,null,null,null,null,null,null,null,null,null,null,null,"","","","",{"$error":"#VALUE!"},"","","","","","","","","","",null,null,null,null,null,null,null,null,null,null,null,null,null,null,null,null,null,null,null,null,null,null,null,{"$error":"#VALUE!"},{"$error":"#VALUE!"},null,null,null,null,null,null,null,null,"","","","","","",""]
[null,null,null,null,null,null,null,null,null,null,null,null,null,null,"","","","",{"$error":"#VALUE!"},"","","","","","","","","","",null,null,null,null,null,null,null,null,null,null,null,null,null,null,null,null,null,null,null,null,null,null,null,{"$error":"#VALUE!"},{"$error":"#VALUE!"},null,null,null,null,null,null,null,null,"","","","","","",""]
[null,null,null,null,null,null,null,null,null,null,null,null,null,null,"","","","",{"$error":"#VALUE!"},"","","","","","","","","","",null,null,null,null,null,null,null,null,null,null,null,null,null,null,null,null,null,null,null,null,null,null,null,{"$error":"#VALUE!"},{"$error":"#VALUE!"},null,null,null,null,null,null,null,null,"","","","","","",""]
[null,null,null,null,null,null,null,null,null,null,null,null,null,null,"","","","",{"$error":"#VALUE!"},"","","","","","","","","","",null,null,null,null,null,null,null,null,null,null,null,null,null,null,null,null,null,null,null,null,null,null,null,{"$error":"#VALUE!"},{"$error":"#VALUE!"},null,null,null,null,null,null,null,null,"","","","","","",""]
[null,null,null,null,null,null,null,null,null,null,null,null,null,null,"","","","",{"$error":"#VALUE!"},"","","","","","","","","","",null,null,null,null,null,null,null,null,null,null,null,null,null,null,null,null,null,null,null,null,null,null,null,{"$error":"#VALUE!"},{"$error":"#VALUE!"},null,null,null,null,null,null,null,null,"","","","","","",""]
[null,null,null,null,null,null,null,null,null,null,null,null,null,null,"","","","",{"$error":"#VALUE!"},"","","","","","","","","","",null,null,null,null,null,null,null,null,null,null,null,null,null,null,null,null,null,null,null,null,null,null,null,{"$error":"#VALUE!"},{"$error":"#VALUE!"},null,null,null,null,null,null,null,null,"","","","","","",""]
[null,null,null,null,null,null,null,null,null,null,null,null,null,null,"","","","",{"$error":"#VALUE!"},"","","","","","","","","","",null,null,null,null,null,null,null,null,null,null,null,null,null,null,null,null,null,null,null,null,null,null,null,{"$error":"#VALUE!"},{"$error":"#VALUE!"},null,null,null,null,null,null,null,null,"","","","","","",""]
[null,null,null,null,null,null,null,null,null,null,null,null,null,null,"","","","",{"$error":"#VALUE!"},"","","","","","","","","","",null,null,null,null,null,null,null,null,null,null,null,null,null,null,null,null,null,null,null,null,null,null,null,{"$error":"#VALUE!"},{"$error":"#VALUE!"},null,null,null,null,null,null,null,null,"","","","","","",""]
[null,null,null,null,null,null,null,null,null,null,null,null,null,null,"","","","",{"$error":"#VALUE!"},"","","","","","","","","","",null,null,null,null,null,null,null,null,null,null,null,null,null,null,null,null,null,null,null,null,null,null,null,{"$error":"#VALUE!"},{"$error":"#VALUE!"},null,null,null,null,null,null,null,null,"","","","","","",""]
[null,null,null,null,null,null,null,null,null,null,null,null,null,null,"","","","",{"$error":"#VALUE!"},"","","","","","","","","","",null,null,null,null,null,null,null,null,null,null,null,null,null,null,null,null,null,null,null,null,null,null,null,{"$error":"#VALUE!"},{"$error":"#VALUE!"},null,null,null,null,null,null,null,null,"","","","","","",""]
[null,null,null,null,null,null,null,null,null,null,null,null,null,null,"","","","",{"$error":"#VALUE!"},"","","","","","","","","","",null,null,null,null,null,null,null,null,null,null,null,null,null,null,null,null,null,null,null,null,null,null,null,{"$error":"#VALUE!"},{"$error":"#VALUE!"},null,null,null,null,null,null,null,null,"","","","","","",""]
[null,null,null,null,null,null,null,null,null,null,null,null,null,null,"","","","",{"$error":"#VALUE!"},"","","","","","","","","","",null,null,null,null,null,null,null,null,null,null,null,null,null,null,null,null,null,null,null,null,null,null,null,{"$error":"#VALUE!"},{"$error":"#VALUE!"},null,null,null,null,null,null,null,null,"","","","","","",""]
[null,null,null,null,null,null,null,null,null,null,null,null,null,null,"","","","",{"$error":"#VALUE!"},"","","","","","","","","","",null,null,null,null,null,null,null,null,null,null,null,null,null,null,null,null,null,null,null,null,null,null,null,{"$error":"#VALUE!"},{"$error":"#VALUE!"},null,null,null,null,null,null,null,null,"","","","","","",""]
[null,null,null,null,null,null,null,null,null,null,null,null,null,null,"","","","",{"$error":"#VALUE!"},"","","","","","","","","","",null,null,null,null,null,null,null,null,null,null,null,null,null,null,null,null,null,null,null,null,null,null,null,{"$error":"#VALUE!"},{"$error":"#VALUE!"},null,null,null,null,null,null,null,null,"","","","","","",""]
[null,null,null,null,null,null,null,null,null,null,null,null,null,null,"","","","",{"$error":"#VALUE!"},"","","","","","","","","","",null,null,null,null,null,null,null,null,null,null,null,null,null,null,null,null,null,null,null,null,null,null,null,{"$error":"#VALUE!"},{"$error":"#VALUE!"},null,null,null,null,null,null,null,null,"","","","","","",""]
[null,null,null,null,null,null,null,null,null,null,null,null,null,null,"","","","",{"$error":"#VALUE!"},"","","","","","","","","","",null,null,null,null,null,null,null,null,null,null,null,null,null,null,null,null,null,null,null,null,null,null,null,{"$error":"#VALUE!"},{"$error":"#VALUE!"},null,null,null,null,null,null,null,null,"","","","","","",""]
[null,null,null,null,null,null,null,null,null,null,null,null,null,null,"","","","",{"$error":"#VALUE!"},"","","","","","","","","","",null,null,null,null,null,null,null,null,null,null,null,null,null,null,null,null,null,null,null,null,null,null,null,{"$error":"#VALUE!"},{"$error":"#VALUE!"},null,null,null,null,null,null,null,null,"","","","","","",""]
[null,null,null,null,null,null,null,null,null,null,null,null,null,null,"","","","",{"$error":"#VALUE!"},"","","","","","","","","","",null,null,null,null,null,null,null,null,null,null,null,null,null,null,null,null,null,null,null,null,null,null,null,{"$error":"#VALUE!"},{"$error":"#VALUE!"},null,null,null,null,null,null,null,null,"","","","","","",""]
[null,null,null,null,null,null,null,null,null,null,null,null,null,null,"","","","",{"$error":"#VALUE!"},"","","","","","","","","","",null,null,null,null,null,null,null,null,null,null,null,null,null,null,null,null,null,null,null,null,null,null,null,{"$error":"#VALUE!"},{"$error":"#VALUE!"},null,null,null,null,null,null,null,null,"","","","","","",""]
[null,null,null,null,null,null,null,null,null,null,null,null,null,null,"","","","",{"$error":"#VALUE!"},"","","","","","","","","","",null,null,null,null,null,null,null,null,null,null,null,null,null,null,null,null,null,null,null,null,null,null,null,{"$error":"#VALUE!"},{"$error":"#VALUE!"},null,null,null,null,null,null,null,null,"","","","","","",""]
[null,null,null,null,null,null,null,null,null,null,null,null,null,null,"","","","",{"$error":"#VALUE!"},"","","","","","","","","","",null,null,null,null,null,null,null,null,null,null,null,null,null,null,null,null,null,null,null,null,null,null,null,{"$error":"#VALUE!"},{"$error":"#VALUE!"},null,null,null,null,null,null,null,null,"","","","","","",""]
[null,null,null,null,null,null,null,null,null,null,null,null,null,null,"","","","",{"$error":"#VALUE!"},"","","","","","","","","","",null,null,null,null,null,null,null,null,null,null,null,null,null,null,null,null,null,null,null,null,null,null,null,{"$error":"#VALUE!"},{"$error":"#VALUE!"},null,null,null,null,null,null,null,null,"","","","","","",""]
[null,null,null,null,null,null,null,null,null,null,null,null,null,null,"","","","",{"$error":"#VALUE!"},"","","","","","","","","","",null,null,null,null,null,null,null,null,null,null,null,null,null,null,null,null,null,null,null,null,null,null,null,{"$error":"#VALUE!"},{"$error":"#VALUE!"},null,null,null,null,null,null,null,null,"","","","","","",""]
[null,null,null,null,null,null,null,null,null,null,null,null,null,null,"","","","",{"$error":"#VALUE!"},"","","","","","","","","","",null,null,null,null,null,null,null,null,null,null,null,null,null,null,null,null,null,null,null,null,null,null,null,{"$error":"#VALUE!"},{"$error":"#VALUE!"},null,null,null,null,null,null,null,null,"","","","","","",""]
[null,null,null,null,null,null,null,null,null,null,null,null,null,null,"","","","",{"$error":"#VALUE!"},"","","","","","","","","","",null,null,null,null,null,null,null,null,null,null,null,null,null,null,null,null,null,null,null,null,null,null,null,{"$error":"#VALUE!"},{"$error":"#VALUE!"},null,null,null,null,null,null,null,null,"","","","","","",""]
[null,null,null,null,null,null,null,null,null,null,null,null,null,null,"","","","",{"$error":"#VALUE!"},"","","","","","","","","","",null,null,null,null,null,null,null,null,null,null,null,null,null,null,null,null,null,null,null,null,null,null,null,{"$error":"#VALUE!"},{"$error":"#VALUE!"},null,null,null,null,null,null,null,null,"","","","","","",""]
[null,null,null,null,null,null,null,null,null,null,null,null,null,null,"","","","",{"$error":"#VALUE!"},"","","","","","","","","","",null,null,null,null,null,null,null,null,null,null,null,null,null,null,null,null,null,null,null,null,null,null,null,{"$error":"#VALUE!"},{"$error":"#VALUE!"},null,null,null,null,null,null,null,null,"","","","","","",""]
[null,null,null,null,null,null,null,null,null,null,null,null,null,null,"","","","",{"$error":"#VALUE!"},"","","","","","","","","","",null,null,null,null,null,null,null,null,null,null,null,null,null,null,null,null,null,null,null,null,null,null,null,{"$error":"#VALUE!"},{"$error":"#VALUE!"},null,null,null,null,null,null,null,null,"","","","","","",""]
[null,null,null,null,null,null,null,null,null,null,null,null,null,null,"","","","",{"$error":"#VALUE!"},"","","","","","","","","","",null,null,null,null,null,null,null,null,null,null,null,null,null,null,null,null,null,null,null,null,null,null,null,{"$error":"#VALUE!"},{"$error":"#VALUE!"},null,null,null,null,null,null,null,null,"","","","","","",""]
[null,null,null,null,null,null,null,null,null,null,null,null,null,null,"","","","",{"$error":"#VALUE!"},"","","","","","","","","","",null,null,null,null,null,null,null,null,null,null,null,null,null,null,null,null,null,null,null,null,null,null,null,{"$error":"#VALUE!"},{"$error":"#VALUE!"},null,null,null,null,null,null,null,null,"","","","","","",""]
[null,null,null,null,null,null,null,null,null,null,null,null,null,null,"","","","",{"$error":"#VALUE!"},"","","","","","","","","","",null,null,null,null,null,null,null,null,null,null,null,null,null,null,null,null,null,null,null,null,null,null,null,{"$error":"#VALUE!"},{"$error":"#VALUE!"},null,null,null,null,null,null,null,null,"","","","","","",""]
[null,null,null,null,null,null,null,null,null,null,null,null,null,null,"","","","",{"$error":"#VALUE!"},"","","","","","","","","","",null,null,null,null,null,null,null,null,null,null,null,null,null,null,null,null,null,null,null,null,null,null,null,{"$error":"#VALUE!"},{"$error":"#VALUE!"},null,null,null,null,null,null,null,null,"","","","","","",""]
[null,null,null,null,null,null,null,null,null,null,null,null,null,null,"","","","",{"$error":"#VALUE!"},"","","","","","","","","","",null,null,null,null,null,null,null,null,null,null,null,null,null,null,null,null,null,null,null,null,null,null,null,{"$error":"#VALUE!"},{"$error":"#VALUE!"},null,null,null,null,null,null,null,null,"","","","","","",""]
[null,null,null,null,null,null,null,null,null,null,null,null,null,null,"","","","",{"$error":"#VALUE!"},"","","","","","","","","","",null,null,null,null,null,null,null,null,null,null,null,null,null,null,null,null,null,null,null,null,null,null,null,{"$error":"#VALUE!"},{"$error":"#VALUE!"},null,null,null,null,null,null,null,null,"","","","","","",""]
[null,null,null,null,null,null,null,null,null,null,null,null,null,null,"","","","",{"$error":"#VALUE!"},"","","","","","","","","","",null,null,null,null,null,null,null,null,null,null,null,null,null,null,null,null,null,null,null,null,null,null,null,{"$error":"#VALUE!"},{"$error":"#VALUE!"},null,null,null,null,null,null,null,null,"","","","","","",""]
[null,null,null,null,null,null,null,null,null,null,null,null,null,null,"","","","",{"$error":"#VALUE!"},"","","","","","","","","","",null,null,null,null,null,null,null,null,null,null,null,null,null,null,null,null,null,null,null,null,null,null,null,{"$error":"#VALUE!"},{"$error":"#VALUE!"},null,null,null,null,null,null,null,null,"","","","","","",""]
[null,null,null,null,null,null,null,null,null,null,null,null,null,null,"","","","",{"$error":"#VALUE!"},"","","","","","","","","","",null,null,null,null,null,null,null,null,null,null,null,null,null,null,null,null,null,null,null,null,null,null,null,{"$error":"#VALUE!"},{"$error":"#VALUE!"},null,null,null,null,null,null,null,null,"","","","","","",""]
[null,null,null,null,null,null,null,null,null,null,null,null,null,null,"","","","",{"$error":"#VALUE!"},"","","","","","","","","","",null,null,null,null,null,null,null,null,null,null,null,null,null,null,null,null,null,null,null,null,null,null,null,{"$error":"#VALUE!"},{"$error":"#VALUE!"},null,null,null,null,null,null,null,null,"","","","","","",""]
[null,null,null,null,null,null,null,null,null,null,null,null,null,null,"","","","",{"$error":"#VALUE!"},"","","","","","","","","","",null,null,null,null,null,null,null,null,null,null,null,null,null,null,null,null,null,null,null,null,null,null,null,{"$error":"#VALUE!"},{"$error":"#VALUE!"},null,null,null,null,null,null,null,null,"","","","","","",""]
[null,null,null,null,null,null,null,null,null,null,null,null,null,null,"","","","",{"$error":"#VALUE!"},"","","","","","","","","","",null,null,null,null,null,null,null,null,null,null,null,null,null,null,null,null,null,null,null,null,null,null,null,{"$error":"#VALUE!"},{"$error":"#VALUE!"},null,null,null,null,null,null,null,null,"","","","","","",""]
[null,null,null,null,null,null,null,null,null,null,null,null,null,null,"","","","",{"$error":"#VALUE!"},"","","","","","","","","","",null,null,null,null,null,null,null,null,null,null,null,null,null,null,null,null,null,null,null,null,null,null,null,{"$error":"#VALUE!"},{"$error":"#VALUE!"},null,null,null,null,null,null,null,null,"","","","","","",""]
[null,null,null,null,null,null,null,null,null,null,null,null,null,null,"","","","",{"$error":"#VALUE!"},"","","","","","","","","","",null,null,null,null,null,null,null,null,null,null,null,null,null,null,null,null,null,null,null,null,null,null,null,{"$error":"#VALUE!"},{"$error":"#VALUE!"},null,null,null,null,null,null,null,null,"","","","","","",""]
[null,null,null,null,null,null,null,null,null,null,null,null,null,null,"","","","",{"$error":"#VALUE!"},"","","","","","","","","","",null,null,null,null,null,null,null,null,null,null,null,null,null,null,null,null,null,null,null,null,null,null,null,{"$error":"#VALUE!"},{"$error":"#VALUE!"},null,null,null,null,null,null,null,null,"","","","","","",""]
[null,null,null,null,null,null,null,null,null,null,null,null,null,null,"","","","",{"$error":"#VALUE!"},"","","","","","","","","","",null,null,null,null,null,null,null,null,null,null,null,null,null,null,null,null,null,null,null,null,null,null,null,{"$error":"#VALUE!"},{"$error":"#VALUE!"},null,null,null,null,null,null,null,null,"","","","","","",""]
[null,null,null,null,null,null,null,null,null,null,null,null,null,null,"","","","",{"$error":"#VALUE!"},"","","","","","","","","","",null,null,null,null,null,null,null,null,null,null,null,null,null,null,null,null,null,null,null,null,null,null,null,{"$error":"#VALUE!"},{"$error":"#VALUE!"},null,null,null,null,null,null,null,null,"","","","","","",""]
[null,null,null,null,null,null,null,null,null,null,null,null,null,null,"","","","",{"$error":"#VALUE!"},"","","",{"$f":"IF(G836<h,(\"\"),(IF(G836<h+dzd,(0),(IF(N836=\"\",(W835+H836*(G836-G835)),(W835+(I836-9.81)*(G836-G835)))))))","v":""},"","",{"$f":"IF(Y836=\"\",X836,X836+Y836)","v":""},{"$f":"IF(N836=\"\",(\"\"),IF(G836>h,AA835,((G836-nz)*9.81)))","v":""},"","",null,null,null,null,null,null,null,null,null,null,null,null,null,null,null,null,null,null,null,null,null,null,null,{"$error":"#VALUE!"},{"$error":"#VALUE!"},null,null,null,null,null,null,null,null,"","","","","","",""]
[null,null,null,null,null,null,null,null,null,null,null,null,null,null,"","","","",{"$error":"#VALUE!"},"","","","","","","","","","",null,null,null,null,null,null,null,null,null,null,null,null,null,null,null,null,null,null,null,null,null,null,null,{"$error":"#VALUE!"},{"$error":"#VALUE!"},null,null,null,null,null,null,null,null,"","","","","","",""]
[null,null,null,null,null,null,null,null,null,null,null,null,null,null,"","","",{"$f":"IF(L838=\"\",\"\",(IF(G838=\"\",\"\",IF(G838=h,(R839),(IF(N838=\"\",$E$11,($E$11*V838/W838)))))))","v":""},{"$error":"#VALUE!"},"","",{"$f":"IF(G838<h,(\"\"),(IF(G838<h+dzd,(0),(IF(N838=\"\",(V837+H838*(G838-G837)),(V837+(I838)*(G838-G837)))))))","v":""},"","",{"$f":"IF(G838<h,(\"\"),((-P838*W838-2*J838*(P838^0.5))*COS(RADIANS(M838))))","v":""},"","",{"$f":"IF(G838=\"\",\"\",IF(G838>hd,0,IF($A$27=1,BK838,IF($A$27=2,BL838,IF($A$27=3,BM838,IF($A$27=4,BN838+ka*($E$4+$E$5),IF($A$27=5,BP838,IF($A$27=6,BO838,BQ838))))))))","v":""},{"$f":"IF(G838>h,\"\",IF(G838=\"\",\"\",IF($A$28=1,IF(G838<0.25*h,0.3*$E$13*h*G838/0.25/h,IF(G838<0.75*h,0.3*$E$13*h,0.3*$E$13*h*(1-(G838-0.75*h)/0.25/h))),(2))))","v":""},null,null,null,null,null,null,null,null,null,null,null,null,null,null,null,null,null,null,null,null,null,null,null,{"$error":"#VALUE!"},{"$error":"#VALUE!"},null,null,null,null,null,null,null,null,{"$f":"IF(G838=\"\",\"\",IF(G838>hd,0,(IF(G838<0.2*(hd),(1.6*($AH$20+$AH$21)/(hd)/0.2/(hd)*G838),(IF(G838<0.8*(hd),(1.6*($AH$20+$AH$21)/(hd)),(1.6*($AH$20+$AH$21)/(hd)-1.6*($AH$20+$AH$21)/(hd)/0.2/(hd)*(G838-0.8*(hd)))))))))","v":""},{"$f":"IF(G838=\"\",\"\",IF(G838>hd,0,(IF(G838<((2/3)*$AH$6),(1.3*($AH$20+$AH$21)/(hd-(1/3)*($AH$6+(hd-MAX($AP$6:$AP$15))))*G838/(2/3*$AH$6)),(IF(G838<(h-2/3*(hd-MAX($AP$6:$AP$15))),1.3*($AH$20+$AH$21)/(hd-1/3*($AH$6+(hd-MAX($AP$6:$AP$15)))),1.3*($AH$20+$AH$21)/(hd-1/3*($AH$6+(hd-MAX($AP$6:$AP$15))))*(1-(G838-(hd-2/3*(hd-MAX($AP$6:$AP$15))))/(2/3*(hd-MAX($AP$6:$AP$15))))))))))","v":""},{"$f":"IF(G838=\"\",\"\",IF(G838>hd,0,(IF(G838<(0.6667*$AH$6),(0.3*g*hd*G838/(0.6667*$AH$6)),(IF(G838<(hd-0.6667*(hd-MAX($AP$6:$AP$15))),0.3*g*hd,0.3*g*hd*(1-(G838-(hd-0.6667*(hd-MAX($AP$6:$AP$15))))/(0.6667*(hd-MAX($AP$6:$AP$15))))))))))","v":""},{"$f":"IF(G838=\"\",\"\",IF(G838>hd,0,(IF(G838<((2/3)*$AH$6),(0.65*ka*g*hd*hd/(hd-(1/3)*($AH$6+(hd-MAX($AP$6:$AP$15))))*G838/(2/3*$AH$6)),(IF(G838<(h-2/3*(hd-MAX($AP$6:$AP$15))),0.65*ka*g*hd*hd/(hd-1/3*($AH$6+(hd-MAX($AP$6:$AP$15)))),0.65*ka*g*hd*hd/(hd-1/3*($AH$6+(hd-MAX($AP$6:$AP$15))))*(1-(G838-(hd-2/3*(hd-MAX($AP$6:$AP$15))))/(2/3*(hd-MAX($AP$6:$AP$15))))))))))","v":""},{"$f":"IF(G838=\"\",\"\",IF(G838>hd,0,(IF(G838<(0.25*hd),(0.3*g*h*G838/(0.25*hd)),(IF(G838<(0.75*hd),0.3*g*h,0.3*g*h*(1-(G838-0.75*hd)/0.25/hd)))))))","v":""},{"$f":"IF(G838>hd,0,IF(G838=\"\",\"\",0.65*ka*g*hd))","v":""},{"$f":"IF(G838=\"\",\"\",IF(G838>hd,0,(IF(G838<(0.25*hd),(1-4*ca/g/hd)*g*hd*G838/(0.25*hd),((1-4*ca/g/hd)*g*hd)))))","v":""}]
[null,null,null,null,null,null,null,null,null,null,null,null,null,null,{"$f":"IF(G839=\"\",(\"\"),((SIN(RADIANS($E$9+BA839-K839)))^2)*((SIN(RADIANS($E$9)))^-2)*((COS(RADIANS(BA839)))^-1)*((SIN((RADIANS($E$9+BA839+M839))))^-1)/(1+((SIN(RADIANS(K839+M839)))*(SIN((RADIANS(K839-$E$7-BA839))/(SIN(RADIANS($E$9-$E$7)))/(SIN((RADIANS($E$9+BA839+M839)))))))^0.5)^2)","v":""},{"$f":"IF(L839=\"\",(\"\"),((SIN(RADIANS($E$9-BB839+L839)))^2)*((SIN(RADIANS($E$9)))^-2)*((COS(RADIANS(BB839)))^-1)*((SIN((RADIANS($E$9-BB839-M839))))^-1)/(1-((SIN(RADIANS(L839+M839)))*(SIN((RADIANS(L839+$E$7-BB839))/(SIN(RADIANS($E$9-$E$7)))/(SIN((RADIANS($E$9-BB839-M839)))))))^0.5)^2)","v":""},{"$f":"IF(G839=\"\",\"\",(IF(N839=\"\",$E$11,($E$11*T839/U839))))","v":""},"",{"$f":"IF(G839=\"\",\"\",0.5*PI()-ATAN((-TAN(RADIANS(K839+M839+(90-$E$9)-$E$7)))+(1/(COS(RADIANS(K839+M839+(90-$E$9)-$E$7))))*((COS((RADIANS(90-$E$9+M839+BA839))))^0.5)*((SIN(RADIANS(K839+M839)))^0.5)*((COS(RADIANS(90-$E$9-$E$7)))^-0.5)*((SIN(RADIANS(K839-$E$7-BA839)))^-0.5)))+$E$7","v":{"$error":"#VALUE!"}},"","","","","","","","","","",null,null,null,null,null,null,null,null,null,null,null,null,null,null,null,null,null,null,null,null,null,null,null,{"$f":"ATAN(Q839)/0.017453","v":{"$error":"#VALUE!"}},{"$f":"ATAN(Q839)/0.017453","v":{"$error":"#VALUE!"}},null,null,null,null,null,null,null,null,"","","","","","",""]
[null,null,null,null,null,null,null,null,null,null,null,null,null,null,"","","","",{"$error":"#VALUE!"},{"$f":"IF(G840=\"\",(\"\"),(IF(N840=\"\",(T839+(G840-G839)*H839),(T839+(G840-G839)*(I839)))))","v":""},{"$f":"IF(G840=\"\",(\"\"),(IF(N840=\"\",(U839+(G840-G839)*H839),(U839+(G840-G839)*(I839-9.81)))))","v":""},"","",{"$f":"IF(G840=\"\",(\"\"),((O840*U840-2*J840*(O840)^0.5))*COS(RADIANS(M840)))","v":""},"","","","","",null,null,null,null,null,null,null,null,null,null,null,null,null,null,null,null,null,null,null,null,null,null,null,{"$error":"#VALUE!"},{"$error":"#VALUE!"},null,null,null,null,null,null,null,null,"","","","","","",""]
[null,null,null,null,null,null,null,null,null,null,null,null,null,null,"","","","",{"$error":"#VALUE!"},"","","","","","","","","","",null,null,null,null,null,null,null,null,null,null,null,null,null,null,null,null,null,null,null,null,null,null,null,{"$error":"#VALUE!"},{"$error":"#VALUE!"},null,null,null,null,null,null,null,null,"","","","","","",""]
[null,null,null,null,null,null,null,null,null,null,null,null,null,null,"","","","",{"$error":"#VALUE!"},"","","","","","","","","","",null,null,null,null,null,null,null,null,null,null,null,null,null,null,null,null,null,null,null,null,null,null,null,{"$error":"#VALUE!"},{"$error":"#VALUE!"},null,null,null,null,null,null,null,null,"","","","","","",""]
[null,null,null,null,null,null,null,null,null,null,null,null,null,null,"","","","",{"$error":"#VALUE!"},"","","","","","","","","","",null,null,null,null,null,null,null,null,null,null,null,null,null,null,null,null,null,null,null,null,null,null,null,{"$error":"#VALUE!"},{"$error":"#VALUE!"},null,null,null,null,null,null,null,null,"","","","","","",""]
[null,null,null,null,null,null,null,null,null,null,null,null,null,null,"","","","",{"$error":"#VALUE!"},"","","","","","","","","","",null,null,null,null,null,null,null,null,null,null,null,null,null,null,null,null,null,null,null,null,null,null,null,{"$error":"#VALUE!"},{"$error":"#VALUE!"},null,null,null,null,null,null,null,null,"","","","","","",""]
[null,null,null,null,null,null,null,null,null,null,null,null,null,null,"","","","",{"$error":"#VALUE!"},"","","","","","","","","","",null,null,null,null,null,null,null,null,null,null,null,null,null,null,null,null,null,null,null,null,null,null,null,{"$error":"#VALUE!"},{"$error":"#VALUE!"},null,null,null,null,null,null,null,null,"","","","","","",""]
[null,null,null,null,null,null,null,null,null,null,null,null,null,null,"","","","",{"$error":"#VALUE!"},"","","","","","","","","","",null,null,null,null,null,null,null,null,null,null,null,null,null,null,null,null,null,null,null,null,null,null,null,{"$error":"#VALUE!"},{"$error":"#VALUE!"},null,null,null,null,null,null,null,null,"","","","","","",""]
[null,null,null,null,null,null,null,null,null,null,null,null,null,null,"","","","",{"$error":"#VALUE!"},"","","","","","","","","","",null,null,null,null,null,null,null,null,null,null,null,null,null,null,null,null,null,null,null,null,null,null,null,{"$error":"#VALUE!"},{"$error":"#VALUE!"},null,null,null,null,null,null,null,null,"","","","","","",""]
[null,null,null,null,null,null,null,null,null,null,null,null,null,null,"","","","",{"$error":"#VALUE!"},"","","","","","","","","","",null,null,null,null,null,null,null,null,null,null,null,null,null,null,null,null,null,null,null,null,null,null,null,{"$error":"#VALUE!"},{"$error":"#VALUE!"},null,null,null,null,null,null,null,null,"","","","","","",""]
[null,null,null,null,null,null,null,null,null,null,null,null,null,null,"","","","",{"$error":"#VALUE!"},"","","","","","","","","","",null,null,null,null,null,null,null,null,null,null,null,null,null,null,null,null,null,null,null,null,null,null,null,{"$error":"#VALUE!"},{"$error":"#VALUE!"},null,null,null,null,null,null,null,null,"","","","","","",""]
[null,null,null,null,null,null,null,null,null,null,null,null,null,null,"","","","",{"$error":"#VALUE!"},"","","","","","","","","","",null,null,null,null,null,null,null,null,null,null,null,null,null,null,null,null,null,null,null,null,null,null,null,{"$error":"#VALUE!"},{"$error":"#VALUE!"},null,null,null,null,null,null,null,null,"","","","","","",""]
[null,null,null,null,null,null,null,null,null,null,null,null,null,null,"","","","",{"$error":"#VALUE!"},"","","","","","","","","","",null,null,null,null,null,null,null,null,null,null,null,null,null,null,null,null,null,null,null,null,null,null,null,{"$error":"#VALUE!"},{"$error":"#VALUE!"},null,null,null,null,null,null,null,null,"","","","","","",""]
[null,null,null,null,null,null,null,null,null,null,null,null,null,null,"","","","",{"$error":"#VALUE!"},"","","","","","","","","","",null,null,null,null,null,null,null,null,null,null,null,null,null,null,null,null,null,null,null,null,null,null,null,{"$error":"#VALUE!"},{"$error":"#VALUE!"},null,null,null,null,null,null,null,null,"","","","","","",""]
[null,null,null,null,null,null,null,null,null,null,null,null,null,null,"","","","",{"$error":"#VALUE!"},"","","","","","","","","","",null,null,null,null,null,null,null,null,null,null,null,null,null,null,null,null,null,null,null,null,null,null,null,{"$error":"#VALUE!"},{"$error":"#VALUE!"},null,null,null,null,null,null,null,null,"","","","","","",""]
[null,null,null,null,null,null,null,null,null,null,null,null,null,null,"","","","",{"$error":"#VALUE!"},"","","","","","","","","","",null,null,null,null,null,null,null,null,null,null,null,null,null,null,null,null,null,null,null,null,null,null,null,{"$error":"#VALUE!"},{"$error":"#VALUE!"},null,null,null,null,null,null,null,null,"","","","","","",""]
[null,null,null,null,null,null,null,null,null,null,null,null,null,null,"","","","",{"$error":"#VALUE!"},"","","","","","","","","","",null,null,null,null,null,null,null,null,null,null,null,null,null,null,null,null,null,null,null,null,null,null,null,{"$error":"#VALUE!"},{"$error":"#VALUE!"},null,null,null,null,null,null,null,null,"","","","","","",""]
[null,null,null,null,null,null,null,null,null,null,null,null,null,null,"","","","",{"$error":"#VALUE!"},"","","","","","","","","","",null,null,null,null,null,null,null,null,null,null,null,null,null,null,null,null,null,null,null,null,null,null,null,{"$error":"#VALUE!"},{"$error":"#VALUE!"},null,null,null,null,null,null,null,null,"","","","","","",""]
[null,null,null,null,null,null,null,null,null,null,null,null,null,null,"","","","",{"$error":"#VALUE!"},"","","","","","","","","","",null,null,null,null,null,null,null,null,null,null,null,null,null,null,null,null,null,null,null,null,null,null,null,{"$error":"#VALUE!"},{"$error":"#VALUE!"},null,null,null,null,null,null,null,null,"","","","","","",""]
[null,null,null,null,null,null,null,null,null,null,null,null,null,null,"","","","",{"$error":"#VALUE!"},"","","","","","","","","","",null,null,null,null,null,null,null,null,null,null,null,null,null,null,null,null,null,null,null,null,null,null,null,{"$error":"#VALUE!"},{"$error":"#VALUE!"},null,null,null,null,null,null,null,null,"","","","","","",""]
[null,null,null,null,null,null,null,null,null,null,null,null,null,null,"","","","",{"$error":"#VALUE!"},"","","","","","","","","","",null,null,null,null,null,null,null,null,null,null,null,null,null,null,null,null,null,null,null,null,null,null,null,{"$error":"#VALUE!"},{"$error":"#VALUE!"},null,null,null,null,null,null,null,null,"","","","","","",""]
[null,null,null,null,null,null,null,null,null,null,null,null,null,null,"","","","",{"$error":"#VALUE!"},"","","","","","","","","","",null,null,null,null,null,null,null,null,null,null,null,null,null,null,null,null,null,null,null,null,null,null,null,{"$error":"#VALUE!"},{"$error":"#VALUE!"},null,null,null,null,null,null,null,null,"","","","","","",""]
[null,null,null,null,null,null,null,null,null,null,null,null,null,null,"","","","",{"$error":"#VALUE!"},"","","","","","","","","","",null,null,null,null,null,null,null,null,null,null,null,null,null,null,null,null,null,null,null,null,null,null,null,{"$error":"#VALUE!"},{"$error":"#VALUE!"},null,null,null,null,null,null,null,null,"","","","","","",""]
[null,null,null,null,null,null,null,null,null,null,null,null,null,null,"","","","",{"$error":"#VALUE!"},"","","","","","","","","","",null,null,null,null,null,null,null,null,null,null,null,null,null,null,null,null,null,null,null,null,null,null,null,{"$error":"#VALUE!"},{"$error":"#VALUE!"},null,null,null,null,null,null,null,null,"","","","","","",""]
[null,null,null,null,null,null,null,null,null,null,null,null,null,null,"","","","",{"$error":"#VALUE!"},"","","","","","","","","","",null,null,null,null,null,null,null,null,null,null,null,null,null,null,null,null,null,null,null,null,null,null,null,{"$error":"#VALUE!"},{"$error":"#VALUE!"},null,null,null,null,null,null,null,null,"","","","","","",""]
[null,null,null,null,null,null,null,null,null,null,null,null,null,null,"","","","",{"$error":"#VALUE!"},"","","","","","","","","","",null,null,null,null,null,null,null,null,null,null,null,null,null,null,null,null,null,null,null,null,null,null,null,{"$error":"#VALUE!"},{"$error":"#VALUE!"},null,null,null,null,null,null,null,null,"","","","","","",""]
[null,null,null,null,null,null,null,null,null,null,null,null,null,null,"","","","",{"$error":"#VALUE!"},"","","","","","","","","","",null,null,null,null,null,null,null,null,null,null,null,null,null,null,null,null,null,null,null,null,null,null,null,{"$error":"#VALUE!"},{"$error":"#VALUE!"},null,null,null,null,null,null,null,null,"","","","","","",""]
[null,null,null,null,null,null,null,null,null,null,null,null,null,null,"","","","",{"$error":"#VALUE!"},"","","","","","","","","","",null,null,null,null,null,null,null,null,null,null,null,null,null,null,null,null,null,null,null,null,null,null,null,{"$error":"#VALUE!"},{"$error":"#VALUE!"},null,null,null,null,null,null,null,null,"","","","","","",""]
[null,null,null,null,null,null,null,null,null,null,null,null,null,null,"","","","",{"$error":"#VALUE!"},"","","","","","","","","","",null,null,null,null,null,null,null,null,null,null,null,null,null,null,null,null,null,null,null,null,null,null,null,{"$error":"#VALUE!"},{"$error":"#VALUE!"},null,null,null,null,null,null,null,null,"","","","","","",""]
[null,null,null,null,null,null,null,null,null,null,null,null,null,null,"","","","",{"$error":"#VALUE!"},"","","","","","","","","","",null,null,null,null,null,null,null,null,null,null,null,null,null,null,null,null,null,null,null,null,null,null,null,{"$error":"#VALUE!"},{"$error":"#VALUE!"},null,null,null,null,null,null,null,null,"","","","","","",""]
[null,null,null,null,null,null,null,null,null,null,null,null,null,null,"","","","",{"$error":"#VALUE!"},"","","","","","","","","","",null,null,null,null,null,null,null,null,null,null,null,null,null,null,null,null,null,null,null,null,null,null,null,{"$error":"#VALUE!"},{"$error":"#VALUE!"},null,null,null,null,null,null,null,null,"","","","","","",""]
[null,null,null,null,null,null,null,null,null,null,null,null,null,null,"","","","",{"$error":"#VALUE!"},"","","","","","","","","","",null,null,null,null,null,null,null,null,null,null,null,null,null,null,null,null,null,null,null,null,null,null,null,{"$error":"#VALUE!"},{"$error":"#VALUE!"},null,null,null,null,null,null,null,null,"","","","","","",""]
[null,null,null,null,null,null,null,null,null,null,null,null,null,null,"","","","",{"$error":"#VALUE!"},"","","","","","","","","","",null,null,null,null,null,null,null,null,null,null,null,null,null,null,null,null,null,null,null,null,null,null,null,{"$error":"#VALUE!"},{"$error":"#VALUE!"},null,null,null,null,null,null,null,null,"","","","","","",""]
[null,null,null,null,null,null,null,null,null,null,null,null,null,null,"","","","",{"$error":"#VALUE!"},"","","","","","","","","","",null,null,null,null,null,null,null,null,null,null,null,null,null,null,null,null,null,null,null,null,null,null,null,{"$error":"#VALUE!"},{"$error":"#VALUE!"},null,null,null,null,null,null,null,null,"","","","","","",""]
[null,null,null,null,null,null,null,null,null,null,null,null,null,null,"","","","",{"$error":"#VALUE!"},"","","","","","","","","","",null,null,null,null,null,null,null,null,null,null,null,null,null,null,null,null,null,null,null,null,null,null,null,{"$error":"#VALUE!"},{"$error":"#VALUE!"},null,null,null,null,null,null,null,null,"","","","","","",""]
[null,null,null,null,null,null,null,null,null,null,null,null,null,null,"","","","",{"$error":"#VALUE!"},"","","","","","","","","","",null,null,null,null,null,null,null,null,null,null,null,null,null,null,null,null,null,null,null,null,null,null,null,{"$error":"#VALUE!"},{"$error":"#VALUE!"},null,null,null,null,null,null,null,null,"","","","","","",""]
[null,null,null,null,null,null,null,null,null,null,null,null,null,null,"","","","",{"$error":"#VALUE!"},"","","","","","","","","","",null,null,null,null,null,null,null,null,null,null,null,null,null,null,null,null,null,null,null,null,null,null,null,{"$error":"#VALUE!"},{"$error":"#VALUE!"},null,null,null,null,null,null,null,null,"","","","","","",""]
[null,null,null,null,null,null,null,null,null,null,null,null,null,null,"","","","",{"$error":"#VALUE!"},"","","","","","","","","","",null,null,null,null,null,null,null,null,null,null,null,null,null,null,null,null,null,null,null,null,null,null,null,{"$error":"#VALUE!"},{"$error":"#VALUE!"},null,null,null,null,null,null,null,null,"","","","","","",""]
[null,null,null,null,null,null,null,null,null,null,null,null,null,null,"","","","",{"$error":"#VALUE!"},"","","","","","","","","","",null,null,null,null,null,null,null,null,null,null,null,null,null,null,null,null,null,null,null,null,null,null,null,{"$error":"#VALUE!"},{"$error":"#VALUE!"},null,null,null,null,null,null,null,null,"","","","","","",""]
[null,null,null,null,null,null,null,null,null,null,null,null,null,null,"","","","",{"$error":"#VALUE!"},"","","","","","","","","","",null,null,null,null,null,null,null,null,null,null,null,null,null,null,null,null,null,null,null,null,null,null,null,{"$error":"#VALUE!"},{"$error":"#VALUE!"},null,null,null,null,null,null,null,null,"","","","","","",""]
[null,null,null,null,null,null,null,null,null,null,null,null,null,null,"","","","",{"$error":"#VALUE!"},"","","","","","","","","","",null,null,null,null,null,null,null,null,null,null,null,null,null,null,null,null,null,null,null,null,null,null,null,{"$error":"#VALUE!"},{"$error":"#VALUE!"},null,null,null,null,null,null,null,null,"","","","","","",""]
[null,null,null,null,null,null,null,null,null,null,null,null,null,null,"","","","",{"$error":"#VALUE!"},"","","","","","","","","","",null,null,null,null,null,null,null,null,null,null,null,null,null,null,null,null,null,null,null,null,null,null,null,{"$error":"#VALUE!"},{"$error":"#VALUE!"},null,null,null,null,null,null,null,null,"","","","","","",""]
[null,null,null,null,null,null,null,null,null,null,null,null,null,null,"","","","",{"$error":"#VALUE!"},"","","","","","","","","","",null,null,null,null,null,null,null,null,null,null,null,null,null,null,null,null,null,null,null,null,null,null,null,{"$error":"#VALUE!"},{"$error":"#VALUE!"},null,null,null,null,null,null,null,null,"","","","","","",""]
[null,null,null,null,null,null,null,null,null,null,null,null,null,null,"","","","",{"$error":"#VALUE!"},"","","","","","","","","","",null,null,null,null,null,null,null,null,null,null,null,null,null,null,null,null,null,null,null,null,null,null,null,{"$error":"#VALUE!"},{"$error":"#VALUE!"},null,null,null,null,null,null,null,null,"","","","","","",""]
[null,null,null,null,null,null,null,null,null,null,null,null,null,null,"","","","",{"$error":"#VALUE!"},"","","","","","","","","","",null,null,null,null,null,null,null,null,null,null,null,null,null,null,null,null,null,null,null,null,null,null,null,{"$error":"#VALUE!"},{"$error":"#VALUE!"},null,null,null,null,null,null,null,null,"","","","","","",""]
[null,null,null,null,null,null,null,null,null,null,null,null,null,null,"","","","",{"$error":"#VALUE!"},"","","","","","","","","","",null,null,null,null,null,null,null,null,null,null,null,null,null,null,null,null,null,null,null,null,null,null,null,{"$error":"#VALUE!"},{"$error":"#VALUE!"},null,null,null,null,null,null,null,null,"","","","","","",""]
[null,null,null,null,null,null,null,null,null,null,null,null,null,null,"","","","",{"$error":"#VALUE!"},"","","","","","","","","","",null,null,null,null,null,null,null,null,null,null,null,null,null,null,null,null,null,null,null,null,null,null,null,{"$error":"#VALUE!"},{"$error":"#VALUE!"},null,null,null,null,null,null,null,null,"","","","","","",""]
[null,null,null,null,null,null,null,null,null,null,null,null,null,null,"","","","",{"$error":"#VALUE!"},"","","","","","","","","","",null,null,null,null,null,null,null,null,null,null,null,null,null,null,null,null,null,null,null,null,null,null,null,{"$error":"#VALUE!"},{"$error":"#VALUE!"},null,null,null,null,null,null,null,null,"","","","","","",""]
[null,null,null,null,null,null,null,null,null,null,null,null,null,null,"","","","",{"$error":"#VALUE!"},"","","","","","","","","","",null,null,null,null,null,null,null,null,null,null,null,null,null,null,null,null,null,null,null,null,null,null,null,{"$error":"#VALUE!"},{"$error":"#VALUE!"},null,null,null,null,null,null,null,null,"","","","","","",""]
[null,null,null,null,null,null,null,null,null,null,null,null,null,null,"","","","",{"$error":"#VALUE!"},"","","","","","","","","","",null,null,null,null,null,null,null,null,null,null,null,null,null,null,null,null,null,null,null,null,null,null,null,{"$error":"#VALUE!"},{"$error":"#VALUE!"},null,null,null,null,null,null,null,null,"","","","","","",""]
[null,null,null,null,null,null,null,null,null,null,null,null,null,null,"","","","",{"$error":"#VALUE!"},"","","","","","","","","","",null,null,null,null,null,null,null,null,null,null,null,null,null,null,null,null,null,null,null,null,null,null,null,{"$error":"#VALUE!"},{"$error":"#VALUE!"},null,null,null,null,null,null,null,null,"","","","","","",""]
[null,null,null,null,null,null,null,null,null,null,null,null,null,null,"","","","",{"$error":"#VALUE!"},"","","","","","","","","","",null,null,null,null,null,null,null,null,null,null,null,null,null,null,null,null,null,null,null,null,null,null,null,{"$error":"#VALUE!"},{"$error":"#VALUE!"},null,null,null,null,null,null,null,null,"","","","","","",""]
[null,null,null,null,null,null,null,null,null,null,null,null,null,null,"","","","",{"$error":"#VALUE!"},"","","","","","","","","","",null,null,null,null,null,null,null,null,null,null,null,null,null,null,null,null,null,null,null,null,null,null,null,{"$error":"#VALUE!"},{"$error":"#VALUE!"},null,null,null,null,null,null,null,null,"","","","","","",""]
[null,null,null,null,null,null,null,null,null,null,null,null,null,null,"","","","",{"$error":"#VALUE!"},"","","","","","","","","","",null,null,null,null,null,null,null,null,null,null,null,null,null,null,null,null,null,null,null,null,null,null,null,{"$error":"#VALUE!"},{"$error":"#VALUE!"},null,null,null,null,null,null,null,null,"","","","","","",""]
[null,null,null,null,null,null,null,null,null,null,null,null,null,null,"","","","",{"$error":"#VALUE!"},"","","","","","","","","","",null,null,null,null,null,null,null,null,null,null,null,null,null,null,null,null,null,null,null,null,null,null,null,{"$error":"#VALUE!"},{"$error":"#VALUE!"},null,null,null,null,null,null,null,null,"","","","","","",""]
[null,null,null,null,null,null,null,null,null,null,null,null,null,null,"","","","",{"$error":"#VALUE!"},"","","","","","","","","","",null,null,null,null,null,null,null,null,null,null,null,null,null,null,null,null,null,null,null,null,null,null,null,{"$error":"#VALUE!"},{"$error":"#VALUE!"},null,null,null,null,null,null,null,null,"","","","","","",""]
[null,null,null,null,null,null,null,null,null,null,null,null,null,null,"","","","",{"$error":"#VALUE!"},"","","","","","","","","","",null,null,null,null,null,null,null,null,null,null,null,null,null,null,null,null,null,null,null,null,null,null,null,{"$error":"#VALUE!"},{"$error":"#VALUE!"},null,null,null,null,null,null,null,null,"","","","","","",""]
[null,null,null,null,null,null,null,null,null,null,null,null,null,null,"","","","",{"$error":"#VALUE!"},"","","","","","","","","","",null,null,null,null,null,null,null,null,null,null,null,null,null,null,null,null,null,null,null,null,null,null,null,{"$error":"#VALUE!"},{"$error":"#VALUE!"},null,null,null,null,null,null,null,null,"","","","","","",""]
[null,null,null,null,null,null,null,null,null,null,null,null,null,null,"","","","",{"$error":"#VALUE!"},"","","","","","","","","","",null,null,null,null,null,null,null,null,null,null,null,null,null,null,null,null,null,null,null,null,null,null,null,{"$error":"#VALUE!"},{"$error":"#VALUE!"},null,null,null,null,null,null,null,null,"","","","","","",""]
[null,null,null,null,null,null,null,null,null,null,null,null,null,null,"","","","",{"$error":"#VALUE!"},"","","","","","","","","","",null,null,null,null,null,null,null,null,null,null,null,null,null,null,null,null,null,null,null,null,null,null,null,{"$error":"#VALUE!"},{"$error":"#VALUE!"},null,null,null,null,null,null,null,null,"","","","","","",""]
[null,null,null,null,null,null,null,null,null,null,null,null,null,null,"","","","",{"$error":"#VALUE!"},"","","","","","","","","","",null,null,null,null,null,null,null,null,null,null,null,null,null,null,null,null,null,null,null,null,null,null,null,{"$error":"#VALUE!"},{"$error":"#VALUE!"},null,null,null,null,null,null,null,null,"","","","","","",""]
[null,null,null,null,null,null,null,null,null,null,null,null,null,null,"","","","",{"$error":"#VALUE!"},"","","",{"$f":"IF(G900<h,(\"\"),(IF(G900<h+dzd,(0),(IF(N900=\"\",(W899+H900*(G900-G899)),(W899+(I900-9.81)*(G900-G899)))))))","v":""},"","",{"$f":"IF(Y900=\"\",X900,X900+Y900)","v":""},{"$f":"IF(N900=\"\",(\"\"),IF(G900>h,AA899,((G900-nz)*9.81)))","v":""},"","",null,null,null,null,null,null,null,null,null,null,null,null,null,null,null,null,null,null,null,null,null,null,null,{"$error":"#VALUE!"},{"$error":"#VALUE!"},null,null,null,null,null,null,null,null,"","","","","","",""]
[null,null,null,null,null,null,null,null,null,null,null,null,null,null,"","","","",{"$error":"#VALUE!"},"","","","","","","","","","",null,null,null,null,null,null,null,null,null,null,null,null,null,null,null,null,null,null,null,null,null,null,null,{"$error":"#VALUE!"},{"$error":"#VALUE!"},null,null,null,null,null,null,null,null,"","","","","","",""]
[null,null,null,null,null,null,null,null,null,null,null,null,null,null,"","","",{"$f":"IF(L902=\"\",\"\",(IF(G902=\"\",\"\",IF(G902=h,(R903),(IF(N902=\"\",$E$11,($E$11*V902/W902)))))))","v":""},{"$error":"#VALUE!"},"","",{"$f":"IF(G902<h,(\"\"),(IF(G902<h+dzd,(0),(IF(N902=\"\",(V901+H902*(G902-G901)),(V901+(I902)*(G902-G901)))))))","v":""},"","",{"$f":"IF(G902<h,(\"\"),((-P902*W902-2*J902*(P902^0.5))*COS(RADIANS(M902))))","v":""},"","",{"$f":"IF(G902=\"\",\"\",IF(G902>hd,0,IF($A$27=1,BK902,IF($A$27=2,BL902,IF($A$27=3,BM902,IF($A$27=4,BN902+ka*($E$4+$E$5),IF($A$27=5,BP902,IF($A$27=6,BO902,BQ902))))))))","v":""},{"$f":"IF(G902>h,\"\",IF(G902=\"\",\"\",IF($A$28=1,IF(G902<0.25*h,0.3*$E$13*h*G902/0.25/h,IF(G902<0.75*h,0.3*$E$13*h,0.3*$E$13*h*(1-(G902-0.75*h)/0.25/h))),(2))))","v":""},null,null,null,null,null,null,null,null,null,null,null,null,null,null,null,null,null,null,null,null,null,null,null,{"$error":"#VALUE!"},{"$error":"#VALUE!"},null,null,null,null,null,null,null,null,{"$f":"IF(G902=\"\",\"\",IF(G902>hd,0,(IF(G902<0.2*(hd),(1.6*($AH$20+$AH$21)/(hd)/0.2/(hd)*G902),(IF(G902<0.8*(hd),(1.6*($AH$20+$AH$21)/(hd)),(1.6*($AH$20+$AH$21)/(hd)-1.6*($AH$20+$AH$21)/(hd)/0.2/(hd)*(G902-0.8*(hd)))))))))","v":""},{"$f":"IF(G902=\"\",\"\",IF(G902>hd,0,(IF(G902<((2/3)*$AH$6),(1.3*($AH$20+$AH$21)/(hd-(1/3)*($AH$6+(hd-MAX($AP$6:$AP$15))))*G902/(2/3*$AH$6)),(IF(G902<(h-2/3*(hd-MAX($AP$6:$AP$15))),1.3*($AH$20+$AH$21)/(hd-1/3*($AH$6+(hd-MAX($AP$6:$AP$15)))),1.3*($AH$20+$AH$21)/(hd-1/3*($AH$6+(hd-MAX($AP$6:$AP$15))))*(1-(G902-(hd-2/3*(hd-MAX($AP$6:$AP$15))))/(2/3*(hd-MAX($AP$6:$AP$15))))))))))","v":""},{"$f":"IF(G902=\"\",\"\",IF(G902>hd,0,(IF(G902<(0.6667*$AH$6),(0.3*g*hd*G902/(0.6667*$AH$6)),(IF(G902<(hd-0.6667*(hd-MAX($AP$6:$AP$15))),0.3*g*hd,0.3*g*hd*(1-(G902-(hd-0.6667*(hd-MAX($AP$6:$AP$15))))/(0.6667*(hd-MAX($AP$6:$AP$15))))))))))","v":""},{"$f":"IF(G902=\"\",\"\",IF(G902>hd,0,(IF(G902<((2/3)*$AH$6),(0.65*ka*g*hd*hd/(hd-(1/3)*($AH$6+(hd-MAX($AP$6:$AP$15))))*G902/(2/3*$AH$6)),(IF(G902<(h-2/3*(hd-MAX($AP$6:$AP$15))),0.65*ka*g*hd*hd/(hd-1/3*($AH$6+(hd-MAX($AP$6:$AP$15)))),0.65*ka*g*hd*hd/(hd-1/3*($AH$6+(hd-MAX($AP$6:$AP$15))))*(1-(G902-(hd-2/3*(hd-MAX($AP$6:$AP$15))))/(2/3*(hd-MAX($AP$6:$AP$15))))))))))","v":""},{"$f":"IF(G902=\"\",\"\",IF(G902>hd,0,(IF(G902<(0.25*hd),(0.3*g*h*G902/(0.25*hd)),(IF(G902<(0.75*hd),0.3*g*h,0.3*g*h*(1-(G902-0.75*hd)/0.25/hd)))))))","v":""},{"$f":"IF(G902>hd,0,IF(G902=\"\",\"\",0.65*ka*g*hd))","v":""},{"$f":"IF(G902=\"\",\"\",IF(G902>hd,0,(IF(G902<(0.25*hd),(1-4*ca/g/hd)*g*hd*G902/(0.25*hd),((1-4*ca/g/hd)*g*hd)))))","v":""}]
[null,null,null,null,null,null,null,null,null,null,null,null,null,null,{"$f":"IF(G903=\"\",(\"\"),((SIN(RADIANS($E$9+BA903-K903)))^2)*((SIN(RADIANS($E$9)))^-2)*((COS(RADIANS(BA903)))^-1)*((SIN((RADIANS($E$9+BA903+M903))))^-1)/(1+((SIN(RADIANS(K903+M903)))*(SIN((RADIANS(K903-$E$7-BA903))/(SIN(RADIANS($E$9-$E$7)))/(SIN((RADIANS($E$9+BA903+M903)))))))^0.5)^2)","v":""},{"$f":"IF(L903=\"\",(\"\"),((SIN(RADIANS($E$9-BB903+L903)))^2)*((SIN(RADIANS($E$9)))^-2)*((COS(RADIANS(BB903)))^-1)*((SIN((RADIANS($E$9-BB903-M903))))^-1)/(1-((SIN(RADIANS(L903+M903)))*(SIN((RADIANS(L903+$E$7-BB903))/(SIN(RADIANS($E$9-$E$7)))/(SIN((RADIANS($E$9-BB903-M903)))))))^0.5)^2)","v":""},{"$f":"IF(G903=\"\",\"\",(IF(N903=\"\",$E$11,($E$11*T903/U903))))","v":""},"",{"$f":"IF(G903=\"\",\"\",0.5*PI()-ATAN((-TAN(RADIANS(K903+M903+(90-$E$9)-$E$7)))+(1/(COS(RADIANS(K903+M903+(90-$E$9)-$E$7))))*((COS((RADIANS(90-$E$9+M903+BA903))))^0.5)*((SIN(RADIANS(K903+M903)))^0.5)*((COS(RADIANS(90-$E$9-$E$7)))^-0.5)*((SIN(RADIANS(K903-$E$7-BA903)))^-0.5)))+$E$7","v":{"$error":"#VALUE!"}},"","","","","","","","","","",null,null,null,null,null,null,null,null,null,null,null,null,null,null,null,null,null,null,null,null,null,null,null,{"$f":"ATAN(Q903)/0.017453","v":{"$error":"#VALUE!"}},{"$f":"ATAN(Q903)/0.017453","v":{"$error":"#VALUE!"}},null,null,null,null,null,null,null,null,"","","","","","",""]
[null,null,null,null,null,null,null,null,null,null,null,null,null,null,"","","","",{"$error":"#VALUE!"},{"$f":"IF(G904=\"\",(\"\"),(IF(N904=\"\",(T903+(G904-G903)*H903),(T903+(G904-G903)*(I903)))))","v":""},{"$f":"IF(G904=\"\",(\"\"),(IF(N904=\"\",(U903+(G904-G903)*H903),(U903+(G904-G903)*(I903-9.81)))))","v":""},"","",{"$f":"IF(G904=\"\",(\"\"),((O904*U904-2*J904*(O904)^0.5))*COS(RADIANS(M904)))","v":""},"","","","","",null,null,null,null,null,null,null,null,null,null,null,null,null,null,null,null,null,null,null,null,null,null,null,{"$error":"#VALUE!"},{"$error":"#VALUE!"},null,null,null,null,null,null,null,null,"","","","","","",""]
[null,null,null,null,null,null,null,null,null,null,null,null,null,null,"","","","",{"$error":"#VALUE!"},"","","","","","","","","","",null,null,null,null,null,null,null,null,null,null,null,null,null,null,null,null,null,null,null,null,null,null,null,{"$error":"#VALUE!"},{"$error":"#VALUE!"},null,null,null,null,null,null,null,null,"","","","","","",""]
[null,null,null,null,null,null,null,null,null,null,null,null,null,null,"","","","",{"$error":"#VALUE!"},"","","","","","","","","","",null,null,null,null,null,null,null,null,null,null,null,null,null,null,null,null,null,null,null,null,null,null,null,{"$error":"#VALUE!"},{"$error":"#VALUE!"},null,null,null,null,null,null,null,null,"","","","","","",""]
[null,null,null,null,null,null,null,null,null,null,null,null,null,null,"","","","",{"$error":"#VALUE!"},"","","","","","","","","","",null,null,null,null,null,null,null,null,null,null,null,null,null,null,null,null,null,null,null,null,null,null,null,{"$error":"#VALUE!"},{"$error":"#VALUE!"},null,null,null,null,null,null,null,null,"","","","","","",""]
[null,null,null,null,null,null,null,null,null,null,null,null,null,null,"","","","",{"$error":"#VALUE!"},"","","","","","","","","","",null,null,null,null,null,null,null,null,null,null,null,null,null,null,null,null,null,null,null,null,null,null,null,{"$error":"#VALUE!"},{"$error":"#VALUE!"},null,null,null,null,null,null,null,null,"","","","","","",""]
[null,null,null,null,null,null,null,null,null,null,null,null,null,null,"","","","",{"$error":"#VALUE!"},"","","","","","","","","","",null,null,null,null,null,null,null,null,null,null,null,null,null,null,null,null,null,null,null,null,null,null,null,{"$error":"#VALUE!"},{"$error":"#VALUE!"},null,null,null,null,null,null,null,null,"","","","","","",""]
[null,null,null,null,null,null,null,null,null,null,null,null,null,null,"","","","",{"$error":"#VALUE!"},"","","","","","","","","","",null,null,null,null,null,null,null,null,null,null,null,null,null,null,null,null,null,null,null,null,null,null,null,{"$error":"#VALUE!"},{"$error":"#VALUE!"},null,null,null,null,null,null,null,null,"","","","","","",""]
[null,null,null,null,null,null,null,null,null,null,null,null,null,null,"","","","",{"$error":"#VALUE!"},"","","","","","","","","","",null,null,null,null,null,null,null,null,null,null,null,null,null,null,null,null,null,null,null,null,null,null,null,{"$error":"#VALUE!"},{"$error":"#VALUE!"},null,null,null,null,null,null,null,null,"","","","","","",""]
[null,null,null,null,null,null,null,null,null,null,null,null,null,null,"","","","",{"$error":"#VALUE!"},"","","","","","","","","","",null,null,null,null,null,null,null,null,null,null,null,null,null,null,null,null,null,null,null,null,null,null,null,{"$error":"#VALUE!"},{"$error":"#VALUE!"},null,null,null,null,null,null,null,null,"","","","","","",""]
[null,null,null,null,null,null,null,null,null,null,null,null,null,null,"","","","",{"$error":"#VALUE!"},"","","","","","","","","","",null,null,null,null,null,null,null,null,null,null,null,null,null,null,null,null,null,null,null,null,null,null,null,{"$error":"#VALUE!"},{"$error":"#VALUE!"},null,null,null,null,null,null,null,null,"","","","","","",""]
[null,null,null,null,null,null,null,null,null,null,null,null,null,null,"","","","",{"$error":"#VALUE!"},"","","","","","","","","","",null,null,null,null,null,null,null,null,null,null,null,null,null,null,null,null,null,null,null,null,null,null,null,{"$error":"#VALUE!"},{"$error":"#VALUE!"},null,null,null,null,null,null,null,null,"","","","","","",""]
[null,null,null,null,null,null,null,null,null,null,null,null,null,null,"","","","",{"$error":"#VALUE!"},"","","","","","","","","","",null,null,null,null,null,null,null,null,null,null,null,null,null,null,null,null,null,null,null,null,null,null,null,{"$error":"#VALUE!"},{"$error":"#VALUE!"},null,null,null,null,null,null,null,null,"","","","","","",""]
[null,null,null,null,null,null,null,null,null,null,null,null,null,null,"","","","",{"$error":"#VALUE!"},"","","","","","","","","","",null,null,null,null,null,null,null,null,null,null,null,null,null,null,null,null,null,null,null,null,null,null,null,{"$error":"#VALUE!"},{"$error":"#VALUE!"},null,null,null,null,null,null,null,null,"","","","","","",""]
[null,null,null,null,null,null,null,null,null,null,null,null,null,null,"","","","",{"$error":"#VALUE!"},"","","","","","","","","","",null,null,null,null,null,null,null,null,null,null,null,null,null,null,null,null,null,null,null,null,null,null,null,{"$error":"#VALUE!"},{"$error":"#VALUE!"},null,null,null,null,null,null,null,null,"","","","","","",""]
[null,null,null,null,null,null,null,null,null,null,null,null,null,null,"","","","",{"$error":"#VALUE!"},"","","","","","","","","","",null,null,null,null,null,null,null,null,null,null,null,null,null,null,null,null,null,null,null,null,null,null,null,{"$error":"#VALUE!"},{"$error":"#VALUE!"},null,null,null,null,null,null,null,null,"","","","","","",""]
[null,null,null,null,null,null,null,null,null,null,null,null,null,null,"","","","",{"$error":"#VALUE!"},"","","","","","","","","","",null,null,null,null,null,null,null,null,null,null,null,null,null,null,null,null,null,null,null,null,null,null,null,{"$error":"#VALUE!"},{"$error":"#VALUE!"},null,null,null,null,null,null,null,null,"","","","","","",""]
[null,null,null,null,null,null,null,null,null,null,null,null,null,null,"","","","",{"$error":"#VALUE!"},"","","","","","","","","","",null,null,null,null,null,null,null,null,null,null,null,null,null,null,null,null,null,null,null,null,null,null,null,{"$error":"#VALUE!"},{"$error":"#VALUE!"},null,null,null,null,null,null,null,null,"","","","","","",""]
[null,null,null,null,null,null,null,null,null,null,null,null,null,null,"","","","",{"$error":"#VALUE!"},"","","","","","","","","","",null,null,null,null,null,null,null,null,null,null,null,null,null,null,null,null,null,null,null,null,null,null,null,{"$error":"#VALUE!"},{"$error":"#VALUE!"},null,null,null,null,null,null,null,null,"","","","","","",""]
[null,null,null,null,null,null,null,null,null,null,null,null,null,null,"","","","",{"$error":"#VALUE!"},"","","","","","","","","","",null,null,null,null,null,null,null,null,null,null,null,null,null,null,null,null,null,null,null,null,null,null,null,{"$error":"#VALUE!"},{"$error":"#VALUE!"},null,null,null,null,null,null,null,null,"","","","","","",""]
[null,null,null,null,null,null,null,null,null,null,null,null,null,null,"","","","",{"$error":"#VALUE!"},"","","","","","","","","","",null,null,null,null,null,null,null,null,null,null,null,null,null,null,null,null,null,null,null,null,null,null,null,{"$error":"#VALUE!"},{"$error":"#VALUE!"},null,null,null,null,null,null,null,null,"","","","","","",""]
[null,null,null,null,null,null,null,null,null,null,null,null,null,null,"","","","",{"$error":"#VALUE!"},"","","","","","","","","","",null,null,null,null,null,null,null,null,null,null,null,null,null,null,null,null,null,null,null,null,null,null,null,{"$error":"#VALUE!"},{"$error":"#VALUE!"},null,null,null,null,null,null,null,null,"","","","","","",""]
[null,null,null,null,null,null,null,null,null,null,null,null,null,null,"","","","",{"$error":"#VALUE!"},"","","","","","","","","","",null,null,null,null,null,null,null,null,null,null,null,null,null,null,null,null,null,null,null,null,null,null,null,{"$error":"#VALUE!"},{"$error":"#VALUE!"},null,null,null,null,null,null,null,null,"","","","","","",""]
[null,null,null,null,null,null,null,null,null,null,null,null,null,null,"","","","",{"$error":"#VALUE!"},"","","","","","","","","","",null,null,null,null,null,null,null,null,null,null,null,null,null,null,null,null,null,null,null,null,null,null,null,{"$error":"#VALUE!"},{"$error":"#VALUE!"},null,null,null,null,null,null,null,null,"","","","","","",""]
[null,null,null,null,null,null,null,null,null,null,null,null,null,null,"","","","",{"$error":"#VALUE!"},"","","","","","","","","","",null,null,null,null,null,null,null,null,null,null,null,null,null,null,null,null,null,null,null,null,null,null,null,{"$error":"#VALUE!"},{"$error":"#VALUE!"},null,null,null,null,null,null,null,null,"","","","","","",""]
[null,null,null,null,null,null,null,null,null,null,null,null,null,null,"","","","",{"$error":"#VALUE!"},"","","","","","","","","","",null,null,null,null,null,null,null,null,null,null,null,null,null,null,null,null,null,null,null,null,null,null,null,{"$error":"#VALUE!"},{"$error":"#VALUE!"},null,null,null,null,null,null,null,null,"","","","","","",""]
[null,null,null,null,null,null,null,null,null,null,null,null,null,null,"","","","",{"$error":"#VALUE!"},"","","","","","","","","","",null,null,null,null,null,null,null,null,null,null,null,null,null,null,null,null,null,null,null,null,null,null,null,{"$error":"#VALUE!"},{"$error":"#VALUE!"},null,null,null,null,null,null,null,null,"","","","","","",""]
[null,null,null,null,null,null,null,null,null,null,null,null,null,null,"","","","",{"$error":"#VALUE!"},"","","","","","","","","","",null,null,null,null,null,null,null,null,null,null,null,null,null,null,null,null,null,null,null,null,null,null,null,{"$error":"#VALUE!"},{"$error":"#VALUE!"},null,null,null,null,null,null,null,null,"","","","","","",""]
[null,null,null,null,null,null,null,null,null,null,null,null,null,null,"","","","",{"$error":"#VALUE!"},"","","","","","","","","","",null,null,null,null,null,null,null,null,null,null,null,null,null,null,null,null,null,null,null,null,null,null,null,{"$error":"#VALUE!"},{"$error":"#VALUE!"},null,null,null,null,null,null,null,null,"","","","","","",""]
[null,null,null,null,null,null,null,null,null,null,null,null,null,null,"","","","",{"$error":"#VALUE!"},"","","","","","","","","","",null,null,null,null,null,null,null,null,null,null,null,null,null,null,null,null,null,null,null,null,null,null,null,{"$error":"#VALUE!"},{"$error":"#VALUE!"},null,null,null,null,null,null,null,null,"","","","","","",""]
[null,null,null,null,null,null,null,null,null,null,null,null,null,null,"","","","",{"$error":"#VALUE!"},"","","","","","","","","","",null,null,null,null,null,null,null,null,null,null,null,null,null,null,null,null,null,null,null,null,null,null,null,{"$error":"#VALUE!"},{"$error":"#VALUE!"},null,null,null,null,null,null,null,null,"","","","","","",""]
[null,null,null,null,null,null,null,null,null,null,null,null,null,null,"","","","",{"$error":"#VALUE!"},"","","","","","","","","","",null,null,null,null,null,null,null,null,null,null,null,null,null,null,null,null,null,null,null,null,null,null,null,{"$error":"#VALUE!"},{"$error":"#VALUE!"},null,null,null,null,null,null,null,null,"","","","","","",""]
[null,null,null,null,null,null,null,null,null,null,null,null,null,null,"","","","",{"$error":"#VALUE!"},"","","","","","","","","","",null,null,null,null,null,null,null,null,null,null,null,null,null,null,null,null,null,null,null,null,null,null,null,{"$error":"#VALUE!"},{"$error":"#VALUE!"},null,null,null,null,null,null,null,null,"","","","","","",""]
[null,null,null,null,null,null,null,null,null,null,null,null,null,null,"","","","",{"$error":"#VALUE!"},"","","","","","","","","","",null,null,null,null,null,null,null,null,null,null,null,null,null,null,null,null,null,null,null,null,null,null,null,{"$error":"#VALUE!"},{"$error":"#VALUE!"},null,null,null,null,null,null,null,null,"","","","","","",""]
[null,null,null,null,null,null,null,null,null,null,null,null,null,null,"","","","",{"$error":"#VALUE!"},"","","","","","","","","","",null,null,null,null,null,null,null,null,null,null,null,null,null,null,null,null,null,null,null,null,null,null,null,{"$error":"#VALUE!"},{"$error":"#VALUE!"},null,null,null,null,null,null,null,null,"","","","","","",""]
[null,null,null,null,null,null,null,null,null,null,null,null,null,null,"","","","",{"$error":"#VALUE!"},"","","","","","","","","","",null,null,null,null,null,null,null,null,null,null,null,null,null,null,null,null,null,null,null,null,null,null,null,{"$error":"#VALUE!"},{"$error":"#VALUE!"},null,null,null,null,null,null,null,null,"","","","","","",""]
[null,null,null,null,null,null,null,null,null,null,null,null,null,null,"","","","",{"$error":"#VALUE!"},"","","","","","","","","","",null,null,null,null,null,null,null,null,null,null,null,null,null,null,null,null,null,null,null,null,null,null,null,{"$error":"#VALUE!"},{"$error":"#VALUE!"},null,null,null,null,null,null,null,null,"","","","","","",""]
[null,null,null,null,null,null,null,null,null,null,null,null,null,null,"","","","",{"$error":"#VALUE!"},"","","","","","","","","","",null,null,null,null,null,null,null,null,null,null,null,null,null,null,null,null,null,null,null,null,null,null,null,{"$error":"#VALUE!"},{"$error":"#VALUE!"},null,null,null,null,null,null,null,null,"","","","","","",""]
[null,null,null,null,null,null,null,null,null,null,null,null,null,null,"","","","",{"$error":"#VALUE!"},"","","","","","","","","","",null,null,null,null,null,null,null,null,null,null,null,null,null,null,null,null,null,null,null,null,null,null,null,{"$error":"#VALUE!"},{"$error":"#VALUE!"},null,null,null,null,null,null,null,null,"","","","","","",""]
[null,null,null,null,null,null,null,null,null,null,null,null,null,null,"","","","",{"$error":"#VALUE!"},"","","","","","","","","","",null,null,null,null,null,null,null,null,null,null,null,null,null,null,null,null,null,null,null,null,null,null,null,{"$error":"#VALUE!"},{"$error":"#VALUE!"},null,null,null,null,null,null,null,null,"","","","","","",""]
[null,null,null,null,null,null,null,null,null,null,null,null,null,null,"","","","",{"$error":"#VALUE!"},"","","","","","","","","","",null,null,null,null,null,null,null,null,null,null,null,null,null,null,null,null,null,null,null,null,null,null,null,{"$error":"#VALUE!"},{"$error":"#VALUE!"},null,null,null,null,null,null,null,null,"","","","","","",""]
[null,null,null,null,null,null,null,null,null,null,null,null,null,null,"","","","",{"$error":"#VALUE!"},"","","","","","","","","","",null,null,null,null,null,null,null,null,null,null,null,null,null,null,null,null,null,null,null,null,null,null,null,{"$error":"#VALUE!"},{"$error":"#VALUE!"},null,null,null,null,null,null,null,null,"","","","","","",""]
[null,null,null,null,null,null,null,null,null,null,null,null,null,null,"","","","",{"$error":"#VALUE!"},"","","","","","","","","","",null,null,null,null,null,null,null,null,null,null,null,null,null,null,null,null,null,null,null,null,null,null,null,{"$error":"#VALUE!"},{"$error":"#VALUE!"},null,null,null,null,null,null,null,null,"","","","","","",""]
[null,null,null,null,null,null,null,null,null,null,null,null,null,null,"","","","",{"$error":"#VALUE!"},"","","","","","","","","","",null,null,null,null,null,null,null,null,null,null,null,null,null,null,null,null,null,null,null,null,null,null,null,{"$error":"#VALUE!"},{"$error":"#VALUE!"},null,null,null,null,null,null,null,null,"","","","","","",""]
[null,null,null,null,null,null,null,null,null,null,null,null,null,null,"","","","",{"$error":"#VALUE!"},"","","","","","","","","","",null,null,null,null,null,null,null,null,null,null,null,null,null,null,null,null,null,null,null,null,null,null,null,{"$error":"#VALUE!"},{"$error":"#VALUE!"},null,null,null,null,null,null,null,null,"","","","","","",""]
[null,null,null,null,null,null,null,null,null,null,null,null,null,null,"","","","",{"$error":"#VALUE!"},"","","","","","","","","","",null,null,null,null,null,null,null,null,null,null,null,null,null,null,null,null,null,null,null,null,null,null,null,{"$error":"#VALUE!"},{"$error":"#VALUE!"},null,null,null,null,null,null,null,null,"","","","","","",""]
[null,null,null,null,null,null,null,null,null,null,null,null,null,null,"","","","",{"$error":"#VALUE!"},"","","","","","","","","","",null,null,null,null,null,null,null,null,null,null,null,null,null,null,null,null,null,null,null,null,null,null,null,{"$error":"#VALUE!"},{"$error":"#VALUE!"},null,null,null,null,null,null,null,null,"","","","","","",""]
[null,null,null,null,null,null,null,null,null,null,null,null,null,null,"","","","",{"$error":"#VALUE!"},"","","","","","","","","","",null,null,null,null,null,null,null,null,null,null,null,null,null,null,null,null,null,null,null,null,null,null,null,{"$error":"#VALUE!"},{"$error":"#VALUE!"},null,null,null,null,null,null,null,null,"","","","","","",""]
[null,null,null,null,null,null,null,null,null,null,null,null,null,null,"","","","",{"$error":"#VALUE!"},"","","","","","","","","","",null,null,null,null,null,null,null,null,null,null,null,null,null,null,null,null,null,null,null,null,null,null,null,{"$error":"#VALUE!"},{"$error":"#VALUE!"},null,null,null,null,null,null,null,null,"","","","","","",""]
[null,null,null,null,null,null,null,null,null,null,null,null,null,null,"","","","",{"$error":"#VALUE!"},"","","","","","","","","","",null,null,null,null,null,null,null,null,null,null,null,null,null,null,null,null,null,null,null,null,null,null,null,{"$error":"#VALUE!"},{"$error":"#VALUE!"},null,null,null,null,null,null,null,null,"","","","","","",""]
[null,null,null,null,null,null,null,null,null,null,null,null,null,null,"","","","",{"$error":"#VALUE!"},"","","","","","","","","","",null,null,null,null,null,null,null,null,null,null,null,null,null,null,null,null,null,null,null,null,null,null,null,{"$error":"#VALUE!"},{"$error":"#VALUE!"},null,null,null,null,null,null,null,null,"","","","","","",""]
[null,null,null,null,null,null,null,null,null,null,null,null,null,null,"","","","",{"$error":"#VALUE!"},"","","","","","","","","","",null,null,null,null,null,null,null,null,null,null,null,null,null,null,null,null,null,null,null,null,null,null,null,{"$error":"#VALUE!"},{"$error":"#VALUE!"},null,null,null,null,null,null,null,null,"","","","","","",""]
[null,null,null,null,null,null,null,null,null,null,null,null,null,null,"","","","",{"$error":"#VALUE!"},"","","","","","","","","","",null,null,null,null,null,null,null,null,null,null,null,null,null,null,null,null,null,null,null,null,null,null,null,{"$error":"#VALUE!"},{"$error":"#VALUE!"},null,null,null,null,null,null,null,null,"","","","","","",""]
[null,null,null,null,null,null,null,null,null,null,null,null,null,null,"","","","",{"$error":"#VALUE!"},"","","","","","","","","","",null,null,null,null,null,null,null,null,null,null,null,null,null,null,null,null,null,null,null,null,null,null,null,{"$error":"#VALUE!"},{"$error":"#VALUE!"},null,null,null,null,null,null,null,null,"","","","","","",""]
[null,null,null,null,null,null,null,null,null,null,null,null,null,null,"","","","",{"$error":"#VALUE!"},"","","","","","","","","","",null,null,null,null,null,null,null,null,null,null,null,null,null,null,null,null,null,null,null,null,null,null,null,{"$error":"#VALUE!"},{"$error":"#VALUE!"},null,null,null,null,null,null,null,null,"","","","","","",""]
[null,null,null,null,null,null,null,null,null,null,null,null,null,null,"","","","",{"$error":"#VALUE!"},"","","","","","","","","","",null,null,null,null,null,null,null,null,null,null,null,null,null,null,null,null,null,null,null,null,null,null,null,{"$error":"#VALUE!"},{"$error":"#VALUE!"},null,null,null,null,null,null,null,null,"","","","","","",""]
[null,null,null,null,null,null,null,null,null,null,null,null,null,null,"","","","",{"$error":"#VALUE!"},"","","","","","","","","","",null,null,null,null,null,null,null,null,null,null,null,null,null,null,null,null,null,null,null,null,null,null,null,{"$error":"#VALUE!"},{"$error":"#VALUE!"},null,null,null,null,null,null,null,null,"","","","","","",""]
[null,null,null,null,null,null,null,null,null,null,null,null,null,null,"","","","",{"$error":"#VALUE!"},"","","","","","","","","","",null,null,null,null,null,null,null,null,null,null,null,null,null,null,null,null,null,null,null,null,null,null,null,{"$error":"#VALUE!"},{"$error":"#VALUE!"},null,null,null,null,null,null,null,null,"","","","","","",""]
[null,null,null,null,null,null,null,null,null,null,null,null,null,null,"","","","",{"$error":"#VALUE!"},"","","","","","","","","","",null,null,null,null,null,null,null,null,null,null,null,null,null,null,null,null,null,null,null,null,null,null,null,{"$error":"#VALUE!"},{"$error":"#VALUE!"},null,null,null,null,null,null,null,null,"","","","","","",""]
[null,null,null,null,null,null,null,null,null,null,null,null,null,null,"","","","",{"$error":"#VALUE!"},"","","","","","","","","","",null,null,null,null,null,null,null,null,null,null,null,null,null,null,null,null,null,null,null,null,null,null,null,{"$error":"#VALUE!"},{"$error":"#VALUE!"},null,null,null,null,null,null,null,null,"","","","","","",""]
[null,null,null,null,null,null,null,null,null,null,null,null,null,null,"","","","",{"$error":"#VALUE!"},"","","","","","","","","","",null,null,null,null,null,null,null,null,null,null,null,null,null,null,null,null,null,null,null,null,null,null,null,{"$error":"#VALUE!"},{"$error":"#VALUE!"},null,null,null,null,null,null,null,null,"","","","","","",""]
[null,null,null,null,null,null,null,null,null,null,null,null,null,null,"","","","",{"$error":"#VALUE!"},"","","",{"$f":"IF(G964<h,(\"\"),(IF(G964<h+dzd,(0),(IF(N964=\"\",(W963+H964*(G964-G963)),(W963+(I964-9.81)*(G964-G963)))))))","v":""},"","",{"$f":"IF(Y964=\"\",X964,X964+Y964)","v":""},{"$f":"IF(N964=\"\",(\"\"),IF(G964>h,AA963,((G964-nz)*9.81)))","v":""},"","",null,null,null,null,null,null,null,null,null,null,null,null,null,null,null,null,null,null,null,null,null,null,null,{"$error":"#VALUE!"},{"$error":"#VALUE!"},null,null,null,null,null,null,null,null,"","","","","","",""]
[null,null,null,null,null,null,null,null,null,null,null,null,null,null,"","","","",{"$error":"#VALUE!"},"","","","","","","","","","",null,null,null,null,null,null,null,null,null,null,null,null,null,null,null,null,null,null,null,null,null,null,null,{"$error":"#VALUE!"},{"$error":"#VALUE!"},null,null,null,null,null,null,null,null,"","","","","","",""]
[null,null,null,null,null,null,null,null,null,null,null,null,null,null,"","","",{"$f":"IF(L966=\"\",\"\",(IF(G966=\"\",\"\",IF(G966=h,(R967),(IF(N966=\"\",$E$11,($E$11*V966/W966)))))))","v":""},{"$error":"#VALUE!"},"","",{"$f":"IF(G966<h,(\"\"),(IF(G966<h+dzd,(0),(IF(N966=\"\",(V965+H966*(G966-G965)),(V965+(I966)*(G966-G965)))))))","v":""},"","",{"$f":"IF(G966<h,(\"\"),((-P966*W966-2*J966*(P966^0.5))*COS(RADIANS(M966))))","v":""},"","",{"$f":"IF(G966=\"\",\"\",IF(G966>hd,0,IF($A$27=1,BK966,IF($A$27=2,BL966,IF($A$27=3,BM966,IF($A$27=4,BN966+ka*($E$4+$E$5),IF($A$27=5,BP966,IF($A$27=6,BO966,BQ966))))))))","v":""},{"$f":"IF(G966>h,\"\",IF(G966=\"\",\"\",IF($A$28=1,IF(G966<0.25*h,0.3*$E$13*h*G966/0.25/h,IF(G966<0.75*h,0.3*$E$13*h,0.3*$E$13*h*(1-(G966-0.75*h)/0.25/h))),(2))))","v":""},null,null,null,null,null,null,null,null,null,null,null,null,null,null,null,null,null,null,null,null,null,null,null,{"$error":"#VALUE!"},{"$error":"#VALUE!"},null,null,null,null,null,null,null,null,{"$f":"IF(G966=\"\",\"\",IF(G966>hd,0,(IF(G966<0.2*(hd),(1.6*($AH$20+$AH$21)/(hd)/0.2/(hd)*G966),(IF(G966<0.8*(hd),(1.6*($AH$20+$AH$21)/(hd)),(1.6*($AH$20+$AH$21)/(hd)-1.6*($AH$20+$AH$21)/(hd)/0.2/(hd)*(G966-0.8*(hd)))))))))","v":""},{"$f":"IF(G966=\"\",\"\",IF(G966>hd,0,(IF(G966<((2/3)*$AH$6),(1.3*($AH$20+$AH$21)/(hd-(1/3)*($AH$6+(hd-MAX($AP$6:$AP$15))))*G966/(2/3*$AH$6)),(IF(G966<(h-2/3*(hd-MAX($AP$6:$AP$15))),1.3*($AH$20+$AH$21)/(hd-1/3*($AH$6+(hd-MAX($AP$6:$AP$15)))),1.3*($AH$20+$AH$21)/(hd-1/3*($AH$6+(hd-MAX($AP$6:$AP$15))))*(1-(G966-(hd-2/3*(hd-MAX($AP$6:$AP$15))))/(2/3*(hd-MAX($AP$6:$AP$15))))))))))","v":""},{"$f":"IF(G966=\"\",\"\",IF(G966>hd,0,(IF(G966<(0.6667*$AH$6),(0.3*g*hd*G966/(0.6667*$AH$6)),(IF(G966<(hd-0.6667*(hd-MAX($AP$6:$AP$15))),0.3*g*hd,0.3*g*hd*(1-(G966-(hd-0.6667*(hd-MAX($AP$6:$AP$15))))/(0.6667*(hd-MAX($AP$6:$AP$15))))))))))","v":""},{"$f":"IF(G966=\"\",\"\",IF(G966>hd,0,(IF(G966<((2/3)*$AH$6),(0.65*ka*g*hd*hd/(hd-(1/3)*($AH$6+(hd-MAX($AP$6:$AP$15))))*G966/(2/3*$AH$6)),(IF(G966<(h-2/3*(hd-MAX($AP$6:$AP$15))),0.65*ka*g*hd*hd/(hd-1/3*($AH$6+(hd-MAX($AP$6:$AP$15)))),0.65*ka*g*hd*hd/(hd-1/3*($AH$6+(hd-MAX($AP$6:$AP$15))))*(1-(G966-(hd-2/3*(hd-MAX($AP$6:$AP$15))))/(2/3*(hd-MAX($AP$6:$AP$15))))))))))","v":""},{"$f":"IF(G966=\"\",\"\",IF(G966>hd,0,(IF(G966<(0.25*hd),(0.3*g*h*G966/(0.25*hd)),(IF(G966<(0.75*hd),0.3*g*h,0.3*g*h*(1-(G966-0.75*hd)/0.25/hd)))))))","v":""},{"$f":"IF(G966>hd,0,IF(G966=\"\",\"\",0.65*ka*g*hd))","v":""},{"$f":"IF(G966=\"\",\"\",IF(G966>hd,0,(IF(G966<(0.25*hd),(1-4*ca/g/hd)*g*hd*G966/(0.25*hd),((1-4*ca/g/hd)*g*hd)))))","v":""}]
[null,null,null,null,null,null,null,null,null,null,null,null,null,null,{"$f":"IF(G967=\"\",(\"\"),((SIN(RADIANS($E$9+BA967-K967)))^2)*((SIN(RADIANS($E$9)))^-2)*((COS(RADIANS(BA967)))^-1)*((SIN((RADIANS($E$9+BA967+M967))))^-1)/(1+((SIN(RADIANS(K967+M967)))*(SIN((RADIANS(K967-$E$7-BA967))/(SIN(RADIANS($E$9-$E$7)))/(SIN((RADIANS($E$9+BA967+M967)))))))^0.5)^2)","v":""},{"$f":"IF(L967=\"\",(\"\"),((SIN(RADIANS($E$9-BB967+L967)))^2)*((SIN(RADIANS($E$9)))^-2)*((COS(RADIANS(BB967)))^-1)*((SIN((RADIANS($E$9-BB967-M967))))^-1)/(1-((SIN(RADIANS(L967+M967)))*(SIN((RADIANS(L967+$E$7-BB967))/(SIN(RADIANS($E$9-$E$7)))/(SIN((RADIANS($E$9-BB967-M967)))))))^0.5)^2)","v":""},{"$f":"IF(G967=\"\",\"\",(IF(N967=\"\",$E$11,($E$11*T967/U967))))","v":""},"",{"$f":"IF(G967=\"\",\"\",0.5*PI()-ATAN((-TAN(RADIANS(K967+M967+(90-$E$9)-$E$7)))+(1/(COS(RADIANS(K967+M967+(90-$E$9)-$E$7))))*((COS((RADIANS(90-$E$9+M967+BA967))))^0.5)*((SIN(RADIANS(K967+M967)))^0.5)*((COS(RADIANS(90-$E$9-$E$7)))^-0.5)*((SIN(RADIANS(K967-$E$7-BA967)))^-0.5)))+$E$7","v":{"$error":"#VALUE!"}},"","","","","","","","","","",null,null,null,null,null,null,null,null,null,null,null,null,null,null,null,null,null,null,null,null,null,null,null,{"$f":"ATAN(Q967)/0.017453","v":{"$error":"#VALUE!"}},{"$f":"ATAN(Q967)/0.017453","v":{"$error":"#VALUE!"}},null,null,null,null,null,null,null,null,"","","","","","",""]
[null,null,null,null,null,null,null,null,null,null,null,null,null,null,"","","","",{"$error":"#VALUE!"},{"$f":"IF(G968=\"\",(\"\"),(IF(N968=\"\",(T967+(G968-G967)*H967),(T967+(G968-G967)*(I967)))))","v":""},{"$f":"IF(G968=\"\",(\"\"),(IF(N968=\"\",(U967+(G968-G967)*H967),(U967+(G968-G967)*(I967-9.81)))))","v":""},"","",{"$f":"IF(G968=\"\",(\"\"),((O968*U968-2*J968*(O968)^0.5))*COS(RADIANS(M968)))","v":""},"","","","","",null,null,null,null,null,null,null,null,null,null,null,null,null,null,null,null,null,null,null,null,null,null,null,{"$error":"#VALUE!"},{"$error":"#VALUE!"},null,null,null,null,null,null,null,null,"","","","","","",""]
[null,null,null,null,null,null,null,null,null,null,null,null,null,null,"","","","",{"$error":"#VALUE!"},"","","","","","","","","","",null,null,null,null,null,null,null,null,null,null,null,null,null,null,null,null,null,null,null,null,null,null,null,{"$error":"#VALUE!"},{"$error":"#VALUE!"},null,null,null,null,null,null,null,null,"","","","","","",""]
[null,null,null,null,null,null,null,null,null,null,null,null,null,null,"","","","",{"$error":"#VALUE!"},"","","","","","","","","","",null,null,null,null,null,null,null,null,null,null,null,null,null,null,null,null,null,null,null,null,null,null,null,{"$error":"#VALUE!"},{"$error":"#VALUE!"},null,null,null,null,null,null,null,null,"","","","","","",""]
[null,null,null,null,null,null,null,null,null,null,null,null,null,null,"","","","",{"$error":"#VALUE!"},"","","","","","","","","","",null,null,null,null,null,null,null,null,null,null,null,null,null,null,null,null,null,null,null,null,null,null,null,{"$error":"#VALUE!"},{"$error":"#VALUE!"},null,null,null,null,null,null,null,null,"","","","","","",""]
[null,null,null,null,null,null,null,null,null,null,null,null,null,null,"","","","",{"$error":"#VALUE!"},"","","","","","","","","","",null,null,null,null,null,null,null,null,null,null,null,null,null,null,null,null,null,null,null,null,null,null,null,{"$error":"#VALUE!"},{"$error":"#VALUE!"},null,null,null,null,null,null,null,null,"","","","","","",""]
[null,null,null,null,null,null,null,null,null,null,null,null,null,null,"","","","",{"$error":"#VALUE!"},"","","","","","","","","","",null,null,null,null,null,null,null,null,null,null,null,null,null,null,null,null,null,null,null,null,null,null,null,{"$error":"#VALUE!"},{"$error":"#VALUE!"},null,null,null,null,null,null,null,null,"","","","","","",""]
[null,null,null,null,null,null,null,null,null,null,null,null,null,null,"","","","",{"$error":"#VALUE!"},"","","","","","","","","","",null,null,null,null,null,null,null,null,null,null,null,null,null,null,null,null,null,null,null,null,null,null,null,{"$error":"#VALUE!"},{"$error":"#VALUE!"},null,null,null,null,null,null,null,null,"","","","","","",""]
[null,null,null,null,null,null,null,null,null,null,null,null,null,null,"","","","",{"$error":"#VALUE!"},"","","","","","","","","","",null,null,null,null,null,null,null,null,null,null,null,null,null,null,null,null,null,null,null,null,null,null,null,{"$error":"#VALUE!"},{"$error":"#VALUE!"},null,null,null,null,null,null,null,null,"","","","","","",""]
[null,null,null,null,null,null,null,null,null,null,null,null,null,null,"","","","",{"$error":"#VALUE!"},"","","","","","","","","","",null,null,null,null,null,null,null,null,null,null,null,null,null,null,null,null,null,null,null,null,null,null,null,{"$error":"#VALUE!"},{"$error":"#VALUE!"},null,null,null,null,null,null,null,null,"","","","","","",""]
[null,null,null,null,null,null,null,null,null,null,null,null,null,null,"","","","",{"$error":"#VALUE!"},"","","","","","","","","","",null,null,null,null,null,null,null,null,null,null,null,null,null,null,null,null,null,null,null,null,null,null,null,{"$error":"#VALUE!"},{"$error":"#VALUE!"},null,null,null,null,null,null,null,null,"","","","","","",""]
[null,null,null,null,null,null,null,null,null,null,null,null,null,null,"","","","",{"$error":"#VALUE!"},"","","","","","","","","","",null,null,null,null,null,null,null,null,null,null,null,null,null,null,null,null,null,null,null,null,null,null,null,{"$error":"#VALUE!"},{"$error":"#VALUE!"},null,null,null,null,null,null,null,null,"","","","","","",""]
[null,null,null,null,null,null,null,null,null,null,null,null,null,null,"","","","",{"$error":"#VALUE!"},"","","","","","","","","","",null,null,null,null,null,null,null,null,null,null,null,null,null,null,null,null,null,null,null,null,null,null,null,{"$error":"#VALUE!"},{"$error":"#VALUE!"},null,null,null,null,null,null,null,null,"","","","","","",""]
[null,null,null,null,null,null,null,null,null,null,null,null,null,null,"","","","",{"$error":"#VALUE!"},"","","","","","","","","","",null,null,null,null,null,null,null,null,null,null,null,null,null,null,null,null,null,null,null,null,null,null,null,{"$error":"#VALUE!"},{"$error":"#VALUE!"},null,null,null,null,null,null,null,null,"","","","","","",""]
[null,null,null,null,null,null,null,null,null,null,null,null,null,null,"","","","",{"$error":"#VALUE!"},"","","","","","","","","","",null,null,null,null,null,null,null,null,null,null,null,null,null,null,null,null,null,null,null,null,null,null,null,{"$error":"#VALUE!"},{"$error":"#VALUE!"},null,null,null,null,null,null,null,null,"","","","","","",""]
[null,null,null,null,null,null,null,null,null,null,null,null,null,null,"","","","",{"$error":"#VALUE!"},"","","","","","","","","","",null,null,null,null,null,null,null,null,null,null,null,null,null,null,null,null,null,null,null,null,null,null,null,{"$error":"#VALUE!"},{"$error":"#VALUE!"},null,null,null,null,null,null,null,null,"","","","","","",""]
[null,null,null,null,null,null,null,null,null,null,null,null,null,null,"","","","",{"$error":"#VALUE!"},"","","","","","","","","","",null,null,null,null,null,null,null,null,null,null,null,null,null,null,null,null,null,null,null,null,null,null,null,{"$error":"#VALUE!"},{"$error":"#VALUE!"},null,null,null,null,null,null,null,null,"","","","","","",""]
[null,null,null,null,null,null,null,null,null,null,null,null,null,null,"","","","",{"$error":"#VALUE!"},"","","","","","","","","","",null,null,null,null,null,null,null,null,null,null,null,null,null,null,null,null,null,null,null,null,null,null,null,{"$error":"#VALUE!"},{"$error":"#VALUE!"},null,null,null,null,null,null,null,null,"","","","","","",""]
[null,null,null,null,null,null,null,null,null,null,null,null,null,null,"","","","",{"$error":"#VALUE!"},"","","","","","","","","","",null,null,null,null,null,null,null,null,null,null,null,null,null,null,null,null,null,null,null,null,null,null,null,{"$error":"#VALUE!"},{"$error":"#VALUE!"},null,null,null,null,null,null,null,null,"","","","","","",""]
[null,null,null,null,null,null,null,null,null,null,null,null,null,null,"","","","",{"$error":"#VALUE!"},"","","","","","","","","","",null,null,null,null,null,null,null,null,null,null,null,null,null,null,null,null,null,null,null,null,null,null,null,{"$error":"#VALUE!"},{"$error":"#VALUE!"},null,null,null,null,null,null,null,null,"","","","","","",""]
[null,null,null,null,null,null,null,null,null,null,null,null,null,null,"","","","",{"$error":"#VALUE!"},"","","","","","","","","","",null,null,null,null,null,null,null,null,null,null,null,null,null,null,null,null,null,null,null,null,null,null,null,{"$error":"#VALUE!"},{"$error":"#VALUE!"},null,null,null,null,null,null,null,null,"","","","","","",""]
[null,null,null,null,null,null,null,null,null,null,null,null,null,null,"","","","",{"$error":"#VALUE!"},"","","","","","","","","","",null,null,null,null,null,null,null,null,null,null,null,null,null,null,null,null,null,null,null,null,null,null,null,{"$error":"#VALUE!"},{"$error":"#VALUE!"},null,null,null,null,null,null,null,null,"","","","","","",""]
[null,null,null,null,null,null,null,null,null,null,null,null,null,null,"","","","",{"$error":"#VALUE!"},"","","","","","","","","","",null,null,null,null,null,null,null,null,null,null,null,null,null,null,null,null,null,null,null,null,null,null,null,{"$error":"#VALUE!"},{"$error":"#VALUE!"},null,null,null,null,null,null,null,null,"","","","","","",""]
[null,null,null,null,null,null,null,null,null,null,null,null,null,null,"","","","",{"$error":"#VALUE!"},"","","","","","","","","","",null,null,null,null,null,null,null,null,null,null,null,null,null,null,null,null,null,null,null,null,null,null,null,{"$error":"#VALUE!"},{"$error":"#VALUE!"},null,null,null,null,null,null,null,null,"","","","","","",""]
[null,null,null,null,null,null,null,null,null,null,null,null,null,null,"","","","",{"$error":"#VALUE!"},"","","","","","","","","","",null,null,null,null,null,null,null,null,null,null,null,null,null,null,null,null,null,null,null,null,null,null,null,{"$error":"#VALUE!"},{"$error":"#VALUE!"},null,null,null,null,null,null,null,null,"","","","","","",""]
[null,null,null,null,null,null,null,null,null,null,null,null,null,null,"","","","",{"$error":"#VALUE!"},"","","","","","","","","","",null,null,null,null,null,null,null,null,null,null,null,null,null,null,null,null,null,null,null,null,null,null,null,{"$error":"#VALUE!"},{"$error":"#VALUE!"},null,null,null,null,null,null,null,null,"","","","","","",""]
[null,null,null,null,null,null,null,null,null,null,null,null,null,null,"","","","",{"$error":"#VALUE!"},"","","","","","","","","","",null,null,null,null,null,null,null,null,null,null,null,null,null,null,null,null,null,null,null,null,null,null,null,{"$error":"#VALUE!"},{"$error":"#VALUE!"},null,null,null,null,null,null,null,null,"","","","","","",""]
[null,null,null,null,null,null,null,null,null,null,null,null,null,null,"","","","",{"$error":"#VALUE!"},"","","","","","","","","","",null,null,null,null,null,null,null,null,null,null,null,null,null,null,null,null,null,null,null,null,null,null,null,{"$error":"#VALUE!"},{"$error":"#VALUE!"},null,null,null,null,null,null,null,null,"","","","","","",""]
[null,null,null,null,null,null,null,null,null,null,null,null,null,null,"","","","",{"$error":"#VALUE!"},"","","","","","","","","","",null,null,null,null,null,null,null,null,null,null,null,null,null,null,null,null,null,null,null,null,null,null,null,{"$error":"#VALUE!"},{"$error":"#VALUE!"},null,null,null,null,null,null,null,null,"","","","","","",""]
[null,null,null,null,null,null,null,null,null,null,null,null,null,null,"","","","",{"$error":"#VALUE!"},"","","","","","","","","","",null,null,null,null,null,null,null,null,null,null,null,null,null,null,null,null,null,null,null,null,null,null,null,{"$error":"#VALUE!"},{"$error":"#VALUE!"},null,null,null,null,null,null,null,null,"","","","","","",""]
[null,null,null,null,null,null,null,null,null,null,null,null,null,null,"","","","",{"$error":"#VALUE!"},"","","","","","","","","","",null,null,null,null,null,null,null,null,null,null,null,null,null,null,null,null,null,null,null,null,null,null,null,{"$error":"#VALUE!"},{"$error":"#VALUE!"},null,null,null,null,null,null,null,null,"","","","","","",""]
[null,null,null,null,null,null,null,null,null,null,null,null,null,null,"","","","",{"$error":"#VALUE!"},"","","","","","","","","","",null,null,null,null,null,null,null,null,null,null,null,null,null,null,null,null,null,null,null,null,null,null,null,{"$error":"#VALUE!"},{"$error":"#VALUE!"},null,null,null,null,null,null,null,null,"","","","","","",""]
[null,null,null,null,null,null,null,null,null,null,null,null,null,null,"","","","",{"$error":"#VALUE!"},"","","","","","","","","","",null,null,null,null,null,null,null,null,null,null,null,null,null,null,null,null,null,null,null,null,null,null,null,{"$error":"#VALUE!"},{"$error":"#VALUE!"},null,null,null,null,null,null,null,null,"","","","","","",""]
[null,null,null,null,null,null,null,null,null,null,null,null,null,null,"","","","",{"$error":"#VALUE!"},"","","","","","","","","","",null,null,null,null,null,null,null,null,null,null,null,null,null,null,null,null,null,null,null,null,null,null,null,{"$error":"#VALUE!"},{"$error":"#VALUE!"},null,null,null,null,null,null,null,null,"","","","","","",""]
[null,null,null,null,null,null,null,null,null,null,null,null,null,null,"","","","",{"$error":"#VALUE!"},"","","","","","","","","","",null,null,null,null,null,null,null,null,null,null,null,null,null,null,null,null,null,null,null,null,null,null,null,{"$error":"#VALUE!"},{"$error":"#VALUE!"},null,null,null,null,null,null,null,null,"","","","","","",""]
[null,null,null,null,null,null,null,null,null,null,null,null,null,null,"","","","",{"$error":"#VALUE!"},"","","","","","","","","","",null,null,null,null,null,null,null,null,null,null,null,null,null,null,null,null,null,null,null,null,null,null,null,{"$error":"#VALUE!"},{"$error":"#VALUE!"},null,null,null,null,null,null,null,null,"","","","","","",""]
[null,null,null,null,null,null,null,null,null,null,null,null,null,null,"","","","",{"$error":"#VALUE!"},"","","","","","","","","","",null,null,null,null,null,null,null,null,null,null,null,null,null,null,null,null,null,null,null,null,null,null,null,{"$error":"#VALUE!"},{"$error":"#VALUE!"},null,null,null,null,null,null,null,null,"","","","","","",""]
[null,null,null,null,null,null,null,null,null,null,null,null,null,null,"","","","",{"$error":"#VALUE!"},"","","","","","","","","","",null,null,null,null,null,null,null,null,null,null,null,null,null,null,null,null,null,null,null,null,null,null,null,{"$error":"#VALUE!"},{"$error":"#VALUE!"},null,null,null,null,null,null,null,null,"","","","","","",""]
[null,null,null,null,null,null,null,null,null,null,null,null,null,null,"","","","",{"$error":"#VALUE!"},"","","","","","","","","","",null,null,null,null,null,null,null,null,null,null,null,null,null,null,null,null,null,null,null,null,null,null,null,{"$error":"#VALUE!"},{"$error":"#VALUE!"},null,null,null,null,null,null,null,null,"","","","","","",""]
[null,null,null,null,null,null,null,null,null,null,null,null,null,null,"","","","",{"$error":"#VALUE!"},"","","","","","","","","","",null,null,null,null,null,null,null,null,null,null,null,null,null,null,null,null,null,null,null,null,null,null,null,{"$error":"#VALUE!"},{"$error":"#VALUE!"},null,null,null,null,null,null,null,null,"","","","","","",""]
[null,null,null,null,null,null,null,null,null,null,null,null,null,null,"","","","",{"$error":"#VALUE!"},"","","","","","","","","","",null,null,null,null,null,null,null,null,null,null,null,null,null,null,null,null,null,null,null,null,null,null,null,{"$error":"#VALUE!"},{"$error":"#VALUE!"},null,null,null,null,null,null,null,null,"","","","","","",""]
[null,null,null,null,null,null,null,null,null,null,null,null,null,null,"","","","",{"$error":"#VALUE!"},"","","","","","","","","","",null,null,null,null,null,null,null,null,null,null,null,null,null,null,null,null,null,null,null,null,null,null,null,{"$error":"#VALUE!"},{"$error":"#VALUE!"},null,null,null,null,null,null,null,null,"","","","","","",""]
[null,null,null,null,null,null,null,null,null,null,null,null,null,null,"","","","",{"$error":"#VALUE!"},"","","","","","","","","","",null,null,null,null,null,null,null,null,null,null,null,null,null,null,null,null,null,null,null,null,null,null,null,{"$error":"#VALUE!"},{"$error":"#VALUE!"},null,null,null,null,null,null,null,null,"","","","","","",""]
[null,null,null,null,null,null,null,null,null,null,null,null,null,null,"","","","",{"$error":"#VALUE!"},"","","","","","","","","","",null,null,null,null,null,null,null,null,null,null,null,null,null,null,null,null,null,null,null,null,null,null,null,{"$error":"#VALUE!"},{"$error":"#VALUE!"},null,null,null,null,null,null,null,null,"","","","","","",""]
[null,null,null,null,null,null,null,null,null,null,null,null,null,null,null,null,null,null,null,null,null,null,null,null,null,null,null,null,null,null,null,null,null,null,null,null,null,null,null,null,null,null,null,null,null,null,null,null,null,null,null,null,null,null,null,null,null,null,null,null,null,null,"","","","","","",""]
[null,null,null,null,null,null,null,null,null,null,null,null,null,null,null,null,null,null,null,null,null,null,null,null,null,null,null,null,null,null,null,null,null,null,null,null,null,null,null,null,null,null,null,null,null,null,null,null,null,null,null,null,null,null,null,null,null,null,null,null,null,null,"","","","","","",""]
[null,null,null,null,null,null,null,null,null,null,null,null,null,null,null,null,null,null,null,null,null,null,null,null,null,null,null,null,null,null,null,null,null,null,null,null,null,null,null,null,null,null,null,null,null,null,null,null,null,null,null,null,null,null,null,null,null,null,null,null,null,null,"","","","","","",""]
[null,null,null,null,null,null,null,null,null,null,null,null,null,null,null,null,null,null,null,null,null,null,null,null,null,null,null,null,null,null,null,null,null,null,null,null,null,null,null,null,null,null,null,null,null,null,null,null,null,null,null,null,null,null,null,null,null,null,null,null,null,null,"","","","","","",""]
[null,null,null,null,null,null,null,null,null,null,null,null,null,null,null,null,null,null,null,null,null,null,null,null,null,null,null,null,null,null,null,null,null,null,null,null,null,null,null,null,null,null,null,null,null,null,null,null,null,null,null,null,null,null,null,null,null,null,null,null,null,null,"","","","","","",""]
[null,null,null,null,null,null,null,null,null,null,null,null,null,null,null,null,null,null,null,null,null,null,null,null,null,null,null,null,null,null,null,null,null,null,null,null,null,null,null,null,null,null,null,null,null,null,null,null,null,null,null,null,null,null,null,null,null,null,null,null,null,null,"","","","","","",""]
[null,null,null,null,null,null,null,null,null,null,null,null,null,null,null,null,null,null,null,null,null,null,null,null,null,null,null,null,null,null,null,null,null,null,null,null,null,null,null,null,null,null,null,null,null,null,null,null,null,null,null,null,null,null,null,null,null,null,null,null,null,null,"","","","","","",""]
[null,null,null,null,null,null,null,null,null,null,null,null,null,null,null,null,null,null,null,null,null,null,null,null,null,null,null,null,null,null,null,null,null,null,null,null,null,null,null,null,null,null,null,null,null,null,null,null,null,null,null,null,null,null,null,null,null,null,null,null,null,null,"","","","","","",""]
[null,null,null,null,null,null,null,null,null,null,null,null,null,null,null,null,null,null,null,null,null,null,null,null,null,null,null,null,null,null,null,null,null,null,null,null,null,null,null,null,null,null,null,null,null,null,null,null,null,null,null,null,null,null,null,null,null,null,null,null,null,null,"","","","","","",""]
[null,null,null,null,null,null,null,null,null,null,null,null,null,null,null,null,null,null,null,null,null,null,null,null,null,null,null,null,null,null,null,null,null,null,null,null,null,null,null,null,null,null,null,null,null,null,null,null,null,null,null,null,null,null,null,null,null,null,null,null,null,null,"","","","","","",""]
[null,null,null,null,null,null,null,null,null,null,null,null,null,null,null,null,null,null,null,null,null,null,null,null,null,null,null,null,null,null,null,null,null,null,null,null,null,null,null,null,null,null,null,null,null,null,null,null,null,null,null,null,null,null,null,null,null,null,null,null,null,null,"","","","","","",""]
[null,null,null,null,null,null,null,null,null,null,null,null,null,null,null,null,null,null,null,null,null,null,null,null,null,null,null,null,null,null,null,null,null,null,null,null,null,null,null,null,null,null,null,null,null,null,null,null,null,null,null,null,null,null,null,null,null,null,null,null,null,null,"","","","","","",""]
[null,null,null,null,null,null,null,null,null,null,null,null,null,null,null,null,null,null,null,null,null,null,null,null,null,null,null,null,null,null,null,null,null,null,null,null,null,null,null,null,null,null,null,null,null,null,null,null,null,null,null,null,null,null,null,null,null,null,null,null,null,null,"","","","","","",""]
[null,null,null,null,null,null,null,null,null,null,null,null,null,null,null,null,null,null,null,null,null,null,null,null,null,null,null,null,null,null,null,null,null,null,null,null,null,null,null,null,null,null,null,null,null,null,null,null,null,null,null,null,null,null,null,null,null,null,null,null,null,null,"","","","","","",""]
[null,null,null,null,null,null,null,null,null,null,null,null,null,null,null,null,null,null,null,null,null,null,null,null,null,null,null,null,null,null,null,null,null,null,null,null,null,null,null,null,null,null,null,null,null,null,null,null,null,null,null,null,null,null,null,null,null,null,null,null,null,null,"","","","","","",""]
[null,null,null,null,null,null,null,null,null,null,null,null,null,null,null,null,null,null,null,null,null,null,null,null,null,null,null,null,null,null,null,null,null,null,null,null,null,null,null,null,null,null,null,null,null,null,null,null,null,null,null,null,null,null,null,null,null,null,null,null,null,null,"","","","","","",""]
[null,null,null,null,null,null,null,null,null,null,null,null,null,null,null,null,null,null,null,null,null,null,null,null,null,null,null,null,null,null,null,null,null,null,null,null,null,null,null,null,null,null,null,null,null,null,null,null,null,null,null,null,null,null,null,null,null,null,null,null,null,null,"","","","","","",""]
[null,null,null,null,null,null,null,null,null,null,null,null,null,null,null,null,null,null,null,null,null,null,null,null,null,null,null,null,null,null,null,null,null,null,null,null,null,null,null,null,null,null,null,null,null,null,null,null,null,null,null,null,null,null,null,null,null,null,null,null,null,null,"","","","","","",""]
[null,null,null,null,null,null,null,null,null,null,null,null,null,null,null,null,null,null,null,null,null,null,null,null,null,null,null,null,null,null,null,null,null,null,null,null,null,null,null,null,null,null,null,null,null,null,null,null,null,null,null,null,null,null,null,null,null,null,null,null,null,null,"","","","","","",""]
[null,null,null,null,null,null,null,null,null,null,null,null,null,null,null,null,null,null,null,null,null,null,null,null,null,null,null,null,null,null,null,null,null,null,null,null,null,null,null,null,null,null,null,null,null,null,null,null,null,null,null,null,null,null,null,null,null,null,null,null,null,null,{"$f":"IF(G1030=\"\",\"\",IF(G1030>hd,0,(IF(G1030<0.2*(hd),(1.6*($AH$20+$AH$21)/(hd)/0.2/(hd)*G1030),(IF(G1030<0.8*(hd),(1.6*($AH$20+$AH$21)/(hd)),(1.6*($AH$20+$AH$21)/(hd)-1.6*($AH$20+$AH$21)/(hd)/0.2/(hd)*(G1030-0.8*(hd)))))))))","v":""},{"$f":"IF(G1030=\"\",\"\",IF(G1030>hd,0,(IF(G1030<((2/3)*$AH$6),(1.3*($AH$20+$AH$21)/(hd-(1/3)*($AH$6+(hd-MAX($AP$6:$AP$15))))*G1030/(2/3*$AH$6)),(IF(G1030<(h-2/3*(hd-MAX($AP$6:$AP$15))),1.3*($AH$20+$AH$21)/(hd-1/3*($AH$6+(hd-MAX($AP$6:$AP$15)))),1.3*($AH$20+$AH$21)/(hd-1/3*($AH$6+(hd-MAX($AP$6:$AP$15))))*(1-(G1030-(hd-2/3*(hd-MAX($AP$6:$AP$15))))/(2/3*(hd-MAX($AP$6:$AP$15))))))))))","v":""},{"$f":"IF(G1030=\"\",\"\",IF(G1030>hd,0,(IF(G1030<(0.6667*$AH$6),(0.3*g*hd*G1030/(0.6667*$AH$6)),(IF(G1030<(hd-0.6667*(hd-MAX($AP$6:$AP$15))),0.3*g*hd,0.3*g*hd*(1-(G1030-(hd-0.6667*(hd-MAX($AP$6:$AP$15))))/(0.6667*(hd-MAX($AP$6:$AP$15))))))))))","v":""},{"$f":"IF(G1030=\"\",\"\",IF(G1030>hd,0,(IF(G1030<((2/3)*$AH$6),(0.65*ka*g*hd*hd/(hd-(1/3)*($AH$6+(hd-MAX($AP$6:$AP$15))))*G1030/(2/3*$AH$6)),(IF(G1030<(h-2/3*(hd-MAX($AP$6:$AP$15))),0.65*ka*g*hd*hd/(hd-1/3*($AH$6+(hd-MAX($AP$6:$AP$15)))),0.65*ka*g*hd*hd/(hd-1/3*($AH$6+(hd-MAX($AP$6:$AP$15))))*(1-(G1030-(hd-2/3*(hd-MAX($AP$6:$AP$15))))/(2/3*(hd-MAX($AP$6:$AP$15))))))))))","v":""},{"$f":"IF(G1030=\"\",\"\",IF(G1030>hd,0,(IF(G1030<(0.25*hd),(0.3*g*h*G1030/(0.25*hd)),(IF(G1030<(0.75*hd),0.3*g*h,0.3*g*h*(1-(G1030-0.75*hd)/0.25/hd)))))))","v":""},{"$f":"IF(G1030>hd,0,IF(G1030=\"\",\"\",0.65*ka*g*hd))","v":""},{"$f":"IF(G1030=\"\",\"\",IF(G1030>hd,0,(IF(G1030<(0.25*hd),(1-4*ca/g/hd)*g*hd*G1030/(0.25*hd),((1-4*ca/g/hd)*g*hd)))))","v":""}]
[null,null,null,null,null,null,null,null,null,null,null,null,null,null,null,null,null,null,null,null,null,null,null,null,null,null,null,null,null,null,null,null,null,null,null,null,null,null,null,null,null,null,null,null,null,null,null,null,null,null,null,null,null,null,null,null,null,null,null,null,null,null,"","","","","","",""]
[null,null,null,null,null,null,null,null,null,null,null,null,null,null,null,null,null,null,null,null,null,null,null,null,null,null,null,null,null,null,null,null,null,null,null,null,null,null,null,null,null,null,null,null,null,null,null,null,null,null,null,null,null,null,null,null,null,null,null,null,null,null,"","","","","","",""]
[null,null,null,null,null,null,null,null,null,null,null,null,null,null,null,null,null,null,null,null,null,null,null,null,null,null,null,null,null,null,null,null,null,null,null,null,null,null,null,null,null,null,null,null,null,null,null,null,null,null,null,null,null,null,null,null,null,null,null,null,null,null,"","","","","","",""]
[null,null,null,null,null,null,null,null,null,null,null,null,null,null,null,null,null,null,null,null,null,null,null,null,null,null,null,null,null,null,null,null,null,null,null,null,null,null,null,null,null,null,null,null,null,null,null,null,null,null,null,null,null,null,null,null,null,null,null,null,null,null,"","","","","","",""]
[null,null,null,null,null,null,null,null,null,null,null,null,null,null,null,null,null,null,null,null,null,null,null,null,null,null,null,null,null,null,null,null,null,null,null,null,null,null,null,null,null,null,null,null,null,null,null,null,null,null,null,null,null,null,null,null,null,null,null,null,null,null,"","","","","","",""]
[null,null,null,null,null,null,null,null,null,null,null,null,null,null,null,null,null,null,null,null,null,null,null,null,null,null,null,null,null,null,null,null,null,null,null,null,null,null,null,null,null,null,null,null,null,null,null,null,null,null,null,null,null,null,null,null,null,null,null,null,null,null,"","","","","","",""]
[null,null,null,null,null,null,null,null,null,null,null,null,null,null,null,null,null,null,null,null,null,null,null,null,null,null,null,null,null,null,null,null,null,null,null,null,null,null,null,null,null,null,null,null,null,null,null,null,null,null,null,null,null,null,null,null,null,null,null,null,null,null,"","","","","","",""]
[null,null,null,null,null,null,null,null,null,null,null,null,null,null,null,null,null,null,null,null,null,null,null,null,null,null,null,null,null,null,null,null,null,null,null,null,null,null,null,null,null,null,null,null,null,null,null,null,null,null,null,null,null,null,null,null,null,null,null,null,null,null,"","","","","","",""]
[null,null,null,null,null,null,null,null,null,null,null,null,null,null,null,null,null,null,null,null,null,null,null,null,null,null,null,null,null,null,null,null,null,null,null,null,null,null,null,null,null,null,null,null,null,null,null,null,null,null,null,null,null,null,null,null,null,null,null,null,null,null,"","","","","","",""]
[null,null,null,null,null,null,null,null,null,null,null,null,null,null,null,null,null,null,null,null,null,null,null,null,null,null,null,null,null,null,null,null,null,null,null,null,null,null,null,null,null,null,null,null,null,null,null,null,null,null,null,null,null,null,null,null,null,null,null,null,null,null,"","","","","","",""]
[null,null,null,null,null,null,null,null,null,null,null,null,null,null,null,null,null,null,null,null,null,null,null,null,null,null,null,null,null,null,null,null,null,null,null,null,null,null,null,null,null,null,null,null,null,null,null,null,null,null,null,null,null,null,null,null,null,null,null,null,null,null,"","","","","","",""]
[null,null,null,null,null,null,null,null,null,null,null,null,null,null,null,null,null,null,null,null,null,null,null,null,null,null,null,null,null,null,null,null,null,null,null,null,null,null,null,null,null,null,null,null,null,null,null,null,null,null,null,null,null,null,null,null,null,null,null,null,null,null,"","","","","","",""]
[null,null,null,null,null,null,null,null,null,null,null,null,null,null,null,null,null,null,null,null,null,null,null,null,null,null,null,null,null,null,null,null,null,null,null,null,null,null,null,null,null,null,null,null,null,null,null,null,null,null,null,null,null,null,null,null,null,null,null,null,null,null,"","","","","","",""]
[null,null,null,null,null,null,null,null,null,null,null,null,null,null,null,null,null,null,null,null,null,null,null,null,null,null,null,null,null,null,null,null,null,null,null,null,null,null,null,null,null,null,null,null,null,null,null,null,null,null,null,null,null,null,null,null,null,null,null,null,null,null,"","","","","","",""]
[null,null,null,null,null,null,null,null,null,null,null,null,null,null,null,null,null,null,null,null,null,null,null,null,null,null,null,null,null,null,null,null,null,null,null,null,null,null,null,null,null,null,null,null,null,null,null,null,null,null,null,null,null,null,null,null,null,null,null,null,null,null,"","","","","","",""]
[null,null,null,null,null,null,null,null,null,null,null,null,null,null,null,null,null,null,null,null,null,null,null,null,null,null,null,null,null,null,null,null,null,null,null,null,null,null,null,null,null,null,null,null,null,null,null,null,null,null,null,null,null,null,null,null,null,null,null,null,null,null,"","","","","","",""]
[null,null,null,null,null,null,null,null,null,null,null,null,null,null,null,null,null,null,null,null,null,null,null,null,null,null,null,null,null,null,null,null,null,null,null,null,null,null,null,null,null,null,null,null,null,null,null,null,null,null,null,null,null,null,null,null,null,null,null,null,null,null,"","","","","","",""]
[null,null,null,null,null,null,null,null,null,null,null,null,null,null,null,null,null,null,null,null,null,null,null,null,null,null,null,null,null,null,null,null,null,null,null,null,null,null,null,null,null,null,null,null,null,null,null,null,null,null,null,null,null,null,null,null,null,null,null,null,null,null,"","","","","","",""]
[null,null,null,null,null,null,null,null,null,null,null,null,null,null,null,null,null,null,null,null,null,null,null,null,null,null,null,null,null,null,null,null,null,null,null,null,null,null,null,null,null,null,null,null,null,null,null,null,null,null,null,null,null,null,null,null,null,null,null,null,null,null,"","","","","","",""]
[null,null,null,null,null,null,null,null,null,null,null,null,null,null,null,null,null,null,null,null,null,null,null,null,null,null,null,null,null,null,null,null,null,null,null,null,null,null,null,null,null,null,null,null,null,null,null,null,null,null,null,null,null,null,null,null,null,null,null,null,null,null,"","","","","","",""]
[null,null,null,null,null,null,null,null,null,null,null,null,null,null,null,null,null,null,null,null,null,null,null,null,null,null,null,null,null,null,null,null,null,null,null,null,null,null,null,null,null,null,null,null,null,null,null,null,null,null,null,null,null,null,null,null,null,null,null,null,null,null,"","","","","","",""]
[null,null,null,null,null,null,null,null,null,null,null,null,null,null,null,null,null,null,null,null,null,null,null,null,null,null,null,null,null,null,null,null,null,null,null,null,null,null,null,null,null,null,null,null,null,null,null,null,null,null,null,null,null,null,null,null,null,null,null,null,null,null,"","","","","","",""]
[null,null,null,null,null,null,null,null,null,null,null,null,null,null,null,null,null,null,null,null,null,null,null,null,null,null,null,null,null,null,null,null,null,null,null,null,null,null,null,null,null,null,null,null,null,null,null,null,null,null,null,null,null,null,null,null,null,null,null,null,null,null,"","","","","","",""]
[null,null,null,null,null,null,null,null,null,null,null,null,null,null,null,null,null,null,null,null,null,null,null,null,null,null,null,null,null,null,null,null,null,null,null,null,null,null,null,null,null,null,null,null,null,null,null,null,null,null,null,null,null,null,null,null,null,null,null,null,null,null,"","","","","","",""]
[null,null,null,null,null,null,null,null,null,null,null,null,null,null,null,null,null,null,null,null,null,null,null,null,null,null,null,null,null,null,null,null,null,null,null,null,null,null,null,null,null,null,null,null,null,null,null,null,null,null,null,null,null,null,null,null,null,null,null,null,null,null,"","","","","","",""]
[null,null,null,null,null,null,null,null,null,null,null,null,null,null,null,null,null,null,null,null,null,null,null,null,null,null,null,null,null,null,null,null,null,null,null,null,null,null,null,null,null,null,null,null,null,null,null,null,null,null,null,null,null,null,null,null,null,null,null,null,null,null,"","","","","","",""]
[null,null,null,null,null,null,null,null,null,null,null,null,null,null,null,null,null,null,null,null,null,null,null,null,null,null,null,null,null,null,null,null,null,null,null,null,null,null,null,null,null,null,null,null,null,null,null,null,null,null,null,null,null,null,null,null,null,null,null,null,null,null,"","","","","","",""]
[null,null,null,null,null,null,null,null,null,null,null,null,null,null,null,null,null,null,null,null,null,null,null,null,null,null,null,null,null,null,null,null,null,null,null,null,null,null,null,null,null,null,null,null,null,null,null,null,null,null,null,null,null,null,null,null,null,null,null,null,null,null,"","","","","","",""]
[null,null,null,null,null,null,null,null,null,null,null,null,null,null,null,null,null,null,null,null,null,null,null,null,null,null,null,null,null,null,null,null,null,null,null,null,null,null,null,null,null,null,null,null,null,null,null,null,null,null,null,null,null,null,null,null,null,null,null,null,null,null,"","","","","","",""]
[null,null,null,null,null,null,null,null,null,null,null,null,null,null,null,null,null,null,null,null,null,null,null,null,null,null,null,null,null,null,null,null,null,null,null,null,null,null,null,null,null,null,null,null,null,null,null,null,null,null,null,null,null,null,null,null,null,null,null,null,null,null,"","","","","","",""]
[null,null,null,null,null,null,null,null,null,null,null,null,null,null,null,null,null,null,null,null,null,null,null,null,null,null,null,null,null,null,null,null,null,null,null,null,null,null,null,null,null,null,null,null,null,null,null,null,null,null,null,null,null,null,null,null,null,null,null,null,null,null,"","","","","","",""]
[null,null,null,null,null,null,null,null,null,null,null,null,null,null,null,null,null,null,null,null,null,null,null,null,null,null,null,null,null,null,null,null,null,null,null,null,null,null,null,null,null,null,null,null,null,null,null,null,null,null,null,null,null,null,null,null,null,null,null,null,null,null,"","","","","","",""]
[null,null,null,null,null,null,null,null,null,null,null,null,null,null,null,null,null,null,null,null,null,null,null,null,null,null,null,null,null,null,null,null,null,null,null,null,null,null,null,null,null,null,null,null,null,null,null,null,null,null,null,null,null,null,null,null,null,null,null,null,null,null,"","","","","","",""]
[null,null,null,null,null,null,null,null,null,null,null,null,null,null,null,null,null,null,null,null,null,null,null,null,null,null,null,null,null,null,null,null,null,null,null,null,null,null,null,null,null,null,null,null,null,null,null,null,null,null,null,null,null,null,null,null,null,null,null,null,null,null,"","","","","","",""]
[null,null,null,null,null,null,null,null,null,null,null,null,null,null,null,null,null,null,null,null,null,null,null,null,null,null,null,null,null,null,null,null,null,null,null,null,null,null,null,null,null,null,null,null,null,null,null,null,null,null,null,null,null,null,null,null,null,null,null,null,null,null,"","","","","","",""]
[null,null,null,null,null,null,null,null,null,null,null,null,null,null,null,null,null,null,null,null,null,null,null,null,null,null,null,null,null,null,null,null,null,null,null,null,null,null,null,null,null,null,null,null,null,null,null,null,null,null,null,null,null,null,null,null,null,null,null,null,null,null,"","","","","","",""]
[null,null,null,null,null,null,null,null,null,null,null,null,null,null,null,null,null,null,null,null,null,null,null,null,null,null,null,null,null,null,null,null,null,null,null,null,null,null,null,null,null,null,null,null,null,null,null,null,null,null,null,null,null,null,null,null,null,null,null,null,null,null,"","","","","","",""]
[null,null,null,null,null,null,null,null,null,null,null,null,null,null,null,null,null,null,null,null,null,null,null,null,null,null,null,null,null,null,null,null,null,null,null,null,null,null,null,null,null,null,null,null,null,null,null,null,null,null,null,null,null,null,null,null,null,null,null,null,null,null,"","","","","","",""]
[null,null,null,null,null,null,null,null,null,null,null,null,null,null,null,null,null,null,null,null,null,null,null,null,null,null,null,null,null,null,null,null,null,null,null,null,null,null,null,null,null,null,null,null,null,null,null,null,null,null,null,null,null,null,null,null,null,null,null,null,null,null,"","","","","","",""]
[null,null,null,null,null,null,null,null,null,null,null,null,null,null,null,null,null,null,null,null,null,null,null,null,null,null,null,null,null,null,null,null,null,null,null,null,null,null,null,null,null,null,null,null,null,null,null,null,null,null,null,null,null,null,null,null,null,null,null,null,null,null,"","","","","","",""]
[null,null,null,null,null,null,null,null,null,null,null,null,null,null,null,null,null,null,null,null,null,null,null,null,null,null,null,null,null,null,null,null,null,null,null,null,null,null,null,null,null,null,null,null,null,null,null,null,null,null,null,null,null,null,null,null,null,null,null,null,null,null,"","","","","","",""]
[null,null,null,null,null,null,null,null,null,null,null,null,null,null,null,null,null,null,null,null,null,null,null,null,null,null,null,null,null,null,null,null,null,null,null,null,null,null,null,null,null,null,null,null,null,null,null,null,null,null,null,null,null,null,null,null,null,null,null,null,null,null,"","","","","","",""]
[null,null,null,null,null,null,null,null,null,null,null,null,null,null,null,null,null,null,null,null,null,null,null,null,null,null,null,null,null,null,null,null,null,null,null,null,null,null,null,null,null,null,null,null,null,null,null,null,null,null,null,null,null,null,null,null,null,null,null,null,null,null,"","","","","","",""]
[null,null,null,null,null,null,null,null,null,null,null,null,null,null,null,null,null,null,null,null,null,null,null,null,null,null,null,null,null,null,null,null,null,null,null,null,null,null,null,null,null,null,null,null,null,null,null,null,null,null,null,null,null,null,null,null,null,null,null,null,null,null,"","","","","","",""]
[null,null,null,null,null,null,null,null,null,null,null,null,null,null,null,null,null,null,null,null,null,null,null,null,null,null,null,null,null,null,null,null,null,null,null,null,null,null,null,null,null,null,null,null,null,null,null,null,null,null,null,null,null,null,null,null,null,null,null,null,null,null,"","","","","","",""]
[null,null,null,null,null,null,null,null,null,null,null,null,null,null,null,null,null,null,null,null,null,null,null,null,null,null,null,null,null,null,null,null,null,null,null,null,null,null,null,null,null,null,null,null,null,null,null,null,null,null,null,null,null,null,null,null,null,null,null,null,null,null,"","","","","","",""]
[null,null,null,null,null,null,null,null,null,null,null,null,null,null,null,null,null,null,null,null,null,null,null,null,null,null,null,null,null,null,null,null,null,null,null,null,null,null,null,null,null,null,null,null,null,null,null,null,null,null,null,null,null,null,null,null,null,null,null,null,null,null,"","","","","","",""]
[null,null,null,null,null,null,null,null,null,null,null,null,null,null,null,null,null,null,null,null,null,null,null,null,null,null,null,null,null,null,null,null,null,null,null,null,null,null,null,null,null,null,null,null,null,null,null,null,null,null,null,null,null,null,null,null,null,null,null,null,null,null,"","","","","","",""]
[null,null,null,null,null,null,null,null,null,null,null,null,null,null,null,null,null,null,null,null,null,null,null,null,null,null,null,null,null,null,null,null,null,null,null,null,null,null,null,null,null,null,null,null,null,null,null,null,null,null,null,null,null,null,null,null,null,null,null,null,null,null,"","","","","","",""]
[null,null,null,null,null,null,null,null,null,null,null,null,null,null,null,null,null,null,null,null,null,null,null,null,null,null,null,null,null,null,null,null,null,null,null,null,null,null,null,null,null,null,null,null,null,null,null,null,null,null,null,null,null,null,null,null,null,null,null,null,null,null,"","","","","","",""]
[null,null,null,null,null,null,null,null,null,null,null,null,null,null,null,null,null,null,null,null,null,null,null,null,null,null,null,null,null,null,null,null,null,null,null,null,null,null,null,null,null,null,null,null,null,null,null,null,null,null,null,null,null,null,null,null,null,null,null,null,null,null,"","","","","","",""]
[null,null,null,null,null,null,null,null,null,null,null,null,null,null,null,null,null,null,null,null,null,null,null,null,null,null,null,null,null,null,null,null,null,null,null,null,null,null,null,null,null,null,null,null,null,null,null,null,null,null,null,null,null,null,null,null,null,null,null,null,null,null,"","","","","","",""]
[null,null,null,null,null,null,null,null,null,null,null,null,null,null,null,null,null,null,null,null,null,null,null,null,null,null,null,null,null,null,null,null,null,null,null,null,null,null,null,null,null,null,null,null,null,null,null,null,null,null,null,null,null,null,null,null,null,null,null,null,null,null,"","","","","","",""]
[null,null,null,null,null,null,null,null,null,null,null,null,null,null,null,null,null,null,null,null,null,null,null,null,null,null,null,null,null,null,null,null,null,null,null,null,null,null,null,null,null,null,null,null,null,null,null,null,null,null,null,null,null,null,null,null,null,null,null,null,null,null,"","","","","","",""]
[null,null,null,null,null,null,null,null,null,null,null,null,null,null,null,null,null,null,null,null,null,null,null,null,null,null,null,null,null,null,null,null,null,null,null,null,null,null,null,null,null,null,null,null,null,null,null,null,null,null,null,null,null,null,null,null,null,null,null,null,null,null,"","","","","","",""]
[null,null,null,null,null,null,null,null,null,null,null,null,null,null,null,null,null,null,null,null,null,null,null,null,null,null,null,null,null,null,null,null,null,null,null,null,null,null,null,null,null,null,null,null,null,null,null,null,null,null,null,null,null,null,null,null,null,null,null,null,null,null,"","","","","","",""]
[null,null,null,null,null,null,null,null,null,null,null,null,null,null,null,null,null,null,null,null,null,null,null,null,null,null,null,null,null,null,null,null,null,null,null,null,null,null,null,null,null,null,null,null,null,null,null,null,null,null,null,null,null,null,null,null,null,null,null,null,null,null,"","","","","","",""]
[null,null,null,null,null,null,null,null,null,null,null,null,null,null,null,null,null,null,null,null,null,null,null,null,null,null,null,null,null,null,null,null,null,null,null,null,null,null,null,null,null,null,null,null,null,null,null,null,null,null,null,null,null,null,null,null,null,null,null,null,null,null,"","","","","","",""]
[null,null,null,null,null,null,null,null,null,null,null,null,null,null,null,null,null,null,null,null,null,null,null,null,null,null,null,null,null,null,null,null,null,null,null,null,null,null,null,null,null,null,null,null,null,null,null,null,null,null,null,null,null,null,null,null,null,null,null,null,null,null,"","","","","","",""]
[null,null,null,null,null,null,null,null,null,null,null,null,null,null,null,null,null,null,null,null,null,null,null,null,null,null,null,null,null,null,null,null,null,null,null,null,null,null,null,null,null,null,null,null,null,null,null,null,null,null,null,null,null,null,null,null,null,null,null,null,null,null,"","","","","","",""]
[null,null,null,null,null,null,null,null,null,null,null,null,null,null,null,null,null,null,null,null,null,null,null,null,null,null,null,null,null,null,null,null,null,null,null,null,null,null,null,null,null,null,null,null,null,null,null,null,null,null,null,null,null,null,null,null,null,null,null,null,null,null,"","","","","","",""]
[null,null,null,null,null,null,null,null,null,null,null,null,null,null,null,null,null,null,null,null,null,null,null,null,null,null,null,null,null,null,null,null,null,null,null,null,null,null,null,null,null,null,null,null,null,null,null,null,null,null,null,null,null,null,null,null,null,null,null,null,null,null,"","","","","","",""]
[null,null,null,null,null,null,null,null,null,null,null,null,null,null,null,null,null,null,null,null,null,null,null,null,null,null,null,null,null,null,null,null,null,null,null,null,null,null,null,null,null,null,null,null,null,null,null,null,null,null,null,null,null,null,null,null,null,null,null,null,null,null,"","","","","","",""]
[null,null,null,null,null,null,null,null,null,null,null,null,null,null,null,null,null,null,null,null,null,null,null,null,null,null,null,null,null,null,null,null,null,null,null,null,null,null,null,null,null,null,null,null,null,null,null,null,null,null,null,null,null,null,null,null,null,null,null,null,null,null,{"$f":"IF(G1094=\"\",\"\",IF(G1094>hd,0,(IF(G1094<0.2*(hd),(1.6*($AH$20+$AH$21)/(hd)/0.2/(hd)*G1094),(IF(G1094<0.8*(hd),(1.6*($AH$20+$AH$21)/(hd)),(1.6*($AH$20+$AH$21)/(hd)-1.6*($AH$20+$AH$21)/(hd)/0.2/(hd)*(G1094-0.8*(hd)))))))))","v":""},{"$f":"IF(G1094=\"\",\"\",IF(G1094>hd,0,(IF(G1094<((2/3)*$AH$6),(1.3*($AH$20+$AH$21)/(hd-(1/3)*($AH$6+(hd-MAX($AP$6:$AP$15))))*G1094/(2/3*$AH$6)),(IF(G1094<(h-2/3*(hd-MAX($AP$6:$AP$15))),1.3*($AH$20+$AH$21)/(hd-1/3*($AH$6+(hd-MAX($AP$6:$AP$15)))),1.3*($AH$20+$AH$21)/(hd-1/3*($AH$6+(hd-MAX($AP$6:$AP$15))))*(1-(G1094-(hd-2/3*(hd-MAX($AP$6:$AP$15))))/(2/3*(hd-MAX($AP$6:$AP$15))))))))))","v":""},{"$f":"IF(G1094=\"\",\"\",IF(G1094>hd,0,(IF(G1094<(0.6667*$AH$6),(0.3*g*hd*G1094/(0.6667*$AH$6)),(IF(G1094<(hd-0.6667*(hd-MAX($AP$6:$AP$15))),0.3*g*hd,0.3*g*hd*(1-(G1094-(hd-0.6667*(hd-MAX($AP$6:$AP$15))))/(0.6667*(hd-MAX($AP$6:$AP$15))))))))))","v":""},{"$f":"IF(G1094=\"\",\"\",IF(G1094>hd,0,(IF(G1094<((2/3)*$AH$6),(0.65*ka*g*hd*hd/(hd-(1/3)*($AH$6+(hd-MAX($AP$6:$AP$15))))*G1094/(2/3*$AH$6)),(IF(G1094<(h-2/3*(hd-MAX($AP$6:$AP$15))),0.65*ka*g*hd*hd/(hd-1/3*($AH$6+(hd-MAX($AP$6:$AP$15)))),0.65*ka*g*hd*hd/(hd-1/3*($AH$6+(hd-MAX($AP$6:$AP$15))))*(1-(G1094-(hd-2/3*(hd-MAX($AP$6:$AP$15))))/(2/3*(hd-MAX($AP$6:$AP$15))))))))))","v":""},{"$f":"IF(G1094=\"\",\"\",IF(G1094>hd,0,(IF(G1094<(0.25*hd),(0.3*g*h*G1094/(0.25*hd)),(IF(G1094<(0.75*hd),0.3*g*h,0.3*g*h*(1-(G1094-0.75*hd)/0.25/hd)))))))","v":""},{"$f":"IF(G1094>hd,0,IF(G1094=\"\",\"\",0.65*ka*g*hd))","v":""},{"$f":"IF(G1094=\"\",\"\",IF(G1094>hd,0,(IF(G1094<(0.25*hd),(1-4*ca/g/hd)*g*hd*G1094/(0.25*hd),((1-4*ca/g/hd)*g*hd)))))","v":""}]
[null,null,null,null,null,null,null,null,null,null,null,null,null,null,null,null,null,null,null,null,null,null,null,null,null,null,null,null,null,null,null,null,null,null,null,null,null,null,null,null,null,null,null,null,null,null,null,null,null,null,null,null,null,null,null,null,null,null,null,null,null,null,"","","","","","",""]
[null,null,null,null,null,null,null,null,null,null,null,null,null,null,null,null,null,null,null,null,null,null,null,null,null,null,null,null,null,null,null,null,null,null,null,null,null,null,null,null,null,null,null,null,null,null,null,null,null,null,null,null,null,null,null,null,null,null,null,null,null,null,"","","","","","",""]
[null,null,null,null,null,null,null,null,null,null,null,null,null,null,null,null,null,null,null,null,null,null,null,null,null,null,null,null,null,null,null,null,null,null,null,null,null,null,null,null,null,null,null,null,null,null,null,null,null,null,null,null,null,null,null,null,null,null,null,null,null,null,"","","","","","",""]
[null,null,null,null,null,null,null,null,null,null,null,null,null,null,null,null,null,null,null,null,null,null,null,null,null,null,null,null,null,null,null,null,null,null,null,null,null,null,null,null,null,null,null,null,null,null,null,null,null,null,null,null,null,null,null,null,null,null,null,null,null,null,"","","","","","",""]
[null,null,null,null,null,null,null,null,null,null,null,null,null,null,null,null,null,null,null,null,null,null,null,null,null,null,null,null,null,null,null,null,null,null,null,null,null,null,null,null,null,null,null,null,null,null,null,null,null,null,null,null,null,null,null,null,null,null,null,null,null,null,"","","","","","",""]
[null,null,null,null,null,null,null,null,null,null,null,null,null,null,null,null,null,null,null,null,null,null,null,null,null,null,null,null,null,null,null,null,null,null,null,null,null,null,null,null,null,null,null,null,null,null,null,null,null,null,null,null,null,null,null,null,null,null,null,null,null,null,"","","","","","",""]
[null,null,null,null,null,null,null,null,null,null,null,null,null,null,null,null,null,null,null,null,null,null,null,null,null,null,null,null,null,null,null,null,null,null,null,null,null,null,null,null,null,null,null,null,null,null,null,null,null,null,null,null,null,null,null,null,null,null,null,null,null,null,"","","","","","",""]
[null,null,null,null,null,null,null,null,null,null,null,null,null,null,null,null,null,null,null,null,null,null,null,null,null,null,null,null,null,null,null,null,null,null,null,null,null,null,null,null,null,null,null,null,null,null,null,null,null,null,null,null,null,null,null,null,null,null,null,null,null,null,"","","","","","",""]
[null,null,null,null,null,null,null,null,null,null,null,null,null,null,null,null,null,null,null,null,null,null,null,null,null,null,null,null,null,null,null,null,null,null,null,null,null,null,null,null,null,null,null,null,null,null,null,null,null,null,null,null,null,null,null,null,null,null,null,null,null,null,"","","","","","",""]
[null,null,null,null,null,null,null,null,null,null,null,null,null,null,null,null,null,null,null,null,null,null,null,null,null,null,null,null,null,null,null,null,null,null,null,null,null,null,null,null,null,null,null,null,null,null,null,null,null,null,null,null,null,null,null,null,null,null,null,null,null,null,"","","","","","",""]
[null,null,null,null,null,null,null,null,null,null,null,null,null,null,null,null,null,null,null,null,null,null,null,null,null,null,null,null,null,null,null,null,null,null,null,null,null,null,null,null,null,null,null,null,null,null,null,null,null,null,null,null,null,null,null,null,null,null,null,null,null,null,"","","","","","",""]
[null,null,null,null,null,null,null,null,null,null,null,null,null,null,null,null,null,null,null,null,null,null,null,null,null,null,null,null,null,null,null,null,null,null,null,null,null,null,null,null,null,null,null,null,null,null,null,null,null,null,null,null,null,null,null,null,null,null,null,null,null,null,"","","","","","",""]
[null,null,null,null,null,null,null,null,null,null,null,null,null,null,null,null,null,null,null,null,null,null,null,null,null,null,null,null,null,null,null,null,null,null,null,null,null,null,null,null,null,null,null,null,null,null,null,null,null,null,null,null,null,null,null,null,null,null,null,null,null,null,"","","","","","",""]
[null,null,null,null,null,null,null,null,null,null,null,null,null,null,null,null,null,null,null,null,null,null,null,null,null,null,null,null,null,null,null,null,null,null,null,null,null,null,null,null,null,null,null,null,null,null,null,null,null,null,null,null,null,null,null,null,null,null,null,null,null,null,"","","","","","",""]
[null,null,null,null,null,null,null,null,null,null,null,null,null,null,null,null,null,null,null,null,null,null,null,null,null,null,null,null,null,null,null,null,null,null,null,null,null,null,null,null,null,null,null,null,null,null,null,null,null,null,null,null,null,null,null,null,null,null,null,null,null,null,"","","","","","",""]
[null,null,null,null,null,null,null,null,null,null,null,null,null,null,null,null,null,null,null,null,null,null,null,null,null,null,null,null,null,null,null,null,null,null,null,null,null,null,null,null,null,null,null,null,null,null,null,null,null,null,null,null,null,null,null,null,null,null,null,null,null,null,"","","","","","",""]
[null,null,null,null,null,null,null,null,null,null,null,null,null,null,null,null,null,null,null,null,null,null,null,null,null,null,null,null,null,null,null,null,null,null,null,null,null,null,null,null,null,null,null,null,null,null,null,null,null,null,null,null,null,null,null,null,null,null,null,null,null,null,"","","","","","",""]
[null,null,null,null,null,null,null,null,null,null,null,null,null,null,null,null,null,null,null,null,null,null,null,null,null,null,null,null,null,null,null,null,null,null,null,null,null,null,null,null,null,null,null,null,null,null,null,null,null,null,null,null,null,null,null,null,null,null,null,null,null,null,"","","","","","",""]
[null,null,null,null,null,null,null,null,null,null,null,null,null,null,null,null,null,null,null,null,null,null,null,null,null,null,null,null,null,null,null,null,null,null,null,null,null,null,null,null,null,null,null,null,null,null,null,null,null,null,null,null,null,null,null,null,null,null,null,null,null,null,"","","","","","",""]
[null,null,null,null,null,null,null,null,null,null,null,null,null,null,null,null,null,null,null,null,null,null,null,null,null,null,null,null,null,null,null,null,null,null,null,null,null,null,null,null,null,null,null,null,null,null,null,null,null,null,null,null,null,null,null,null,null,null,null,null,null,null,"","","","","","",""]
[null,null,null,null,null,null,null,null,null,null,null,null,null,null,null,null,null,null,null,null,null,null,null,null,null,null,null,null,null,null,null,null,null,null,null,null,null,null,null,null,null,null,null,null,null,null,null,null,null,null,null,null,null,null,null,null,null,null,null,null,null,null,"","","","","","",""]
[null,null,null,null,null,null,null,null,null,null,null,null,null,null,null,null,null,null,null,null,null,null,null,null,null,null,null,null,null,null,null,null,null,null,null,null,null,null,null,null,null,null,null,null,null,null,null,null,null,null,null,null,null,null,null,null,null,null,null,null,null,null,"","","","","","",""]
[null,null,null,null,null,null,null,null,null,null,null,null,null,null,null,null,null,null,null,null,null,null,null,null,null,null,null,null,null,null,null,null,null,null,null,null,null,null,null,null,null,null,null,null,null,null,null,null,null,null,null,null,null,null,null,null,null,null,null,null,null,null,"","","","","","",""]
[null,null,null,null,null,null,null,null,null,null,null,null,null,null,null,null,null,null,null,null,null,null,null,null,null,null,null,null,null,null,null,null,null,null,null,null,null,null,null,null,null,null,null,null,null,null,null,null,null,null,null,null,null,null,null,null,null,null,null,null,null,null,"","","","","","",""]
[null,null,null,null,null,null,null,null,null,null,null,null,null,null,null,null,null,null,null,null,null,null,null,null,null,null,null,null,null,null,null,null,null,null,null,null,null,null,null,null,null,null,null,null,null,null,null,null,null,null,null,null,null,null,null,null,null,null,null,null,null,null,"","","","","","",""]
[null,null,null,null,null,null,null,null,null,null,null,null,null,null,null,null,null,null,null,null,null,null,null,null,null,null,null,null,null,null,null,null,null,null,null,null,null,null,null,null,null,null,null,null,null,null,null,null,null,null,null,null,null,null,null,null,null,null,null,null,null,null,"","","","","","",""]
[null,null,null,null,null,null,null,null,null,null,null,null,null,null,null,null,null,null,null,null,null,null,null,null,null,null,null,null,null,null,null,null,null,null,null,null,null,null,null,null,null,null,null,null,null,null,null,null,null,null,null,null,null,null,null,null,null,null,null,null,null,null,"","","","","","",""]
[null,null,null,null,null,null,null,null,null,null,null,null,null,null,null,null,null,null,null,null,null,null,null,null,null,null,null,null,null,null,null,null,null,null,null,null,null,null,null,null,null,null,null,null,null,null,null,null,null,null,null,null,null,null,null,null,null,null,null,null,null,null,"","","","","","",""]
[null,null,null,null,null,null,null,null,null,null,null,null,null,null,null,null,null,null,null,null,null,null,null,null,null,null,null,null,null,null,null,null,null,null,null,null,null,null,null,null,null,null,null,null,null,null,null,null,null,null,null,null,null,null,null,null,null,null,null,null,null,null,"","","","","","",""]
[null,null,null,null,null,null,null,null,null,null,null,null,null,null,null,null,null,null,null,null,null,null,null,null,null,null,null,null,null,null,null,null,null,null,null,null,null,null,null,null,null,null,null,null,null,null,null,null,null,null,null,null,null,null,null,null,null,null,null,null,null,null,"","","","","","",""]
[null,null,null,null,null,null,null,null,null,null,null,null,null,null,null,null,null,null,null,null,null,null,null,null,null,null,null,null,null,null,null,null,null,null,null,null,null,null,null,null,null,null,null,null,null,null,null,null,null,null,null,null,null,null,null,null,null,null,null,null,null,null,"","","","","","",""]
[null,null,null,null,null,null,null,null,null,null,null,null,null,null,null,null,null,null,null,null,null,null,null,null,null,null,null,null,null,null,null,null,null,null,null,null,null,null,null,null,null,null,null,null,null,null,null,null,null,null,null,null,null,null,null,null,null,null,null,null,null,null,"","","","","","",""]
[null,null,null,null,null,null,null,null,null,null,null,null,null,null,null,null,null,null,null,null,null,null,null,null,null,null,null,null,null,null,null,null,null,null,null,null,null,null,null,null,null,null,null,null,null,null,null,null,null,null,null,null,null,null,null,null,null,null,null,null,null,null,"","","","","","",""]
[null,null,null,null,null,null,null,null,null,null,null,null,null,null,null,null,null,null,null,null,null,null,null,null,null,null,null,null,null,null,null,null,null,null,null,null,null,null,null,null,null,null,null,null,null,null,null,null,null,null,null,null,null,null,null,null,null,null,null,null,null,null,"","","","","","",""]
[null,null,null,null,null,null,null,null,null,null,null,null,null,null,null,null,null,null,null,null,null,null,null,null,null,null,null,null,null,null,null,null,null,null,null,null,null,null,null,null,null,null,null,null,null,null,null,null,null,null,null,null,null,null,null,null,null,null,null,null,null,null,"","","","","","",""]
[null,null,null,null,null,null,null,null,null,null,null,null,null,null,null,null,null,null,null,null,null,null,null,null,null,null,null,null,null,null,null,null,null,null,null,null,null,null,null,null,null,null,null,null,null,null,null,null,null,null,null,null,null,null,null,null,null,null,null,null,null,null,"","","","","","",""]
[null,null,null,null,null,null,null,null,null,null,null,null,null,null,null,null,null,null,null,null,null,null,null,null,null,null,null,null,null,null,null,null,null,null,null,null,null,null,null,null,null,null,null,null,null,null,null,null,null,null,null,null,null,null,null,null,null,null,null,null,null,null,"","","","","","",""]
[null,null,null,null,null,null,null,null,null,null,null,null,null,null,null,null,null,null,null,null,null,null,null,null,null,null,null,null,null,null,null,null,null,null,null,null,null,null,null,null,null,null,null,null,null,null,null,null,null,null,null,null,null,null,null,null,null,null,null,null,null,null,"","","","","","",""]
[null,null,null,null,null,null,null,null,null,null,null,null,null,null,null,null,null,null,null,null,null,null,null,null,null,null,null,null,null,null,null,null,null,null,null,null,null,null,null,null,null,null,null,null,null,null,null,null,null,null,null,null,null,null,null,null,null,null,null,null,null,null,"","","","","","",""]
[null,null,null,null,null,null,null,null,null,null,null,null,null,null,null,null,null,null,null,null,null,null,null,null,null,null,null,null,null,null,null,null,null,null,null,null,null,null,null,null,null,null,null,null,null,null,null,null,null,null,null,null,null,null,null,null,null,null,null,null,null,null,"","","","","","",""]
[null,null,null,null,null,null,null,null,null,null,null,null,null,null,null,null,null,null,null,null,null,null,null,null,null,null,null,null,null,null,null,null,null,null,null,null,null,null,null,null,null,null,null,null,null,null,null,null,null,null,null,null,null,null,null,null,null,null,null,null,null,null,"","","","","","",""]
[null,null,null,null,null,null,null,null,null,null,null,null,null,null,null,null,null,null,null,null,null,null,null,null,null,null,null,null,null,null,null,null,null,null,null,null,null,null,null,null,null,null,null,null,null,null,null,null,null,null,null,null,null,null,null,null,null,null,null,null,null,null,"","","","","","",""]
[null,null,null,null,null,null,null,null,null,null,null,null,null,null,null,null,null,null,null,null,null,null,null,null,null,null,null,null,null,null,null,null,null,null,null,null,null,null,null,null,null,null,null,null,null,null,null,null,null,null,null,null,null,null,null,null,null,null,null,null,null,null,"","","","","","",""]
[null,null,null,null,null,null,null,null,null,null,null,null,null,null,null,null,null,null,null,null,null,null,null,null,null,null,null,null,null,null,null,null,null,null,null,null,null,null,null,null,null,null,null,null,null,null,null,null,null,null,null,null,null,null,null,null,null,null,null,null,null,null,"","","","","","",""]
[null,null,null,null,null,null,null,null,null,null,null,null,null,null,null,null,null,null,null,null,null,null,null,null,null,null,null,null,null,null,null,null,null,null,null,null,null,null,null,null,null,null,null,null,null,null,null,null,null,null,null,null,null,null,null,null,null,null,null,null,null,null,"","","","","","",""]
[null,null,null,null,null,null,null,null,null,null,null,null,null,null,null,null,null,null,null,null,null,null,null,null,null,null,null,null,null,null,null,null,null,null,null,null,null,null,null,null,null,null,null,null,null,null,null,null,null,null,null,null,null,null,null,null,null,null,null,null,null,null,"","","","","","",""]
[null,null,null,null,null,null,null,null,null,null,null,null,null,null,null,null,null,null,null,null,null,null,null,null,null,null,null,null,null,null,null,null,null,null,null,null,null,null,null,null,null,null,null,null,null,null,null,null,null,null,null,null,null,null,null,null,null,null,null,null,null,null,"","","","","","",""]
[null,null,null,null,null,null,null,null,null,null,null,null,null,null,null,null,null,null,null,null,null,null,null,null,null,null,null,null,null,null,null,null,null,null,null,null,null,null,null,null,null,null,null,null,null,null,null,null,null,null,null,null,null,null,null,null,null,null,null,null,null,null,"","","","","","",""]
[null,null,null,null,null,null,null,null,null,null,null,null,null,null,null,null,null,null,null,null,null,null,null,null,null,null,null,null,null,null,null,null,null,null,null,null,null,null,null,null,null,null,null,null,null,null,null,null,null,null,null,null,null,null,null,null,null,null,null,null,null,null,"","","","","","",""]
[null,null,null,null,null,null,null,null,null,null,null,null,null,null,null,null,null,null,null,null,null,null,null,null,null,null,null,null,null,null,null,null,null,null,null,null,null,null,null,null,null,null,null,null,null,null,null,null,null,null,null,null,null,null,null,null,null,null,null,null,null,null,"","","","","","",""]
[null,null,null,null,null,null,null,null,null,null,null,null,null,null,null,null,null,null,null,null,null,null,null,null,null,null,null,null,null,null,null,null,null,null,null,null,null,null,null,null,null,null,null,null,null,null,null,null,null,null,null,null,null,null,null,null,null,null,null,null,null,null,"","","","","","",""]
[null,null,null,null,null,null,null,null,null,null,null,null,null,null,null,null,null,null,null,null,null,null,null,null,null,null,null,null,null,null,null,null,null,null,null,null,null,null,null,null,null,null,null,null,null,null,null,null,null,null,null,null,null,null,null,null,null,null,null,null,null,null,"","","","","","",""]
[null,null,null,null,null,null,null,null,null,null,null,null,null,null,null,null,null,null,null,null,null,null,null,null,null,null,null,null,null,null,null,null,null,null,null,null,null,null,null,null,null,null,null,null,null,null,null,null,null,null,null,null,null,null,null,null,null,null,null,null,null,null,"","","","","","",""]
[null,null,null,null,null,null,null,null,null,null,null,null,null,null,null,null,null,null,null,null,null,null,null,null,null,null,null,null,null,null,null,null,null,null,null,null,null,null,null,null,null,null,null,null,null,null,null,null,null,null,null,null,null,null,null,null,null,null,null,null,null,null,"","","","","","",""]
[null,null,null,null,null,null,null,null,null,null,null,null,null,null,null,null,null,null,null,null,null,null,null,null,null,null,null,null,null,null,null,null,null,null,null,null,null,null,null,null,null,null,null,null,null,null,null,null,null,null,null,null,null,null,null,null,null,null,null,null,null,null,"","","","","","",""]
[null,null,null,null,null,null,null,null,null,null,null,null,null,null,null,null,null,null,null,null,null,null,null,null,null,null,null,null,null,null,null,null,null,null,null,null,null,null,null,null,null,null,null,null,null,null,null,null,null,null,null,null,null,null,null,null,null,null,null,null,null,null,"","","","","","",""]
[null,null,null,null,null,null,null,null,null,null,null,null,null,null,null,null,null,null,null,null,null,null,null,null,null,null,null,null,null,null,null,null,null,null,null,null,null,null,null,null,null,null,null,null,null,null,null,null,null,null,null,null,null,null,null,null,null,null,null,null,null,null,"","","","","","",""]
[null,null,null,null,null,null,null,null,null,null,null,null,null,null,null,null,null,null,null,null,null,null,null,null,null,null,null,null,null,null,null,null,null,null,null,null,null,null,null,null,null,null,null,null,null,null,null,null,null,null,null,null,null,null,null,null,null,null,null,null,null,null,"","","","","","",""]
[null,null,null,null,null,null,null,null,null,null,null,null,null,null,null,null,null,null,null,null,null,null,null,null,null,null,null,null,null,null,null,null,null,null,null,null,null,null,null,null,null,null,null,null,null,null,null,null,null,null,null,null,null,null,null,null,null,null,null,null,null,null,"","","","","","",""]
[null,null,null,null,null,null,null,null,null,null,null,null,null,null,null,null,null,null,null,null,null,null,null,null,null,null,null,null,null,null,null,null,null,null,null,null,null,null,null,null,null,null,null,null,null,null,null,null,null,null,null,null,null,null,null,null,null,null,null,null,null,null,"","","","","","",""]
[null,null,null,null,null,null,null,null,null,null,null,null,null,null,null,null,null,null,null,null,null,null,null,null,null,null,null,null,null,null,null,null,null,null,null,null,null,null,null,null,null,null,null,null,null,null,null,null,null,null,null,null,null,null,null,null,null,null,null,null,null,null,"","","","","","",""]
[null,null,null,null,null,null,null,null,null,null,null,null,null,null,null,null,null,null,null,null,null,null,null,null,null,null,null,null,null,null,null,null,null,null,null,null,null,null,null,null,null,null,null,null,null,null,null,null,null,null,null,null,null,null,null,null,null,null,null,null,null,null,"","","","","","",""]
[null,null,null,null,null,null,null,null,null,null,null,null,null,null,null,null,null,null,null,null,null,null,null,null,null,null,null,null,null,null,null,null,null,null,null,null,null,null,null,null,null,null,null,null,null,null,null,null,null,null,null,null,null,null,null,null,null,null,null,null,null,null,"","","","","","",""]
[null,null,null,null,null,null,null,null,null,null,null,null,null,null,null,null,null,null,null,null,null,null,null,null,null,null,null,null,null,null,null,null,null,null,null,null,null,null,null,null,null,null,null,null,null,null,null,null,null,null,null,null,null,null,null,null,null,null,null,null,null,null,{"$f":"IF(G1158=\"\",\"\",IF(G1158>hd,0,(IF(G1158<0.2*(hd),(1.6*($AH$20+$AH$21)/(hd)/0.2/(hd)*G1158),(IF(G1158<0.8*(hd),(1.6*($AH$20+$AH$21)/(hd)),(1.6*($AH$20+$AH$21)/(hd)-1.6*($AH$20+$AH$21)/(hd)/0.2/(hd)*(G1158-0.8*(hd)))))))))","v":""},{"$f":"IF(G1158=\"\",\"\",IF(G1158>hd,0,(IF(G1158<((2/3)*$AH$6),(1.3*($AH$20+$AH$21)/(hd-(1/3)*($AH$6+(hd-MAX($AP$6:$AP$15))))*G1158/(2/3*$AH$6)),(IF(G1158<(h-2/3*(hd-MAX($AP$6:$AP$15))),1.3*($AH$20+$AH$21)/(hd-1/3*($AH$6+(hd-MAX($AP$6:$AP$15)))),1.3*($AH$20+$AH$21)/(hd-1/3*($AH$6+(hd-MAX($AP$6:$AP$15))))*(1-(G1158-(hd-2/3*(hd-MAX($AP$6:$AP$15))))/(2/3*(hd-MAX($AP$6:$AP$15))))))))))","v":""},{"$f":"IF(G1158=\"\",\"\",IF(G1158>hd,0,(IF(G1158<(0.6667*$AH$6),(0.3*g*hd*G1158/(0.6667*$AH$6)),(IF(G1158<(hd-0.6667*(hd-MAX($AP$6:$AP$15))),0.3*g*hd,0.3*g*hd*(1-(G1158-(hd-0.6667*(hd-MAX($AP$6:$AP$15))))/(0.6667*(hd-MAX($AP$6:$AP$15))))))))))","v":""},{"$f":"IF(G1158=\"\",\"\",IF(G1158>hd,0,(IF(G1158<((2/3)*$AH$6),(0.65*ka*g*hd*hd/(hd-(1/3)*($AH$6+(hd-MAX($AP$6:$AP$15))))*G1158/(2/3*$AH$6)),(IF(G1158<(h-2/3*(hd-MAX($AP$6:$AP$15))),0.65*ka*g*hd*hd/(hd-1/3*($AH$6+(hd-MAX($AP$6:$AP$15)))),0.65*ka*g*hd*hd/(hd-1/3*($AH$6+(hd-MAX($AP$6:$AP$15))))*(1-(G1158-(hd-2/3*(hd-MAX($AP$6:$AP$15))))/(2/3*(hd-MAX($AP$6:$AP$15))))))))))","v":""},{"$f":"IF(G1158=\"\",\"\",IF(G1158>hd,0,(IF(G1158<(0.25*hd),(0.3*g*h*G1158/(0.25*hd)),(IF(G1158<(0.75*hd),0.3*g*h,0.3*g*h*(1-(G1158-0.75*hd)/0.25/hd)))))))","v":""},{"$f":"IF(G1158>hd,0,IF(G1158=\"\",\"\",0.65*ka*g*hd))","v":""},{"$f":"IF(G1158=\"\",\"\",IF(G1158>hd,0,(IF(G1158<(0.25*hd),(1-4*ca/g/hd)*g*hd*G1158/(0.25*hd),((1-4*ca/g/hd)*g*hd)))))","v":""}]
[null,null,null,null,null,null,null,null,null,null,null,null,null,null,null,null,null,null,null,null,null,null,null,null,null,null,null,null,null,null,null,null,null,null,null,null,null,null,null,null,null,null,null,null,null,null,null,null,null,null,null,null,null,null,null,null,null,null,null,null,null,null,"","","","","","",""]
[null,null,null,null,null,null,null,null,null,null,null,null,null,null,null,null,null,null,null,null,null,null,null,null,null,null,null,null,null,null,null,null,null,null,null,null,null,null,null,null,null,null,null,null,null,null,null,null,null,null,null,null,null,null,null,null,null,null,null,null,null,null,"","","","","","",""]
[null,null,null,null,null,null,null,null,null,null,null,null,null,null,null,null,null,null,null,null,null,null,null,null,null,null,null,null,null,null,null,null,null,null,null,null,null,null,null,null,null,null,null,null,null,null,null,null,null,null,null,null,null,null,null,null,null,null,null,null,null,null,"","","","","","",""]
[null,null,null,null,null,null,null,null,null,null,null,null,null,null,null,null,null,null,null,null,null,null,null,null,null,null,null,null,null,null,null,null,null,null,null,null,null,null,null,null,null,null,null,null,null,null,null,null,null,null,null,null,null,null,null,null,null,null,null,null,null,null,"","","","","","",""]
[null,null,null,null,null,null,null,null,null,null,null,null,null,null,null,null,null,null,null,null,null,null,null,null,null,null,null,null,null,null,null,null,null,null,null,null,null,null,null,null,null,null,null,null,null,null,null,null,null,null,null,null,null,null,null,null,null,null,null,null,null,null,"","","","","","",""]
[null,null,null,null,null,null,null,null,null,null,null,null,null,null,null,null,null,null,null,null,null,null,null,null,null,null,null,null,null,null,null,null,null,null,null,null,null,null,null,null,null,null,null,null,null,null,null,null,null,null,null,null,null,null,null,null,null,null,null,null,null,null,"","","","","","",""]
[null,null,null,null,null,null,null,null,null,null,null,null,null,null,null,null,null,null,null,null,null,null,null,null,null,null,null,null,null,null,null,null,null,null,null,null,null,null,null,null,null,null,null,null,null,null,null,null,null,null,null,null,null,null,null,null,null,null,null,null,null,null,"","","","","","",""]
[null,null,null,null,null,null,null,null,null,null,null,null,null,null,null,null,null,null,null,null,null,null,null,null,null,null,null,null,null,null,null,null,null,null,null,null,null,null,null,null,null,null,null,null,null,null,null,null,null,null,null,null,null,null,null,null,null,null,null,null,null,null,"","","","","","",""]
[null,null,null,null,null,null,null,null,null,null,null,null,null,null,null,null,null,null,null,null,null,null,null,null,null,null,null,null,null,null,null,null,null,null,null,null,null,null,null,null,null,null,null,null,null,null,null,null,null,null,null,null,null,null,null,null,null,null,null,null,null,null,"","","","","","",""]
[null,null,null,null,null,null,null,null,null,null,null,null,null,null,null,null,null,null,null,null,null,null,null,null,null,null,null,null,null,null,null,null,null,null,null,null,null,null,null,null,null,null,null,null,null,null,null,null,null,null,null,null,null,null,null,null,null,null,null,null,null,null,"","","","","","",""]
[null,null,null,null,null,null,null,null,null,null,null,null,null,null,null,null,null,null,null,null,null,null,null,null,null,null,null,null,null,null,null,null,null,null,null,null,null,null,null,null,null,null,null,null,null,null,null,null,null,null,null,null,null,null,null,null,null,null,null,null,null,null,"","","","","","",""]
[null,null,null,null,null,null,null,null,null,null,null,null,null,null,null,null,null,null,null,null,null,null,null,null,null,null,null,null,null,null,null,null,null,null,null,null,null,null,null,null,null,null,null,null,null,null,null,null,null,null,null,null,null,null,null,null,null,null,null,null,null,null,"","","","","","",""]
[null,null,null,null,null,null,null,null,null,null,null,null,null,null,null,null,null,null,null,null,null,null,null,null,null,null,null,null,null,null,null,null,null,null,null,null,null,null,null,null,null,null,null,null,null,null,null,null,null,null,null,null,null,null,null,null,null,null,null,null,null,null,"","","","","","",""]
[null,null,null,null,null,null,null,null,null,null,null,null,null,null,null,null,null,null,null,null,null,null,null,null,null,null,null,null,null,null,null,null,null,null,null,null,null,null,null,null,null,null,null,null,null,null,null,null,null,null,null,null,null,null,null,null,null,null,null,null,null,null,"","","","","","",""]
[null,null,null,null,null,null,null,null,null,null,null,null,null,null,null,null,null,null,null,null,null,null,null,null,null,null,null,null,null,null,null,null,null,null,null,null,null,null,null,null,null,null,null,null,null,null,null,null,null,null,null,null,null,null,null,null,null,null,null,null,null,null,"","","","","","",""]
[null,null,null,null,null,null,null,null,null,null,null,null,null,null,null,null,null,null,null,null,null,null,null,null,null,null,null,null,null,null,null,null,null,null,null,null,null,null,null,null,null,null,null,null,null,null,null,null,null,null,null,null,null,null,null,null,null,null,null,null,null,null,"","","","","","",""]
[null,null,null,null,null,null,null,null,null,null,null,null,null,null,null,null,null,null,null,null,null,null,null,null,null,null,null,null,null,null,null,null,null,null,null,null,null,null,null,null,null,null,null,null,null,null,null,null,null,null,null,null,null,null,null,null,null,null,null,null,null,null,"","","","","","",""]
[null,null,null,null,null,null,null,null,null,null,null,null,null,null,null,null,null,null,null,null,null,null,null,null,null,null,null,null,null,null,null,null,null,null,null,null,null,null,null,null,null,null,null,null,null,null,null,null,null,null,null,null,null,null,null,null,null,null,null,null,null,null,"","","","","","",""]
[null,null,null,null,null,null,null,null,null,null,null,null,null,null,null,null,null,null,null,null,null,null,null,null,null,null,null,null,null,null,null,null,null,null,null,null,null,null,null,null,null,null,null,null,null,null,null,null,null,null,null,null,null,null,null,null,null,null,null,null,null,null,"","","","","","",""]
[null,null,null,null,null,null,null,null,null,null,null,null,null,null,null,null,null,null,null,null,null,null,null,null,null,null,null,null,null,null,null,null,null,null,null,null,null,null,null,null,null,null,null,null,null,null,null,null,null,null,null,null,null,null,null,null,null,null,null,null,null,null,"","","","","","",""]
[null,null,null,null,null,null,null,null,null,null,null,null,null,null,null,null,null,null,null,null,null,null,null,null,null,null,null,null,null,null,null,null,null,null,null,null,null,null,null,null,null,null,null,null,null,null,null,null,null,null,null,null,null,null,null,null,null,null,null,null,null,null,"","","","","","",""]
[null,null,null,null,null,null,null,null,null,null,null,null,null,null,null,null,null,null,null,null,null,null,null,null,null,null,null,null,null,null,null,null,null,null,null,null,null,null,null,null,null,null,null,null,null,null,null,null,null,null,null,null,null,null,null,null,null,null,null,null,null,null,"","","","","","",""]
[null,null,null,null,null,null,null,null,null,null,null,null,null,null,null,null,null,null,null,null,null,null,null,null,null,null,null,null,null,null,null,null,null,null,null,null,null,null,null,null,null,null,null,null,null,null,null,null,null,null,null,null,null,null,null,null,null,null,null,null,null,null,"","","","","","",""]
[null,null,null,null,null,null,null,null,null,null,null,null,null,null,null,null,null,null,null,null,null,null,null,null,null,null,null,null,null,null,null,null,null,null,null,null,null,null,null,null,null,null,null,null,null,null,null,null,null,null,null,null,null,null,null,null,null,null,null,null,null,null,"","","","","","",""]
[null,null,null,null,null,null,null,null,null,null,null,null,null,null,null,null,null,null,null,null,null,null,null,null,null,null,null,null,null,null,null,null,null,null,null,null,null,null,null,null,null,null,null,null,null,null,null,null,null,null,null,null,null,null,null,null,null,null,null,null,null,null,"","","","","","",""]
[null,null,null,null,null,null,null,null,null,null,null,null,null,null,null,null,null,null,null,null,null,null,null,null,null,null,null,null,null,null,null,null,null,null,null,null,null,null,null,null,null,null,null,null,null,null,null,null,null,null,null,null,null,null,null,null,null,null,null,null,null,null,"","","","","","",""]
[null,null,null,null,null,null,null,null,null,null,null,null,null,null,null,null,null,null,null,null,null,null,null,null,null,null,null,null,null,null,null,null,null,null,null,null,null,null,null,null,null,null,null,null,null,null,null,null,null,null,null,null,null,null,null,null,null,null,null,null,null,null,"","","","","","",""]
[null,null,null,null,null,null,null,null,null,null,null,null,null,null,null,null,null,null,null,null,null,null,null,null,null,null,null,null,null,null,null,null,null,null,null,null,null,null,null,null,null,null,null,null,null,null,null,null,null,null,null,null,null,null,null,null,null,null,null,null,null,null,"","","","","","",""]

{"sheet":"Draw","index":2,"n_rows":1012,"n_cols":69,"rows_kept":1012,"cut":false,"hidden":false,"merged":[[3,59,3,60],[3,61,3,62],[3,63,3,64],[3,65,3,66],[3,67,3,68],[3,49,3,50],[3,51,3,52],[3,53,3,54],[3,55,3,56],[3,57,3,58],[3,22,3,23],[3,16,3,17],[3,18,3,19],[3,20,3,21],[3,26,3,27],[3,24,3,25],[3,38,3,39],[3,40,3,41],[3,42,3,43],[3,44,3,45],[3,28,3,29],[3,30,3,31],[3,32,3,33],[3,34,3,35],[3,36,3,37]],"read":"row_number_cap"}
[{"$f":"Analyze!A1","v":1},"nlayer"]
[{"$f":"h","v":12.5},"h",null,"β\n(Degrees):",{"$f":"Analyze!E7","v":0},null,"Z \n(Poin OfStart)",5.99,null,null,185]
[{"$f":"d","v":6},"d"]
[{"$f":"Analyze!A4","v":1},"dz",null,"α\n(Degrees):",{"$f":"Analyze!E9","v":90},null,"χ (m)",{"$f":"MAX(1.5,0.1*A2)","v":1.5},null,null,null,null,null,null,null,null,"Wall",null,"Embankment",null,"Excavation",null,"Failure Wedge",null,"Failure Wedge2",null,"Strut 1",null,"Strut 2",null,"Strut 3",null,"Strut 4",null,"Strut 5",null,"Strut 6",null,"Strut 7",null,"Strut 8",null,"Strut 9",null,"Strut 10",null,null,null,null,"Strut 1",null,"Strut 2",null,"Strut 3",null,"Strut 4",null,"Strut 5",null,"Strut 6",null,"Strut 7",null,"Strut 8",null,"Strut 9",null,"Strut 10"]
[{"$f":"Analyze!A5","v":0},"wt",null,null,null,null,null,null,null,null,null,null,null,null,"Depth\n(m)","ξ\n(Radians)","X","Y","X","Y","X","Y","X","Y","X","Y","X","Y","X","Y","X","Y","X","Y","X","Y","X","Y","X","Y","X","Y","X","Y","X","Y",null,null,null,"X","Y","X","Y","X","Y","X","Y","X","Y","X","Y","X","Y","X","Y","X","Y","X","Y"]
[{"$f":"Analyze!A6","v":19},null,null,null,"Depth\n(m)","Angle\n(degrees)","Strut Force\n(kN)","Unbounded\n Length (m)","Grouting strength (kPa)","Borehole\nDiameter (mm)","bounded\n Length (m)",null,null,null,{"$f":"IF(Analyze!G6=\"\",\"\",Analyze!G6)","v":0},{"$f":"IF(Analyze!S6=\"\",\"\",Analyze!S6)","v":1.0995574287564276},{"$f":"-R6/TAN(RADIANS(E4))","v":-7.6571778431788751E-16},{"$f":"$A$2","v":12.5},{"$f":"$Q$6","v":-7.6571778431788751E-16},{"$f":"$R$6","v":12.5},0,0,9.3770165988385514,{"$f":"IF(O6=\"\",\"\",IF(O6>h+$H$2,(\"\"),(h-O6)))","v":12.5},{"$f":"IF(W7=\"\",\"\",W6+$H$4*COS(ATAN((X7-X6)/(W7-W6))))","v":10.05800234844787},{"$f":"IF(W7=\"\",\"\",X6-$H$4*SIN(ATAN((X7-X6)/(W7-W6))))","v":11.163490213717447},{"$f":"-AB6/TAN(RADIANS(E4))","v":-7.6571778431788751E-16},{"$f":"$A$2-$E$7","v":12.5},{"$f":"-AD6/TAN(RADIANS(E4))","v":-5.329395778852497E-16},{"$f":"$A$2-$E$8","v":8.6999999999999993},{"$f":"-AF6/TAN(RADIANS(E4))","v":-2.879098869035257E-16},{"$f":"$A$2-$E$9","v":4.7},{"$f":"-AH6/TAN(RADIANS(E4))","v":-4.2880195921801657E-17},{"$f":"$A$2-$E$10","v":0.69999999999999929},{"$f":"-AJ6/TAN(RADIANS(E4))","v":{"$error":"#VALUE!"}},{"$f":"$A$2-$E$11","v":{"$error":"#VALUE!"}},{"$f":"-AL6/TAN(RADIANS(E4))","v":{"$error":"#VALUE!"}},{"$f":"$A$2-$E$12","v":{"$error":"#VALUE!"}},{"$f":"-AN6/TAN(RADIANS(E4))","v":{"$error":"#VALUE!"}},{"$f":"$A$2-$E$13","v":{"$error":"#VALUE!"}},{"$f":"-AP6/TAN(RADIANS(E4))","v":{"$error":"#VALUE!"}},{"$f":"$A$2-$E$14","v":{"$error":"#VALUE!"}},{"$f":"-AR6/TAN(RADIANS(E4))","v":{"$error":"#VALUE!"}},{"$f":"$A$2-E15","v":{"$error":"#VALUE!"}},{"$f":"-AT6/TAN(RADIANS(E4))","v":{"$error":"#VALUE!"}},{"$f":"$A$2-$E$16","v":{"$error":"#VALUE!"}},null,null,null,{"$f":"AA6","v":-7.6571778431788751E-16},{"$f":"AB6","v":12.5},-5.329395778852497E-16,8.6999999999999993,-2.879098869035257E-16,{"$f":"AF6","v":4.7},{"$f":"AG6","v":-4.2880195921801657E-17},{"$f":"AH6","v":0.69999999999999929},{"$f":"AI6","v":{"$error":"#VALUE!"}},{"$f":"AJ6","v":{"$error":"#VALUE!"}},{"$f":"AK6","v":{"$error":"#VALUE!"}},{"$f":"AL6","v":{"$error":"#VALUE!"}},{"$error":"#VALUE!"},{"$f":"AN6","v":{"$error":"#VALUE!"}},{"$f":"AO6","v":{"$error":"#VALUE!"}},{"$f":"AP6","v":{"$error":"#VALUE!"}},{"$error":"#VALUE!"},{"$f":"AR6","v":{"$error":"#VALUE!"}},{"$f":"AS6","v":{"$error":"#VALUE!"}},{"$f":"AT6","v":{"$error":"#VALUE!"}}]
[{"$f":"Analyze!A7","v":185},"nz",4.5,"Strut 1",{"$f":"IF(Analyze!AI6=\"\",\"\",Analyze!AH6)","v":0},{"$f":"IF(Analyze!AI6=\"\",\"\",Analyze!AI6)","v":35},{"$f":"IF(Analyze!AN6=\"\",\"\",Analyze!AN6*Analyze!AJ6)","v":159.50942186045864},{"$f":"IF(E7=\"\",\"\",MAX(C7,((AX6-AX7)^2+(AY7-AY6)^2)^0.5))","v":9.7661967100916591},200,120,{"$f":"IF(E7=\"\",\"\",G7/(PI()*0.001*J7*I7))","v":2.1155594132352018},null,null,null,{"$f":"IF(Analyze!G7=\"\",\"\",Analyze!G7)","v":0.1},{"$f":"IF(Analyze!S7=\"\",\"\",Analyze!S7)","v":1.0995574287564276},{"$f":"-R7/TAN(RADIANS(E4))","v":3.67544536472586E-16},{"$f":"-$A$3","v":-6},{"$f":"W6*2","v":18.754033197677103},{"$f":"T6-(S7-S6)/(TAN(RADIANS(E4)))","v":12.499999999999998},{"$f":"-0.6*$A$2","v":-7.5},0,9.3260640538891089,12.4,{"$f":"IF(W8=\"\",\"\",W7+$H$4*COS(ATAN((X8-X7)/(W8-W7))))","v":10.007049803498427},{"$f":"IF(W8=\"\",\"\",X7-$H$4*SIN(ATAN((X8-X7)/(W8-W7))))","v":11.063490213717447},{"$f":"AA6+0.1","v":9.9999999999999242E-2},{"$f":"AB6-0.1*TAN(RADIANS($F$7))","v":12.429979246179029},{"$f":"AC6+0.1","v":9.9999999999999478E-2},{"$f":"AD6-0.1*TAN(RADIANS($F$8))","v":8.6732050807568868},{"$f":"AE6+0.1","v":9.9999999999999714E-2},{"$f":"AF6-0.1*TAN(RADIANS($F$9))","v":4.6732050807568877},{"$f":"AG6+0.1","v":9.9999999999999964E-2},{"$f":"AH6-0.1*TAN(RADIANS($F$10))","v":0.67320508075688701},{"$f":"AI6+0.1","v":{"$error":"#VALUE!"}},{"$f":"AJ6-0.1*TAN(RADIANS($F$11))","v":{"$error":"#VALUE!"}},{"$f":"AK6+0.1","v":{"$error":"#VALUE!"}},{"$f":"AL6-0.1*TAN(RADIANS($F$12))","v":{"$error":"#VALUE!"}},{"$f":"AM6+0.1","v":{"$error":"#VALUE!"}},{"$f":"AN6-0.1*TAN(RADIANS($F$13))","v":{"$error":"#VALUE!"}},{"$f":"AO6+0.1","v":{"$error":"#VALUE!"}},{"$f":"AP6-0.1*TAN(RADIANS($F$14))","v":{"$error":"#VALUE!"}},{"$f":"AQ6+0.1","v":{"$error":"#VALUE!"}},{"$f":"AR6-0.1*TAN(RADIANS($F$15))","v":{"$error":"#VALUE!"}},{"$f":"AS6+0.1","v":{"$error":"#VALUE!"}},{"$f":"AT6-0.1*TAN(RADIANS($F$16))","v":{"$error":"#VALUE!"}},null,null,null,7.9999999999999876,6.8983396943222886,7.7999999999999883,6.6099962990372241,5.9999999999999947,3.0923048454132651,4.2000000000000011,-0.42538660821071639]
[null,null,4.5,"Strut 2",{"$f":"IF(Analyze!AH7=\"\",\"\",Analyze!AH7)","v":3.8},{"$f":"IF(Analyze!AI7=\"\",\"\",Analyze!AI7)","v":15},{"$f":"IF(Analyze!AN7=\"\",\"\",Analyze!AN7*Analyze!AJ7)","v":495.27828175489958},{"$f":"IF(E8=\"\",\"\",MAX(C8,((AZ6-AZ7)^2+(BA7-BA6)^2)^0.5))","v":8.0751542071986417},200,120,{"$f":"IF(E8=\"\",\"\",G8/(PI()*0.001*J8*I8))","v":6.5688322289460626},null,null,null,{"$f":"IF(Analyze!G8=\"\",\"\",Analyze!G8)","v":0.2},{"$f":"IF(Analyze!S8=\"\",\"\",Analyze!S8)","v":1.0995574287564276},null,null,null,null,null,null,9.2751115089396663,12.3,9.9560972585489935,10.963490213717453,{"$f":"AA7+0.1","v":0.19999999999999923},{"$f":"AB7-0.1*TAN(RADIANS($F$7))","v":12.359958492358057},{"$f":"AC7+0.1","v":0.19999999999999948},{"$f":"AD7-0.1*TAN(RADIANS($F$8))","v":8.6464101615137743},{"$f":"AE7+0.1","v":0.19999999999999973},{"$f":"AF7-0.1*TAN(RADIANS($F$9))","v":4.6464101615137752},{"$f":"AG7+0.1","v":0.19999999999999996},{"$f":"AH7-0.1*TAN(RADIANS($F$10))","v":0.64641016151377473},{"$f":"AI7+0.1","v":{"$error":"#VALUE!"}},{"$f":"AJ7-0.1*TAN(RADIANS($F$11))","v":{"$error":"#VALUE!"}},{"$f":"AK7+0.1","v":{"$error":"#VALUE!"}},{"$f":"AL7-0.1*TAN(RADIANS($F$12))","v":{"$error":"#VALUE!"}},{"$f":"AM7+0.1","v":{"$error":"#VALUE!"}},{"$f":"AN7-0.1*TAN(RADIANS($F$13))","v":{"$error":"#VALUE!"}},{"$f":"AO7+0.1","v":{"$error":"#VALUE!"}},{"$f":"AP7-0.1*TAN(RADIANS($F$14))","v":{"$error":"#VALUE!"}},{"$f":"AQ7+0.1","v":{"$error":"#VALUE!"}},{"$f":"AR7-0.1*TAN(RADIANS($F$15))","v":{"$error":"#VALUE!"}},{"$f":"AS7+0.1","v":{"$error":"#VALUE!"}},{"$f":"AT7-0.1*TAN(RADIANS($F$16))","v":{"$error":"#VALUE!"}},null,null,null,{"$f":"AX7+K7*COS(RADIANS(F7))","v":9.7329648181664226},{"$f":"AY7-K7*SIN(RADIANS(F7))","v":5.6849046651899311},{"$f":"AZ7+K8*COS(RADIANS(F8))","v":14.145004698498976},{"$f":"BA7-K8*SIN(RADIANS(F8))","v":4.9098574141027411},{"$f":"BB7+K9*COS(RADIANS(F9))","v":13.124891467206734},{"$f":"BC7-K9*SIN(RADIANS(F9))","v":1.1831959306158226},{"$f":"BD7+K10*COS(RADIANS(F10))","v":11.681136040567127},{"$f":"BE7-K10*SIN(RADIANS(F10))","v":-2.4299509687480447},{"$f":"BF7+K11*COS(RADIANS(F11))","v":{"$error":"#VALUE!"}},{"$f":"BG7-K11*SIN(RADIANS(F11))","v":{"$error":"#VALUE!"}},{"$f":"BH7+K12*COS(RADIANS(F12))","v":{"$error":"#VALUE!"}},{"$f":"BI7-K12*SIN(RADIANS(F12))","v":{"$error":"#VALUE!"}},{"$f":"BJ7+K13*COS(RADIANS(F13))","v":{"$error":"#VALUE!"}},{"$f":"BK7-K13*SIN(RADIANS(F13))","v":{"$error":"#VALUE!"}},{"$f":"BL7+K14*COS(RADIANS(F14))","v":{"$error":"#VALUE!"}},{"$f":"BM7-K14*SIN(RADIANS(F14))","v":{"$error":"#VALUE!"}},{"$f":"BN7+K15*COS(RADIANS(F15))","v":{"$error":"#VALUE!"}},{"$f":"BO7-K15*SIN(RADIANS(F15))","v":{"$error":"#VALUE!"}},{"$f":"BP7+K16*COS(RADIANS(F16))","v":{"$error":"#VALUE!"}},{"$f":"BQ7-K16*SIN(RADIANS(F16))","v":{"$error":"#VALUE!"}}]
[{"$f":"Analyze!A9","v":4},"nstrut",4.5,"Strut 3",{"$f":"IF(Analyze!AH8=\"\",\"\",Analyze!AH8)","v":7.8},{"$f":"IF(Analyze!AI8=\"\",\"\",Analyze!AI8)","v":15},{"$f":"IF(Analyze!AN8=\"\",\"\",Analyze!AN8*Analyze!AJ8)","v":556.15467146984054},{"$f":"IF(E9=\"\",\"\",MAX(C9,((BB6-BB7)^2+(BC7-BC6)^2)^0.5))","v":6.2116570824604924},200,120,7.3762304240061853,null,null,null,{"$f":"IF(Analyze!G9=\"\",\"\",Analyze!G9)","v":0.30000000000000004},{"$f":"IF(Analyze!S9=\"\",\"\",Analyze!S9)","v":1.0995574287564276},null,null,null,null,null,null,9.2241589639902219,12.2,9.9051447135995403,10.863490213717446,0.29999999999999927,12.289937738537086,0.29999999999999949,8.6196152422706618,0.29999999999999971,4.6196152422706627,0.29999999999999993,0.61961524227066245,{"$error":"#VALUE!"},{"$error":"#VALUE!"},{"$error":"#VALUE!"},{"$error":"#VALUE!"},{"$error":"#VALUE!"},{"$error":"#VALUE!"},{"$error":"#VALUE!"},{"$error":"#VALUE!"},{"$error":"#VALUE!"},{"$error":"#VALUE!"},{"$error":"#VALUE!"},{"$error":"#VALUE!"}]
[{"$f":"Analyze!A10","v":1},"sdd",4.5,"Strut 4",{"$f":"IF(Analyze!AH9=\"\",\"\",Analyze!AH9)","v":11.8},{"$f":"IF(Analyze!AI9=\"\",\"\",Analyze!AI9)","v":15},{"$f":"IF(Analyze!AN9=\"\",\"\",Analyze!AN9*Analyze!AJ9)","v":583.9624050433365},{"$f":"IF(E10=\"\",\"\",MAX(C10,((BD6-BD7)^2+(BE7-BE6)^2)^0.5))","v":4.5},200,120,7.7450419452065464,null,null,null,{"$f":"IF(Analyze!G10=\"\",\"\",Analyze!G10)","v":0.4},{"$f":"IF(Analyze!S10=\"\",\"\",Analyze!S10)","v":1.0995574287564276},null,null,null,null,null,null,9.1732064190407794,12.1,9.8541921686500977,10.763490213717446,0.39999999999999925,12.219916984716114,0.39999999999999947,8.5928203230275493,0.39999999999999969,4.5928203230275502,0.39999999999999991,0.59282032302755017,{"$error":"#VALUE!"},{"$error":"#VALUE!"},{"$error":"#VALUE!"},{"$error":"#VALUE!"},{"$error":"#VALUE!"},{"$error":"#VALUE!"},{"$error":"#VALUE!"},{"$error":"#VALUE!"},{"$error":"#VALUE!"},{"$error":"#VALUE!"},{"$error":"#VALUE!"},{"$error":"#VALUE!"}]
[null,null,null,"Strut 5",{"$f":"IF(Analyze!AH10=\"\",\"\",Analyze!AH10)","v":""},{"$f":"IF(Analyze!AI10=\"\",\"\",Analyze!AI10)","v":""},{"$f":"IF(Analyze!AN10=\"\",\"\",Analyze!AN10*Analyze!AJ10)","v":""},{"$f":"IF(E11=\"\",\"\",MAX(C11,((AX10-AX11)^2+(AY11-AY10)^2)^0.5))","v":""},null,null,"",null,null,null,{"$f":"IF(Analyze!G11=\"\",\"\",Analyze!G11)","v":0.5},{"$f":"IF(Analyze!S11=\"\",\"\",Analyze!S11)","v":1.0995574287564276},null,null,null,null,null,null,9.1222538740913368,12,9.8032396237006552,10.663490213717447,0.49999999999999922,12.149896230895143,0.49999999999999944,8.5660254037844368,0.49999999999999967,4.5660254037844377,0.49999999999999989,0.56602540378443789,{"$error":"#VALUE!"},{"$error":"#VALUE!"},{"$error":"#VALUE!"},{"$error":"#VALUE!"},{"$error":"#VALUE!"},{"$error":"#VALUE!"},{"$error":"#VALUE!"},{"$error":"#VALUE!"},{"$error":"#VALUE!"},{"$error":"#VALUE!"},{"$error":"#VALUE!"},{"$error":"#VALUE!"}]
[{"$f":"Analyze!A12","v":28},"Z1",null,"Strut 6",{"$f":"IF(Analyze!AH11=\"\",\"\",Analyze!AH11)","v":""},{"$f":"IF(Analyze!AI11=\"\",\"\",Analyze!AI11)","v":""},{"$f":"IF(Analyze!AN11=\"\",\"\",Analyze!AN11*Analyze!AJ11)","v":""},"",null,null,"",null,null,null,{"$f":"IF(Analyze!G12=\"\",\"\",Analyze!G12)","v":0.6},{"$f":"IF(Analyze!S12=\"\",\"\",Analyze!S12)","v":1.0995574287564276},null,null,null,null,null,null,9.0713013291418942,11.9,9.7522870787512126,10.563490213717447,0.5999999999999992,12.079875477074172,0.59999999999999942,8.5392304845413243,0.59999999999999964,4.5392304845413252,0.59999999999999987,0.53923048454132561,{"$error":"#VALUE!"},{"$error":"#VALUE!"},{"$error":"#VALUE!"},{"$error":"#VALUE!"},{"$error":"#VALUE!"},{"$error":"#VALUE!"},{"$error":"#VALUE!"},{"$error":"#VALUE!"},{"$error":"#VALUE!"},{"$error":"#VALUE!"},{"$error":"#VALUE!"},{"$error":"#VALUE!"}]
[{"$f":"Analyze!A13","v":28},"Z2",null,"Strut 7",{"$f":"IF(Analyze!AH12=\"\",\"\",Analyze!AH12)","v":""},{"$f":"IF(Analyze!AI12=\"\",\"\",Analyze!AI12)","v":""},{"$f":"IF(Analyze!AN12=\"\",\"\",Analyze!AN12*Analyze!AJ12)","v":""},"",null,null,"",null,null,null,{"$f":"IF(Analyze!G13=\"\",\"\",Analyze!G13)","v":0.7},{"$f":"IF(Analyze!S13=\"\",\"\",Analyze!S13)","v":1.0995574287564276},null,null,null,null,null,null,9.0203487841924517,11.8,9.7013345338017789,10.463490213717453,0.69999999999999918,12.0098547232532,0.6999999999999994,8.5124355652982118,0.69999999999999962,4.5124355652982127,0.69999999999999984,0.51243556529821332,{"$error":"#VALUE!"},{"$error":"#VALUE!"},{"$error":"#VALUE!"},{"$error":"#VALUE!"},{"$error":"#VALUE!"},{"$error":"#VALUE!"},{"$error":"#VALUE!"},{"$error":"#VALUE!"},{"$error":"#VALUE!"},{"$error":"#VALUE!"},{"$error":"#VALUE!"},{"$error":"#VALUE!"}]
[null,null,null,"Strut 8",{"$f":"IF(Analyze!AH13=\"\",\"\",Analyze!AH13)","v":""},{"$f":"IF(Analyze!AI13=\"\",\"\",Analyze!AI13)","v":""},{"$f":"IF(Analyze!AN13=\"\",\"\",Analyze!AN13*Analyze!AJ13)","v":""},"",null,null,"",null,null,null,{"$f":"IF(Analyze!G14=\"\",\"\",Analyze!G14)","v":0.79999999999999993},{"$f":"IF(Analyze!S14=\"\",\"\",Analyze!S14)","v":1.0995574287564276},null,null,null,null,null,null,8.9693962392430073,11.7,9.6503819888523257,10.363490213717446,0.79999999999999916,11.939833969432229,0.79999999999999938,8.4856406460550993,0.7999999999999996,4.4856406460551002,0.79999999999999982,0.48564064605510104,{"$error":"#VALUE!"},{"$error":"#VALUE!"},{"$error":"#VALUE!"},{"$error":"#VALUE!"},{"$error":"#VALUE!"},{"$error":"#VALUE!"},{"$error":"#VALUE!"},{"$error":"#VALUE!"},{"$error":"#VALUE!"},{"$error":"#VALUE!"},{"$error":"#VALUE!"},{"$error":"#VALUE!"}]
[{"$f":"Analyze!A15","v":125},"nzh",null,"Strut 9",{"$f":"IF(Analyze!AH14=\"\",\"\",Analyze!AH14)","v":""},{"$f":"IF(Analyze!AI14=\"\",\"\",Analyze!AI14)","v":""},{"$f":"IF(Analyze!AN14=\"\",\"\",Analyze!AN14*Analyze!AJ14)","v":""},"",null,null,"",null,null,null,{"$f":"IF(Analyze!G15=\"\",\"\",Analyze!G15)","v":0.89999999999999991},{"$f":"IF(Analyze!S15=\"\",\"\",Analyze!S15)","v":1.0995574287564276},null,null,null,null,null,null,8.9184436942935648,11.6,9.5994294439028831,10.263490213717446,0.89999999999999913,11.869813215611257,0.89999999999999936,8.4588457268119868,0.89999999999999958,4.4588457268119877,0.8999999999999998,0.45884572681198876,{"$error":"#VALUE!"},{"$error":"#VALUE!"},{"$error":"#VALUE!"},{"$error":"#VALUE!"},{"$error":"#VALUE!"},{"$error":"#VALUE!"},{"$error":"#VALUE!"},{"$error":"#VALUE!"},{"$error":"#VALUE!"},{"$error":"#VALUE!"},{"$error":"#VALUE!"},{"$error":"#VALUE!"}]
[{"$f":"Analyze!A16","v":60},"nzd",null,"Strut 10",{"$f":"IF(Analyze!AH15=\"\",\"\",Analyze!AH15)","v":""},{"$f":"IF(Analyze!AI15=\"\",\"\",Analyze!AI15)","v":""},{"$f":"IF(Analyze!AN15=\"\",\"\",Analyze!AN15*Analyze!AJ15)","v":""},"",null,null,"",null,null,null,{"$f":"IF(Analyze!G16=\"\",\"\",Analyze!G16)","v":0.99999999999999989},{"$f":"IF(Analyze!S16=\"\",\"\",Analyze!S16)","v":1.0995574287564276},null,null,null,null,null,null,8.8674911493441222,11.5,9.5484768989534405,10.163490213717447,0.99999999999999911,11.799792461790286,0.99999999999999933,8.4320508075688743,0.99999999999999956,4.4320508075688752,0.99999999999999978,0.43205080756887648,{"$error":"#VALUE!"},{"$error":"#VALUE!"},{"$error":"#VALUE!"},{"$error":"#VALUE!"},{"$error":"#VALUE!"},{"$error":"#VALUE!"},{"$error":"#VALUE!"},{"$error":"#VALUE!"},{"$error":"#VALUE!"},{"$error":"#VALUE!"},{"$error":"#VALUE!"},{"$error":"#VALUE!"}]
[{"$f":"Analyze!A17","v":0.1},"dzh",null,null,null,null,null,null,null,null,null,null,null,null,{"$f":"IF(Analyze!G17=\"\",\"\",Analyze!G17)","v":1.0999999999999999},{"$f":"IF(Analyze!S17=\"\",\"\",Analyze!S17)","v":1.0995574287564276},null,null,null,null,null,null,8.8165386043946796,11.4,9.497524354003998,10.063490213717447,1.0999999999999992,11.729771707969315,1.0999999999999994,8.4052558883257618,1.0999999999999996,4.4052558883257626,1.0999999999999999,0.4052558883257642,{"$error":"#VALUE!"},{"$error":"#VALUE!"},{"$error":"#VALUE!"},{"$error":"#VALUE!"},{"$error":"#VALUE!"},{"$error":"#VALUE!"},{"$error":"#VALUE!"},{"$error":"#VALUE!"},{"$error":"#VALUE!"},{"$error":"#VALUE!"},{"$error":"#VALUE!"},{"$error":"#VALUE!"}]
[{"$f":"Analyze!A18","v":0.1},"dzd",null,null,null,null,null,null,null,null,null,null,null,null,{"$f":"IF(Analyze!G18=\"\",\"\",Analyze!G18)","v":1.2},{"$f":"IF(Analyze!S18=\"\",\"\",Analyze!S18)","v":1.0995574287564276},null,null,null,null,null,null,8.7655860594452371,11.3,9.4465718090545643,9.9634902137174528,1.1999999999999993,11.659750954148343,1.1999999999999995,8.3784609690826493,1.1999999999999997,4.3784609690826501,1.2,0.37846096908265192,{"$error":"#VALUE!"},{"$error":"#VALUE!"},{"$error":"#VALUE!"},{"$error":"#VALUE!"},{"$error":"#VALUE!"},{"$error":"#VALUE!"},{"$error":"#VALUE!"},{"$error":"#VALUE!"},{"$error":"#VALUE!"},{"$error":"#VALUE!"},{"$error":"#VALUE!"},{"$error":"#VALUE!"}]
[null,null,null,null,"Thickness\n(m)","g\n(kN/m3)","gsat\n(kN/m3)","C\n(kPa)","ф","δ","Fs фa","Fs фp","Fs C",null,{"$f":"IF(Analyze!G19=\"\",\"\",Analyze!G19)","v":1.3},{"$f":"IF(Analyze!S19=\"\",\"\",Analyze!S19)","v":1.0995574287564276},null,null,null,null,null,null,8.7146335144957927,11.2,9.3956192641051111,9.8634902137174461,1.2999999999999994,11.589730200327372,1.2999999999999996,8.3516660498395368,1.2999999999999998,4.3516660498395376,1.3,0.35166604983953964,{"$error":"#VALUE!"},{"$error":"#VALUE!"},{"$error":"#VALUE!"},{"$error":"#VALUE!"},{"$error":"#VALUE!"},{"$error":"#VALUE!"},{"$error":"#VALUE!"},{"$error":"#VALUE!"},{"$error":"#VALUE!"},{"$error":"#VALUE!"},{"$error":"#VALUE!"},{"$error":"#VALUE!"}]
[{"$f":"Analyze!A20","v":1},"γ(kN/m3)",null,"Soil 1",{"$f":"IF(Analyze!AH24=\"\",\"\",Analyze!AH24)","v":28},{"$f":"IF(Analyze!AI24=\"\",\"\",Analyze!AI24)","v":19},{"$f":"IF(Analyze!AJ24=\"\",\"\",Analyze!AJ24)","v":19},{"$f":"IF(Analyze!AK24=\"\",\"\",Analyze!AK24)","v":40},{"$f":"IF(Analyze!AL24=\"\",\"\",Analyze!AL24)","v":36},{"$f":"IF(Analyze!AM24=\"\",\"\",Analyze!AM24)","v":0},{"$f":"IF(Analyze!AN24=\"\",\"\",Analyze!AN24)","v":1},{"$f":"IF(Analyze!AO24=\"\",\"\",Analyze!AO24)","v":1.2},{"$f":"IF(Analyze!AP24=\"\",\"\",Analyze!AP24)","v":1},null,{"$f":"IF(Analyze!G20=\"\",\"\",Analyze!G20)","v":1.4000000000000001},{"$f":"IF(Analyze!S20=\"\",\"\",Analyze!S20)","v":1.0995574287564276},null,null,null,null,null,null,8.6636809695463501,11.1,9.3446667191556685,9.7634902137174464,1.3999999999999995,11.5197094465064,1.3999999999999997,8.3248711305964243,1.4,4.3248711305964251,1.4000000000000001,0.32487113059642736,{"$error":"#VALUE!"},{"$error":"#VALUE!"},{"$error":"#VALUE!"},{"$error":"#VALUE!"},{"$error":"#VALUE!"},{"$error":"#VALUE!"},{"$error":"#VALUE!"},{"$error":"#VALUE!"},{"$error":"#VALUE!"},{"$error":"#VALUE!"},{"$error":"#VALUE!"},{"$error":"#VALUE!"}]
[{"$f":"Analyze!A21","v":1},"C(kPa)",null,"Soil 2",{"$f":"IF(Analyze!AH25=\"\",\"\",Analyze!AH25)","v":""},{"$f":"IF(Analyze!AI25=\"\",\"\",Analyze!AI25)","v":""},{"$f":"IF(Analyze!AJ25=\"\",\"\",Analyze!AJ25)","v":""},{"$f":"IF(Analyze!AK25=\"\",\"\",Analyze!AK25)","v":""},{"$f":"IF(Analyze!AL25=\"\",\"\",Analyze!AL25)","v":""},{"$f":"IF(Analyze!AM25=\"\",\"\",Analyze!AM25)","v":""},{"$f":"IF(Analyze!AN25=\"\",\"\",Analyze!AN25)","v":""},{"$f":"IF(Analyze!AO25=\"\",\"\",Analyze!AO25)","v":""},{"$f":"IF(Analyze!AP25=\"\",\"\",Analyze!AP25)","v":""},null,{"$f":"IF(Analyze!G21=\"\",\"\",Analyze!G21)","v":1.5000000000000002},{"$f":"IF(Analyze!S21=\"\",\"\",Analyze!S21)","v":1.0995574287564276},null,null,null,null,null,null,8.6127284245969076,11,9.2937141742062259,9.6634902137174468,1.4999999999999996,11.449688692685429,1.4999999999999998,8.2980762113533117,1.5,4.2980762113533126,1.5000000000000002,0.29807621135331508,{"$error":"#VALUE!"},{"$error":"#VALUE!"},{"$error":"#VALUE!"},{"$error":"#VALUE!"},{"$error":"#VALUE!"},{"$error":"#VALUE!"},{"$error":"#VALUE!"},{"$error":"#VALUE!"},{"$error":"#VALUE!"},{"$error":"#VALUE!"},{"$error":"#VALUE!"},{"$error":"#VALUE!"}]
[{"$f":"Analyze!A22","v":1},"ф",null,"Soil 3",{"$f":"IF(Analyze!AH26=\"\",\"\",Analyze!AH26)","v":""},{"$f":"IF(Analyze!AI26=\"\",\"\",Analyze!AI26)","v":""},{"$f":"IF(Analyze!AJ26=\"\",\"\",Analyze!AJ26)","v":""},{"$f":"IF(Analyze!AK26=\"\",\"\",Analyze!AK26)","v":""},{"$f":"IF(Analyze!AL26=\"\",\"\",Analyze!AL26)","v":""},{"$f":"IF(Analyze!AM26=\"\",\"\",Analyze!AM26)","v":""},{"$f":"IF(Analyze!AN26=\"\",\"\",Analyze!AN26)","v":""},{"$f":"IF(Analyze!AO26=\"\",\"\",Analyze!AO26)","v":""},{"$f":"IF(Analyze!AP26=\"\",\"\",Analyze!AP26)","v":""},null,{"$f":"IF(Analyze!G22=\"\",\"\",Analyze!G22)","v":1.6000000000000003},{"$f":"IF(Analyze!S22=\"\",\"\",Analyze!S22)","v":1.0995574287564276},null,null,null,null,null,null,8.561775879647465,10.9,9.2427616292567922,9.5634902137174524,1.5999999999999996,11.379667938864458,1.5999999999999999,8.2712812921101992,1.6,4.2712812921102001,1.6000000000000003,0.2712812921102028,{"$error":"#VALUE!"},{"$error":"#VALUE!"},{"$error":"#VALUE!"},{"$error":"#VALUE!"},{"$error":"#VALUE!"},{"$error":"#VALUE!"},{"$error":"#VALUE!"},{"$error":"#VALUE!"},{"$error":"#VALUE!"},{"$error":"#VALUE!"},{"$error":"#VALUE!"},{"$error":"#VALUE!"}]
[{"$f":"Analyze!A23","v":1},"th",null,"Soil 4",{"$f":"IF(Analyze!AH27=\"\",\"\",Analyze!AH27)","v":""},{"$f":"IF(Analyze!AI27=\"\",\"\",Analyze!AI27)","v":""},{"$f":"IF(Analyze!AJ27=\"\",\"\",Analyze!AJ27)","v":""},{"$f":"IF(Analyze!AK27=\"\",\"\",Analyze!AK27)","v":""},{"$f":"IF(Analyze!AL27=\"\",\"\",Analyze!AL27)","v":""},{"$f":"IF(Analyze!AM27=\"\",\"\",Analyze!AM27)","v":""},{"$f":"IF(Analyze!AN27=\"\",\"\",Analyze!AN27)","v":""},{"$f":"IF(Analyze!AO27=\"\",\"\",Analyze!AO27)","v":""},{"$f":"IF(Analyze!AP27=\"\",\"\",Analyze!AP27)","v":""},null,{"$f":"IF(Analyze!G23=\"\",\"\",Analyze!G23)","v":1.7000000000000004},{"$f":"IF(Analyze!S23=\"\",\"\",Analyze!S23)","v":1.0995574287564276},null,null,null,null,null,null,8.5108233346980207,10.799999999999999,9.191809084307339,9.4634902137174457,1.6999999999999997,11.309647185043486,1.7,8.2444863728670867,1.7000000000000002,4.2444863728670876,1.7000000000000004,0.24448637286709052,{"$error":"#VALUE!"},{"$error":"#VALUE!"},{"$error":"#VALUE!"},{"$error":"#VALUE!"},{"$error":"#VALUE!"},{"$error":"#VALUE!"},{"$error":"#VALUE!"},{"$error":"#VALUE!"},{"$error":"#VALUE!"},{"$error":"#VALUE!"},{"$error":"#VALUE!"},{"$error":"#VALUE!"}]
[null,null,null,"Soil 5",{"$f":"IF(Analyze!AH28=\"\",\"\",Analyze!AH28)","v":""},{"$f":"IF(Analyze!AI28=\"\",\"\",Analyze!AI28)","v":""},{"$f":"IF(Analyze!AJ28=\"\",\"\",Analyze!AJ28)","v":""},{"$f":"IF(Analyze!AK28=\"\",\"\",Analyze!AK28)","v":""},{"$f":"IF(Analyze!AL28=\"\",\"\",Analyze!AL28)","v":""},{"$f":"IF(Analyze!AM28=\"\",\"\",Analyze!AM28)","v":""},{"$f":"IF(Analyze!AN28=\"\",\"\",Analyze!AN28)","v":""},{"$f":"IF(Analyze!AO28=\"\",\"\",Analyze!AO28)","v":""},{"$f":"IF(Analyze!AP28=\"\",\"\",Analyze!AP28)","v":""},null,{"$f":"IF(Analyze!G24=\"\",\"\",Analyze!G24)","v":1.8000000000000005},{"$f":"IF(Analyze!S24=\"\",\"\",Analyze!S24)","v":1.0995574287564276},null,null,null,null,null,null,8.4598707897485781,10.7,9.1408565393578964,9.3634902137174461,1.7999999999999998,11.239626431222515,1.8,8.2176914536239742,1.8000000000000003,4.2176914536239751,1.8000000000000005,0.21769145362397824,{"$error":"#VALUE!"},{"$error":"#VALUE!"},{"$error":"#VALUE!"},{"$error":"#VALUE!"},{"$error":"#VALUE!"},{"$error":"#VALUE!"},{"$error":"#VALUE!"},{"$error":"#VALUE!"},{"$error":"#VALUE!"},{"$error":"#VALUE!"},{"$error":"#VALUE!"},{"$error":"#VALUE!"}]
[{"$f":"Analyze!A25","v":0},"cf",null,"Soil 6",{"$f":"IF(Analyze!AH29=\"\",\"\",Analyze!AH29)","v":""},{"$f":"IF(Analyze!AI29=\"\",\"\",Analyze!AI29)","v":""},{"$f":"IF(Analyze!AJ29=\"\",\"\",Analyze!AJ29)","v":""},{"$f":"IF(Analyze!AK29=\"\",\"\",Analyze!AK29)","v":""},{"$f":"IF(Analyze!AL29=\"\",\"\",Analyze!AL29)","v":""},{"$f":"IF(Analyze!AM29=\"\",\"\",Analyze!AM29)","v":""},{"$f":"IF(Analyze!AN29=\"\",\"\",Analyze!AN29)","v":""},{"$f":"IF(Analyze!AO29=\"\",\"\",Analyze!AO29)","v":""},{"$f":"IF(Analyze!AP29=\"\",\"\",Analyze!AP29)","v":""},null,{"$f":"IF(Analyze!G25=\"\",\"\",Analyze!G25)","v":1.9000000000000006},{"$f":"IF(Analyze!S25=\"\",\"\",Analyze!S25)","v":1.0995574287564276},null,null,null,null,null,null,8.4089182447991355,10.6,9.0899039944084539,9.2634902137174464,1.9,11.169605677401544,1.9000000000000001,8.1908965343808617,1.9000000000000004,4.1908965343808626,1.9000000000000006,0.19089653438086596,{"$error":"#VALUE!"},{"$error":"#VALUE!"},{"$error":"#VALUE!"},{"$error":"#VALUE!"},{"$error":"#VALUE!"},{"$error":"#VALUE!"},{"$error":"#VALUE!"},{"$error":"#VALUE!"},{"$error":"#VALUE!"},{"$error":"#VALUE!"},{"$error":"#VALUE!"},{"$error":"#VALUE!"}]
[null,null,null,"Soil 7",{"$f":"IF(Analyze!AH30=\"\",\"\",Analyze!AH30)","v":""},{"$f":"IF(Analyze!AI30=\"\",\"\",Analyze!AI30)","v":""},{"$f":"IF(Analyze!AJ30=\"\",\"\",Analyze!AJ30)","v":""},{"$f":"IF(Analyze!AK30=\"\",\"\",Analyze!AK30)","v":""},{"$f":"IF(Analyze!AL30=\"\",\"\",Analyze!AL30)","v":""},{"$f":"IF(Analyze!AM30=\"\",\"\",Analyze!AM30)","v":""},{"$f":"IF(Analyze!AN30=\"\",\"\",Analyze!AN30)","v":""},{"$f":"IF(Analyze!AO30=\"\",\"\",Analyze!AO30)","v":""},{"$f":"IF(Analyze!AP30=\"\",\"\",Analyze!AP30)","v":""},null,{"$f":"IF(Analyze!G26=\"\",\"\",Analyze!G26)","v":2.0000000000000004},{"$f":"IF(Analyze!S26=\"\",\"\",Analyze!S26)","v":1.0995574287564276},null,null,null,null,null,null,8.357965699849693,10.5,9.0389514494590202,9.1634902137174521,2,11.099584923580572,2,8.1641016151377492,2.0000000000000004,4.1641016151377501,2.0000000000000004,0.16410161513775368,{"$error":"#VALUE!"},{"$error":"#VALUE!"},{"$error":"#VALUE!"},{"$error":"#VALUE!"},{"$error":"#VALUE!"},{"$error":"#VALUE!"},{"$error":"#VALUE!"},{"$error":"#VALUE!"},{"$error":"#VALUE!"},{"$error":"#VALUE!"},{"$error":"#VALUE!"},{"$error":"#VALUE!"}]
[null,null,null,"Soil 8",{"$f":"IF(Analyze!AH31=\"\",\"\",Analyze!AH31)","v":""},{"$f":"IF(Analyze!AI31=\"\",\"\",Analyze!AI31)","v":""},{"$f":"IF(Analyze!AJ31=\"\",\"\",Analyze!AJ31)","v":""},{"$f":"IF(Analyze!AK31=\"\",\"\",Analyze!AK31)","v":""},{"$f":"IF(Analyze!AL31=\"\",\"\",Analyze!AL31)","v":""},{"$f":"IF(Analyze!AM31=\"\",\"\",Analyze!AM31)","v":""},{"$f":"IF(Analyze!AN31=\"\",\"\",Analyze!AN31)","v":""},{"$f":"IF(Analyze!AO31=\"\",\"\",Analyze!AO31)","v":""},{"$f":"IF(Analyze!AP31=\"\",\"\",Analyze!AP31)","v":""},null,{"$f":"IF(Analyze!G27=\"\",\"\",Analyze!G27)","v":2.1000000000000005},{"$f":"IF(Analyze!S27=\"\",\"\",Analyze!S27)","v":1.0995574287564276},null,null,null,null,null,null,8.3070131549002486,10.399999999999999,8.987998904509567,9.0634902137174453,2.1,11.029564169759601,2.1,8.1373066958946367,2.1000000000000005,4.1373066958946376,2.1000000000000005,0.1373066958946414,{"$error":"#VALUE!"},{"$error":"#VALUE!"},{"$error":"#VALUE!"},{"$error":"#VALUE!"},{"$error":"#VALUE!"},{"$error":"#VALUE!"},{"$error":"#VALUE!"},{"$error":"#VALUE!"},{"$error":"#VALUE!"},{"$error":"#VALUE!"},{"$error":"#VALUE!"},{"$error":"#VALUE!"}]
[null,null,null,"Soil 9",{"$f":"IF(Analyze!AH32=\"\",\"\",Analyze!AH32)","v":""},{"$f":"IF(Analyze!AI32=\"\",\"\",Analyze!AI32)","v":""},{"$f":"IF(Analyze!AJ32=\"\",\"\",Analyze!AJ32)","v":""},{"$f":"IF(Analyze!AK32=\"\",\"\",Analyze!AK32)","v":""},{"$f":"IF(Analyze!AL32=\"\",\"\",Analyze!AL32)","v":""},{"$f":"IF(Analyze!AM32=\"\",\"\",Analyze!AM32)","v":""},{"$f":"IF(Analyze!AN32=\"\",\"\",Analyze!AN32)","v":""},{"$f":"IF(Analyze!AO32=\"\",\"\",Analyze!AO32)","v":""},{"$f":"IF(Analyze!AP32=\"\",\"\",Analyze!AP32)","v":""},null,{"$f":"IF(Analyze!G28=\"\",\"\",Analyze!G28)","v":2.2000000000000006},{"$f":"IF(Analyze!S28=\"\",\"\",Analyze!S28)","v":1.0995574287564276},null,null,null,null,null,null,8.256060609950806,10.299999999999999,8.9370463595601244,8.9634902137174457,2.2000000000000002,10.959543415938629,2.2000000000000002,8.1105117766515242,2.2000000000000006,4.1105117766515251,2.2000000000000006,0.11051177665152913,{"$error":"#VALUE!"},{"$error":"#VALUE!"},{"$error":"#VALUE!"},{"$error":"#VALUE!"},{"$error":"#VALUE!"},{"$error":"#VALUE!"},{"$error":"#VALUE!"},{"$error":"#VALUE!"},{"$error":"#VALUE!"},{"$error":"#VALUE!"},{"$error":"#VALUE!"},{"$error":"#VALUE!"}]
[null,null,null,"Soil 10",{"$f":"IF(Analyze!AH33=\"\",\"\",Analyze!AH33)","v":""},{"$f":"IF(Analyze!AI33=\"\",\"\",Analyze!AI33)","v":""},{"$f":"IF(Analyze!AJ33=\"\",\"\",Analyze!AJ33)","v":""},{"$f":"IF(Analyze!AK33=\"\",\"\",Analyze!AK33)","v":""},{"$f":"IF(Analyze!AL33=\"\",\"\",Analyze!AL33)","v":""},{"$f":"IF(Analyze!AM33=\"\",\"\",Analyze!AM33)","v":""},{"$f":"IF(Analyze!AN33=\"\",\"\",Analyze!AN33)","v":""},{"$f":"IF(Analyze!AO33=\"\",\"\",Analyze!AO33)","v":""},{"$f":"IF(Analyze!AP33=\"\",\"\",Analyze!AP33)","v":""},null,{"$f":"IF(Analyze!G29=\"\",\"\",Analyze!G29)","v":2.3000000000000007},{"$f":"IF(Analyze!S29=\"\",\"\",Analyze!S29)","v":1.0995574287564276},null,null,null,null,null,null,8.2051080650013635,10.199999999999999,8.8860938146106818,8.8634902137174461,2.3000000000000003,10.889522662117658,2.3000000000000003,8.0837168574084117,2.3000000000000007,4.0837168574084126,2.3000000000000007,8.3716857408416862E-2,{"$error":"#VALUE!"},{"$error":"#VALUE!"},{"$error":"#VALUE!"},{"$error":"#VALUE!"},{"$error":"#VALUE!"},{"$error":"#VALUE!"},{"$error":"#VALUE!"},{"$error":"#VALUE!"},{"$error":"#VALUE!"},{"$error":"#VALUE!"},{"$error":"#VALUE!"},{"$error":"#VALUE!"}]
[null,null,null,null,null,null,null,null,null,null,null,null,null,null,{"$f":"IF(Analyze!G30=\"\",\"\",Analyze!G30)","v":2.4000000000000008},{"$f":"IF(Analyze!S30=\"\",\"\",Analyze!S30)","v":1.0995574287564276},null,null,null,null,null,null,8.1541555200519209,10.1,8.8351412696612392,8.7634902137174464,2.4000000000000004,10.819501908296687,2.4000000000000004,8.0569219381652992,2.4000000000000008,4.0569219381653001,2.4000000000000008,5.6921938165304595E-2,{"$error":"#VALUE!"},{"$error":"#VALUE!"},{"$error":"#VALUE!"},{"$error":"#VALUE!"},{"$error":"#VALUE!"},{"$error":"#VALUE!"},{"$error":"#VALUE!"},{"$error":"#VALUE!"},{"$error":"#VALUE!"},{"$error":"#VALUE!"},{"$error":"#VALUE!"},{"$error":"#VALUE!"}]
[null,null,null,null,null,null,null,null,null,null,null,null,null,null,{"$f":"IF(Analyze!G31=\"\",\"\",Analyze!G31)","v":2.5000000000000009},{"$f":"IF(Analyze!S31=\"\",\"\",Analyze!S31)","v":1.0995574287564276},null,null,null,null,null,null,8.1032029751024783,10,8.7841887247118056,8.6634902137174521,2.5000000000000004,10.749481154475715,2.5000000000000004,8.0301270189221867,2.5000000000000009,4.0301270189221876,2.5000000000000009,3.0127018922192324E-2,{"$error":"#VALUE!"},{"$error":"#VALUE!"},{"$error":"#VALUE!"},{"$error":"#VALUE!"},{"$error":"#VALUE!"},{"$error":"#VALUE!"},{"$error":"#VALUE!"},{"$error":"#VALUE!"},{"$error":"#VALUE!"},{"$error":"#VALUE!"},{"$error":"#VALUE!"},{"$error":"#VALUE!"}]
[null,null,null,null,null,null,null,null,null,null,null,null,null,null,{"$f":"IF(Analyze!G32=\"\",\"\",Analyze!G32)","v":2.600000000000001},{"$f":"IF(Analyze!S32=\"\",\"\",Analyze!S32)","v":1.0995574287564276},null,null,null,null,null,null,8.052250430153034,9.8999999999999986,8.7332361797623523,8.5634902137174453,2.6000000000000005,10.679460400654744,2.6000000000000005,8.0033320996790742,2.600000000000001,4.0033320996790751,2.600000000000001,3.3320996790800542E-3,{"$error":"#VALUE!"},{"$error":"#VALUE!"},{"$error":"#VALUE!"},{"$error":"#VALUE!"},{"$error":"#VALUE!"},{"$error":"#VALUE!"},{"$error":"#VALUE!"},{"$error":"#VALUE!"},{"$error":"#VALUE!"},{"$error":"#VALUE!"},{"$error":"#VALUE!"},{"$error":"#VALUE!"}]
[null,null,null,null,null,null,null,null,null,null,null,null,null,null,{"$f":"IF(Analyze!G33=\"\",\"\",Analyze!G33)","v":2.7000000000000011},{"$f":"IF(Analyze!S33=\"\",\"\",Analyze!S33)","v":1.0995574287564276},null,null,null,null,null,null,8.0012978852035914,9.7999999999999989,8.6822836348129098,8.4634902137174457,2.7000000000000006,10.609439646833772,2.7000000000000006,7.9765371804359617,2.7000000000000011,3.976537180435963,2.7000000000000011,-2.3462819564032216E-2,{"$error":"#VALUE!"},{"$error":"#VALUE!"},{"$error":"#VALUE!"},{"$error":"#VALUE!"},{"$error":"#VALUE!"},{"$error":"#VALUE!"},{"$error":"#VALUE!"},{"$error":"#VALUE!"},{"$error":"#VALUE!"},{"$error":"#VALUE!"},{"$error":"#VALUE!"},{"$error":"#VALUE!"}]
[null,null,null,null,null,null,null,null,null,null,null,null,null,null,{"$f":"IF(Analyze!G34=\"\",\"\",Analyze!G34)","v":2.8000000000000012},{"$f":"IF(Analyze!S34=\"\",\"\",Analyze!S34)","v":1.0995574287564276},null,null,null,null,null,null,7.9503453402541489,9.6999999999999993,8.6313310898634672,8.3634902137174461,2.8000000000000007,10.539418893012801,2.8000000000000007,7.9497422611928492,2.8000000000000012,3.949742261192851,2.8000000000000012,-5.0257738807144486E-2,{"$error":"#VALUE!"},{"$error":"#VALUE!"},{"$error":"#VALUE!"},{"$error":"#VALUE!"},{"$error":"#VALUE!"},{"$error":"#VALUE!"},{"$error":"#VALUE!"},{"$error":"#VALUE!"},{"$error":"#VALUE!"},{"$error":"#VALUE!"},{"$error":"#VALUE!"},{"$error":"#VALUE!"}]
[null,null,null,null,null,null,null,null,null,null,null,null,null,null,{"$f":"IF(Analyze!G35=\"\",\"\",Analyze!G35)","v":2.9000000000000012},{"$f":"IF(Analyze!S35=\"\",\"\",Analyze!S35)","v":1.0995574287564276},null,null,null,null,null,null,7.8993927953047054,9.5999999999999979,8.5803785449140246,8.2634902137174446,2.9000000000000008,10.46939813919183,2.9000000000000008,7.9229473419497367,2.9000000000000012,3.9229473419497389,2.9000000000000012,-7.7052658050256753E-2,{"$error":"#VALUE!"},{"$error":"#VALUE!"},{"$error":"#VALUE!"},{"$error":"#VALUE!"},{"$error":"#VALUE!"},{"$error":"#VALUE!"},{"$error":"#VALUE!"},{"$error":"#VALUE!"},{"$error":"#VALUE!"},{"$error":"#VALUE!"},{"$error":"#VALUE!"},{"$error":"#VALUE!"}]
[null,null,null,null,null,null,null,null,null,null,null,null,null,null,{"$f":"IF(Analyze!G36=\"\",\"\",Analyze!G36)","v":3.0000000000000013},{"$f":"IF(Analyze!S36=\"\",\"\",Analyze!S36)","v":1.0995574287564276},null,null,null,null,null,null,7.8484402503552628,9.4999999999999982,8.5294259999645821,8.163490213717445,3.0000000000000009,10.399377385370858,3.0000000000000009,7.8961524227066242,3.0000000000000013,3.8961524227066269,3.0000000000000013,-0.10384757729336902,{"$error":"#VALUE!"},{"$error":"#VALUE!"},{"$error":"#VALUE!"},{"$error":"#VALUE!"},{"$error":"#VALUE!"},{"$error":"#VALUE!"},{"$error":"#VALUE!"},{"$error":"#VALUE!"},{"$error":"#VALUE!"},{"$error":"#VALUE!"},{"$error":"#VALUE!"},{"$error":"#VALUE!"}]
[null,null,null,null,null,null,null,null,null,null,null,null,null,null,{"$f":"IF(Analyze!G37=\"\",\"\",Analyze!G37)","v":3.1000000000000014},{"$f":"IF(Analyze!S37=\"\",\"\",Analyze!S37)","v":1.0995574287564276},null,null,null,null,null,null,7.7974877054058203,9.3999999999999986,8.4784734550151395,8.0634902137174453,3.100000000000001,10.329356631549887,3.100000000000001,7.8693575034635117,3.1000000000000014,3.8693575034635148,3.1000000000000014,-0.1306424965364813,{"$error":"#VALUE!"},{"$error":"#VALUE!"},{"$error":"#VALUE!"},{"$error":"#VALUE!"},{"$error":"#VALUE!"},{"$error":"#VALUE!"},{"$error":"#VALUE!"},{"$error":"#VALUE!"},{"$error":"#VALUE!"},{"$error":"#VALUE!"},{"$error":"#VALUE!"},{"$error":"#VALUE!"}]
[null,null,null,null,null,null,null,null,null,null,null,null,null,null,{"$f":"IF(Analyze!G38=\"\",\"\",Analyze!G38)","v":3.2000000000000015},{"$f":"IF(Analyze!S38=\"\",\"\",Analyze!S38)","v":1.0995574287564276},null,null,null,null,null,null,7.7465351604563777,9.2999999999999989,8.4275209100656969,7.9634902137174466,3.2000000000000011,10.259335877728915,3.2000000000000011,7.8425625842203992,3.2000000000000015,3.8425625842204028,3.2000000000000015,-0.15743741577959358,{"$error":"#VALUE!"},{"$error":"#VALUE!"},{"$error":"#VALUE!"},{"$error":"#VALUE!"},{"$error":"#VALUE!"},{"$error":"#VALUE!"},{"$error":"#VALUE!"},{"$error":"#VALUE!"},{"$error":"#VALUE!"},{"$error":"#VALUE!"},{"$error":"#VALUE!"},{"$error":"#VALUE!"}]
[null,null,null,null,null,null,null,null,null,null,null,null,null,null,{"$f":"IF(Analyze!G39=\"\",\"\",Analyze!G39)","v":3.3000000000000016},{"$f":"IF(Analyze!S39=\"\",\"\",Analyze!S39)","v":1.0995574287564276},null,null,null,null,null,null,7.6955826155069351,9.1999999999999993,8.3765683651162544,7.8634902137174461,3.3000000000000012,10.189315123907944,3.3000000000000012,7.8157676649772867,3.3000000000000016,3.8157676649772907,3.3000000000000016,-0.18423233502270586,{"$error":"#VALUE!"},{"$error":"#VALUE!"},{"$error":"#VALUE!"},{"$error":"#VALUE!"},{"$error":"#VALUE!"},{"$error":"#VALUE!"},{"$error":"#VALUE!"},{"$error":"#VALUE!"},{"$error":"#VALUE!"},{"$error":"#VALUE!"},{"$error":"#VALUE!"},{"$error":"#VALUE!"}]
[null,null,null,null,null,null,null,null,null,null,null,null,null,null,{"$f":"IF(Analyze!G40=\"\",\"\",Analyze!G40)","v":3.4000000000000017},{"$f":"IF(Analyze!S40=\"\",\"\",Analyze!S40)","v":1.0995574287564276},null,null,null,null,null,null,7.6446300705574917,9.0999999999999979,8.32561582016681,7.7634902137174455,3.4000000000000012,10.119294370086973,3.4000000000000012,7.7889727457341742,3.4000000000000017,3.7889727457341786,3.4000000000000017,-0.21102725426581814,{"$error":"#VALUE!"},{"$error":"#VALUE!"},{"$error":"#VALUE!"},{"$error":"#VALUE!"},{"$error":"#VALUE!"},{"$error":"#VALUE!"},{"$error":"#VALUE!"},{"$error":"#VALUE!"},{"$error":"#VALUE!"},{"$error":"#VALUE!"},{"$error":"#VALUE!"},{"$error":"#VALUE!"}]
[null,null,null,null,null,null,null,null,null,null,null,null,null,null,{"$f":"IF(Analyze!G41=\"\",\"\",Analyze!G41)","v":3.5000000000000018},{"$f":"IF(Analyze!S41=\"\",\"\",Analyze!S41)","v":1.0995574287564276},null,null,null,null,null,null,7.5936775256080491,8.9999999999999982,8.2746632752173674,7.6634902137174459,3.5000000000000013,10.049273616266001,3.5000000000000013,7.7621778264910617,3.5000000000000018,3.7621778264910666,3.5000000000000018,-0.23782217350893042,{"$error":"#VALUE!"},{"$error":"#VALUE!"},{"$error":"#VALUE!"},{"$error":"#VALUE!"},{"$error":"#VALUE!"},{"$error":"#VALUE!"},{"$error":"#VALUE!"},{"$error":"#VALUE!"},{"$error":"#VALUE!"},{"$error":"#VALUE!"},{"$error":"#VALUE!"},{"$error":"#VALUE!"}]
[null,null,null,null,null,null,null,null,null,null,null,null,null,null,{"$f":"IF(Analyze!G42=\"\",\"\",Analyze!G42)","v":3.6000000000000019},{"$f":"IF(Analyze!S42=\"\",\"\",Analyze!S42)","v":1.0995574287564276},null,null,null,null,null,null,7.5427249806586065,8.8999999999999986,8.2237107302679249,7.5634902137174453,3.6000000000000014,9.9792528624450298,3.6000000000000014,7.7353829072479492,3.6000000000000019,3.7353829072479545,3.6000000000000019,-0.2646170927520427,{"$error":"#VALUE!"},{"$error":"#VALUE!"},{"$error":"#VALUE!"},{"$error":"#VALUE!"},{"$error":"#VALUE!"},{"$error":"#VALUE!"},{"$error":"#VALUE!"},{"$error":"#VALUE!"},{"$error":"#VALUE!"},{"$error":"#VALUE!"},{"$error":"#VALUE!"},{"$error":"#VALUE!"}]
[null,null,null,null,null,null,null,null,null,null,null,null,null,null,{"$f":"IF(Analyze!G43=\"\",\"\",Analyze!G43)","v":3.700000000000002},{"$f":"IF(Analyze!S43=\"\",\"\",Analyze!S43)","v":1.0995574287564276},null,null,null,null,null,null,7.4917724357091631,8.7999999999999972,8.1727581853184823,7.4634902137174448,3.7000000000000015,9.9092321086240585,3.7000000000000015,7.7085879880048367,3.700000000000002,3.7085879880048425,3.700000000000002,-0.29141201199515498,{"$error":"#VALUE!"},{"$error":"#VALUE!"},{"$error":"#VALUE!"},{"$error":"#VALUE!"},{"$error":"#VALUE!"},{"$error":"#VALUE!"},{"$error":"#VALUE!"},{"$error":"#VALUE!"},{"$error":"#VALUE!"},{"$error":"#VALUE!"},{"$error":"#VALUE!"},{"$error":"#VALUE!"}]
[null,null,null,null,null,null,null,null,null,null,null,null,null,null,{"$f":"IF(Analyze!G44=\"\",\"\",Analyze!G44)","v":3.800000000000002},{"$f":"IF(Analyze!S44=\"\",\"\",Analyze!S44)","v":1.0995574287564276},null,null,null,null,null,null,7.4408198907597205,8.6999999999999975,8.1218056403690397,7.3634902137174452,3.8000000000000016,9.8392113548030871,3.8000000000000016,7.6817930687617242,3.800000000000002,3.6817930687617304,3.800000000000002,-0.31820693123826727,{"$error":"#VALUE!"},{"$error":"#VALUE!"},{"$error":"#VALUE!"},{"$error":"#VALUE!"},{"$error":"#VALUE!"},{"$error":"#VALUE!"},{"$error":"#VALUE!"},{"$error":"#VALUE!"},{"$error":"#VALUE!"},{"$error":"#VALUE!"},{"$error":"#VALUE!"},{"$error":"#VALUE!"}]
[null,null,null,null,null,null,null,null,null,null,null,null,null,null,{"$f":"IF(Analyze!G45=\"\",\"\",Analyze!G45)","v":3.9000000000000021},{"$f":"IF(Analyze!S45=\"\",\"\",Analyze!S45)","v":1.0995574287564276},null,null,null,null,null,null,7.3898673458102779,8.5999999999999979,8.0708530954195972,7.2634902137174455,3.9000000000000017,9.7691906009821157,3.9000000000000017,7.6549981495186117,3.9000000000000021,3.6549981495186183,3.9000000000000021,-0.34500185048137955,{"$error":"#VALUE!"},{"$error":"#VALUE!"},{"$error":"#VALUE!"},{"$error":"#VALUE!"},{"$error":"#VALUE!"},{"$error":"#VALUE!"},{"$error":"#VALUE!"},{"$error":"#VALUE!"},{"$error":"#VALUE!"},{"$error":"#VALUE!"},{"$error":"#VALUE!"},{"$error":"#VALUE!"}]
[null,null,null,null,null,null,null,null,null,null,null,null,null,null,{"$f":"IF(Analyze!G46=\"\",\"\",Analyze!G46)","v":4.0000000000000018},{"$f":"IF(Analyze!S46=\"\",\"\",Analyze!S46)","v":1.0995574287564276},null,null,null,null,null,null,7.3389148008608354,8.4999999999999982,8.0199005504701546,7.1634902137174459,4.0000000000000018,9.6991698471611443,4.0000000000000018,7.6282032302754992,4.0000000000000018,3.6282032302755063,4.0000000000000018,-0.37179676972449183,{"$error":"#VALUE!"},{"$error":"#VALUE!"},{"$error":"#VALUE!"},{"$error":"#VALUE!"},{"$error":"#VALUE!"},{"$error":"#VALUE!"},{"$error":"#VALUE!"},{"$error":"#VALUE!"},{"$error":"#VALUE!"},{"$error":"#VALUE!"},{"$error":"#VALUE!"},{"$error":"#VALUE!"}]
[null,null,null,null,null,null,null,null,null,null,null,null,null,null,{"$f":"IF(Analyze!G47=\"\",\"\",Analyze!G47)","v":4.1000000000000014},{"$f":"IF(Analyze!S47=\"\",\"\",Analyze!S47)","v":1.0995574287564276},null,null,null,null,null,null,7.2879622559113928,8.3999999999999986,7.968948005520712,7.0634902137174462,4.1000000000000014,9.6291490933401729,4.1000000000000014,7.6014083110323867,4.1000000000000014,3.6014083110323942,4.1000000000000014,-0.39859168896760411,{"$error":"#VALUE!"},{"$error":"#VALUE!"},{"$error":"#VALUE!"},{"$error":"#VALUE!"},{"$error":"#VALUE!"},{"$error":"#VALUE!"},{"$error":"#VALUE!"},{"$error":"#VALUE!"},{"$error":"#VALUE!"},{"$error":"#VALUE!"},{"$error":"#VALUE!"},{"$error":"#VALUE!"}]
[null,null,null,null,null,null,null,null,null,null,null,null,null,null,{"$f":"IF(Analyze!G48=\"\",\"\",Analyze!G48)","v":4.2000000000000011},{"$f":"IF(Analyze!S48=\"\",\"\",Analyze!S48)","v":1.0995574287564276},null,null,null,null,null,null,7.2370097109619502,8.2999999999999989,7.9179954605712695,6.9634902137174466,4.2000000000000011,9.5591283395192015,4.2000000000000011,7.5746133917892742,4.2000000000000011,3.5746133917892822,4.2000000000000011,-0.42538660821071639,{"$error":"#VALUE!"},{"$error":"#VALUE!"},{"$error":"#VALUE!"},{"$error":"#VALUE!"},{"$error":"#VALUE!"},{"$error":"#VALUE!"},{"$error":"#VALUE!"},{"$error":"#VALUE!"},{"$error":"#VALUE!"},{"$error":"#VALUE!"},{"$error":"#VALUE!"},{"$error":"#VALUE!"}]
[null,null,null,null,null,null,null,null,null,null,null,null,null,null,{"$f":"IF(Analyze!G49=\"\",\"\",Analyze!G49)","v":4.3000000000000007},{"$f":"IF(Analyze!S49=\"\",\"\",Analyze!S49)","v":1.0995574287564276},null,null,null,null,null,null,7.1860571660125077,8.1999999999999993,7.8670429156218269,6.8634902137174469,4.3000000000000007,9.4891075856982301,4.3000000000000007,7.5478184725461617,4.3000000000000007,3.5478184725461701,4.3000000000000007,-0.45218152745382867,{"$error":"#VALUE!"},{"$error":"#VALUE!"},{"$error":"#VALUE!"},{"$error":"#VALUE!"},{"$error":"#VALUE!"},{"$error":"#VALUE!"},{"$error":"#VALUE!"},{"$error":"#VALUE!"},{"$error":"#VALUE!"},{"$error":"#VALUE!"},{"$error":"#VALUE!"},{"$error":"#VALUE!"}]
[null,null,null,null,null,null,null,null,null,null,null,null,null,null,{"$f":"IF(Analyze!G50=\"\",\"\",Analyze!G50)","v":4.4000000000000004},{"$f":"IF(Analyze!S50=\"\",\"\",Analyze!S50)","v":1.0995574287564276},null,null,null,null,null,null,7.1351046210630651,8.1,7.8160903706723843,6.7634902137174473,4.4000000000000004,9.4190868318772587,4.4000000000000004,7.5210235533030492,4.4000000000000004,3.5210235533030581,4.4000000000000004,-0.47897644669694095,{"$error":"#VALUE!"},{"$error":"#VALUE!"},{"$error":"#VALUE!"},{"$error":"#VALUE!"},{"$error":"#VALUE!"},{"$error":"#VALUE!"},{"$error":"#VALUE!"},{"$error":"#VALUE!"},{"$error":"#VALUE!"},{"$error":"#VALUE!"},{"$error":"#VALUE!"},{"$error":"#VALUE!"}]
[null,null,null,null,null,null,null,null,null,null,null,null,null,null,{"$f":"IF(Analyze!G51=\"\",\"\",Analyze!G51)","v":4.5},{"$f":"IF(Analyze!S51=\"\",\"\",Analyze!S51)","v":1.0995574287564276},null,null,null,null,null,null,7.0841520761136225,8,7.7651378257229418,6.6634902137174477,4.5,9.3490660780562873,4.5,7.4942286340599367,4.5,3.494228634059946,4.5,-0.50577136594005323,{"$error":"#VALUE!"},{"$error":"#VALUE!"},{"$error":"#VALUE!"},{"$error":"#VALUE!"},{"$error":"#VALUE!"},{"$error":"#VALUE!"},{"$error":"#VALUE!"},{"$error":"#VALUE!"},{"$error":"#VALUE!"},{"$error":"#VALUE!"},{"$error":"#VALUE!"},{"$error":"#VALUE!"}]
[null,null,null,null,null,null,null,null,null,null,null,null,null,null,{"$f":"IF(Analyze!G52=\"\",\"\",Analyze!G52)","v":4.5999999999999996},{"$f":"IF(Analyze!S52=\"\",\"\",Analyze!S52)","v":1.0995574287564276},null,null,null,null,null,null,7.03319953116418,7.9,7.7141852807734992,6.563490213717448,4.5999999999999996,9.2790453242353159,4.5999999999999996,7.4674337148168242,4.5999999999999996,3.4674337148168339,4.5999999999999996,-0.53256628518316551,{"$error":"#VALUE!"},{"$error":"#VALUE!"},{"$error":"#VALUE!"},{"$error":"#VALUE!"},{"$error":"#VALUE!"},{"$error":"#VALUE!"},{"$error":"#VALUE!"},{"$error":"#VALUE!"},{"$error":"#VALUE!"},{"$error":"#VALUE!"},{"$error":"#VALUE!"},{"$error":"#VALUE!"}]
[null,null,null,null,null,null,null,null,null,null,null,null,null,null,{"$f":"IF(Analyze!G53=\"\",\"\",Analyze!G53)","v":4.6999999999999993},{"$f":"IF(Analyze!S53=\"\",\"\",Analyze!S53)","v":1.0995574287564276},null,null,null,null,null,null,6.9822469862147374,7.8000000000000007,7.6632327358240566,6.4634902137174484,4.6999999999999993,9.2090245704143445,4.6999999999999993,7.4406387955737117,4.6999999999999993,3.4406387955737219,4.6999999999999993,-0.55936120442627779,{"$error":"#VALUE!"},{"$error":"#VALUE!"},{"$error":"#VALUE!"},{"$error":"#VALUE!"},{"$error":"#VALUE!"},{"$error":"#VALUE!"},{"$error":"#VALUE!"},{"$error":"#VALUE!"},{"$error":"#VALUE!"},{"$error":"#VALUE!"},{"$error":"#VALUE!"},{"$error":"#VALUE!"}]
[null,null,null,null,null,null,null,null,null,null,null,null,null,null,{"$f":"IF(Analyze!G54=\"\",\"\",Analyze!G54)","v":4.7999999999999989},{"$f":"IF(Analyze!S54=\"\",\"\",Analyze!S54)","v":1.0995574287564276},null,null,null,null,null,null,6.9312944412652948,7.7000000000000011,7.612280190874614,6.3634902137174487,4.7999999999999989,9.1390038165933731,4.7999999999999989,7.4138438763305992,4.7999999999999989,3.4138438763306098,4.7999999999999989,-0.58615612366939007,{"$error":"#VALUE!"},{"$error":"#VALUE!"},{"$error":"#VALUE!"},{"$error":"#VALUE!"},{"$error":"#VALUE!"},{"$error":"#VALUE!"},{"$error":"#VALUE!"},{"$error":"#VALUE!"},{"$error":"#VALUE!"},{"$error":"#VALUE!"},{"$error":"#VALUE!"},{"$error":"#VALUE!"}]
[null,null,null,null,null,null,null,null,null,null,null,null,null,null,{"$f":"IF(Analyze!G55=\"\",\"\",Analyze!G55)","v":4.8999999999999986},{"$f":"IF(Analyze!S55=\"\",\"\",Analyze!S55)","v":1.0995574287564276},null,null,null,null,null,null,6.8803418963158522,7.6000000000000014,7.5613276459251715,6.2634902137174491,4.8999999999999986,9.0689830627724017,4.8999999999999986,7.3870489570874867,4.8999999999999986,3.3870489570874978,4.8999999999999986,-0.61295104291250235,{"$error":"#VALUE!"},{"$error":"#VALUE!"},{"$error":"#VALUE!"},{"$error":"#VALUE!"},{"$error":"#VALUE!"},{"$error":"#VALUE!"},{"$error":"#VALUE!"},{"$error":"#VALUE!"},{"$error":"#VALUE!"},{"$error":"#VALUE!"},{"$error":"#VALUE!"},{"$error":"#VALUE!"}]
[null,null,null,null,null,null,null,null,null,null,null,null,null,null,{"$f":"IF(Analyze!G56=\"\",\"\",Analyze!G56)","v":4.9999999999999982},{"$f":"IF(Analyze!S56=\"\",\"\",Analyze!S56)","v":1.0995574287564276},null,null,null,null,null,null,6.8293893513664097,7.5000000000000018,7.5103751009757289,6.1634902137174494,4.9999999999999982,8.9989623089514303,4.9999999999999982,7.3602540378443742,4.9999999999999982,3.3602540378443857,4.9999999999999982,-0.63974596215561463,{"$error":"#VALUE!"},{"$error":"#VALUE!"},{"$error":"#VALUE!"},{"$error":"#VALUE!"},{"$error":"#VALUE!"},{"$error":"#VALUE!"},{"$error":"#VALUE!"},{"$error":"#VALUE!"},{"$error":"#VALUE!"},{"$error":"#VALUE!"},{"$error":"#VALUE!"},{"$error":"#VALUE!"}]
[null,null,null,null,null,null,null,null,null,null,null,null,null,null,{"$f":"IF(Analyze!G57=\"\",\"\",Analyze!G57)","v":5.0999999999999979},{"$f":"IF(Analyze!S57=\"\",\"\",Analyze!S57)","v":1.0995574287564276},null,null,null,null,null,null,6.7784368064169671,7.4000000000000021,7.4594225560262863,6.0634902137174498,5.0999999999999979,8.928941555130459,5.0999999999999979,7.3334591186012617,5.0999999999999979,3.3334591186012736,5.0999999999999979,-0.66654088139872691,{"$error":"#VALUE!"},{"$error":"#VALUE!"},{"$error":"#VALUE!"},{"$error":"#VALUE!"},{"$error":"#VALUE!"},{"$error":"#VALUE!"},{"$error":"#VALUE!"},{"$error":"#VALUE!"},{"$error":"#VALUE!"},{"$error":"#VALUE!"},{"$error":"#VALUE!"},{"$error":"#VALUE!"}]
[null,null,null,null,null,null,null,null,null,null,null,null,null,null,{"$f":"IF(Analyze!G58=\"\",\"\",Analyze!G58)","v":5.1999999999999975},{"$f":"IF(Analyze!S58=\"\",\"\",Analyze!S58)","v":1.0995574287564276},null,null,null,null,null,null,6.7274842614675245,7.3000000000000025,7.4084700110768438,5.9634902137174501,5.1999999999999975,8.8589208013094876,5.1999999999999975,7.3066641993581491,5.1999999999999975,3.3066641993581616,5.1999999999999975,-0.6933358006418392,{"$error":"#VALUE!"},{"$error":"#VALUE!"},{"$error":"#VALUE!"},{"$error":"#VALUE!"},{"$error":"#VALUE!"},{"$error":"#VALUE!"},{"$error":"#VALUE!"},{"$error":"#VALUE!"},{"$error":"#VALUE!"},{"$error":"#VALUE!"},{"$error":"#VALUE!"},{"$error":"#VALUE!"}]
[null,null,null,null,null,null,null,null,null,null,null,null,null,null,{"$f":"IF(Analyze!G59=\"\",\"\",Analyze!G59)","v":5.2999999999999972},{"$f":"IF(Analyze!S59=\"\",\"\",Analyze!S59)","v":1.0995574287564276},null,null,null,null,null,null,6.676531716518082,7.2000000000000028,7.3575174661274012,5.8634902137174505,5.2999999999999972,8.7889000474885162,5.2999999999999972,7.2798692801150366,5.2999999999999972,3.2798692801150495,5.2999999999999972,-0.72013071988495148,{"$error":"#VALUE!"},{"$error":"#VALUE!"},{"$error":"#VALUE!"},{"$error":"#VALUE!"},{"$error":"#VALUE!"},{"$error":"#VALUE!"},{"$error":"#VALUE!"},{"$error":"#VALUE!"},{"$error":"#VALUE!"},{"$error":"#VALUE!"},{"$error":"#VALUE!"},{"$error":"#VALUE!"}]
[null,null,null,null,null,null,null,null,null,null,null,null,null,null,{"$f":"IF(Analyze!G60=\"\",\"\",Analyze!G60)","v":5.3999999999999968},{"$f":"IF(Analyze!S60=\"\",\"\",Analyze!S60)","v":1.0995574287564276},null,null,null,null,null,null,6.6255791715686394,7.1000000000000032,7.3065649211779586,5.7634902137174508,5.3999999999999968,8.7188792936675448,5.3999999999999968,7.2530743608719241,5.3999999999999968,3.2530743608719375,5.3999999999999968,-0.74692563912806376,{"$error":"#VALUE!"},{"$error":"#VALUE!"},{"$error":"#VALUE!"},{"$error":"#VALUE!"},{"$error":"#VALUE!"},{"$error":"#VALUE!"},{"$error":"#VALUE!"},{"$error":"#VALUE!"},{"$error":"#VALUE!"},{"$error":"#VALUE!"},{"$error":"#VALUE!"},{"$error":"#VALUE!"}]
[null,null,null,null,null,null,null,null,null,null,null,null,null,null,{"$f":"IF(Analyze!G61=\"\",\"\",Analyze!G61)","v":5.4999999999999964},{"$f":"IF(Analyze!S61=\"\",\"\",Analyze!S61)","v":1.0995574287564276},null,null,null,null,null,null,6.5746266266191968,7.0000000000000036,7.2556123762285161,5.6634902137174512,5.4999999999999964,8.6488585398465734,5.4999999999999964,7.2262794416288116,5.4999999999999964,3.2262794416288254,5.4999999999999964,-0.77372055837117604,{"$error":"#VALUE!"},{"$error":"#VALUE!"},{"$error":"#VALUE!"},{"$error":"#VALUE!"},{"$error":"#VALUE!"},{"$error":"#VALUE!"},{"$error":"#VALUE!"},{"$error":"#VALUE!"},{"$error":"#VALUE!"},{"$error":"#VALUE!"},{"$error":"#VALUE!"},{"$error":"#VALUE!"}]
[null,null,null,null,null,null,null,null,null,null,null,null,null,null,{"$f":"IF(Analyze!G62=\"\",\"\",Analyze!G62)","v":5.5999999999999961},{"$f":"IF(Analyze!S62=\"\",\"\",Analyze!S62)","v":1.0995574287564276},null,null,null,null,null,null,6.5236740816697543,6.9000000000000039,7.2046598312790735,5.5634902137174516,5.5999999999999961,8.578837786025602,5.5999999999999961,7.1994845223856991,5.5999999999999961,3.1994845223857133,5.5999999999999961,-0.80051547761428832,{"$error":"#VALUE!"},{"$error":"#VALUE!"},{"$error":"#VALUE!"},{"$error":"#VALUE!"},{"$error":"#VALUE!"},{"$error":"#VALUE!"},{"$error":"#VALUE!"},{"$error":"#VALUE!"},{"$error":"#VALUE!"},{"$error":"#VALUE!"},{"$error":"#VALUE!"},{"$error":"#VALUE!"}]
[null,null,null,null,null,null,null,null,null,null,null,null,null,null,{"$f":"IF(Analyze!G63=\"\",\"\",Analyze!G63)","v":5.6999999999999957},{"$f":"IF(Analyze!S63=\"\",\"\",Analyze!S63)","v":1.0995574287564276},null,null,null,null,null,null,6.4727215367203117,6.8000000000000043,7.1537072863296309,5.4634902137174519,5.6999999999999957,8.5088170322046306,5.6999999999999957,7.1726896031425866,5.6999999999999957,3.1726896031426013,5.6999999999999957,-0.8273103968574006,{"$error":"#VALUE!"},{"$error":"#VALUE!"},{"$error":"#VALUE!"},{"$error":"#VALUE!"},{"$error":"#VALUE!"},{"$error":"#VALUE!"},{"$error":"#VALUE!"},{"$error":"#VALUE!"},{"$error":"#VALUE!"},{"$error":"#VALUE!"},{"$error":"#VALUE!"},{"$error":"#VALUE!"}]
[null,null,null,null,null,null,null,null,null,null,null,null,null,null,{"$f":"IF(Analyze!G64=\"\",\"\",Analyze!G64)","v":5.7999999999999954},{"$f":"IF(Analyze!S64=\"\",\"\",Analyze!S64)","v":1.0995574287564276},null,null,null,null,null,null,6.4217689917708691,6.7000000000000046,7.1027547413801884,5.3634902137174523,5.7999999999999954,8.4387962783836592,5.7999999999999954,7.1458946838994741,5.7999999999999954,3.1458946838994892,5.7999999999999954,-0.85410531610051288,{"$error":"#VALUE!"},{"$error":"#VALUE!"},{"$error":"#VALUE!"},{"$error":"#VALUE!"},{"$error":"#VALUE!"},{"$error":"#VALUE!"},{"$error":"#VALUE!"},{"$error":"#VALUE!"},{"$error":"#VALUE!"},{"$error":"#VALUE!"},{"$error":"#VALUE!"},{"$error":"#VALUE!"}]
[null,null,null,null,null,null,null,null,null,null,null,null,null,null,{"$f":"IF(Analyze!G65=\"\",\"\",Analyze!G65)","v":5.899999999999995},{"$f":"IF(Analyze!S65=\"\",\"\",Analyze!S65)","v":1.0995574287564276},null,null,null,null,null,null,6.3708164468214266,6.600000000000005,7.0518021964307458,5.2634902137174526,5.899999999999995,8.3687755245626878,5.899999999999995,7.1190997646563616,5.899999999999995,3.1190997646563772,5.899999999999995,-0.88090023534362516,{"$error":"#VALUE!"},{"$error":"#VALUE!"},{"$error":"#VALUE!"},{"$error":"#VALUE!"},{"$error":"#VALUE!"},{"$error":"#VALUE!"},{"$error":"#VALUE!"},{"$error":"#VALUE!"},{"$error":"#VALUE!"},{"$error":"#VALUE!"},{"$error":"#VALUE!"},{"$error":"#VALUE!"}]
[null,null,null,null,null,null,null,null,null,null,null,null,null,null,{"$f":"IF(Analyze!G66=\"\",\"\",Analyze!G66)","v":5.9999999999999947},{"$f":"IF(Analyze!S66=\"\",\"\",Analyze!S66)","v":1.0995574287564276},null,null,null,null,null,null,6.319863901871984,6.5000000000000053,7.0008496514813032,5.163490213717453,5.9999999999999947,8.2987547707417164,5.9999999999999947,7.0923048454132491,5.9999999999999947,3.0923048454132651,5.9999999999999947,-0.90769515458673744,{"$error":"#VALUE!"},{"$error":"#VALUE!"},{"$error":"#VALUE!"},{"$error":"#VALUE!"},{"$error":"#VALUE!"},{"$error":"#VALUE!"},{"$error":"#VALUE!"},{"$error":"#VALUE!"},{"$error":"#VALUE!"},{"$error":"#VALUE!"},{"$error":"#VALUE!"},{"$error":"#VALUE!"}]
[null,null,null,null,null,null,null,null,null,null,null,null,null,null,{"$f":"IF(Analyze!G67=\"\",\"\",Analyze!G67)","v":6.0999999999999943},{"$f":"IF(Analyze!S67=\"\",\"\",Analyze!S67)","v":1.0995574287564276},null,null,null,null,null,null,6.2689113569225414,6.4000000000000057,6.9498971065318607,5.0634902137174533,6.0999999999999943,8.228734016920745,6.0999999999999943,7.0655099261701366,6.0999999999999943,3.0655099261701531,6.0999999999999943,-0.93449007382984972,{"$error":"#VALUE!"},{"$error":"#VALUE!"},{"$error":"#VALUE!"},{"$error":"#VALUE!"},{"$error":"#VALUE!"},{"$error":"#VALUE!"},{"$error":"#VALUE!"},{"$error":"#VALUE!"},{"$error":"#VALUE!"},{"$error":"#VALUE!"},{"$error":"#VALUE!"},{"$error":"#VALUE!"}]
[null,null,null,null,null,null,null,null,null,null,null,null,null,null,{"$f":"IF(Analyze!G68=\"\",\"\",Analyze!G68)","v":6.199999999999994},{"$f":"IF(Analyze!S68=\"\",\"\",Analyze!S68)","v":1.0995574287564276},null,null,null,null,null,null,6.2179588119730989,6.300000000000006,6.8989445615824181,4.9634902137174537,6.199999999999994,8.1587132630997736,6.199999999999994,7.0387150069270241,6.199999999999994,3.038715006927041,6.199999999999994,-0.961284993072962,{"$error":"#VALUE!"},{"$error":"#VALUE!"},{"$error":"#VALUE!"},{"$error":"#VALUE!"},{"$error":"#VALUE!"},{"$error":"#VALUE!"},{"$error":"#VALUE!"},{"$error":"#VALUE!"},{"$error":"#VALUE!"},{"$error":"#VALUE!"},{"$error":"#VALUE!"},{"$error":"#VALUE!"}]
[null,null,null,null,null,null,null,null,null,null,null,null,null,null,{"$f":"IF(Analyze!G69=\"\",\"\",Analyze!G69)","v":6.2999999999999936},{"$f":"IF(Analyze!S69=\"\",\"\",Analyze!S69)","v":1.0995574287564276},null,null,null,null,null,null,6.1670062670236563,6.2000000000000064,6.8479920166329755,4.863490213717454,6.2999999999999936,8.0886925092788022,6.2999999999999936,7.0119200876839116,6.2999999999999936,3.0119200876839289,6.2999999999999936,-0.98807991231607428,{"$error":"#VALUE!"},{"$error":"#VALUE!"},{"$error":"#VALUE!"},{"$error":"#VALUE!"},{"$error":"#VALUE!"},{"$error":"#VALUE!"},{"$error":"#VALUE!"},{"$error":"#VALUE!"},{"$error":"#VALUE!"},{"$error":"#VALUE!"},{"$error":"#VALUE!"},{"$error":"#VALUE!"}]
[null,null,null,null,null,null,null,null,null,null,null,null,null,null,{"$f":"IF(Analyze!G70=\"\",\"\",Analyze!G70)","v":6.3999999999999932},{"$f":"IF(Analyze!S70=\"\",\"\",Analyze!S70)","v":1.0995574287564276},null,null,null,null,null,null,6.1160537220742137,{"$f":"IF(O70=\"\",\"\",IF(O70>h+$H$2,(\"\"),(h-O70)))","v":6.1000000000000068},6.797039471683533,4.7634902137174544,6.3999999999999932,8.0186717554578308,6.3999999999999932,6.9851251684407991,6.3999999999999932,2.9851251684408169,6.3999999999999932,-1.0148748315591865,{"$error":"#VALUE!"},{"$error":"#VALUE!"},{"$error":"#VALUE!"},{"$error":"#VALUE!"},{"$error":"#VALUE!"},{"$error":"#VALUE!"},{"$error":"#VALUE!"},{"$error":"#VALUE!"},{"$error":"#VALUE!"},{"$error":"#VALUE!"},{"$error":"#VALUE!"},{"$error":"#VALUE!"}]
[null,null,null,null,null,null,null,null,null,null,null,null,null,null,{"$f":"IF(Analyze!G71=\"\",\"\",Analyze!G71)","v":6.4999999999999929},{"$f":"IF(Analyze!S71=\"\",\"\",Analyze!S71)","v":1.0995574287564276},null,null,null,null,null,null,6.0651011771247711,6.0000000000000071,{"$f":"IF(W72=\"\",\"\",W71+$H$4*COS(ATAN((X72-X71)/(W72-W71))))","v":6.7460869267340904},{"$f":"IF(W72=\"\",\"\",X71-$H$4*SIN(ATAN((X72-X71)/(W72-W71))))","v":4.6634902137174548},6.4999999999999929,7.9486510016368594,6.4999999999999929,6.9583302491976866,6.4999999999999929,2.9583302491977048,6.4999999999999929,-1.0416697508022987,{"$error":"#VALUE!"},{"$error":"#VALUE!"},{"$error":"#VALUE!"},{"$error":"#VALUE!"},{"$error":"#VALUE!"},{"$error":"#VALUE!"},{"$error":"#VALUE!"},{"$error":"#VALUE!"},{"$error":"#VALUE!"},{"$error":"#VALUE!"},{"$error":"#VALUE!"},{"$error":"#VALUE!"}]
[null,null,null,null,null,null,null,null,null,null,null,null,null,null,{"$f":"IF(Analyze!G72=\"\",\"\",Analyze!G72)","v":6.5999999999999925},{"$f":"IF(Analyze!S72=\"\",\"\",Analyze!S72)","v":1.0995574287564276},null,null,null,null,null,null,6.0141486321753286,5.9000000000000075,6.6951343817846478,4.5634902137174551,{"$f":"AA71+0.1","v":6.5999999999999925},{"$f":"AB71-0.1*TAN(RADIANS($F$7))","v":7.8786302478158881},{"$f":"AC71+0.1","v":6.5999999999999925},{"$f":"AD71-0.1*TAN(RADIANS($F$8))","v":6.9315353299545741},{"$f":"AE71+0.1","v":6.5999999999999925},{"$f":"AF71-0.1*TAN(RADIANS($F$9))","v":2.9315353299545928},{"$f":"AG71+0.1","v":6.5999999999999925},{"$f":"AH71-0.1*TAN(RADIANS($F$10))","v":-1.068464670045411},{"$f":"AI71+0.1","v":{"$error":"#VALUE!"}},{"$f":"AJ71-0.1*TAN(RADIANS($F$11))","v":{"$error":"#VALUE!"}},{"$f":"AK71+0.1","v":{"$error":"#VALUE!"}},{"$f":"AL71-0.1*TAN(RADIANS($F$12))","v":{"$error":"#VALUE!"}},{"$f":"AM71+0.1","v":{"$error":"#VALUE!"}},{"$f":"AN71-0.1*TAN(RADIANS($F$13))","v":{"$error":"#VALUE!"}},{"$f":"AO71+0.1","v":{"$error":"#VALUE!"}},{"$f":"AP71-0.1*TAN(RADIANS($F$14))","v":{"$error":"#VALUE!"}},{"$f":"AQ71+0.1","v":{"$error":"#VALUE!"}},{"$f":"AR71-0.1*TAN(RADIANS($F$15))","v":{"$error":"#VALUE!"}},{"$f":"AS71+0.1","v":{"$error":"#VALUE!"}},{"$f":"AT71-0.1*TAN(RADIANS($F$16))","v":{"$error":"#VALUE!"}}]
[null,null,null,null,null,null,null,null,null,null,null,null,null,null,{"$f":"IF(Analyze!G73=\"\",\"\",Analyze!G73)","v":6.6999999999999922},{"$f":"IF(Analyze!S73=\"\",\"\",Analyze!S73)","v":1.0995574287564276},null,null,null,null,null,null,5.963196087225886,5.8000000000000078,6.6441818368352052,4.4634902137174555,6.6999999999999922,7.8086094939949167,6.6999999999999922,6.9047404107114616,6.6999999999999922,2.9047404107114807,6.6999999999999922,-1.0952595892885233,{"$error":"#VALUE!"},{"$error":"#VALUE!"},{"$error":"#VALUE!"},{"$error":"#VALUE!"},{"$error":"#VALUE!"},{"$error":"#VALUE!"},{"$error":"#VALUE!"},{"$error":"#VALUE!"},{"$error":"#VALUE!"},{"$error":"#VALUE!"},{"$error":"#VALUE!"},{"$error":"#VALUE!"}]
[null,null,null,null,null,null,null,null,null,null,null,null,null,null,{"$f":"IF(Analyze!G74=\"\",\"\",Analyze!G74)","v":6.7999999999999918},{"$f":"IF(Analyze!S74=\"\",\"\",Analyze!S74)","v":1.0995574287564276},null,null,null,null,null,null,5.9122435422764434,5.7000000000000082,6.5932292918857627,4.3634902137174558,6.7999999999999918,7.7385887401739453,6.7999999999999918,6.8779454914683491,6.7999999999999918,2.8779454914683686,6.7999999999999918,-1.1220545085316356,{"$error":"#VALUE!"},{"$error":"#VALUE!"},{"$error":"#VALUE!"},{"$error":"#VALUE!"},{"$error":"#VALUE!"},{"$error":"#VALUE!"},{"$error":"#VALUE!"},{"$error":"#VALUE!"},{"$error":"#VALUE!"},{"$error":"#VALUE!"},{"$error":"#VALUE!"},{"$error":"#VALUE!"}]
[null,null,null,null,null,null,null,null,null,null,null,null,null,null,{"$f":"IF(Analyze!G75=\"\",\"\",Analyze!G75)","v":6.8999999999999915},{"$f":"IF(Analyze!S75=\"\",\"\",Analyze!S75)","v":1.0995574287564276},null,null,null,null,null,null,5.8612909973270009,5.6000000000000085,6.5422767469363201,4.2634902137174562,6.8999999999999915,7.6685679863529739,6.8999999999999915,6.8511505722252366,6.8999999999999915,2.8511505722252566,6.8999999999999915,-1.1488494277747479,{"$error":"#VALUE!"},{"$error":"#VALUE!"},{"$error":"#VALUE!"},{"$error":"#VALUE!"},{"$error":"#VALUE!"},{"$error":"#VALUE!"},{"$error":"#VALUE!"},{"$error":"#VALUE!"},{"$error":"#VALUE!"},{"$error":"#VALUE!"},{"$error":"#VALUE!"},{"$error":"#VALUE!"}]
[null,null,null,null,null,null,null,null,null,null,null,null,null,null,{"$f":"IF(Analyze!G76=\"\",\"\",Analyze!G76)","v":6.9999999999999911},{"$f":"IF(Analyze!S76=\"\",\"\",Analyze!S76)","v":1.0995574287564276},null,null,null,null,null,null,5.8103384523775583,5.5000000000000089,6.4913242019868775,4.1634902137174565,6.9999999999999911,7.5985472325320025,6.9999999999999911,6.8243556529821241,6.9999999999999911,2.8243556529821445,6.9999999999999911,-1.1756443470178601,{"$error":"#VALUE!"},{"$error":"#VALUE!"},{"$error":"#VALUE!"},{"$error":"#VALUE!"},{"$error":"#VALUE!"},{"$error":"#VALUE!"},{"$error":"#VALUE!"},{"$error":"#VALUE!"},{"$error":"#VALUE!"},{"$error":"#VALUE!"},{"$error":"#VALUE!"},{"$error":"#VALUE!"}]
[null,null,null,null,null,null,null,null,null,null,null,null,null,null,{"$f":"IF(Analyze!G77=\"\",\"\",Analyze!G77)","v":7.0999999999999908},{"$f":"IF(Analyze!S77=\"\",\"\",Analyze!S77)","v":1.0995574287564276},null,null,null,null,null,null,5.7593859074281157,5.4000000000000092,6.440371657037435,4.0634902137174569,7.0999999999999908,7.5285264787110311,7.0999999999999908,6.7975607337390116,7.0999999999999908,2.7975607337390325,7.0999999999999908,-1.2024392662609724,{"$error":"#VALUE!"},{"$error":"#VALUE!"},{"$error":"#VALUE!"},{"$error":"#VALUE!"},{"$error":"#VALUE!"},{"$error":"#VALUE!"},{"$error":"#VALUE!"},{"$error":"#VALUE!"},{"$error":"#VALUE!"},{"$error":"#VALUE!"},{"$error":"#VALUE!"},{"$error":"#VALUE!"}]
[null,null,null,null,null,null,null,null,null,null,null,null,null,null,{"$f":"IF(Analyze!G78=\"\",\"\",Analyze!G78)","v":7.1999999999999904},{"$f":"IF(Analyze!S78=\"\",\"\",Analyze!S78)","v":1.0995574287564276},null,null,null,null,null,null,5.7084333624786732,5.3000000000000096,6.3894191120879924,3.9634902137174572,7.1999999999999904,7.4585057248900597,7.1999999999999904,6.7707658144958991,7.1999999999999904,2.7707658144959204,7.1999999999999904,-1.2292341855040847,{"$error":"#VALUE!"},{"$error":"#VALUE!"},{"$error":"#VALUE!"},{"$error":"#VALUE!"},{"$error":"#VALUE!"},{"$error":"#VALUE!"},{"$error":"#VALUE!"},{"$error":"#VALUE!"},{"$error":"#VALUE!"},{"$error":"#VALUE!"},{"$error":"#VALUE!"},{"$error":"#VALUE!"}]
[null,null,null,null,null,null,null,null,null,null,null,null,null,null,{"$f":"IF(Analyze!G79=\"\",\"\",Analyze!G79)","v":7.2999999999999901},{"$f":"IF(Analyze!S79=\"\",\"\",Analyze!S79)","v":1.0995574287564276},null,null,null,null,null,null,5.6574808175292306,5.2000000000000099,6.3384665671385498,3.8634902137174576,7.2999999999999901,7.3884849710690883,7.2999999999999901,6.7439708952527866,7.2999999999999901,2.7439708952528084,7.2999999999999901,-1.256029104747197,{"$error":"#VALUE!"},{"$error":"#VALUE!"},{"$error":"#VALUE!"},{"$error":"#VALUE!"},{"$error":"#VALUE!"},{"$error":"#VALUE!"},{"$error":"#VALUE!"},{"$error":"#VALUE!"},{"$error":"#VALUE!"},{"$error":"#VALUE!"},{"$error":"#VALUE!"},{"$error":"#VALUE!"}]
[null,null,null,null,null,null,null,null,null,null,null,null,null,null,{"$f":"IF(Analyze!G80=\"\",\"\",Analyze!G80)","v":7.3999999999999897},{"$f":"IF(Analyze!S80=\"\",\"\",Analyze!S80)","v":1.0995574287564276},null,null,null,null,null,null,5.606528272579788,5.1000000000000103,6.2875140221891073,3.763490213717458,7.3999999999999897,7.3184642172481169,7.3999999999999897,6.7171759760096741,7.3999999999999897,2.7171759760096963,7.3999999999999897,-1.2828240239903093,{"$error":"#VALUE!"},{"$error":"#VALUE!"},{"$error":"#VALUE!"},{"$error":"#VALUE!"},{"$error":"#VALUE!"},{"$error":"#VALUE!"},{"$error":"#VALUE!"},{"$error":"#VALUE!"},{"$error":"#VALUE!"},{"$error":"#VALUE!"},{"$error":"#VALUE!"},{"$error":"#VALUE!"}]
[null,null,null,null,null,null,null,null,null,null,null,null,null,null,{"$f":"IF(Analyze!G81=\"\",\"\",Analyze!G81)","v":7.4999999999999893},{"$f":"IF(Analyze!S81=\"\",\"\",Analyze!S81)","v":1.0995574287564276},null,null,null,null,null,null,5.5555757276303455,5.0000000000000107,6.2365614772396647,3.6634902137174583,7.4999999999999893,7.2484434634271455,7.4999999999999893,6.6903810567665616,7.4999999999999893,2.6903810567665842,7.4999999999999893,-1.3096189432334215,{"$error":"#VALUE!"},{"$error":"#VALUE!"},{"$error":"#VALUE!"},{"$error":"#VALUE!"},{"$error":"#VALUE!"},{"$error":"#VALUE!"},{"$error":"#VALUE!"},{"$error":"#VALUE!"},{"$error":"#VALUE!"},{"$error":"#VALUE!"},{"$error":"#VALUE!"},{"$error":"#VALUE!"}]
[null,null,null,null,null,null,null,null,null,null,null,null,null,null,{"$f":"IF(Analyze!G82=\"\",\"\",Analyze!G82)","v":7.599999999999989},{"$f":"IF(Analyze!S82=\"\",\"\",Analyze!S82)","v":1.0995574287564276},null,null,null,null,null,null,5.5046231826809029,4.900000000000011,6.1856089322902221,3.5634902137174587,7.599999999999989,7.1784227096061741,7.599999999999989,6.6635861375234491,7.599999999999989,2.6635861375234722,7.599999999999989,-1.3364138624765338,{"$error":"#VALUE!"},{"$error":"#VALUE!"},{"$error":"#VALUE!"},{"$error":"#VALUE!"},{"$error":"#VALUE!"},{"$error":"#VALUE!"},{"$error":"#VALUE!"},{"$error":"#VALUE!"},{"$error":"#VALUE!"},{"$error":"#VALUE!"},{"$error":"#VALUE!"},{"$error":"#VALUE!"}]
[null,null,null,null,null,null,null,null,null,null,null,null,null,null,{"$f":"IF(Analyze!G83=\"\",\"\",Analyze!G83)","v":7.6999999999999886},{"$f":"IF(Analyze!S83=\"\",\"\",Analyze!S83)","v":1.0995574287564276},null,null,null,null,null,null,5.4536706377314603,4.8000000000000114,6.1346563873407796,3.463490213717459,7.6999999999999886,7.1084019557852027,7.6999999999999886,6.6367912182803366,7.6999999999999886,2.6367912182803601,7.6999999999999886,-1.3632087817196461,{"$error":"#VALUE!"},{"$error":"#VALUE!"},{"$error":"#VALUE!"},{"$error":"#VALUE!"},{"$error":"#VALUE!"},{"$error":"#VALUE!"},{"$error":"#VALUE!"},{"$error":"#VALUE!"},{"$error":"#VALUE!"},{"$error":"#VALUE!"},{"$error":"#VALUE!"},{"$error":"#VALUE!"}]
[null,null,null,null,null,null,null,null,null,null,null,null,null,null,{"$f":"IF(Analyze!G84=\"\",\"\",Analyze!G84)","v":7.7999999999999883},{"$f":"IF(Analyze!S84=\"\",\"\",Analyze!S84)","v":1.0995574287564276},null,null,null,null,null,null,5.4027180927820178,4.7000000000000117,6.083703842391337,3.3634902137174594,7.7999999999999883,7.0383812019642313,7.7999999999999883,6.6099962990372241,7.7999999999999883,2.6099962990372481,7.7999999999999883,-1.3900037009627584,{"$error":"#VALUE!"},{"$error":"#VALUE!"},{"$error":"#VALUE!"},{"$error":"#VALUE!"},{"$error":"#VALUE!"},{"$error":"#VALUE!"},{"$error":"#VALUE!"},{"$error":"#VALUE!"},{"$error":"#VALUE!"},{"$error":"#VALUE!"},{"$error":"#VALUE!"},{"$error":"#VALUE!"}]
[null,null,null,null,null,null,null,null,null,null,null,null,null,null,{"$f":"IF(Analyze!G85=\"\",\"\",Analyze!G85)","v":7.8999999999999879},{"$f":"IF(Analyze!S85=\"\",\"\",Analyze!S85)","v":1.0995574287564276},null,null,null,null,null,null,5.3517655478325752,4.6000000000000121,6.0327512974418944,3.2634902137174597,7.8999999999999879,6.9683604481432599,7.8999999999999879,6.5832013797941116,7.8999999999999879,2.583201379794136,7.8999999999999879,-1.4167986202058707,{"$error":"#VALUE!"},{"$error":"#VALUE!"},{"$error":"#VALUE!"},{"$error":"#VALUE!"},{"$error":"#VALUE!"},{"$error":"#VALUE!"},{"$error":"#VALUE!"},{"$error":"#VALUE!"},{"$error":"#VALUE!"},{"$error":"#VALUE!"},{"$error":"#VALUE!"},{"$error":"#VALUE!"}]
[null,null,null,null,null,null,null,null,null,null,null,null,null,null,{"$f":"IF(Analyze!G86=\"\",\"\",Analyze!G86)","v":7.9999999999999876},{"$f":"IF(Analyze!S86=\"\",\"\",Analyze!S86)","v":1.0995574287564276},null,null,null,null,null,null,5.3008130028831326,4.5000000000000124,5.9817987524924519,3.1634902137174601,7.9999999999999876,6.8983396943222886,7.9999999999999876,6.5564064605509991,7.9999999999999876,2.5564064605510239,7.9999999999999876,-1.4435935394489829,{"$error":"#VALUE!"},{"$error":"#VALUE!"},{"$error":"#VALUE!"},{"$error":"#VALUE!"},{"$error":"#VALUE!"},{"$error":"#VALUE!"},{"$error":"#VALUE!"},{"$error":"#VALUE!"},{"$error":"#VALUE!"},{"$error":"#VALUE!"},{"$error":"#VALUE!"},{"$error":"#VALUE!"}]
[null,null,null,null,null,null,null,null,null,null,null,null,null,null,{"$f":"IF(Analyze!G87=\"\",\"\",Analyze!G87)","v":8.0999999999999872},{"$f":"IF(Analyze!S87=\"\",\"\",Analyze!S87)","v":1.0995574287564276},null,null,null,null,null,null,5.24986045793369,4.4000000000000128,5.9308462075430093,3.0634902137174604,8.0999999999999872,6.8283189405013172,8.0999999999999872,6.5296115413078866,8.0999999999999872,2.5296115413079119,8.0999999999999872,-1.4703884586920952,{"$error":"#VALUE!"},{"$error":"#VALUE!"},{"$error":"#VALUE!"},{"$error":"#VALUE!"},{"$error":"#VALUE!"},{"$error":"#VALUE!"},{"$error":"#VALUE!"},{"$error":"#VALUE!"},{"$error":"#VALUE!"},{"$error":"#VALUE!"},{"$error":"#VALUE!"},{"$error":"#VALUE!"}]
[null,null,null,null,null,null,null,null,null,null,null,null,null,null,{"$f":"IF(Analyze!G88=\"\",\"\",Analyze!G88)","v":8.1999999999999869},{"$f":"IF(Analyze!S88=\"\",\"\",Analyze!S88)","v":1.0995574287564276},null,null,null,null,null,null,5.1989079129842475,4.3000000000000131,5.8798936625935667,2.9634902137174608,8.1999999999999869,6.7582981866803458,8.1999999999999869,6.5028166220647741,8.1999999999999869,2.5028166220647998,8.1999999999999869,-1.4971833779352075,{"$error":"#VALUE!"},{"$error":"#VALUE!"},{"$error":"#VALUE!"},{"$error":"#VALUE!"},{"$error":"#VALUE!"},{"$error":"#VALUE!"},{"$error":"#VALUE!"},{"$error":"#VALUE!"},{"$error":"#VALUE!"},{"$error":"#VALUE!"},{"$error":"#VALUE!"},{"$error":"#VALUE!"}]
[null,null,null,null,null,null,null,null,null,null,null,null,null,null,{"$f":"IF(Analyze!G89=\"\",\"\",Analyze!G89)","v":8.2999999999999865},{"$f":"IF(Analyze!S89=\"\",\"\",Analyze!S89)","v":1.0995574287564276},null,null,null,null,null,null,5.1479553680348049,4.2000000000000135,5.8289411176441241,2.8634902137174612,8.2999999999999865,6.6882774328593744,8.2999999999999865,6.4760217028216616,8.2999999999999865,2.4760217028216878,8.2999999999999865,-1.5239782971783198,{"$error":"#VALUE!"},{"$error":"#VALUE!"},{"$error":"#VALUE!"},{"$error":"#VALUE!"},{"$error":"#VALUE!"},{"$error":"#VALUE!"},{"$error":"#VALUE!"},{"$error":"#VALUE!"},{"$error":"#VALUE!"},{"$error":"#VALUE!"},{"$error":"#VALUE!"},{"$error":"#VALUE!"}]
[null,null,null,null,null,null,null,null,null,null,null,null,null,null,{"$f":"IF(Analyze!G90=\"\",\"\",Analyze!G90)","v":8.3999999999999861},{"$f":"IF(Analyze!S90=\"\",\"\",Analyze!S90)","v":1.0995574287564276},null,null,null,null,null,null,5.0970028230853623,4.1000000000000139,5.7779885726946816,2.7634902137174615,8.3999999999999861,6.618256679038403,8.3999999999999861,6.4492267835785491,8.3999999999999861,2.4492267835785757,8.3999999999999861,-1.5507732164214321,{"$error":"#VALUE!"},{"$error":"#VALUE!"},{"$error":"#VALUE!"},{"$error":"#VALUE!"},{"$error":"#VALUE!"},{"$error":"#VALUE!"},{"$error":"#VALUE!"},{"$error":"#VALUE!"},{"$error":"#VALUE!"},{"$error":"#VALUE!"},{"$error":"#VALUE!"},{"$error":"#VALUE!"}]
[null,null,null,null,null,null,null,null,null,null,null,null,null,null,{"$f":"IF(Analyze!G91=\"\",\"\",Analyze!G91)","v":8.4999999999999858},{"$f":"IF(Analyze!S91=\"\",\"\",Analyze!S91)","v":1.0995574287564276},null,null,null,null,null,null,5.0460502781359198,4.0000000000000142,5.727036027745239,2.6634902137174619,8.4999999999999858,6.5482359252174316,8.4999999999999858,6.4224318643354366,8.4999999999999858,2.4224318643354636,8.4999999999999858,-1.5775681356645443,{"$error":"#VALUE!"},{"$error":"#VALUE!"},{"$error":"#VALUE!"},{"$error":"#VALUE!"},{"$error":"#VALUE!"},{"$error":"#VALUE!"},{"$error":"#VALUE!"},{"$error":"#VALUE!"},{"$error":"#VALUE!"},{"$error":"#VALUE!"},{"$error":"#VALUE!"},{"$error":"#VALUE!"}]
[null,null,null,null,null,null,null,null,null,null,null,null,null,null,{"$f":"IF(Analyze!G92=\"\",\"\",Analyze!G92)","v":8.5999999999999854},{"$f":"IF(Analyze!S92=\"\",\"\",Analyze!S92)","v":1.0995574287564276},null,null,null,null,null,null,4.9950977331864772,3.9000000000000146,5.6760834827957964,2.5634902137174622,8.5999999999999854,6.4782151713964602,8.5999999999999854,6.3956369450923241,8.5999999999999854,2.3956369450923516,8.5999999999999854,-1.6043630549076566,{"$error":"#VALUE!"},{"$error":"#VALUE!"},{"$error":"#VALUE!"},{"$error":"#VALUE!"},{"$error":"#VALUE!"},{"$error":"#VALUE!"},{"$error":"#VALUE!"},{"$error":"#VALUE!"},{"$error":"#VALUE!"},{"$error":"#VALUE!"},{"$error":"#VALUE!"},{"$error":"#VALUE!"}]
[null,null,null,null,null,null,null,null,null,null,null,null,null,null,{"$f":"IF(Analyze!G93=\"\",\"\",Analyze!G93)","v":8.6999999999999851},{"$f":"IF(Analyze!S93=\"\",\"\",Analyze!S93)","v":1.0995574287564276},null,null,null,null,null,null,4.9441451882370346,3.8000000000000149,5.6251309378463539,2.4634902137174626,8.6999999999999851,6.4081944175754888,8.6999999999999851,6.3688420258492116,8.6999999999999851,2.3688420258492395,8.6999999999999851,-1.6311579741507689,{"$error":"#VALUE!"},{"$error":"#VALUE!"},{"$error":"#VALUE!"},{"$error":"#VALUE!"},{"$error":"#VALUE!"},{"$error":"#VALUE!"},{"$error":"#VALUE!"},{"$error":"#VALUE!"},{"$error":"#VALUE!"},{"$error":"#VALUE!"},{"$error":"#VALUE!"},{"$error":"#VALUE!"}]
[null,null,null,null,null,null,null,null,null,null,null,null,null,null,{"$f":"IF(Analyze!G94=\"\",\"\",Analyze!G94)","v":8.7999999999999847},{"$f":"IF(Analyze!S94=\"\",\"\",Analyze!S94)","v":1.0995574287564276},null,null,null,null,null,null,4.8931926432875921,3.7000000000000153,5.5741783928969113,2.3634902137174629,8.7999999999999847,6.3381736637545174,8.7999999999999847,6.342047106606099,8.7999999999999847,2.3420471066061275,8.7999999999999847,-1.6579528933938812,{"$error":"#VALUE!"},{"$error":"#VALUE!"},{"$error":"#VALUE!"},{"$error":"#VALUE!"},{"$error":"#VALUE!"},{"$error":"#VALUE!"},{"$error":"#VALUE!"},{"$error":"#VALUE!"},{"$error":"#VALUE!"},{"$error":"#VALUE!"},{"$error":"#VALUE!"},{"$error":"#VALUE!"}]
[null,null,null,null,null,null,null,null,null,null,null,null,null,null,{"$f":"IF(Analyze!G95=\"\",\"\",Analyze!G95)","v":8.8999999999999844},{"$f":"IF(Analyze!S95=\"\",\"\",Analyze!S95)","v":1.0995574287564276},null,null,null,null,null,null,4.8422400983381495,3.6000000000000156,5.5232258479474687,2.2634902137174633,8.8999999999999844,6.268152909933546,8.8999999999999844,6.3152521873629865,8.8999999999999844,2.3152521873630154,8.8999999999999844,-1.6847478126369935,{"$error":"#VALUE!"},{"$error":"#VALUE!"},{"$error":"#VALUE!"},{"$error":"#VALUE!"},{"$error":"#VALUE!"},{"$error":"#VALUE!"},{"$error":"#VALUE!"},{"$error":"#VALUE!"},{"$error":"#VALUE!"},{"$error":"#VALUE!"},{"$error":"#VALUE!"},{"$error":"#VALUE!"}]
[null,null,null,null,null,null,null,null,null,null,null,null,null,null,{"$f":"IF(Analyze!G96=\"\",\"\",Analyze!G96)","v":8.999999999999984},{"$f":"IF(Analyze!S96=\"\",\"\",Analyze!S96)","v":1.0995574287564276},null,null,null,null,null,null,4.7912875533887069,3.500000000000016,5.4722733029980262,2.1634902137174636,8.999999999999984,6.1981321561125746,8.999999999999984,6.288457268119874,8.999999999999984,2.2884572681199034,8.999999999999984,-1.7115427318801057,{"$error":"#VALUE!"},{"$error":"#VALUE!"},{"$error":"#VALUE!"},{"$error":"#VALUE!"},{"$error":"#VALUE!"},{"$error":"#VALUE!"},{"$error":"#VALUE!"},{"$error":"#VALUE!"},{"$error":"#VALUE!"},{"$error":"#VALUE!"},{"$error":"#VALUE!"},{"$error":"#VALUE!"}]
[null,null,null,null,null,null,null,null,null,null,null,null,null,null,{"$f":"IF(Analyze!G97=\"\",\"\",Analyze!G97)","v":9.0999999999999837},{"$f":"IF(Analyze!S97=\"\",\"\",Analyze!S97)","v":1.0995574287564276},null,null,null,null,null,null,4.7403350084392644,3.4000000000000163,5.4213207580485836,2.063490213717464,9.0999999999999837,6.1281114022916032,9.0999999999999837,6.2616623488767615,9.0999999999999837,2.2616623488767913,9.0999999999999837,-1.738337651123218,{"$error":"#VALUE!"},{"$error":"#VALUE!"},{"$error":"#VALUE!"},{"$error":"#VALUE!"},{"$error":"#VALUE!"},{"$error":"#VALUE!"},{"$error":"#VALUE!"},{"$error":"#VALUE!"},{"$error":"#VALUE!"},{"$error":"#VALUE!"},{"$error":"#VALUE!"},{"$error":"#VALUE!"}]
[null,null,null,null,null,null,null,null,null,null,null,null,null,null,{"$f":"IF(Analyze!G98=\"\",\"\",Analyze!G98)","v":9.1999999999999833},{"$f":"IF(Analyze!S98=\"\",\"\",Analyze!S98)","v":1.0995574287564276},null,null,null,null,null,null,4.6893824634898218,3.3000000000000167,5.370368213099141,1.9634902137174641,9.1999999999999833,6.0580906484706318,9.1999999999999833,6.234867429633649,9.1999999999999833,2.2348674296336792,9.1999999999999833,-1.7651325703663303,{"$error":"#VALUE!"},{"$error":"#VALUE!"},{"$error":"#VALUE!"},{"$error":"#VALUE!"},{"$error":"#VALUE!"},{"$error":"#VALUE!"},{"$error":"#VALUE!"},{"$error":"#VALUE!"},{"$error":"#VALUE!"},{"$error":"#VALUE!"},{"$error":"#VALUE!"},{"$error":"#VALUE!"}]
[null,null,null,null,null,null,null,null,null,null,null,null,null,null,{"$f":"IF(Analyze!G99=\"\",\"\",Analyze!G99)","v":9.2999999999999829},{"$f":"IF(Analyze!S99=\"\",\"\",Analyze!S99)","v":1.0995574287564276},null,null,null,null,null,null,4.6384299185403792,3.2000000000000171,5.3194156681496985,1.8634902137174645,9.2999999999999829,5.9880698946496604,9.2999999999999829,6.2080725103905365,9.2999999999999829,2.2080725103905672,9.2999999999999829,-1.7919274896094426,{"$error":"#VALUE!"},{"$error":"#VALUE!"},{"$error":"#VALUE!"},{"$error":"#VALUE!"},{"$error":"#VALUE!"},{"$error":"#VALUE!"},{"$error":"#VALUE!"},{"$error":"#VALUE!"},{"$error":"#VALUE!"},{"$error":"#VALUE!"},{"$error":"#VALUE!"},{"$error":"#VALUE!"}]
[null,null,null,null,null,null,null,null,null,null,null,null,null,null,{"$f":"IF(Analyze!G100=\"\",\"\",Analyze!G100)","v":9.3999999999999826},{"$f":"IF(Analyze!S100=\"\",\"\",Analyze!S100)","v":1.0995574287564276},null,null,null,null,null,null,4.5874773735909367,3.1000000000000174,5.2684631232002559,1.7634902137174648,9.3999999999999826,5.918049140828689,9.3999999999999826,6.181277591147424,9.3999999999999826,2.1812775911474551,9.3999999999999826,-1.8187224088525549,{"$error":"#VALUE!"},{"$error":"#VALUE!"},{"$error":"#VALUE!"},{"$error":"#VALUE!"},{"$error":"#VALUE!"},{"$error":"#VALUE!"},{"$error":"#VALUE!"},{"$error":"#VALUE!"},{"$error":"#VALUE!"},{"$error":"#VALUE!"},{"$error":"#VALUE!"},{"$error":"#VALUE!"}]
[null,null,null,null,null,null,null,null,null,null,null,null,null,null,{"$f":"IF(Analyze!G101=\"\",\"\",Analyze!G101)","v":9.4999999999999822},{"$f":"IF(Analyze!S101=\"\",\"\",Analyze!S101)","v":1.0995574287564276},null,null,null,null,null,null,4.5365248286414941,3.0000000000000178,5.2175105782508133,1.6634902137174652,9.4999999999999822,5.8480283870077177,9.4999999999999822,6.1544826719043115,9.4999999999999822,2.1544826719043431,9.4999999999999822,-1.8455173280956672,{"$error":"#VALUE!"},{"$error":"#VALUE!"},{"$error":"#VALUE!"},{"$error":"#VALUE!"},{"$error":"#VALUE!"},{"$error":"#VALUE!"},{"$error":"#VALUE!"},{"$error":"#VALUE!"},{"$error":"#VALUE!"},{"$error":"#VALUE!"},{"$error":"#VALUE!"},{"$error":"#VALUE!"}]
[null,null,null,null,null,null,null,null,null,null,null,null,null,null,{"$f":"IF(Analyze!G102=\"\",\"\",Analyze!G102)","v":9.5999999999999819},{"$f":"IF(Analyze!S102=\"\",\"\",Analyze!S102)","v":1.0995574287564276},null,null,null,null,null,null,4.4855722836920515,2.9000000000000181,5.1665580333013708,1.5634902137174655,9.5999999999999819,5.7780076331867463,9.5999999999999819,6.127687752661199,9.5999999999999819,2.127687752661231,9.5999999999999819,-1.8723122473387794,{"$error":"#VALUE!"},{"$error":"#VALUE!"},{"$error":"#VALUE!"},{"$error":"#VALUE!"},{"$error":"#VALUE!"},{"$error":"#VALUE!"},{"$error":"#VALUE!"},{"$error":"#VALUE!"},{"$error":"#VALUE!"},{"$error":"#VALUE!"},{"$error":"#VALUE!"},{"$error":"#VALUE!"}]
[null,null,null,null,null,null,null,null,null,null,null,null,null,null,{"$f":"IF(Analyze!G103=\"\",\"\",Analyze!G103)","v":9.6999999999999815},{"$f":"IF(Analyze!S103=\"\",\"\",Analyze!S103)","v":1.0995574287564276},null,null,null,null,null,null,4.434619738742609,2.8000000000000185,5.1156054883519282,1.4634902137174659,9.6999999999999815,5.7079868793657749,9.6999999999999815,6.1008928334180865,9.6999999999999815,2.1008928334181189,9.6999999999999815,-1.8991071665818917,{"$error":"#VALUE!"},{"$error":"#VALUE!"},{"$error":"#VALUE!"},{"$error":"#VALUE!"},{"$error":"#VALUE!"},{"$error":"#VALUE!"},{"$error":"#VALUE!"},{"$error":"#VALUE!"},{"$error":"#VALUE!"},{"$error":"#VALUE!"},{"$error":"#VALUE!"},{"$error":"#VALUE!"}]
[null,null,null,null,null,null,null,null,null,null,null,null,null,null,{"$f":"IF(Analyze!G104=\"\",\"\",Analyze!G104)","v":9.7999999999999812},{"$f":"IF(Analyze!S104=\"\",\"\",Analyze!S104)","v":1.0995574287564276},null,null,null,null,null,null,4.3836671937931664,2.7000000000000188,5.0646529434024856,1.3634902137174663,9.7999999999999812,5.6379661255448035,9.7999999999999812,6.074097914174974,9.7999999999999812,2.0740979141750069,9.7999999999999812,-1.925902085825004,{"$error":"#VALUE!"},{"$error":"#VALUE!"},{"$error":"#VALUE!"},{"$error":"#VALUE!"},{"$error":"#VALUE!"},{"$error":"#VALUE!"},{"$error":"#VALUE!"},{"$error":"#VALUE!"},{"$error":"#VALUE!"},{"$error":"#VALUE!"},{"$error":"#VALUE!"},{"$error":"#VALUE!"}]
[null,null,null,null,null,null,null,null,null,null,null,null,null,null,{"$f":"IF(Analyze!G105=\"\",\"\",Analyze!G105)","v":9.8999999999999808},{"$f":"IF(Analyze!S105=\"\",\"\",Analyze!S105)","v":1.0995574287564276},null,null,null,null,null,null,4.3327146488437238,2.6000000000000192,5.0137003984530431,1.2634902137174666,9.8999999999999808,5.5679453717238321,9.8999999999999808,6.0473029949318615,9.8999999999999808,2.0473029949318948,9.8999999999999808,-1.9526970050681163,{"$error":"#VALUE!"},{"$error":"#VALUE!"},{"$error":"#VALUE!"},{"$error":"#VALUE!"},{"$error":"#VALUE!"},{"$error":"#VALUE!"},{"$error":"#VALUE!"},{"$error":"#VALUE!"},{"$error":"#VALUE!"},{"$error":"#VALUE!"},{"$error":"#VALUE!"},{"$error":"#VALUE!"}]
[null,null,null,null,null,null,null,null,null,null,null,null,null,null,{"$f":"IF(Analyze!G106=\"\",\"\",Analyze!G106)","v":9.9999999999999805},{"$f":"IF(Analyze!S106=\"\",\"\",Analyze!S106)","v":1.0995574287564276},null,null,null,null,null,null,4.2817621038942812,2.5000000000000195,4.9627478535036005,1.163490213717467,9.9999999999999805,5.4979246179028607,9.9999999999999805,6.020508075688749,9.9999999999999805,2.0205080756887828,9.9999999999999805,-1.9794919243112286,{"$error":"#VALUE!"},{"$error":"#VALUE!"},{"$error":"#VALUE!"},{"$error":"#VALUE!"},{"$error":"#VALUE!"},{"$error":"#VALUE!"},{"$error":"#VALUE!"},{"$error":"#VALUE!"},{"$error":"#VALUE!"},{"$error":"#VALUE!"},{"$error":"#VALUE!"},{"$error":"#VALUE!"}]
[null,null,null,null,null,null,null,null,null,null,null,null,null,null,{"$f":"IF(Analyze!G107=\"\",\"\",Analyze!G107)","v":10.09999999999998},{"$f":"IF(Analyze!S107=\"\",\"\",Analyze!S107)","v":1.0995574287564276},null,null,null,null,null,null,4.2308095589448387,2.4000000000000199,4.9117953085541579,1.0634902137174673,10.09999999999998,5.4279038640818893,10.09999999999998,5.9937131564456365,10.09999999999998,1.9937131564456705,10.09999999999998,-2.0062868435543408,{"$error":"#VALUE!"},{"$error":"#VALUE!"},{"$error":"#VALUE!"},{"$error":"#VALUE!"},{"$error":"#VALUE!"},{"$error":"#VALUE!"},{"$error":"#VALUE!"},{"$error":"#VALUE!"},{"$error":"#VALUE!"},{"$error":"#VALUE!"},{"$error":"#VALUE!"},{"$error":"#VALUE!"}]
[null,null,null,null,null,null,null,null,null,null,null,null,null,null,{"$f":"IF(Analyze!G108=\"\",\"\",Analyze!G108)","v":10.19999999999998},{"$f":"IF(Analyze!S108=\"\",\"\",Analyze!S108)","v":1.0995574287564276},null,null,null,null,null,null,4.1798570139953961,2.3000000000000203,4.8608427636047153,0.96349021371746768,10.19999999999998,5.3578831102609179,10.19999999999998,5.966918237202524,10.19999999999998,1.9669182372025582,10.19999999999998,-2.0330817627974529,{"$error":"#VALUE!"},{"$error":"#VALUE!"},{"$error":"#VALUE!"},{"$error":"#VALUE!"},{"$error":"#VALUE!"},{"$error":"#VALUE!"},{"$error":"#VALUE!"},{"$error":"#VALUE!"},{"$error":"#VALUE!"},{"$error":"#VALUE!"},{"$error":"#VALUE!"},{"$error":"#VALUE!"}]
[null,null,null,null,null,null,null,null,null,null,null,null,null,null,{"$f":"IF(Analyze!G109=\"\",\"\",Analyze!G109)","v":10.299999999999979},{"$f":"IF(Analyze!S109=\"\",\"\",Analyze!S109)","v":1.0995574287564276},null,null,null,null,null,null,4.1289044690459535,2.2000000000000206,4.8098902186552728,0.86349021371746804,10.299999999999979,5.2878623564399465,10.299999999999979,5.9401233179594115,10.299999999999979,1.9401233179594459,10.299999999999979,-2.059876682040565,{"$error":"#VALUE!"},{"$error":"#VALUE!"},{"$error":"#VALUE!"},{"$error":"#VALUE!"},{"$error":"#VALUE!"},{"$error":"#VALUE!"},{"$error":"#VALUE!"},{"$error":"#VALUE!"},{"$error":"#VALUE!"},{"$error":"#VALUE!"},{"$error":"#VALUE!"},{"$error":"#VALUE!"}]
[null,null,null,null,null,null,null,null,null,null,null,null,null,null,{"$f":"IF(Analyze!G110=\"\",\"\",Analyze!G110)","v":10.399999999999979},{"$f":"IF(Analyze!S110=\"\",\"\",Analyze!S110)","v":1.0995574287564276},null,null,null,null,null,null,4.077951924096511,2.100000000000021,4.7589376737058302,0.76349021371746839,10.399999999999979,5.2178416026189751,10.399999999999979,5.913328398716299,10.399999999999979,1.9133283987163336,10.399999999999979,-2.086671601283677,{"$error":"#VALUE!"},{"$error":"#VALUE!"},{"$error":"#VALUE!"},{"$error":"#VALUE!"},{"$error":"#VALUE!"},{"$error":"#VALUE!"},{"$error":"#VALUE!"},{"$error":"#VALUE!"},{"$error":"#VALUE!"},{"$error":"#VALUE!"},{"$error":"#VALUE!"},{"$error":"#VALUE!"}]
[null,null,null,null,null,null,null,null,null,null,null,null,null,null,{"$f":"IF(Analyze!G111=\"\",\"\",Analyze!G111)","v":10.499999999999979},{"$f":"IF(Analyze!S111=\"\",\"\",Analyze!S111)","v":1.0995574287564276},null,null,null,null,null,null,4.0269993791470684,2.0000000000000213,4.7079851287563876,0.66349021371746875,10.499999999999979,5.1478208487980037,10.499999999999979,5.8865334794731865,10.499999999999979,1.8865334794732214,10.499999999999979,-2.1134665205267891,{"$error":"#VALUE!"},{"$error":"#VALUE!"},{"$error":"#VALUE!"},{"$error":"#VALUE!"},{"$error":"#VALUE!"},{"$error":"#VALUE!"},{"$error":"#VALUE!"},{"$error":"#VALUE!"},{"$error":"#VALUE!"},{"$error":"#VALUE!"},{"$error":"#VALUE!"},{"$error":"#VALUE!"}]
[null,null,null,null,null,null,null,null,null,null,null,null,null,null,{"$f":"IF(Analyze!G112=\"\",\"\",Analyze!G112)","v":10.599999999999978},{"$f":"IF(Analyze!S112=\"\",\"\",Analyze!S112)","v":1.0995574287564276},null,null,null,null,null,null,3.9760468341976258,1.9000000000000217,4.6570325838069451,0.5634902137174691,10.599999999999978,5.0778000949770323,10.599999999999978,5.859738560230074,10.599999999999978,1.8597385602301091,10.599999999999978,-2.1402614397699011,{"$error":"#VALUE!"},{"$error":"#VALUE!"},{"$error":"#VALUE!"},{"$error":"#VALUE!"},{"$error":"#VALUE!"},{"$error":"#VALUE!"},{"$error":"#VALUE!"},{"$error":"#VALUE!"},{"$error":"#VALUE!"},{"$error":"#VALUE!"},{"$error":"#VALUE!"},{"$error":"#VALUE!"}]
[null,null,null,null,null,null,null,null,null,null,null,null,null,null,{"$f":"IF(Analyze!G113=\"\",\"\",Analyze!G113)","v":10.699999999999978},{"$f":"IF(Analyze!S113=\"\",\"\",Analyze!S113)","v":1.0995574287564276},null,null,null,null,null,null,3.9250942892481833,1.800000000000022,4.6060800388575025,0.46349021371746946,10.699999999999978,5.0077793411560609,10.699999999999978,5.8329436409869615,10.699999999999978,1.8329436409869968,10.699999999999978,-2.1670563590130132,{"$error":"#VALUE!"},{"$error":"#VALUE!"},{"$error":"#VALUE!"},{"$error":"#VALUE!"},{"$error":"#VALUE!"},{"$error":"#VALUE!"},{"$error":"#VALUE!"},{"$error":"#VALUE!"},{"$error":"#VALUE!"},{"$error":"#VALUE!"},{"$error":"#VALUE!"},{"$error":"#VALUE!"}]
[null,null,null,null,null,null,null,null,null,null,null,null,null,null,{"$f":"IF(Analyze!G114=\"\",\"\",Analyze!G114)","v":10.799999999999978},{"$f":"IF(Analyze!S114=\"\",\"\",Analyze!S114)","v":1.0995574287564276},null,null,null,null,null,null,3.8741417442987407,1.7000000000000224,4.5551274939080599,0.36349021371746981,10.799999999999978,4.9377585873350895,10.799999999999978,5.806148721743849,10.799999999999978,1.8061487217438845,10.799999999999978,-2.1938512782561252,{"$error":"#VALUE!"},{"$error":"#VALUE!"},{"$error":"#VALUE!"},{"$error":"#VALUE!"},{"$error":"#VALUE!"},{"$error":"#VALUE!"},{"$error":"#VALUE!"},{"$error":"#VALUE!"},{"$error":"#VALUE!"},{"$error":"#VALUE!"},{"$error":"#VALUE!"},{"$error":"#VALUE!"}]
[null,null,null,null,null,null,null,null,null,null,null,null,null,null,{"$f":"IF(Analyze!G115=\"\",\"\",Analyze!G115)","v":10.899999999999977},{"$f":"IF(Analyze!S115=\"\",\"\",Analyze!S115)","v":1.0995574287564276},null,null,null,null,null,null,3.8231891993492981,1.6000000000000227,4.5041749489586174,0.26349021371747017,10.899999999999977,4.8677378335141182,10.899999999999977,5.7793538025007365,10.899999999999977,1.7793538025007722,10.899999999999977,-2.2206461974992373,{"$error":"#VALUE!"},{"$error":"#VALUE!"},{"$error":"#VALUE!"},{"$error":"#VALUE!"},{"$error":"#VALUE!"},{"$error":"#VALUE!"},{"$error":"#VALUE!"},{"$error":"#VALUE!"},{"$error":"#VALUE!"},{"$error":"#VALUE!"},{"$error":"#VALUE!"},{"$error":"#VALUE!"}]
[null,null,null,null,null,null,null,null,null,null,null,null,null,null,{"$f":"IF(Analyze!G116=\"\",\"\",Analyze!G116)","v":10.999999999999977},{"$f":"IF(Analyze!S116=\"\",\"\",Analyze!S116)","v":1.0995574287564276},null,null,null,null,null,null,3.7722366543998556,1.5000000000000231,4.4532224040091748,0.16349021371747052,10.999999999999977,4.7977170796931468,10.999999999999977,5.752558883257624,10.999999999999977,1.75255888325766,10.999999999999977,-2.2474411167423494,{"$error":"#VALUE!"},{"$error":"#VALUE!"},{"$error":"#VALUE!"},{"$error":"#VALUE!"},{"$error":"#VALUE!"},{"$error":"#VALUE!"},{"$error":"#VALUE!"},{"$error":"#VALUE!"},{"$error":"#VALUE!"},{"$error":"#VALUE!"},{"$error":"#VALUE!"},{"$error":"#VALUE!"}]
[null,null,null,null,null,null,null,null,null,null,null,null,null,null,{"$f":"IF(Analyze!G117=\"\",\"\",Analyze!G117)","v":11.099999999999977},{"$f":"IF(Analyze!S117=\"\",\"\",Analyze!S117)","v":1.0995574287564276},null,null,null,null,null,null,3.721284109450413,1.4000000000000234,4.4022698590597322,6.3490213717470878E-2,11.099999999999977,4.7276963258721754,11.099999999999977,5.7257639640145115,11.099999999999977,1.7257639640145477,11.099999999999977,-2.2742360359854614,{"$error":"#VALUE!"},{"$error":"#VALUE!"},{"$error":"#VALUE!"},{"$error":"#VALUE!"},{"$error":"#VALUE!"},{"$error":"#VALUE!"},{"$error":"#VALUE!"},{"$error":"#VALUE!"},{"$error":"#VALUE!"},{"$error":"#VALUE!"},{"$error":"#VALUE!"},{"$error":"#VALUE!"}]
[null,null,null,null,null,null,null,null,null,null,null,null,null,null,{"$f":"IF(Analyze!G118=\"\",\"\",Analyze!G118)","v":11.199999999999976},{"$f":"IF(Analyze!S118=\"\",\"\",Analyze!S118)","v":1.0995574287564276},null,null,null,null,null,null,3.6703315645009704,1.3000000000000238,4.3513173141102897,-3.6509786282528767E-2,11.199999999999976,4.657675572051204,11.199999999999976,5.698969044771399,11.199999999999976,1.6989690447714354,11.199999999999976,-2.3010309552285735,{"$error":"#VALUE!"},{"$error":"#VALUE!"},{"$error":"#VALUE!"},{"$error":"#VALUE!"},{"$error":"#VALUE!"},{"$error":"#VALUE!"},{"$error":"#VALUE!"},{"$error":"#VALUE!"},{"$error":"#VALUE!"},{"$error":"#VALUE!"},{"$error":"#VALUE!"},{"$error":"#VALUE!"}]
[null,null,null,null,null,null,null,null,null,null,null,null,null,null,{"$f":"IF(Analyze!G119=\"\",\"\",Analyze!G119)","v":11.299999999999976},{"$f":"IF(Analyze!S119=\"\",\"\",Analyze!S119)","v":1.0995574287564276},null,null,null,null,null,null,3.6193790195515279,1.2000000000000242,4.3003647691608471,-0.13650978628252841,11.299999999999976,4.5876548182302326,11.299999999999976,5.6721741255282865,11.299999999999976,1.6721741255283231,11.299999999999976,-2.3278258744716855,{"$error":"#VALUE!"},{"$error":"#VALUE!"},{"$error":"#VALUE!"},{"$error":"#VALUE!"},{"$error":"#VALUE!"},{"$error":"#VALUE!"},{"$error":"#VALUE!"},{"$error":"#VALUE!"},{"$error":"#VALUE!"},{"$error":"#VALUE!"},{"$error":"#VALUE!"},{"$error":"#VALUE!"}]
[null,null,null,null,null,null,null,null,null,null,null,null,null,null,{"$f":"IF(Analyze!G120=\"\",\"\",Analyze!G120)","v":11.399999999999975},{"$f":"IF(Analyze!S120=\"\",\"\",Analyze!S120)","v":1.0995574287564276},null,null,null,null,null,null,3.5684264746020853,1.1000000000000245,4.2494122242114045,-0.23650978628252806,11.399999999999975,4.5176340644092612,11.399999999999975,5.645379206285174,11.399999999999975,1.6453792062852108,11.399999999999975,-2.3546207937147976,{"$error":"#VALUE!"},{"$error":"#VALUE!"},{"$error":"#VALUE!"},{"$error":"#VALUE!"},{"$error":"#VALUE!"},{"$error":"#VALUE!"},{"$error":"#VALUE!"},{"$error":"#VALUE!"},{"$error":"#VALUE!"},{"$error":"#VALUE!"},{"$error":"#VALUE!"},{"$error":"#VALUE!"}]
[null,null,null,null,null,null,null,null,null,null,null,null,null,null,{"$f":"IF(Analyze!G121=\"\",\"\",Analyze!G121)","v":11.499999999999975},{"$f":"IF(Analyze!S121=\"\",\"\",Analyze!S121)","v":1.0995574287564276},null,null,null,null,null,null,3.5174739296526427,1.0000000000000249,4.198459679261962,-0.3365097862825277,11.499999999999975,4.4476133105882898,11.499999999999975,5.6185842870420615,11.499999999999975,1.6185842870420986,11.499999999999975,-2.3814157129579097,{"$error":"#VALUE!"},{"$error":"#VALUE!"},{"$error":"#VALUE!"},{"$error":"#VALUE!"},{"$error":"#VALUE!"},{"$error":"#VALUE!"},{"$error":"#VALUE!"},{"$error":"#VALUE!"},{"$error":"#VALUE!"},{"$error":"#VALUE!"},{"$error":"#VALUE!"},{"$error":"#VALUE!"}]
[null,null,null,null,null,null,null,null,null,null,null,null,null,null,{"$f":"IF(Analyze!G122=\"\",\"\",Analyze!G122)","v":11.599999999999975},{"$f":"IF(Analyze!S122=\"\",\"\",Analyze!S122)","v":1.0995574287564276},null,null,null,null,null,null,3.4665213847032001,0.90000000000002522,4.1475071343125194,-0.43650978628252735,11.599999999999975,4.3775925567673184,11.599999999999975,5.591789367798949,11.599999999999975,1.5917893677989863,11.599999999999975,-2.4082106322010217,{"$error":"#VALUE!"},{"$error":"#VALUE!"},{"$error":"#VALUE!"},{"$error":"#VALUE!"},{"$error":"#VALUE!"},{"$error":"#VALUE!"},{"$error":"#VALUE!"},{"$error":"#VALUE!"},{"$error":"#VALUE!"},{"$error":"#VALUE!"},{"$error":"#VALUE!"},{"$error":"#VALUE!"}]
[null,null,null,null,null,null,null,null,null,null,null,null,null,null,{"$f":"IF(Analyze!G123=\"\",\"\",Analyze!G123)","v":11.699999999999974},{"$f":"IF(Analyze!S123=\"\",\"\",Analyze!S123)","v":1.0995574287564276},null,null,null,null,null,null,3.4155688397537576,0.80000000000002558,4.0965545893630768,-0.53650978628252699,11.699999999999974,4.307571802946347,11.699999999999974,5.5649944485558365,11.699999999999974,1.564994448555874,11.699999999999974,-2.4350055514441338,{"$error":"#VALUE!"},{"$error":"#VALUE!"},{"$error":"#VALUE!"},{"$error":"#VALUE!"},{"$error":"#VALUE!"},{"$error":"#VALUE!"},{"$error":"#VALUE!"},{"$error":"#VALUE!"},{"$error":"#VALUE!"},{"$error":"#VALUE!"},{"$error":"#VALUE!"},{"$error":"#VALUE!"}]
[null,null,null,null,null,null,null,null,null,null,null,null,null,null,{"$f":"IF(Analyze!G124=\"\",\"\",Analyze!G124)","v":11.799999999999974},{"$f":"IF(Analyze!S124=\"\",\"\",Analyze!S124)","v":1.0995574287564276},null,null,null,null,null,null,3.364616294804315,0.70000000000002593,4.0456020444136342,-0.63650978628252664,11.799999999999974,4.2375510491253756,11.799999999999974,5.538199529312724,11.799999999999974,1.5381995293127617,11.799999999999974,-2.4618004706872458,{"$error":"#VALUE!"},{"$error":"#VALUE!"},{"$error":"#VALUE!"},{"$error":"#VALUE!"},{"$error":"#VALUE!"},{"$error":"#VALUE!"},{"$error":"#VALUE!"},{"$error":"#VALUE!"},{"$error":"#VALUE!"},{"$error":"#VALUE!"},{"$error":"#VALUE!"},{"$error":"#VALUE!"}]
[null,null,null,null,null,null,null,null,null,null,null,null,null,null,{"$f":"IF(Analyze!G125=\"\",\"\",Analyze!G125)","v":11.899999999999974},{"$f":"IF(Analyze!S125=\"\",\"\",Analyze!S125)","v":1.0995574287564276},null,null,null,null,null,null,3.3136637498548724,0.60000000000002629,3.9946494994641912,-0.73650978628252628,11.899999999999974,4.1675302953044042,11.899999999999974,5.5114046100696115,11.899999999999974,1.5114046100696494,11.899999999999974,-2.4885953899303579,{"$error":"#VALUE!"},{"$error":"#VALUE!"},{"$error":"#VALUE!"},{"$error":"#VALUE!"},{"$error":"#VALUE!"},{"$error":"#VALUE!"},{"$error":"#VALUE!"},{"$error":"#VALUE!"},{"$error":"#VALUE!"},{"$error":"#VALUE!"},{"$error":"#VALUE!"},{"$error":"#VALUE!"}]
[null,null,null,null,null,null,null,null,null,null,null,null,null,null,{"$f":"IF(Analyze!G126=\"\",\"\",Analyze!G126)","v":11.999999999999973},{"$f":"IF(Analyze!S126=\"\",\"\",Analyze!S126)","v":1.0995574287564276},null,null,null,null,null,null,3.2627112049054299,0.50000000000002665,3.9436969545147487,-0.83650978628252592,11.999999999999973,4.0975095414834328,11.999999999999973,5.484609690826499,11.999999999999973,1.4846096908265372,11.999999999999973,-2.51539030917347,{"$error":"#VALUE!"},{"$error":"#VALUE!"},{"$error":"#VALUE!"},{"$error":"#VALUE!"},{"$error":"#VALUE!"},{"$error":"#VALUE!"},{"$error":"#VALUE!"},{"$error":"#VALUE!"},{"$error":"#VALUE!"},{"$error":"#VALUE!"},{"$error":"#VALUE!"},{"$error":"#VALUE!"}]
[null,null,null,null,null,null,null,null,null,null,null,null,null,null,{"$f":"IF(Analyze!G127=\"\",\"\",Analyze!G127)","v":12.099999999999973},{"$f":"IF(Analyze!S127=\"\",\"\",Analyze!S127)","v":1.0995574287564276},null,null,null,null,null,null,3.2117586599559873,0.400000000000027,3.8927444095653061,-0.93650978628252557,12.099999999999973,4.0274887876624614,12.099999999999973,5.4578147715833865,12.099999999999973,1.4578147715834249,12.099999999999973,-2.542185228416582,{"$error":"#VALUE!"},{"$error":"#VALUE!"},{"$error":"#VALUE!"},{"$error":"#VALUE!"},{"$error":"#VALUE!"},{"$error":"#VALUE!"},{"$error":"#VALUE!"},{"$error":"#VALUE!"},{"$error":"#VALUE!"},{"$error":"#VALUE!"},{"$error":"#VALUE!"},{"$error":"#VALUE!"}]
[null,null,null,null,null,null,null,null,null,null,null,null,null,null,{"$f":"IF(Analyze!G128=\"\",\"\",Analyze!G128)","v":12.199999999999973},{"$f":"IF(Analyze!S128=\"\",\"\",Analyze!S128)","v":1.0995574287564276},null,null,null,null,null,null,3.1608061150065447,0.30000000000002736,3.8417918646158635,-1.0365097862825252,12.199999999999973,3.9574680338414905,12.199999999999973,5.431019852340274,12.199999999999973,1.4310198523403126,12.199999999999973,-2.5689801476596941,{"$error":"#VALUE!"},{"$error":"#VALUE!"},{"$error":"#VALUE!"},{"$error":"#VALUE!"},{"$error":"#VALUE!"},{"$error":"#VALUE!"},{"$error":"#VALUE!"},{"$error":"#VALUE!"},{"$error":"#VALUE!"},{"$error":"#VALUE!"},{"$error":"#VALUE!"},{"$error":"#VALUE!"}]
[null,null,null,null,null,null,null,null,null,null,null,null,null,null,{"$f":"IF(Analyze!G129=\"\",\"\",Analyze!G129)","v":12.299999999999972},{"$f":"IF(Analyze!S129=\"\",\"\",Analyze!S129)","v":1.0995574287564276},null,null,null,null,null,null,3.1098535700571022,0.20000000000002771,3.790839319666421,-1.1365097862825249,12.299999999999972,3.8874472800205195,12.299999999999972,5.4042249330971615,12.299999999999972,1.4042249330972003,12.299999999999972,-2.5957750669028061,{"$error":"#VALUE!"},{"$error":"#VALUE!"},{"$error":"#VALUE!"},{"$error":"#VALUE!"},{"$error":"#VALUE!"},{"$error":"#VALUE!"},{"$error":"#VALUE!"},{"$error":"#VALUE!"},{"$error":"#VALUE!"},{"$error":"#VALUE!"},{"$error":"#VALUE!"},{"$error":"#VALUE!"}]
[null,null,null,null,null,null,null,null,null,null,null,null,null,null,{"$f":"IF(Analyze!G130=\"\",\"\",Analyze!G130)","v":12.399999999999972},{"$f":"IF(Analyze!S130=\"\",\"\",Analyze!S130)","v":1.0995574287564276},null,null,null,null,null,null,3.0589010251076596,0.10000000000002807,3.7398867747169802,-1.2365097862825236,12.399999999999972,3.8174265261995486,12.399999999999972,5.377430013854049,12.399999999999972,1.377430013854088,12.399999999999972,-2.6225699861459182,{"$error":"#VALUE!"},{"$error":"#VALUE!"},{"$error":"#VALUE!"},{"$error":"#VALUE!"},{"$error":"#VALUE!"},{"$error":"#VALUE!"},{"$error":"#VALUE!"},{"$error":"#VALUE!"},{"$error":"#VALUE!"},{"$error":"#VALUE!"},{"$error":"#VALUE!"},{"$error":"#VALUE!"}]
[null,null,null,null,null,null,null,null,null,null,null,null,null,null,{"$f":"IF(Analyze!G131=\"\",\"\",Analyze!G131)","v":12.5},{"$f":"IF(Analyze!S131=\"\",\"\",Analyze!S131)","v":1.0995574287564276},null,null,null,null,null,null,3.0079484801582024,0,3.6889342297675212,-1.3365097862825526,12.499999999999972,3.7474057723785776,12.499999999999972,5.3506350946109364,12.499999999999972,1.3506350946109758,12.499999999999972,-2.6493649053890302,{"$error":"#VALUE!"},{"$error":"#VALUE!"},{"$error":"#VALUE!"},{"$error":"#VALUE!"},{"$error":"#VALUE!"},{"$error":"#VALUE!"},{"$error":"#VALUE!"},{"$error":"#VALUE!"},{"$error":"#VALUE!"},{"$error":"#VALUE!"},{"$error":"#VALUE!"},{"$error":"#VALUE!"}]
[null,null,null,null,null,null,null,null,null,null,null,null,null,null,{"$f":"IF(Analyze!G132=\"\",\"\",Analyze!G132)","v":12.6},{"$f":"IF(Analyze!S132=\"\",\"\",Analyze!S132)","v":1.0995574287564276},null,null,null,null,null,null,2.9569959352087598,-9.9999999999999645E-2,3.6379816848180786,-1.4365097862825522,12.599999999999971,3.6773850185576067,12.599999999999971,5.3238401753678239,12.599999999999971,1.3238401753678635,12.599999999999971,-2.6761598246321423,{"$error":"#VALUE!"},{"$error":"#VALUE!"},{"$error":"#VALUE!"},{"$error":"#VALUE!"},{"$error":"#VALUE!"},{"$error":"#VALUE!"},{"$error":"#VALUE!"},{"$error":"#VALUE!"},{"$error":"#VALUE!"},{"$error":"#VALUE!"},{"$error":"#VALUE!"},{"$error":"#VALUE!"}]
[null,null,null,null,null,null,null,null,null,null,null,null,null,null,{"$f":"IF(Analyze!G133=\"\",\"\",Analyze!G133)","v":12.7},{"$f":"IF(Analyze!S133=\"\",\"\",Analyze!S133)","v":1.0995574287564276},null,null,null,null,null,null,2.9060433902593172,-0.19999999999999929,3.587029139868636,-1.5365097862825519,12.699999999999971,3.6073642647366357,12.699999999999971,5.2970452561247114,12.699999999999971,1.2970452561247512,12.699999999999971,-2.7029547438752544,{"$error":"#VALUE!"},{"$error":"#VALUE!"},{"$error":"#VALUE!"},{"$error":"#VALUE!"},{"$error":"#VALUE!"},{"$error":"#VALUE!"},{"$error":"#VALUE!"},{"$error":"#VALUE!"},{"$error":"#VALUE!"},{"$error":"#VALUE!"},{"$error":"#VALUE!"},{"$error":"#VALUE!"}]
[null,null,null,null,null,null,null,null,null,null,null,null,null,null,{"$f":"IF(Analyze!G134=\"\",\"\",Analyze!G134)","v":12.799999999999999},{"$f":"IF(Analyze!S134=\"\",\"\",Analyze!S134)","v":1.0995574287564276},null,null,null,null,null,null,2.8550908453098747,{"$f":"IF(O134=\"\",\"\",IF(O134>h+$H$2,(\"\"),(h-O134)))","v":-0.29999999999999893},3.5360765949191935,-1.6365097862825515,12.799999999999971,3.5373435109156648,12.799999999999971,5.2702503368815989,12.799999999999971,1.2702503368816389,12.799999999999971,-2.7297496631183664,{"$error":"#VALUE!"},{"$error":"#VALUE!"},{"$error":"#VALUE!"},{"$error":"#VALUE!"},{"$error":"#VALUE!"},{"$error":"#VALUE!"},{"$error":"#VALUE!"},{"$error":"#VALUE!"},{"$error":"#VALUE!"},{"$error":"#VALUE!"},{"$error":"#VALUE!"},{"$error":"#VALUE!"}]
[null,null,null,null,null,null,null,null,null,null,null,null,null,null,{"$f":"IF(Analyze!G135=\"\",\"\",Analyze!G135)","v":12.899999999999999},{"$f":"IF(Analyze!S135=\"\",\"\",Analyze!S135)","v":1.0995574287564276},null,null,null,null,null,null,2.8041383003604321,-0.39999999999999858,{"$f":"IF(W136=\"\",\"\",W135+$H$4*COS(ATAN((X136-X135)/(W136-W135))))","v":3.4851240499697509},{"$f":"IF(W136=\"\",\"\",X135-$H$4*SIN(ATAN((X136-X135)/(W136-W135))))","v":-1.7365097862825511},12.89999999999997,3.4673227570946938,12.89999999999997,5.2434554176384864,12.89999999999997,1.2434554176385266,12.89999999999997,-2.7565445823614785,{"$error":"#VALUE!"},{"$error":"#VALUE!"},{"$error":"#VALUE!"},{"$error":"#VALUE!"},{"$error":"#VALUE!"},{"$error":"#VALUE!"},{"$error":"#VALUE!"},{"$error":"#VALUE!"},{"$error":"#VALUE!"},{"$error":"#VALUE!"},{"$error":"#VALUE!"},{"$error":"#VALUE!"}]
[null,null,null,null,null,null,null,null,null,null,null,null,null,null,{"$f":"IF(Analyze!G136=\"\",\"\",Analyze!G136)","v":12.999999999999998},{"$f":"IF(Analyze!S136=\"\",\"\",Analyze!S136)","v":1.0995574287564276},null,null,null,null,null,null,2.7531857554109895,-0.49999999999999822,3.4341715050203083,-1.8365097862825508,{"$f":"AA135+0.1","v":12.99999999999997},{"$f":"AB135-0.1*TAN(RADIANS($F$7))","v":3.3973020032737229},{"$f":"AC135+0.1","v":12.99999999999997},{"$f":"AD135-0.1*TAN(RADIANS($F$8))","v":5.2166604983953739},{"$f":"AE135+0.1","v":12.99999999999997},{"$f":"AF135-0.1*TAN(RADIANS($F$9))","v":1.2166604983954143},{"$f":"AG135+0.1","v":12.99999999999997},{"$f":"AH135-0.1*TAN(RADIANS($F$10))","v":-2.7833395016045905},{"$f":"AI135+0.1","v":{"$error":"#VALUE!"}},{"$f":"AJ135-0.1*TAN(RADIANS($F$11))","v":{"$error":"#VALUE!"}},{"$f":"AK135+0.1","v":{"$error":"#VALUE!"}},{"$f":"AL135-0.1*TAN(RADIANS($F$12))","v":{"$error":"#VALUE!"}},{"$f":"AM135+0.1","v":{"$error":"#VALUE!"}},{"$f":"AN135-0.1*TAN(RADIANS($F$13))","v":{"$error":"#VALUE!"}},{"$f":"AO135+0.1","v":{"$error":"#VALUE!"}},{"$f":"AP135-0.1*TAN(RADIANS($F$14))","v":{"$error":"#VALUE!"}},{"$f":"AQ135+0.1","v":{"$error":"#VALUE!"}},{"$f":"AR135-0.1*TAN(RADIANS($F$15))","v":{"$error":"#VALUE!"}},{"$f":"AS135+0.1","v":{"$error":"#VALUE!"}},{"$f":"AT135-0.1*TAN(RADIANS($F$16))","v":{"$error":"#VALUE!"}}]
[null,null,null,null,null,null,null,null,null,null,null,null,null,null,{"$f":"IF(Analyze!G137=\"\",\"\",Analyze!G137)","v":13.099999999999998},{"$f":"IF(Analyze!S137=\"\",\"\",Analyze!S137)","v":1.0995574287564276},null,null,null,null,null,null,2.702233210461547,-0.59999999999999787,3.3832189600708658,-1.9365097862825504,13.099999999999969,3.3272812494527519,13.099999999999969,5.1898655791522614,13.099999999999969,1.1898655791523021,13.099999999999969,-2.8101344208477026,{"$error":"#VALUE!"},{"$error":"#VALUE!"},{"$error":"#VALUE!"},{"$error":"#VALUE!"},{"$error":"#VALUE!"},{"$error":"#VALUE!"},{"$error":"#VALUE!"},{"$error":"#VALUE!"},{"$error":"#VALUE!"},{"$error":"#VALUE!"},{"$error":"#VALUE!"},{"$error":"#VALUE!"}]
[null,null,null,null,null,null,null,null,null,null,null,null,null,null,{"$f":"IF(Analyze!G138=\"\",\"\",Analyze!G138)","v":13.199999999999998},{"$f":"IF(Analyze!S138=\"\",\"\",Analyze!S138)","v":1.0995574287564276},null,null,null,null,null,null,2.6512806655121044,-0.69999999999999751,3.3322664151214232,-2.0365097862825499,13.199999999999969,3.257260495631781,13.199999999999969,5.1630706599091489,13.199999999999969,1.1630706599091898,13.199999999999969,-2.8369293400908147,{"$error":"#VALUE!"},{"$error":"#VALUE!"},{"$error":"#VALUE!"},{"$error":"#VALUE!"},{"$error":"#VALUE!"},{"$error":"#VALUE!"},{"$error":"#VALUE!"},{"$error":"#VALUE!"},{"$error":"#VALUE!"},{"$error":"#VALUE!"},{"$error":"#VALUE!"},{"$error":"#VALUE!"}]
[null,null,null,null,null,null,null,null,null,null,null,null,null,null,{"$f":"IF(Analyze!G139=\"\",\"\",Analyze!G139)","v":13.299999999999997},{"$f":"IF(Analyze!S139=\"\",\"\",Analyze!S139)","v":1.0995574287564276},null,null,null,null,null,null,2.6003281205626618,-0.79999999999999716,3.2813138701719806,-2.1365097862825495,13.299999999999969,3.18723974181081,13.299999999999969,5.1362757406660364,13.299999999999969,1.1362757406660775,13.299999999999969,-2.8637242593339267,{"$error":"#VALUE!"},{"$error":"#VALUE!"},{"$error":"#VALUE!"},{"$error":"#VALUE!"},{"$error":"#VALUE!"},{"$error":"#VALUE!"},{"$error":"#VALUE!"},{"$error":"#VALUE!"},{"$error":"#VALUE!"},{"$error":"#VALUE!"},{"$error":"#VALUE!"},{"$error":"#VALUE!"}]
[null,null,null,null,null,null,null,null,null,null,null,null,null,null,{"$f":"IF(Analyze!G140=\"\",\"\",Analyze!G140)","v":13.399999999999997},{"$f":"IF(Analyze!S140=\"\",\"\",Analyze!S140)","v":1.0995574287564276},null,null,null,null,null,null,2.5493755756132193,-0.8999999999999968,3.230361325222538,-2.2365097862825492,13.399999999999968,3.1172189879898391,13.399999999999968,5.1094808214229239,13.399999999999968,1.1094808214229652,13.399999999999968,-2.8905191785770388,{"$error":"#VALUE!"},{"$error":"#VALUE!"},{"$error":"#VALUE!"},{"$error":"#VALUE!"},{"$error":"#VALUE!"},{"$error":"#VALUE!"},{"$error":"#VALUE!"},{"$error":"#VALUE!"},{"$error":"#VALUE!"},{"$error":"#VALUE!"},{"$error":"#VALUE!"},{"$error":"#VALUE!"}]
[null,null,null,null,null,null,null,null,null,null,null,null,null,null,{"$f":"IF(Analyze!G141=\"\",\"\",Analyze!G141)","v":13.499999999999996},{"$f":"IF(Analyze!S141=\"\",\"\",Analyze!S141)","v":1.0995574287564276},null,null,null,null,null,null,2.4984230306637767,-0.99999999999999645,3.1794087802730955,-2.3365097862825488,13.499999999999968,3.0471982341688681,13.499999999999968,5.0826859021798114,13.499999999999968,1.0826859021798529,13.499999999999968,-2.9173140978201508,{"$error":"#VALUE!"},{"$error":"#VALUE!"},{"$error":"#VALUE!"},{"$error":"#VALUE!"},{"$error":"#VALUE!"},{"$error":"#VALUE!"},{"$error":"#VALUE!"},{"$error":"#VALUE!"},{"$error":"#VALUE!"},{"$error":"#VALUE!"},{"$error":"#VALUE!"},{"$error":"#VALUE!"}]
[null,null,null,null,null,null,null,null,null,null,null,null,null,null,{"$f":"IF(Analyze!G142=\"\",\"\",Analyze!G142)","v":13.599999999999996},{"$f":"IF(Analyze!S142=\"\",\"\",Analyze!S142)","v":1.0995574287564276},null,null,null,null,null,null,2.4474704857143341,-1.0999999999999961,3.1284562353236529,-2.4365097862825484,13.599999999999968,2.9771774803478972,13.599999999999968,5.0558909829366989,13.599999999999968,1.0558909829367407,13.599999999999968,-2.9441090170632629,{"$error":"#VALUE!"},{"$error":"#VALUE!"},{"$error":"#VALUE!"},{"$error":"#VALUE!"},{"$error":"#VALUE!"},{"$error":"#VALUE!"},{"$error":"#VALUE!"},{"$error":"#VALUE!"},{"$error":"#VALUE!"},{"$error":"#VALUE!"},{"$error":"#VALUE!"},{"$error":"#VALUE!"}]
[null,null,null,null,null,null,null,null,null,null,null,null,null,null,{"$f":"IF(Analyze!G143=\"\",\"\",Analyze!G143)","v":13.699999999999996},{"$f":"IF(Analyze!S143=\"\",\"\",Analyze!S143)","v":1.0995574287564276},null,null,null,null,null,null,2.3965179407648916,-1.1999999999999957,3.0775036903742103,-2.5365097862825481,13.699999999999967,2.9071567265269262,13.699999999999967,5.0290960636935864,13.699999999999967,1.0290960636936284,13.699999999999967,-2.9709039363063749,{"$error":"#VALUE!"},{"$error":"#VALUE!"},{"$error":"#VALUE!"},{"$error":"#VALUE!"},{"$error":"#VALUE!"},{"$error":"#VALUE!"},{"$error":"#VALUE!"},{"$error":"#VALUE!"},{"$error":"#VALUE!"},{"$error":"#VALUE!"},{"$error":"#VALUE!"},{"$error":"#VALUE!"}]
[null,null,null,null,null,null,null,null,null,null,null,null,null,null,{"$f":"IF(Analyze!G144=\"\",\"\",Analyze!G144)","v":13.799999999999995},{"$f":"IF(Analyze!S144=\"\",\"\",Analyze!S144)","v":1.0995574287564276},null,null,null,null,null,null,2.345565395815449,-1.2999999999999954,3.0265511454247678,-2.6365097862825477,13.799999999999967,2.8371359727059553,13.799999999999967,5.0023011444504739,13.799999999999967,1.0023011444505161,13.799999999999967,-2.997698855549487,{"$error":"#VALUE!"},{"$error":"#VALUE!"},{"$error":"#VALUE!"},{"$error":"#VALUE!"},{"$error":"#VALUE!"},{"$error":"#VALUE!"},{"$error":"#VALUE!"},{"$error":"#VALUE!"},{"$error":"#VALUE!"},{"$error":"#VALUE!"},{"$error":"#VALUE!"},{"$error":"#VALUE!"}]
[null,null,null,null,null,null,null,null,null,null,null,null,null,null,{"$f":"IF(Analyze!G145=\"\",\"\",Analyze!G145)","v":13.899999999999995},{"$f":"IF(Analyze!S145=\"\",\"\",Analyze!S145)","v":1.0995574287564276},null,null,null,null,null,null,2.2946128508660064,-1.399999999999995,2.9755986004753252,-2.7365097862825474,13.899999999999967,2.7671152188849844,13.899999999999967,4.9755062252073614,13.899999999999967,0.97550622520740382,13.899999999999967,-3.0244937747925991,{"$error":"#VALUE!"},{"$error":"#VALUE!"},{"$error":"#VALUE!"},{"$error":"#VALUE!"},{"$error":"#VALUE!"},{"$error":"#VALUE!"},{"$error":"#VALUE!"},{"$error":"#VALUE!"},{"$error":"#VALUE!"},{"$error":"#VALUE!"},{"$error":"#VALUE!"},{"$error":"#VALUE!"}]
[null,null,null,null,null,null,null,null,null,null,null,null,null,null,{"$f":"IF(Analyze!G146=\"\",\"\",Analyze!G146)","v":13.999999999999995},{"$f":"IF(Analyze!S146=\"\",\"\",Analyze!S146)","v":1.0995574287564276},null,null,null,null,null,null,2.2436603059165638,-1.4999999999999947,2.9246460555258826,-2.836509786282547,13.999999999999966,2.6970944650640134,13.999999999999966,4.9487113059642489,13.999999999999966,0.94871130596429154,13.999999999999966,-3.0512886940357111,{"$error":"#VALUE!"},{"$error":"#VALUE!"},{"$error":"#VALUE!"},{"$error":"#VALUE!"},{"$error":"#VALUE!"},{"$error":"#VALUE!"},{"$error":"#VALUE!"},{"$error":"#VALUE!"},{"$error":"#VALUE!"},{"$error":"#VALUE!"},{"$error":"#VALUE!"},{"$error":"#VALUE!"}]
[null,null,null,null,null,null,null,null,null,null,null,null,null,null,{"$f":"IF(Analyze!G147=\"\",\"\",Analyze!G147)","v":14.099999999999994},{"$f":"IF(Analyze!S147=\"\",\"\",Analyze!S147)","v":1.0995574287564276},null,null,null,null,null,null,2.1927077609671213,-1.5999999999999943,2.8736935105764401,-2.9365097862825467,14.099999999999966,2.6270737112430425,14.099999999999966,4.9219163867211364,14.099999999999966,0.92191638672117926,14.099999999999966,-3.0780836132788232,{"$error":"#VALUE!"},{"$error":"#VALUE!"},{"$error":"#VALUE!"},{"$error":"#VALUE!"},{"$error":"#VALUE!"},{"$error":"#VALUE!"},{"$error":"#VALUE!"},{"$error":"#VALUE!"},{"$error":"#VALUE!"},{"$error":"#VALUE!"},{"$error":"#VALUE!"},{"$error":"#VALUE!"}]
[null,null,null,null,null,null,null,null,null,null,null,null,null,null,{"$f":"IF(Analyze!G148=\"\",\"\",Analyze!G148)","v":14.199999999999994},{"$f":"IF(Analyze!S148=\"\",\"\",Analyze!S148)","v":1.0995574287564276},null,null,null,null,null,null,2.1417552160176787,-1.699999999999994,2.8227409656269975,-3.0365097862825463,14.199999999999966,2.5570529574220715,14.199999999999966,4.8951214674780239,14.199999999999966,0.89512146747806698,14.199999999999966,-3.1048785325219352,{"$error":"#VALUE!"},{"$error":"#VALUE!"},{"$error":"#VALUE!"},{"$error":"#VALUE!"},{"$error":"#VALUE!"},{"$error":"#VALUE!"},{"$error":"#VALUE!"},{"$error":"#VALUE!"},{"$error":"#VALUE!"},{"$error":"#VALUE!"},{"$error":"#VALUE!"},{"$error":"#VALUE!"}]
[null,null,null,null,null,null,null,null,null,null,null,null,null,null,{"$f":"IF(Analyze!G149=\"\",\"\",Analyze!G149)","v":14.299999999999994},{"$f":"IF(Analyze!S149=\"\",\"\",Analyze!S149)","v":1.0995574287564276},null,null,null,null,null,null,2.0908026710682361,-1.7999999999999936,2.7717884206775549,-3.136509786282546,14.299999999999965,2.4870322036011006,14.299999999999965,4.8683265482349114,14.299999999999965,0.8683265482349547,14.299999999999965,-3.1316734517650473,{"$error":"#VALUE!"},{"$error":"#VALUE!"},{"$error":"#VALUE!"},{"$error":"#VALUE!"},{"$error":"#VALUE!"},{"$error":"#VALUE!"},{"$error":"#VALUE!"},{"$error":"#VALUE!"},{"$error":"#VALUE!"},{"$error":"#VALUE!"},{"$error":"#VALUE!"},{"$error":"#VALUE!"}]
[null,null,null,null,null,null,null,null,null,null,null,null,null,null,{"$f":"IF(Analyze!G150=\"\",\"\",Analyze!G150)","v":14.399999999999993},{"$f":"IF(Analyze!S150=\"\",\"\",Analyze!S150)","v":1.0995574287564276},null,null,null,null,null,null,2.0398501261187936,-1.8999999999999932,2.7208358757281124,-3.2365097862825456,14.399999999999965,2.4170114497801296,14.399999999999965,4.8415316289917989,14.399999999999965,0.84153162899184242,14.399999999999965,-3.1584683710081594,{"$error":"#VALUE!"},{"$error":"#VALUE!"},{"$error":"#VALUE!"},{"$error":"#VALUE!"},{"$error":"#VALUE!"},{"$error":"#VALUE!"},{"$error":"#VALUE!"},{"$error":"#VALUE!"},{"$error":"#VALUE!"},{"$error":"#VALUE!"},{"$error":"#VALUE!"},{"$error":"#VALUE!"}]
[null,null,null,null,null,null,null,null,null,null,null,null,null,null,{"$f":"IF(Analyze!G151=\"\",\"\",Analyze!G151)","v":14.499999999999993},{"$f":"IF(Analyze!S151=\"\",\"\",Analyze!S151)","v":1.0995574287564276},null,null,null,null,null,null,1.988897581169351,-1.9999999999999929,2.669883330778672,-3.3365097862825444,14.499999999999964,2.3469906959591587,14.499999999999964,4.8147367097486864,14.499999999999964,0.81473670974873014,14.499999999999964,-3.1852632902512714,{"$error":"#VALUE!"},{"$error":"#VALUE!"},{"$error":"#VALUE!"},{"$error":"#VALUE!"},{"$error":"#VALUE!"},{"$error":"#VALUE!"},{"$error":"#VALUE!"},{"$error":"#VALUE!"},{"$error":"#VALUE!"},{"$error":"#VALUE!"},{"$error":"#VALUE!"},{"$error":"#VALUE!"}]
[null,null,null,null,null,null,null,null,null,null,null,null,null,null,{"$f":"IF(Analyze!G152=\"\",\"\",Analyze!G152)","v":14.599999999999993},{"$f":"IF(Analyze!S152=\"\",\"\",Analyze!S152)","v":1.0995574287564276},null,null,null,null,null,null,1.9379450362199082,-2.0999999999999925,2.6189307858292294,-3.436509786282544,14.599999999999964,2.2769699421381877,14.599999999999964,4.7879417905055739,14.599999999999964,0.78794179050561786,14.599999999999964,-3.2120582094943835,{"$error":"#VALUE!"},{"$error":"#VALUE!"},{"$error":"#VALUE!"},{"$error":"#VALUE!"},{"$error":"#VALUE!"},{"$error":"#VALUE!"},{"$error":"#VALUE!"},{"$error":"#VALUE!"},{"$error":"#VALUE!"},{"$error":"#VALUE!"},{"$error":"#VALUE!"},{"$error":"#VALUE!"}]
[null,null,null,null,null,null,null,null,null,null,null,null,null,null,{"$f":"IF(Analyze!G153=\"\",\"\",Analyze!G153)","v":14.699999999999992},{"$f":"IF(Analyze!S153=\"\",\"\",Analyze!S153)","v":1.0995574287564276},null,null,null,null,null,null,1.8869924912704654,-2.1999999999999922,2.5679782408797864,-3.5365097862825436,14.699999999999964,2.2069491883172168,14.699999999999964,4.7611468712624614,14.699999999999964,0.76114687126250558,14.699999999999964,-3.2388531287374955,{"$error":"#VALUE!"},{"$error":"#VALUE!"},{"$error":"#VALUE!"},{"$error":"#VALUE!"},{"$error":"#VALUE!"},{"$error":"#VALUE!"},{"$error":"#VALUE!"},{"$error":"#VALUE!"},{"$error":"#VALUE!"},{"$error":"#VALUE!"},{"$error":"#VALUE!"},{"$error":"#VALUE!"}]
[null,null,null,null,null,null,null,null,null,null,null,null,null,null,{"$f":"IF(Analyze!G154=\"\",\"\",Analyze!G154)","v":14.799999999999992},{"$f":"IF(Analyze!S154=\"\",\"\",Analyze!S154)","v":1.0995574287564276},null,null,null,null,null,null,1.8360399463210226,-2.2999999999999918,2.5170256959303439,-3.6365097862825433,14.799999999999963,2.1369284344962458,14.799999999999963,4.7343519520193489,14.799999999999963,0.73435195201939329,14.799999999999963,-3.2656480479806076,{"$error":"#VALUE!"},{"$error":"#VALUE!"},{"$error":"#VALUE!"},{"$error":"#VALUE!"},{"$error":"#VALUE!"},{"$error":"#VALUE!"},{"$error":"#VALUE!"},{"$error":"#VALUE!"},{"$error":"#VALUE!"},{"$error":"#VALUE!"},{"$error":"#VALUE!"},{"$error":"#VALUE!"}]
[null,null,null,null,null,null,null,null,null,null,null,null,null,null,{"$f":"IF(Analyze!G155=\"\",\"\",Analyze!G155)","v":14.899999999999991},{"$f":"IF(Analyze!S155=\"\",\"\",Analyze!S155)","v":1.0995574287564276},null,null,null,null,null,null,1.7850874013715798,-2.3999999999999915,2.4660731509809009,-3.7365097862825429,14.899999999999963,2.0669076806752749,14.899999999999963,4.7075570327762364,14.899999999999963,0.70755703277628101,14.899999999999963,-3.2924429672237197,{"$error":"#VALUE!"},{"$error":"#VALUE!"},{"$error":"#VALUE!"},{"$error":"#VALUE!"},{"$error":"#VALUE!"},{"$error":"#VALUE!"},{"$error":"#VALUE!"},{"$error":"#VALUE!"},{"$error":"#VALUE!"},{"$error":"#VALUE!"},{"$error":"#VALUE!"},{"$error":"#VALUE!"}]
[null,null,null,null,null,null,null,null,null,null,null,null,null,null,{"$f":"IF(Analyze!G156=\"\",\"\",Analyze!G156)","v":14.999999999999991},{"$f":"IF(Analyze!S156=\"\",\"\",Analyze!S156)","v":1.0995574287564276},null,null,null,null,null,null,1.734134856422137,-2.4999999999999911,2.4151206060314583,-3.8365097862825426,14.999999999999963,1.9968869268543039,14.999999999999963,4.6807621135331239,14.999999999999963,0.68076211353316873,14.999999999999963,-3.3192378864668317,{"$error":"#VALUE!"},{"$error":"#VALUE!"},{"$error":"#VALUE!"},{"$error":"#VALUE!"},{"$error":"#VALUE!"},{"$error":"#VALUE!"},{"$error":"#VALUE!"},{"$error":"#VALUE!"},{"$error":"#VALUE!"},{"$error":"#VALUE!"},{"$error":"#VALUE!"},{"$error":"#VALUE!"}]
[null,null,null,null,null,null,null,null,null,null,null,null,null,null,{"$f":"IF(Analyze!G157=\"\",\"\",Analyze!G157)","v":15.099999999999991},{"$f":"IF(Analyze!S157=\"\",\"\",Analyze!S157)","v":1.0995574287564276},null,null,null,null,null,null,1.6831823114726943,-2.5999999999999908,2.3641680610820153,-3.9365097862825422,15.099999999999962,1.926866173033333,15.099999999999962,4.6539671942900114,15.099999999999962,0.65396719429005645,15.099999999999962,-3.3460328057099438,{"$error":"#VALUE!"},{"$error":"#VALUE!"},{"$error":"#VALUE!"},{"$error":"#VALUE!"},{"$error":"#VALUE!"},{"$error":"#VALUE!"},{"$error":"#VALUE!"},{"$error":"#VALUE!"},{"$error":"#VALUE!"},{"$error":"#VALUE!"},{"$error":"#VALUE!"},{"$error":"#VALUE!"}]
[null,null,null,null,null,null,null,null,null,null,null,null,null,null,{"$f":"IF(Analyze!G158=\"\",\"\",Analyze!G158)","v":15.19999999999999},{"$f":"IF(Analyze!S158=\"\",\"\",Analyze!S158)","v":1.0995574287564276},null,null,null,null,null,null,1.6322297665232515,-2.6999999999999904,2.3132155161325727,-4.0365097862825419,15.199999999999962,1.856845419212362,15.199999999999962,4.6271722750468989,15.199999999999962,0.62717227504694417,15.199999999999962,-3.3728277249530558,{"$error":"#VALUE!"},{"$error":"#VALUE!"},{"$error":"#VALUE!"},{"$error":"#VALUE!"},{"$error":"#VALUE!"},{"$error":"#VALUE!"},{"$error":"#VALUE!"},{"$error":"#VALUE!"},{"$error":"#VALUE!"},{"$error":"#VALUE!"},{"$error":"#VALUE!"},{"$error":"#VALUE!"}]
[null,null,null,null,null,null,null,null,null,null,null,null,null,null,{"$f":"IF(Analyze!G159=\"\",\"\",Analyze!G159)","v":15.29999999999999},{"$f":"IF(Analyze!S159=\"\",\"\",Analyze!S159)","v":1.0995574287564276},null,null,null,null,null,null,1.5812772215738087,-2.7999999999999901,2.2622629711831297,-4.1365097862825415,15.299999999999962,1.7868246653913911,15.299999999999962,4.6003773558037864,15.299999999999962,0.60037735580383189,15.299999999999962,-3.3996226441961679,{"$error":"#VALUE!"},{"$error":"#VALUE!"},{"$error":"#VALUE!"},{"$error":"#VALUE!"},{"$error":"#VALUE!"},{"$error":"#VALUE!"},{"$error":"#VALUE!"},{"$error":"#VALUE!"},{"$error":"#VALUE!"},{"$error":"#VALUE!"},{"$error":"#VALUE!"},{"$error":"#VALUE!"}]
[null,null,null,null,null,null,null,null,null,null,null,null,null,null,{"$f":"IF(Analyze!G160=\"\",\"\",Analyze!G160)","v":15.39999999999999},{"$f":"IF(Analyze!S160=\"\",\"\",Analyze!S160)","v":1.0995574287564276},null,null,null,null,null,null,1.5303246766243659,-2.8999999999999897,2.2113104262336871,-4.2365097862825412,15.399999999999961,1.7168039115704201,15.399999999999961,4.5735824365606739,15.399999999999961,0.57358243656071961,15.399999999999961,-3.4264175634392799,{"$error":"#VALUE!"},{"$error":"#VALUE!"},{"$error":"#VALUE!"},{"$error":"#VALUE!"},{"$error":"#VALUE!"},{"$error":"#VALUE!"},{"$error":"#VALUE!"},{"$error":"#VALUE!"},{"$error":"#VALUE!"},{"$error":"#VALUE!"},{"$error":"#VALUE!"},{"$error":"#VALUE!"}]
[null,null,null,null,null,null,null,null,null,null,null,null,null,null,{"$f":"IF(Analyze!G161=\"\",\"\",Analyze!G161)","v":15.499999999999989},{"$f":"IF(Analyze!S161=\"\",\"\",Analyze!S161)","v":1.0995574287564276},null,null,null,null,null,null,1.4793721316749231,-2.9999999999999893,2.1603578812842441,-4.3365097862825408,15.499999999999961,1.6467831577494492,15.499999999999961,4.5467875173175614,15.499999999999961,0.54678751731760733,15.499999999999961,-3.453212482682392,{"$error":"#VALUE!"},{"$error":"#VALUE!"},{"$error":"#VALUE!"},{"$error":"#VALUE!"},{"$error":"#VALUE!"},{"$error":"#VALUE!"},{"$error":"#VALUE!"},{"$error":"#VALUE!"},{"$error":"#VALUE!"},{"$error":"#VALUE!"},{"$error":"#VALUE!"},{"$error":"#VALUE!"}]
[null,null,null,null,null,null,null,null,null,null,null,null,null,null,{"$f":"IF(Analyze!G162=\"\",\"\",Analyze!G162)","v":15.599999999999989},{"$f":"IF(Analyze!S162=\"\",\"\",Analyze!S162)","v":1.0995574287564276},null,null,null,null,null,null,1.4284195867254803,-3.099999999999989,2.1094053363348015,-4.4365097862825404,15.599999999999961,1.5767624039284782,15.599999999999961,4.5199925980744489,15.599999999999961,0.51999259807449505,15.599999999999961,-3.4800074019255041,{"$error":"#VALUE!"},{"$error":"#VALUE!"},{"$error":"#VALUE!"},{"$error":"#VALUE!"},{"$error":"#VALUE!"},{"$error":"#VALUE!"},{"$error":"#VALUE!"},{"$error":"#VALUE!"},{"$error":"#VALUE!"},{"$error":"#VALUE!"},{"$error":"#VALUE!"},{"$error":"#VALUE!"}]
[null,null,null,null,null,null,null,null,null,null,null,null,null,null,{"$f":"IF(Analyze!G163=\"\",\"\",Analyze!G163)","v":15.699999999999989},{"$f":"IF(Analyze!S163=\"\",\"\",Analyze!S163)","v":1.0995574287564276},null,null,null,null,null,null,1.3774670417760375,-3.1999999999999886,2.0584527913853585,-4.5365097862825401,15.69999999999996,1.5067416501075073,15.69999999999996,4.4931976788313364,15.69999999999996,0.49319767883138277,15.69999999999996,-3.5068023211686161,{"$error":"#VALUE!"},{"$error":"#VALUE!"},{"$error":"#VALUE!"},{"$error":"#VALUE!"},{"$error":"#VALUE!"},{"$error":"#VALUE!"},{"$error":"#VALUE!"},{"$error":"#VALUE!"},{"$error":"#VALUE!"},{"$error":"#VALUE!"},{"$error":"#VALUE!"},{"$error":"#VALUE!"}]
[null,null,null,null,null,null,null,null,null,null,null,null,null,null,{"$f":"IF(Analyze!G164=\"\",\"\",Analyze!G164)","v":15.799999999999988},{"$f":"IF(Analyze!S164=\"\",\"\",Analyze!S164)","v":1.0995574287564276},null,null,null,null,null,null,1.3265144968265947,-3.2999999999999883,2.007500246435916,-4.6365097862825397,15.79999999999996,1.4367208962865363,15.79999999999996,4.4664027595882239,15.79999999999996,0.46640275958827049,15.79999999999996,-3.5335972404117282,{"$error":"#VALUE!"},{"$error":"#VALUE!"},{"$error":"#VALUE!"},{"$error":"#VALUE!"},{"$error":"#VALUE!"},{"$error":"#VALUE!"},{"$error":"#VALUE!"},{"$error":"#VALUE!"},{"$error":"#VALUE!"},{"$error":"#VALUE!"},{"$error":"#VALUE!"},{"$error":"#VALUE!"}]
[null,null,null,null,null,null,null,null,null,null,null,null,null,null,{"$f":"IF(Analyze!G165=\"\",\"\",Analyze!G165)","v":15.899999999999988},{"$f":"IF(Analyze!S165=\"\",\"\",Analyze!S165)","v":1.0995574287564276},null,null,null,null,null,null,1.2755619518771519,-3.3999999999999879,1.9565477014864729,-4.7365097862825394,15.899999999999959,1.3667001424655654,15.899999999999959,4.4396078403451114,15.899999999999959,0.43960784034515821,15.899999999999959,-3.5603921596548402,{"$error":"#VALUE!"},{"$error":"#VALUE!"},{"$error":"#VALUE!"},{"$error":"#VALUE!"},{"$error":"#VALUE!"},{"$error":"#VALUE!"},{"$error":"#VALUE!"},{"$error":"#VALUE!"},{"$error":"#VALUE!"},{"$error":"#VALUE!"},{"$error":"#VALUE!"},{"$error":"#VALUE!"}]
[null,null,null,null,null,null,null,null,null,null,null,null,null,null,{"$f":"IF(Analyze!G166=\"\",\"\",Analyze!G166)","v":15.999999999999988},{"$f":"IF(Analyze!S166=\"\",\"\",Analyze!S166)","v":1.0995574287564276},null,null,null,null,null,null,1.2246094069277091,-3.4999999999999876,1.9055951565370304,-4.836509786282539,15.999999999999959,1.2966793886445944,15.999999999999959,4.4128129211019989,15.999999999999959,0.41281292110204593,15.999999999999959,-3.5871870788979523,{"$error":"#VALUE!"},{"$error":"#VALUE!"},{"$error":"#VALUE!"},{"$error":"#VALUE!"},{"$error":"#VALUE!"},{"$error":"#VALUE!"},{"$error":"#VALUE!"},{"$error":"#VALUE!"},{"$error":"#VALUE!"},{"$error":"#VALUE!"},{"$error":"#VALUE!"},{"$error":"#VALUE!"}]
[null,null,null,null,null,null,null,null,null,null,null,null,null,null,{"$f":"IF(Analyze!G167=\"\",\"\",Analyze!G167)","v":16.099999999999987},{"$f":"IF(Analyze!S167=\"\",\"\",Analyze!S167)","v":1.0995574287564276},null,null,null,null,null,null,1.1736568619782664,-3.5999999999999872,1.8546426115875874,-4.9365097862825387,16.099999999999959,1.2266586348236235,16.099999999999959,4.3860180018588864,16.099999999999959,0.38601800185893365,16.099999999999959,-3.6139819981410644,{"$error":"#VALUE!"},{"$error":"#VALUE!"},{"$error":"#VALUE!"},{"$error":"#VALUE!"},{"$error":"#VALUE!"},{"$error":"#VALUE!"},{"$error":"#VALUE!"},{"$error":"#VALUE!"},{"$error":"#VALUE!"},{"$error":"#VALUE!"},{"$error":"#VALUE!"},{"$error":"#VALUE!"}]
[null,null,null,null,null,null,null,null,null,null,null,null,null,null,{"$f":"IF(Analyze!G168=\"\",\"\",Analyze!G168)","v":16.199999999999989},{"$f":"IF(Analyze!S168=\"\",\"\",Analyze!S168)","v":1.0995574287564276},null,null,null,null,null,null,1.1227043170288227,-3.6999999999999886,1.8036900666381435,-5.0365097862825401,16.19999999999996,1.1566378810026525,16.19999999999996,4.3592230826157738,16.19999999999996,0.35922308261582137,16.19999999999996,-3.6407769173841764,{"$error":"#VALUE!"},{"$error":"#VALUE!"},{"$error":"#VALUE!"},{"$error":"#VALUE!"},{"$error":"#VALUE!"},{"$error":"#VALUE!"},{"$error":"#VALUE!"},{"$error":"#VALUE!"},{"$error":"#VALUE!"},{"$error":"#VALUE!"},{"$error":"#VALUE!"},{"$error":"#VALUE!"}]
[null,null,null,null,null,null,null,null,null,null,null,null,null,null,{"$f":"IF(Analyze!G169=\"\",\"\",Analyze!G169)","v":16.29999999999999},{"$f":"IF(Analyze!S169=\"\",\"\",Analyze!S169)","v":1.0995574287564276},null,null,null,null,null,null,1.071751772079379,-3.7999999999999901,1.7527375216887,-5.1365097862825415,16.299999999999962,1.0866171271816816,16.299999999999962,4.3324281633726613,16.299999999999962,0.33242816337270908,16.299999999999962,-3.6675718366272885,{"$error":"#VALUE!"},{"$error":"#VALUE!"},{"$error":"#VALUE!"},{"$error":"#VALUE!"},{"$error":"#VALUE!"},{"$error":"#VALUE!"},{"$error":"#VALUE!"},{"$error":"#VALUE!"},{"$error":"#VALUE!"},{"$error":"#VALUE!"},{"$error":"#VALUE!"},{"$error":"#VALUE!"}]
[null,null,null,null,null,null,null,null,null,null,null,null,null,null,{"$f":"IF(Analyze!G170=\"\",\"\",Analyze!G170)","v":16.399999999999991},{"$f":"IF(Analyze!S170=\"\",\"\",Analyze!S170)","v":1.0995574287564276},null,null,null,null,null,null,1.0207992271299353,-3.8999999999999915,1.7017849767392561,-5.2365097862825429,16.399999999999963,1.0165963733607106,16.399999999999963,4.3056332441295488,16.399999999999963,0.3056332441295968,16.399999999999963,-3.6943667558704005,{"$error":"#VALUE!"},{"$error":"#VALUE!"},{"$error":"#VALUE!"},{"$error":"#VALUE!"},{"$error":"#VALUE!"},{"$error":"#VALUE!"},{"$error":"#VALUE!"},{"$error":"#VALUE!"},{"$error":"#VALUE!"},{"$error":"#VALUE!"},{"$error":"#VALUE!"},{"$error":"#VALUE!"}]
[null,null,null,null,null,null,null,null,null,null,null,null,null,null,{"$f":"IF(Analyze!G171=\"\",\"\",Analyze!G171)","v":16.499999999999993},{"$f":"IF(Analyze!S171=\"\",\"\",Analyze!S171)","v":1.0995574287564276},null,null,null,null,null,null,0.96984668218049164,-3.9999999999999929,1.6508324317898115,-5.3365097862825444,16.499999999999964,0.94657561953973968,16.499999999999964,4.2788383248864363,16.499999999999964,0.27883832488648452,16.499999999999964,-3.7211616751135126,{"$error":"#VALUE!"},{"$error":"#VALUE!"},{"$error":"#VALUE!"},{"$error":"#VALUE!"},{"$error":"#VALUE!"},{"$error":"#VALUE!"},{"$error":"#VALUE!"},{"$error":"#VALUE!"},{"$error":"#VALUE!"},{"$error":"#VALUE!"},{"$error":"#VALUE!"},{"$error":"#VALUE!"}]
[null,null,null,null,null,null,null,null,null,null,null,null,null,null,{"$f":"IF(Analyze!G172=\"\",\"\",Analyze!G172)","v":16.599999999999994},{"$f":"IF(Analyze!S172=\"\",\"\",Analyze!S172)","v":1.0995574287564276},null,null,null,null,null,null,0.91889413723104807,-4.0999999999999943,1.5998798868403679,-5.4365097862825458,16.599999999999966,0.87655486571876873,16.599999999999966,4.2520434056433238,16.599999999999966,0.25204340564337224,16.599999999999966,-3.7479565943566246,{"$error":"#VALUE!"},{"$error":"#VALUE!"},{"$error":"#VALUE!"},{"$error":"#VALUE!"},{"$error":"#VALUE!"},{"$error":"#VALUE!"},{"$error":"#VALUE!"},{"$error":"#VALUE!"},{"$error":"#VALUE!"},{"$error":"#VALUE!"},{"$error":"#VALUE!"},{"$error":"#VALUE!"}]
[null,null,null,null,null,null,null,null,null,null,null,null,null,null,{"$f":"IF(Analyze!G173=\"\",\"\",Analyze!G173)","v":16.699999999999996},{"$f":"IF(Analyze!S173=\"\",\"\",Analyze!S173)","v":1.0995574287564276},null,null,null,null,null,null,0.8679415922816045,-4.1999999999999957,1.5489273418909244,-5.5365097862825472,16.699999999999967,0.80653411189779778,16.699999999999967,4.2252484864002113,16.699999999999967,0.22524848640025996,16.699999999999967,-3.7747515135997367,{"$error":"#VALUE!"},{"$error":"#VALUE!"},{"$error":"#VALUE!"},{"$error":"#VALUE!"},{"$error":"#VALUE!"},{"$error":"#VALUE!"},{"$error":"#VALUE!"},{"$error":"#VALUE!"},{"$error":"#VALUE!"},{"$error":"#VALUE!"},{"$error":"#VALUE!"},{"$error":"#VALUE!"}]
[null,null,null,null,null,null,null,null,null,null,null,null,null,null,{"$f":"IF(Analyze!G174=\"\",\"\",Analyze!G174)","v":16.799999999999997},{"$f":"IF(Analyze!S174=\"\",\"\",Analyze!S174)","v":1.0995574287564276},null,null,null,null,null,null,0.81698904733216093,-4.2999999999999972,1.4979747969414809,-5.6365097862825486,16.799999999999969,0.73651335807682683,16.799999999999969,4.1984535671570988,16.799999999999969,0.19845356715714768,16.799999999999969,-3.8015464328428488,{"$error":"#VALUE!"},{"$error":"#VALUE!"},{"$error":"#VALUE!"},{"$error":"#VALUE!"},{"$error":"#VALUE!"},{"$error":"#VALUE!"},{"$error":"#VALUE!"},{"$error":"#VALUE!"},{"$error":"#VALUE!"},{"$error":"#VALUE!"},{"$error":"#VALUE!"},{"$error":"#VALUE!"}]
[null,null,null,null,null,null,null,null,null,null,null,null,null,null,{"$f":"IF(Analyze!G175=\"\",\"\",Analyze!G175)","v":16.899999999999999},{"$f":"IF(Analyze!S175=\"\",\"\",Analyze!S175)","v":1.0995574287564276},null,null,null,null,null,null,0.76603650238271737,-4.3999999999999986,1.4470222519920373,-5.73650978628255,16.89999999999997,0.66649260425585588,16.89999999999997,4.1716586479139863,16.89999999999997,0.1716586479140354,16.89999999999997,-3.8283413520859608,{"$error":"#VALUE!"},{"$error":"#VALUE!"},{"$error":"#VALUE!"},{"$error":"#VALUE!"},{"$error":"#VALUE!"},{"$error":"#VALUE!"},{"$error":"#VALUE!"},{"$error":"#VALUE!"},{"$error":"#VALUE!"},{"$error":"#VALUE!"},{"$error":"#VALUE!"},{"$error":"#VALUE!"}]
[null,null,null,null,null,null,null,null,null,null,null,null,null,null,{"$f":"IF(Analyze!G176=\"\",\"\",Analyze!G176)","v":17},{"$f":"IF(Analyze!S176=\"\",\"\",Analyze!S176)","v":1.0995574287564276},null,null,null,null,null,null,0.7150839574332738,-4.5,1.3960697070425936,-5.8365097862825515,16.999999999999972,0.59647185043488493,16.999999999999972,4.1448637286708738,16.999999999999972,0.14486372867092312,16.999999999999972,-3.8551362713290729,{"$error":"#VALUE!"},{"$error":"#VALUE!"},{"$error":"#VALUE!"},{"$error":"#VALUE!"},{"$error":"#VALUE!"},{"$error":"#VALUE!"},{"$error":"#VALUE!"},{"$error":"#VALUE!"},{"$error":"#VALUE!"},{"$error":"#VALUE!"},{"$error":"#VALUE!"},{"$error":"#VALUE!"}]
[null,null,null,null,null,null,null,null,null,null,null,null,null,null,{"$f":"IF(Analyze!G177=\"\",\"\",Analyze!G177)","v":17.100000000000001},{"$f":"IF(Analyze!S177=\"\",\"\",Analyze!S177)","v":1.0995574287564276},null,null,null,null,null,null,0.66413141248383023,-4.6000000000000014,1.3451171620931501,-5.9365097862825529,17.099999999999973,0.52645109661391398,17.099999999999973,4.1180688094277613,17.099999999999973,0.11806880942781085,17.099999999999973,-3.8819311905721849,{"$error":"#VALUE!"},{"$error":"#VALUE!"},{"$error":"#VALUE!"},{"$error":"#VALUE!"},{"$error":"#VALUE!"},{"$error":"#VALUE!"},{"$error":"#VALUE!"},{"$error":"#VALUE!"},{"$error":"#VALUE!"},{"$error":"#VALUE!"},{"$error":"#VALUE!"},{"$error":"#VALUE!"}]
[null,null,null,null,null,null,null,null,null,null,null,null,null,null,{"$f":"IF(Analyze!G178=\"\",\"\",Analyze!G178)","v":17.200000000000003},{"$f":"IF(Analyze!S178=\"\",\"\",Analyze!S178)","v":1.0995574287564276},null,null,null,null,null,null,0.61317886753438666,-4.7000000000000028,1.2941646171437067,-6.0365097862825543,17.199999999999974,0.45643034279294303,17.199999999999974,4.0912738901846488,17.199999999999974,9.1273890184698586E-2,17.199999999999974,-3.908726109815297,{"$error":"#VALUE!"},{"$error":"#VALUE!"},{"$error":"#VALUE!"},{"$error":"#VALUE!"},{"$error":"#VALUE!"},{"$error":"#VALUE!"},{"$error":"#VALUE!"},{"$error":"#VALUE!"},{"$error":"#VALUE!"},{"$error":"#VALUE!"},{"$error":"#VALUE!"},{"$error":"#VALUE!"}]
[null,null,null,null,null,null,null,null,null,null,null,null,null,null,{"$f":"IF(Analyze!G179=\"\",\"\",Analyze!G179)","v":17.300000000000004},{"$f":"IF(Analyze!S179=\"\",\"\",Analyze!S179)","v":1.0995574287564276},null,null,null,null,null,null,0.56222632258494309,-4.8000000000000043,1.243212072194263,-6.1365097862825557,17.299999999999976,0.38640958897197208,17.299999999999976,4.0644789709415363,17.299999999999976,6.4478970941586319E-2,17.299999999999976,-3.9355210290584091,{"$error":"#VALUE!"},{"$error":"#VALUE!"},{"$error":"#VALUE!"},{"$error":"#VALUE!"},{"$error":"#VALUE!"},{"$error":"#VALUE!"},{"$error":"#VALUE!"},{"$error":"#VALUE!"},{"$error":"#VALUE!"},{"$error":"#VALUE!"},{"$error":"#VALUE!"},{"$error":"#VALUE!"}]
[null,null,null,null,null,null,null,null,null,null,null,null,null,null,{"$f":"IF(Analyze!G180=\"\",\"\",Analyze!G180)","v":17.400000000000006},{"$f":"IF(Analyze!S180=\"\",\"\",Analyze!S180)","v":1.0995574287564276},null,null,null,null,null,null,0.51127377763549953,-4.9000000000000057,1.1922595272448198,-6.2365097862825571,17.399999999999977,0.31638883515100114,17.399999999999977,4.0376840516984238,17.399999999999977,3.7684051698474053E-2,17.399999999999977,-3.9623159483015211,{"$error":"#VALUE!"},{"$error":"#VALUE!"},{"$error":"#VALUE!"},{"$error":"#VALUE!"},{"$error":"#VALUE!"},{"$error":"#VALUE!"},{"$error":"#VALUE!"},{"$error":"#VALUE!"},{"$error":"#VALUE!"},{"$error":"#VALUE!"},{"$error":"#VALUE!"},{"$error":"#VALUE!"}]
[null,null,null,null,null,null,null,null,null,null,null,null,null,null,{"$f":"IF(Analyze!G181=\"\",\"\",Analyze!G181)","v":17.500000000000007},{"$f":"IF(Analyze!S181=\"\",\"\",Analyze!S181)","v":1.0995574287564276},null,null,null,null,null,null,0.4603212326860559,-5.0000000000000071,1.1413069822953761,-6.3365097862825586,17.499999999999979,0.24636808133003016,17.499999999999979,4.0108891324553113,17.499999999999979,1.0889132455361782E-2,17.499999999999979,-3.9891108675446332,{"$error":"#VALUE!"},{"$error":"#VALUE!"},{"$error":"#VALUE!"},{"$error":"#VALUE!"},{"$error":"#VALUE!"},{"$error":"#VALUE!"},{"$error":"#VALUE!"},{"$error":"#VALUE!"},{"$error":"#VALUE!"},{"$error":"#VALUE!"},{"$error":"#VALUE!"},{"$error":"#VALUE!"}]
[null,null,null,null,null,null,null,null,null,null,null,null,null,null,{"$f":"IF(Analyze!G182=\"\",\"\",Analyze!G182)","v":17.600000000000009},{"$f":"IF(Analyze!S182=\"\",\"\",Analyze!S182)","v":1.0995574287564276},null,null,null,null,null,null,0.40936868773661228,-5.1000000000000085,1.0903544373459324,-6.43650978628256,17.59999999999998,0.17634732750905918,17.59999999999998,3.9840942132121993,17.59999999999998,-1.5905786787750488E-2,17.59999999999998,-4.0159057867877452,{"$error":"#VALUE!"},{"$error":"#VALUE!"},{"$error":"#VALUE!"},{"$error":"#VALUE!"},{"$error":"#VALUE!"},{"$error":"#VALUE!"},{"$error":"#VALUE!"},{"$error":"#VALUE!"},{"$error":"#VALUE!"},{"$error":"#VALUE!"},{"$error":"#VALUE!"},{"$error":"#VALUE!"}]
[null,null,null,null,null,null,null,null,null,null,null,null,null,null,{"$f":"IF(Analyze!G183=\"\",\"\",Analyze!G183)","v":17.70000000000001},{"$f":"IF(Analyze!S183=\"\",\"\",Analyze!S183)","v":1.0995574287564276},null,null,null,null,null,null,0.35841614278716866,-5.2000000000000099,1.0394018923964889,-6.5365097862825614,17.699999999999982,0.10632657368808821,17.699999999999982,3.9572992939690872,17.699999999999982,-4.2700706030862762E-2,17.699999999999982,-4.0427007060308577,{"$error":"#VALUE!"},{"$error":"#VALUE!"},{"$error":"#VALUE!"},{"$error":"#VALUE!"},{"$error":"#VALUE!"},{"$error":"#VALUE!"},{"$error":"#VALUE!"},{"$error":"#VALUE!"},{"$error":"#VALUE!"},{"$error":"#VALUE!"},{"$error":"#VALUE!"},{"$error":"#VALUE!"}]
[null,null,null,null,null,null,null,null,null,null,null,null,null,null,{"$f":"IF(Analyze!G184=\"\",\"\",Analyze!G184)","v":17.800000000000011},{"$f":"IF(Analyze!S184=\"\",\"\",Analyze!S184)","v":1.0995574287564276},null,null,null,null,null,null,0.30746359783772503,-5.3000000000000114,0.98844934744704527,-6.6365097862825628,17.799999999999983,3.6305819867117228E-2,17.799999999999983,3.9305043747259751,17.799999999999983,-6.9495625273975029E-2,17.799999999999983,-4.0694956252739702,{"$error":"#VALUE!"},{"$error":"#VALUE!"},{"$error":"#VALUE!"},{"$error":"#VALUE!"},{"$error":"#VALUE!"},{"$error":"#VALUE!"},{"$error":"#VALUE!"},{"$error":"#VALUE!"},{"$error":"#VALUE!"},{"$error":"#VALUE!"},{"$error":"#VALUE!"},{"$error":"#VALUE!"}]
[null,null,null,null,null,null,null,null,null,null,null,null,null,null,{"$f":"IF(Analyze!G185=\"\",\"\",Analyze!G185)","v":17.900000000000013},{"$f":"IF(Analyze!S185=\"\",\"\",Analyze!S185)","v":1.0995574287564276},null,null,null,null,null,null,0.25651105288828141,-5.4000000000000128,0.93749680249760159,-6.7365097862825642,17.899999999999984,-3.3714933953853748E-2,17.899999999999984,3.9037094554828631,17.899999999999984,-9.6290544517087295E-2,17.899999999999984,-4.0962905445170827,{"$error":"#VALUE!"},{"$error":"#VALUE!"},{"$error":"#VALUE!"},{"$error":"#VALUE!"},{"$error":"#VALUE!"},{"$error":"#VALUE!"},{"$error":"#VALUE!"},{"$error":"#VALUE!"},{"$error":"#VALUE!"},{"$error":"#VALUE!"},{"$error":"#VALUE!"},{"$error":"#VALUE!"}]
[null,null,null,null,null,null,null,null,null,null,null,null,null,null,{"$f":"IF(Analyze!G186=\"\",\"\",Analyze!G186)","v":18.000000000000014},{"$f":"IF(Analyze!S186=\"\",\"\",Analyze!S186)","v":1.0995574287564276},null,null,null,null,null,null,0.20555850793883779,-5.5000000000000142,0.88654425754815802,-6.8365097862825657,17.999999999999986,-0.10373568777482473,17.999999999999986,3.876914536239751,17.999999999999986,-0.12308546376019956,17.999999999999986,-4.1230854637601952,{"$error":"#VALUE!"},{"$error":"#VALUE!"},{"$error":"#VALUE!"},{"$error":"#VALUE!"},{"$error":"#VALUE!"},{"$error":"#VALUE!"},{"$error":"#VALUE!"},{"$error":"#VALUE!"},{"$error":"#VALUE!"},{"$error":"#VALUE!"},{"$error":"#VALUE!"},{"$error":"#VALUE!"}]
[null,null,null,null,null,null,null,null,null,null,null,null,null,null,{"$f":"IF(Analyze!G187=\"\",\"\",Analyze!G187)","v":18.100000000000016},{"$f":"IF(Analyze!S187=\"\",\"\",Analyze!S187)","v":1.0995574287564276},null,null,null,null,null,null,0.15460596298939416,-5.6000000000000156,0.83559171259871445,-6.9365097862825671,18.099999999999987,-0.1737564415957957,18.099999999999987,3.850119616996639,18.099999999999987,-0.14988038300331183,18.099999999999987,-4.1498803830033077,{"$error":"#VALUE!"},{"$error":"#VALUE!"},{"$error":"#VALUE!"},{"$error":"#VALUE!"},{"$error":"#VALUE!"},{"$error":"#VALUE!"},{"$error":"#VALUE!"},{"$error":"#VALUE!"},{"$error":"#VALUE!"},{"$error":"#VALUE!"},{"$error":"#VALUE!"},{"$error":"#VALUE!"}]
[null,null,null,null,null,null,null,null,null,null,null,null,null,null,{"$f":"IF(Analyze!G188=\"\",\"\",Analyze!G188)","v":18.200000000000017},{"$f":"IF(Analyze!S188=\"\",\"\",Analyze!S188)","v":1.0995574287564276},null,null,null,null,null,null,0.10365341803995054,-5.7000000000000171,0.78463916764927077,-7.0365097862825685,18.199999999999989,-0.24377719541676668,18.199999999999989,3.8233246977535269,18.199999999999989,-0.17667530224642411,18.199999999999989,-4.1766753022464203,{"$error":"#VALUE!"},{"$error":"#VALUE!"},{"$error":"#VALUE!"},{"$error":"#VALUE!"},{"$error":"#VALUE!"},{"$error":"#VALUE!"},{"$error":"#VALUE!"},{"$error":"#VALUE!"},{"$error":"#VALUE!"},{"$error":"#VALUE!"},{"$error":"#VALUE!"},{"$error":"#VALUE!"}]
[null,null,null,null,null,null,null,null,null,null,null,null,null,null,{"$f":"IF(Analyze!G189=\"\",\"\",Analyze!G189)","v":18.300000000000018},{"$f":"IF(Analyze!S189=\"\",\"\",Analyze!S189)","v":1.0995574287564276},null,null,null,null,null,null,5.2700873090506938E-2,-5.8000000000000185,0.73368662269982721,-7.1365097862825699,18.29999999999999,-0.31379794923773763,18.29999999999999,3.7965297785104148,18.29999999999999,-0.20347022148953639,18.29999999999999,-4.2034702214895328,{"$error":"#VALUE!"},{"$error":"#VALUE!"},{"$error":"#VALUE!"},{"$error":"#VALUE!"},{"$error":"#VALUE!"},{"$error":"#VALUE!"},{"$error":"#VALUE!"},{"$error":"#VALUE!"},{"$error":"#VALUE!"},{"$error":"#VALUE!"},{"$error":"#VALUE!"},{"$error":"#VALUE!"}]
[null,null,null,null,null,null,null,null,null,null,null,null,null,null,{"$f":"IF(Analyze!G190=\"\",\"\",Analyze!G190)","v":18.40000000000002},{"$f":"IF(Analyze!S190=\"\",\"\",Analyze!S190)","v":1.0995574287564276},null,null,null,null,null,null,1.7483281410633313E-3,-5.9000000000000199,"","",18.399999999999991,-0.38381870305870858,18.399999999999991,3.7697348592673028,18.399999999999991,-0.23026514073264867,18.399999999999991,-4.2302651407326453,{"$error":"#VALUE!"},{"$error":"#VALUE!"},{"$error":"#VALUE!"},{"$error":"#VALUE!"},{"$error":"#VALUE!"},{"$error":"#VALUE!"},{"$error":"#VALUE!"},{"$error":"#VALUE!"},{"$error":"#VALUE!"},{"$error":"#VALUE!"},{"$error":"#VALUE!"},{"$error":"#VALUE!"}]
[null,null,null,null,null,null,null,null,null,null,null,null,null,null,{"$f":"IF(Analyze!G191=\"\",\"\",Analyze!G191)","v":18.5},{"$f":"IF(Analyze!S191=\"\",\"\",Analyze!S191)","v":1.0995574287564276},null,null,null,null,null,null,null,"","","",18.499999999999993,-0.45383945687967953,18.499999999999993,3.7429399400241907,18.499999999999993,-0.25706005997576092,18.499999999999993,-4.2570600599757578,{"$error":"#VALUE!"},{"$error":"#VALUE!"},{"$error":"#VALUE!"},{"$error":"#VALUE!"},{"$error":"#VALUE!"},{"$error":"#VALUE!"},{"$error":"#VALUE!"},{"$error":"#VALUE!"},{"$error":"#VALUE!"},{"$error":"#VALUE!"},{"$error":"#VALUE!"},{"$error":"#VALUE!"}]
[null,null,null,null,null,null,null,null,null,null,null,null,null,null,{"$f":"IF(Analyze!G192=\"\",\"\",Analyze!G192)","v":""},{"$f":"IF(Analyze!S192=\"\",\"\",Analyze!S192)","v":{"$error":"#VALUE!"}},null,null,null,null,null,null,null,"","","",18.599999999999994,-0.52386021070065047,18.599999999999994,3.7161450207810787,18.599999999999994,-0.2838549792188732,18.599999999999994,-4.2838549792188703,{"$error":"#VALUE!"},{"$error":"#VALUE!"},{"$error":"#VALUE!"},{"$error":"#VALUE!"},{"$error":"#VALUE!"},{"$error":"#VALUE!"},{"$error":"#VALUE!"},{"$error":"#VALUE!"},{"$error":"#VALUE!"},{"$error":"#VALUE!"},{"$error":"#VALUE!"},{"$error":"#VALUE!"}]
[null,null,null,null,null,null,null,null,null,null,null,null,null,null,{"$f":"IF(Analyze!G193=\"\",\"\",Analyze!G193)","v":""},{"$f":"IF(Analyze!S193=\"\",\"\",Analyze!S193)","v":{"$error":"#VALUE!"}},null,null,null,null,null,null,null,"","","",18.699999999999996,-0.59388096452162142,18.699999999999996,3.6893501015379666,18.699999999999996,-0.31064989846198549,18.699999999999996,-4.3106498984619828,{"$error":"#VALUE!"},{"$error":"#VALUE!"},{"$error":"#VALUE!"},{"$error":"#VALUE!"},{"$error":"#VALUE!"},{"$error":"#VALUE!"},{"$error":"#VALUE!"},{"$error":"#VALUE!"},{"$error":"#VALUE!"},{"$error":"#VALUE!"},{"$error":"#VALUE!"},{"$error":"#VALUE!"}]
[null,null,null,null,null,null,null,null,null,null,null,null,null,null,{"$f":"IF(Analyze!G194=\"\",\"\",Analyze!G194)","v":""},{"$f":"IF(Analyze!S194=\"\",\"\",Analyze!S194)","v":{"$error":"#VALUE!"}},null,null,null,null,null,null,null,"","","",18.799999999999997,-0.66390171834259237,18.799999999999997,3.6625551822948545,18.799999999999997,-0.33744481770509777,18.799999999999997,-4.3374448177050953,{"$error":"#VALUE!"},{"$error":"#VALUE!"},{"$error":"#VALUE!"},{"$error":"#VALUE!"},{"$error":"#VALUE!"},{"$error":"#VALUE!"},{"$error":"#VALUE!"},{"$error":"#VALUE!"},{"$error":"#VALUE!"},{"$error":"#VALUE!"},{"$error":"#VALUE!"},{"$error":"#VALUE!"}]
[null,null,null,null,null,null,null,null,null,null,null,null,null,null,{"$f":"IF(Analyze!G195=\"\",\"\",Analyze!G195)","v":""},{"$f":"IF(Analyze!S195=\"\",\"\",Analyze!S195)","v":{"$error":"#VALUE!"}},null,null,null,null,null,null,null,"","","",18.899999999999999,-0.73392247216356332,18.899999999999999,3.6357602630517425,18.899999999999999,-0.36423973694821005,18.899999999999999,-4.3642397369482078,{"$error":"#VALUE!"},{"$error":"#VALUE!"},{"$error":"#VALUE!"},{"$error":"#VALUE!"},{"$error":"#VALUE!"},{"$error":"#VALUE!"},{"$error":"#VALUE!"},{"$error":"#VALUE!"},{"$error":"#VALUE!"},{"$error":"#VALUE!"},{"$error":"#VALUE!"},{"$error":"#VALUE!"}]
[null,null,null,null,null,null,null,null,null,null,null,null,null,null,{"$f":"IF(Analyze!G196=\"\",\"\",Analyze!G196)","v":""},{"$f":"IF(Analyze!S196=\"\",\"\",Analyze!S196)","v":{"$error":"#VALUE!"}},null,null,null,null,null,null,null,"","","",19,-0.80394322598453427,19,3.6089653438086304,19,-0.39103465619132233,19,-4.3910346561913203,{"$error":"#VALUE!"},{"$error":"#VALUE!"},{"$error":"#VALUE!"},{"$error":"#VALUE!"},{"$error":"#VALUE!"},{"$error":"#VALUE!"},{"$error":"#VALUE!"},{"$error":"#VALUE!"},{"$error":"#VALUE!"},{"$error":"#VALUE!"},{"$error":"#VALUE!"},{"$error":"#VALUE!"}]
[null,null,null,null,null,null,null,null,null,null,null,null,null,null,{"$f":"IF(Analyze!G197=\"\",\"\",Analyze!G197)","v":""},{"$f":"IF(Analyze!S197=\"\",\"\",Analyze!S197)","v":{"$error":"#VALUE!"}},null,null,null,null,null,null,null,"","","",19.100000000000001,-0.87396397980550522,19.100000000000001,3.5821704245655184,19.100000000000001,-0.41782957543443461,19.100000000000001,-4.4178295754344328,{"$error":"#VALUE!"},{"$error":"#VALUE!"},{"$error":"#VALUE!"},{"$error":"#VALUE!"},{"$error":"#VALUE!"},{"$error":"#VALUE!"},{"$error":"#VALUE!"},{"$error":"#VALUE!"},{"$error":"#VALUE!"},{"$error":"#VALUE!"},{"$error":"#VALUE!"},{"$error":"#VALUE!"}]
[null,null,null,null,null,null,null,null,null,null,null,null,null,null,{"$f":"IF(Analyze!G198=\"\",\"\",Analyze!G198)","v":""},{"$f":"IF(Analyze!S198=\"\",\"\",Analyze!S198)","v":{"$error":"#VALUE!"}},null,null,null,null,null,null,null,{"$f":"IF(O198=\"\",\"\",IF(O198>h+$H$2,(\"\"),(h-O198)))","v":""},"","",19.200000000000003,-0.94398473362647617,19.200000000000003,3.5553755053224063,19.200000000000003,-0.44462449467754689,19.200000000000003,-4.4446244946775453,{"$error":"#VALUE!"},{"$error":"#VALUE!"},{"$error":"#VALUE!"},{"$error":"#VALUE!"},{"$error":"#VALUE!"},{"$error":"#VALUE!"},{"$error":"#VALUE!"},{"$error":"#VALUE!"},{"$error":"#VALUE!"},{"$error":"#VALUE!"},{"$error":"#VALUE!"},{"$error":"#VALUE!"}]
[null,null,null,null,null,null,null,null,null,null,null,null,null,null,{"$f":"IF(Analyze!G199=\"\",\"\",Analyze!G199)","v":""},{"$f":"IF(Analyze!S199=\"\",\"\",Analyze!S199)","v":{"$error":"#VALUE!"}},null,null,null,null,null,null,null,"",{"$f":"IF(W200=\"\",\"\",W199+$H$4*COS(ATAN((X200-X199)/(W200-W199))))","v":""},{"$f":"IF(W200=\"\",\"\",X199-$H$4*SIN(ATAN((X200-X199)/(W200-W199))))","v":""},19.300000000000004,-1.0140054874474471,19.300000000000004,3.5285805860792943,19.300000000000004,-0.47141941392065917,19.300000000000004,-4.4714194139206578,{"$error":"#VALUE!"},{"$error":"#VALUE!"},{"$error":"#VALUE!"},{"$error":"#VALUE!"},{"$error":"#VALUE!"},{"$error":"#VALUE!"},{"$error":"#VALUE!"},{"$error":"#VALUE!"},{"$error":"#VALUE!"},{"$error":"#VALUE!"},{"$error":"#VALUE!"},{"$error":"#VALUE!"}]
[null,null,null,null,null,null,null,null,null,null,null,null,null,null,{"$f":"IF(Analyze!G200=\"\",\"\",Analyze!G200)","v":""},{"$f":"IF(Analyze!S200=\"\",\"\",Analyze!S200)","v":{"$error":"#VALUE!"}},null,null,null,null,null,null,null,"","","",{"$f":"AA199+0.1","v":19.400000000000006},{"$f":"AB199-0.1*TAN(RADIANS($F$7))","v":-1.0840262412684181},{"$f":"AC199+0.1","v":19.400000000000006},{"$f":"AD199-0.1*TAN(RADIANS($F$8))","v":3.5017856668361822},{"$f":"AE199+0.1","v":19.400000000000006},{"$f":"AF199-0.1*TAN(RADIANS($F$9))","v":-0.49821433316377145},{"$f":"AG199+0.1","v":19.400000000000006},{"$f":"AH199-0.1*TAN(RADIANS($F$10))","v":-4.4982143331637703},{"$f":"AI199+0.1","v":{"$error":"#VALUE!"}},{"$f":"AJ199-0.1*TAN(RADIANS($F$11))","v":{"$error":"#VALUE!"}},{"$f":"AK199+0.1","v":{"$error":"#VALUE!"}},{"$f":"AL199-0.1*TAN(RADIANS($F$12))","v":{"$error":"#VALUE!"}},{"$f":"AM199+0.1","v":{"$error":"#VALUE!"}},{"$f":"AN199-0.1*TAN(RADIANS($F$13))","v":{"$error":"#VALUE!"}},{"$f":"AO199+0.1","v":{"$error":"#VALUE!"}},{"$f":"AP199-0.1*TAN(RADIANS($F$14))","v":{"$error":"#VALUE!"}},{"$f":"AQ199+0.1","v":{"$error":"#VALUE!"}},{"$f":"AR199-0.1*TAN(RADIANS($F$15))","v":{"$error":"#VALUE!"}},{"$f":"AS199+0.1","v":{"$error":"#VALUE!"}},{"$f":"AT199-0.1*TAN(RADIANS($F$16))","v":{"$error":"#VALUE!"}}]
[null,null,null,null,null,null,null,null,null,null,null,null,null,null,{"$f":"IF(Analyze!G201=\"\",\"\",Analyze!G201)","v":""},{"$f":"IF(Analyze!S201=\"\",\"\",Analyze!S201)","v":{"$error":"#VALUE!"}},null,null,null,null,null,null,null,"","","",19.500000000000007,-1.154046995089389,19.500000000000007,3.4749907475930701,19.500000000000007,-0.52500925240688368,19.500000000000007,-4.5250092524068828,{"$error":"#VALUE!"},{"$error":"#VALUE!"},{"$error":"#VALUE!"},{"$error":"#VALUE!"},{"$error":"#VALUE!"},{"$error":"#VALUE!"},{"$error":"#VALUE!"},{"$error":"#VALUE!"},{"$error":"#VALUE!"},{"$error":"#VALUE!"},{"$error":"#VALUE!"},{"$error":"#VALUE!"}]
[null,null,null,null,null,null,null,null,null,null,null,null,null,null,{"$f":"IF(Analyze!G202=\"\",\"\",Analyze!G202)","v":""},{"$f":"IF(Analyze!S202=\"\",\"\",Analyze!S202)","v":{"$error":"#VALUE!"}},null,null,null,null,null,null,null,"","","",19.600000000000009,-1.22406774891036,19.600000000000009,3.4481958283499581,19.600000000000009,-0.55180417164999596,19.600000000000009,-4.5518041716499953,{"$error":"#VALUE!"},{"$error":"#VALUE!"},{"$error":"#VALUE!"},{"$error":"#VALUE!"},{"$error":"#VALUE!"},{"$error":"#VALUE!"},{"$error":"#VALUE!"},{"$error":"#VALUE!"},{"$error":"#VALUE!"},{"$error":"#VALUE!"},{"$error":"#VALUE!"},{"$error":"#VALUE!"}]
[null,null,null,null,null,null,null,null,null,null,null,null,null,null,{"$f":"IF(Analyze!G203=\"\",\"\",Analyze!G203)","v":""},{"$f":"IF(Analyze!S203=\"\",\"\",Analyze!S203)","v":{"$error":"#VALUE!"}},null,null,null,null,null,null,null,"","","",19.70000000000001,-1.2940885027313309,19.70000000000001,3.421400909106846,19.70000000000001,-0.57859909089310824,19.70000000000001,-4.5785990908931078,{"$error":"#VALUE!"},{"$error":"#VALUE!"},{"$error":"#VALUE!"},{"$error":"#VALUE!"},{"$error":"#VALUE!"},{"$error":"#VALUE!"},{"$error":"#VALUE!"},{"$error":"#VALUE!"},{"$error":"#VALUE!"},{"$error":"#VALUE!"},{"$error":"#VALUE!"},{"$error":"#VALUE!"}]
[null,null,null,null,null,null,null,null,null,null,null,null,null,null,{"$f":"IF(Analyze!G204=\"\",\"\",Analyze!G204)","v":""},{"$f":"IF(Analyze!S204=\"\",\"\",Analyze!S204)","v":{"$error":"#VALUE!"}},null,null,null,null,null,null,null,"","","",19.800000000000011,-1.3641092565523019,19.800000000000011,3.394605989863734,19.800000000000011,-0.60539401013622052,19.800000000000011,-4.6053940101362203,{"$error":"#VALUE!"},{"$error":"#VALUE!"},{"$error":"#VALUE!"},{"$error":"#VALUE!"},{"$error":"#VALUE!"},{"$error":"#VALUE!"},{"$error":"#VALUE!"},{"$error":"#VALUE!"},{"$error":"#VALUE!"},{"$error":"#VALUE!"},{"$error":"#VALUE!"},{"$error":"#VALUE!"}]
[null,null,null,null,null,null,null,null,null,null,null,null,null,null,{"$f":"IF(Analyze!G205=\"\",\"\",Analyze!G205)","v":""},{"$f":"IF(Analyze!S205=\"\",\"\",Analyze!S205)","v":{"$error":"#VALUE!"}},null,null,null,null,null,null,null,"","","",19.900000000000013,-1.4341300103732728,19.900000000000013,3.3678110706206219,19.900000000000013,-0.6321889293793328,19.900000000000013,-4.6321889293793328,{"$error":"#VALUE!"},{"$error":"#VALUE!"},{"$error":"#VALUE!"},{"$error":"#VALUE!"},{"$error":"#VALUE!"},{"$error":"#VALUE!"},{"$error":"#VALUE!"},{"$error":"#VALUE!"},{"$error":"#VALUE!"},{"$error":"#VALUE!"},{"$error":"#VALUE!"},{"$error":"#VALUE!"}]
[null,null,null,null,null,null,null,null,null,null,null,null,null,null,{"$f":"IF(Analyze!G206=\"\",\"\",Analyze!G206)","v":""},{"$f":"IF(Analyze!S206=\"\",\"\",Analyze!S206)","v":{"$error":"#VALUE!"}},null,null,null,null,null,null,null,"","","",20.000000000000014,-1.5041507641942438,20.000000000000014,3.3410161513775098,20.000000000000014,-0.65898384862244508,20.000000000000014,-4.6589838486224453,{"$error":"#VALUE!"},{"$error":"#VALUE!"},{"$error":"#VALUE!"},{"$error":"#VALUE!"},{"$error":"#VALUE!"},{"$error":"#VALUE!"},{"$error":"#VALUE!"},{"$error":"#VALUE!"},{"$error":"#VALUE!"},{"$error":"#VALUE!"},{"$error":"#VALUE!"},{"$error":"#VALUE!"}]
[null,null,null,null,null,null,null,null,null,null,null,null,null,null,{"$f":"IF(Analyze!G207=\"\",\"\",Analyze!G207)","v":""},{"$f":"IF(Analyze!S207=\"\",\"\",Analyze!S207)","v":{"$error":"#VALUE!"}},null,null,null,null,null,null,null,"","","",20.100000000000016,-1.5741715180152147,20.100000000000016,3.3142212321343978,20.100000000000016,-0.68577876786555736,20.100000000000016,-4.6857787678655578,{"$error":"#VALUE!"},{"$error":"#VALUE!"},{"$error":"#VALUE!"},{"$error":"#VALUE!"},{"$error":"#VALUE!"},{"$error":"#VALUE!"},{"$error":"#VALUE!"},{"$error":"#VALUE!"},{"$error":"#VALUE!"},{"$error":"#VALUE!"},{"$error":"#VALUE!"},{"$error":"#VALUE!"}]
[null,null,null,null,null,null,null,null,null,null,null,null,null,null,{"$f":"IF(Analyze!G208=\"\",\"\",Analyze!G208)","v":""},{"$f":"IF(Analyze!S208=\"\",\"\",Analyze!S208)","v":{"$error":"#VALUE!"}},null,null,null,null,null,null,null,"","","",20.200000000000017,-1.6441922718361857,20.200000000000017,3.2874263128912857,20.200000000000017,-0.71257368710866964,20.200000000000017,-4.7125736871086703,{"$error":"#VALUE!"},{"$error":"#VALUE!"},{"$error":"#VALUE!"},{"$error":"#VALUE!"},{"$error":"#VALUE!"},{"$error":"#VALUE!"},{"$error":"#VALUE!"},{"$error":"#VALUE!"},{"$error":"#VALUE!"},{"$error":"#VALUE!"},{"$error":"#VALUE!"},{"$error":"#VALUE!"}]
[null,null,null,null,null,null,null,null,null,null,null,null,null,null,{"$f":"IF(Analyze!G209=\"\",\"\",Analyze!G209)","v":""},{"$f":"IF(Analyze!S209=\"\",\"\",Analyze!S209)","v":{"$error":"#VALUE!"}},null,null,null,null,null,null,null,"","","",20.300000000000018,-1.7142130256571566,20.300000000000018,3.2606313936481737,20.300000000000018,-0.73936860635178192,20.300000000000018,-4.7393686063517828,{"$error":"#VALUE!"},{"$error":"#VALUE!"},{"$error":"#VALUE!"},{"$error":"#VALUE!"},{"$error":"#VALUE!"},{"$error":"#VALUE!"},{"$error":"#VALUE!"},{"$error":"#VALUE!"},{"$error":"#VALUE!"},{"$error":"#VALUE!"},{"$error":"#VALUE!"},{"$error":"#VALUE!"}]
[null,null,null,null,null,null,null,null,null,null,null,null,null,null,{"$f":"IF(Analyze!G210=\"\",\"\",Analyze!G210)","v":""},{"$f":"IF(Analyze!S210=\"\",\"\",Analyze!S210)","v":{"$error":"#VALUE!"}},null,null,null,null,null,null,null,"","","",20.40000000000002,-1.7842337794781276,20.40000000000002,3.2338364744050616,20.40000000000002,-0.7661635255948942,20.40000000000002,-4.7661635255948953,{"$error":"#VALUE!"},{"$error":"#VALUE!"},{"$error":"#VALUE!"},{"$error":"#VALUE!"},{"$error":"#VALUE!"},{"$error":"#VALUE!"},{"$error":"#VALUE!"},{"$error":"#VALUE!"},{"$error":"#VALUE!"},{"$error":"#VALUE!"},{"$error":"#VALUE!"},{"$error":"#VALUE!"}]
[null,null,null,null,null,null,null,null,null,null,null,null,null,null,{"$f":"IF(Analyze!G211=\"\",\"\",Analyze!G211)","v":""},{"$f":"IF(Analyze!S211=\"\",\"\",Analyze!S211)","v":{"$error":"#VALUE!"}},null,null,null,null,null,null,null,"","","",20.500000000000021,-1.8542545332990985,20.500000000000021,3.2070415551619496,20.500000000000021,-0.79295844483800648,20.500000000000021,-4.7929584448380078,{"$error":"#VALUE!"},{"$error":"#VALUE!"},{"$error":"#VALUE!"},{"$error":"#VALUE!"},{"$error":"#VALUE!"},{"$error":"#VALUE!"},{"$error":"#VALUE!"},{"$error":"#VALUE!"},{"$error":"#VALUE!"},{"$error":"#VALUE!"},{"$error":"#VALUE!"},{"$error":"#VALUE!"}]
[null,null,null,null,null,null,null,null,null,null,null,null,null,null,{"$f":"IF(Analyze!G212=\"\",\"\",Analyze!G212)","v":""},{"$f":"IF(Analyze!S212=\"\",\"\",Analyze!S212)","v":{"$error":"#VALUE!"}},null,null,null,null,null,null,null,"","","",20.600000000000023,-1.9242752871200695,20.600000000000023,3.1802466359188375,20.600000000000023,-0.81975336408111876,20.600000000000023,-4.8197533640811203,{"$error":"#VALUE!"},{"$error":"#VALUE!"},{"$error":"#VALUE!"},{"$error":"#VALUE!"},{"$error":"#VALUE!"},{"$error":"#VALUE!"},{"$error":"#VALUE!"},{"$error":"#VALUE!"},{"$error":"#VALUE!"},{"$error":"#VALUE!"},{"$error":"#VALUE!"},{"$error":"#VALUE!"}]
[null,null,null,null,null,null,null,null,null,null,null,null,null,null,{"$f":"IF(Analyze!G213=\"\",\"\",Analyze!G213)","v":""},{"$f":"IF(Analyze!S213=\"\",\"\",Analyze!S213)","v":{"$error":"#VALUE!"}},null,null,null,null,null,null,null,"","","",20.700000000000024,-1.9942960409410404,20.700000000000024,3.1534517166757254,20.700000000000024,-0.84654828332423104,20.700000000000024,-4.8465482833242328,{"$error":"#VALUE!"},{"$error":"#VALUE!"},{"$error":"#VALUE!"},{"$error":"#VALUE!"},{"$error":"#VALUE!"},{"$error":"#VALUE!"},{"$error":"#VALUE!"},{"$error":"#VALUE!"},{"$error":"#VALUE!"},{"$error":"#VALUE!"},{"$error":"#VALUE!"},{"$error":"#VALUE!"}]
[null,null,null,null,null,null,null,null,null,null,null,null,null,null,{"$f":"IF(Analyze!G214=\"\",\"\",Analyze!G214)","v":""},{"$f":"IF(Analyze!S214=\"\",\"\",Analyze!S214)","v":{"$error":"#VALUE!"}},null,null,null,null,null,null,null,"","","",20.800000000000026,-2.0643167947620116,20.800000000000026,3.1266567974326134,20.800000000000026,-0.87334320256734332,20.800000000000026,-4.8733432025673453,{"$error":"#VALUE!"},{"$error":"#VALUE!"},{"$error":"#VALUE!"},{"$error":"#VALUE!"},{"$error":"#VALUE!"},{"$error":"#VALUE!"},{"$error":"#VALUE!"},{"$error":"#VALUE!"},{"$error":"#VALUE!"},{"$error":"#VALUE!"},{"$error":"#VALUE!"},{"$error":"#VALUE!"}]
[null,null,null,null,null,null,null,null,null,null,null,null,null,null,{"$f":"IF(Analyze!G215=\"\",\"\",Analyze!G215)","v":""},{"$f":"IF(Analyze!S215=\"\",\"\",Analyze!S215)","v":{"$error":"#VALUE!"}},null,null,null,null,null,null,null,"","","",20.900000000000027,-2.1343375485829825,20.900000000000027,3.0998618781895013,20.900000000000027,-0.9001381218104556,20.900000000000027,-4.9001381218104578,{"$error":"#VALUE!"},{"$error":"#VALUE!"},{"$error":"#VALUE!"},{"$error":"#VALUE!"},{"$error":"#VALUE!"},{"$error":"#VALUE!"},{"$error":"#VALUE!"},{"$error":"#VALUE!"},{"$error":"#VALUE!"},{"$error":"#VALUE!"},{"$error":"#VALUE!"},{"$error":"#VALUE!"}]
[null,null,null,null,null,null,null,null,null,null,null,null,null,null,{"$f":"IF(Analyze!G216=\"\",\"\",Analyze!G216)","v":""},{"$f":"IF(Analyze!S216=\"\",\"\",Analyze!S216)","v":{"$error":"#VALUE!"}},null,null,null,null,null,null,null,"","","",21.000000000000028,-2.2043583024039535,21.000000000000028,3.0730669589463893,21.000000000000028,-0.92693304105356789,21.000000000000028,-4.9269330410535703,{"$error":"#VALUE!"},{"$error":"#VALUE!"},{"$error":"#VALUE!"},{"$error":"#VALUE!"},{"$error":"#VALUE!"},{"$error":"#VALUE!"},{"$error":"#VALUE!"},{"$error":"#VALUE!"},{"$error":"#VALUE!"},{"$error":"#VALUE!"},{"$error":"#VALUE!"},{"$error":"#VALUE!"}]
[null,null,null,null,null,null,null,null,null,null,null,null,null,null,{"$f":"IF(Analyze!G217=\"\",\"\",Analyze!G217)","v":""},{"$f":"IF(Analyze!S217=\"\",\"\",Analyze!S217)","v":{"$error":"#VALUE!"}},null,null,null,null,null,null,null,"","","",21.10000000000003,-2.2743790562249244,21.10000000000003,3.0462720397032772,21.10000000000003,-0.95372796029668017,21.10000000000003,-4.9537279602966828,{"$error":"#VALUE!"},{"$error":"#VALUE!"},{"$error":"#VALUE!"},{"$error":"#VALUE!"},{"$error":"#VALUE!"},{"$error":"#VALUE!"},{"$error":"#VALUE!"},{"$error":"#VALUE!"},{"$error":"#VALUE!"},{"$error":"#VALUE!"},{"$error":"#VALUE!"},{"$error":"#VALUE!"}]
[null,null,null,null,null,null,null,null,null,null,null,null,null,null,{"$f":"IF(Analyze!G218=\"\",\"\",Analyze!G218)","v":""},{"$f":"IF(Analyze!S218=\"\",\"\",Analyze!S218)","v":{"$error":"#VALUE!"}},null,null,null,null,null,null,null,"","","",21.200000000000031,-2.3443998100458954,21.200000000000031,3.0194771204601651,21.200000000000031,-0.98052287953979245,21.200000000000031,-4.9805228795397953,{"$error":"#VALUE!"},{"$error":"#VALUE!"},{"$error":"#VALUE!"},{"$error":"#VALUE!"},{"$error":"#VALUE!"},{"$error":"#VALUE!"},{"$error":"#VALUE!"},{"$error":"#VALUE!"},{"$error":"#VALUE!"},{"$error":"#VALUE!"},{"$error":"#VALUE!"},{"$error":"#VALUE!"}]
[null,null,null,null,null,null,null,null,null,null,null,null,null,null,{"$f":"IF(Analyze!G219=\"\",\"\",Analyze!G219)","v":""},{"$f":"IF(Analyze!S219=\"\",\"\",Analyze!S219)","v":{"$error":"#VALUE!"}},null,null,null,null,null,null,null,"","","",21.300000000000033,-2.4144205638668663,21.300000000000033,2.9926822012170531,21.300000000000033,-1.0073177987829047,21.300000000000033,-5.0073177987829078,{"$error":"#VALUE!"},{"$error":"#VALUE!"},{"$error":"#VALUE!"},{"$error":"#VALUE!"},{"$error":"#VALUE!"},{"$error":"#VALUE!"},{"$error":"#VALUE!"},{"$error":"#VALUE!"},{"$error":"#VALUE!"},{"$error":"#VALUE!"},{"$error":"#VALUE!"},{"$error":"#VALUE!"}]
[null,null,null,null,null,null,null,null,null,null,null,null,null,null,{"$f":"IF(Analyze!G220=\"\",\"\",Analyze!G220)","v":""},{"$f":"IF(Analyze!S220=\"\",\"\",Analyze!S220)","v":{"$error":"#VALUE!"}},null,null,null,null,null,null,null,"","","",21.400000000000034,-2.4844413176878373,21.400000000000034,2.965887281973941,21.400000000000034,-1.034112718026017,21.400000000000034,-5.0341127180260203,{"$error":"#VALUE!"},{"$error":"#VALUE!"},{"$error":"#VALUE!"},{"$error":"#VALUE!"},{"$error":"#VALUE!"},{"$error":"#VALUE!"},{"$error":"#VALUE!"},{"$error":"#VALUE!"},{"$error":"#VALUE!"},{"$error":"#VALUE!"},{"$error":"#VALUE!"},{"$error":"#VALUE!"}]
[null,null,null,null,null,null,null,null,null,null,null,null,null,null,{"$f":"IF(Analyze!G221=\"\",\"\",Analyze!G221)","v":""},{"$f":"IF(Analyze!S221=\"\",\"\",Analyze!S221)","v":{"$error":"#VALUE!"}},null,null,null,null,null,null,null,"","","",21.500000000000036,-2.5544620715088082,21.500000000000036,2.939092362730829,21.500000000000036,-1.0609076372691293,21.500000000000036,-5.0609076372691328,{"$error":"#VALUE!"},{"$error":"#VALUE!"},{"$error":"#VALUE!"},{"$error":"#VALUE!"},{"$error":"#VALUE!"},{"$error":"#VALUE!"},{"$error":"#VALUE!"},{"$error":"#VALUE!"},{"$error":"#VALUE!"},{"$error":"#VALUE!"},{"$error":"#VALUE!"},{"$error":"#VALUE!"}]
[null,null,null,null,null,null,null,null,null,null,null,null,null,null,{"$f":"IF(Analyze!G222=\"\",\"\",Analyze!G222)","v":""},{"$f":"IF(Analyze!S222=\"\",\"\",Analyze!S222)","v":{"$error":"#VALUE!"}},null,null,null,null,null,null,null,"","","",21.600000000000037,-2.6244828253297792,21.600000000000037,2.9122974434877169,21.600000000000037,-1.0877025565122416,21.600000000000037,-5.0877025565122453,{"$error":"#VALUE!"},{"$error":"#VALUE!"},{"$error":"#VALUE!"},{"$error":"#VALUE!"},{"$error":"#VALUE!"},{"$error":"#VALUE!"},{"$error":"#VALUE!"},{"$error":"#VALUE!"},{"$error":"#VALUE!"},{"$error":"#VALUE!"},{"$error":"#VALUE!"},{"$error":"#VALUE!"}]
[null,null,null,null,null,null,null,null,null,null,null,null,null,null,{"$f":"IF(Analyze!G223=\"\",\"\",Analyze!G223)","v":""},{"$f":"IF(Analyze!S223=\"\",\"\",Analyze!S223)","v":{"$error":"#VALUE!"}},null,null,null,null,null,null,null,"","","",21.700000000000038,-2.6945035791507501,21.700000000000038,2.8855025242446048,21.700000000000038,-1.1144974757553539,21.700000000000038,-5.1144974757553578,{"$error":"#VALUE!"},{"$error":"#VALUE!"},{"$error":"#VALUE!"},{"$error":"#VALUE!"},{"$error":"#VALUE!"},{"$error":"#VALUE!"},{"$error":"#VALUE!"},{"$error":"#VALUE!"},{"$error":"#VALUE!"},{"$error":"#VALUE!"},{"$error":"#VALUE!"},{"$error":"#VALUE!"}]
[null,null,null,null,null,null,null,null,null,null,null,null,null,null,{"$f":"IF(Analyze!G224=\"\",\"\",Analyze!G224)","v":""},{"$f":"IF(Analyze!S224=\"\",\"\",Analyze!S224)","v":{"$error":"#VALUE!"}},null,null,null,null,null,null,null,"","","",21.80000000000004,-2.7645243329717211,21.80000000000004,2.8587076050014928,21.80000000000004,-1.1412923949984661,21.80000000000004,-5.1412923949984703,{"$error":"#VALUE!"},{"$error":"#VALUE!"},{"$error":"#VALUE!"},{"$error":"#VALUE!"},{"$error":"#VALUE!"},{"$error":"#VALUE!"},{"$error":"#VALUE!"},{"$error":"#VALUE!"},{"$error":"#VALUE!"},{"$error":"#VALUE!"},{"$error":"#VALUE!"},{"$error":"#VALUE!"}]
[null,null,null,null,null,null,null,null,null,null,null,null,null,null,{"$f":"IF(Analyze!G225=\"\",\"\",Analyze!G225)","v":""},{"$f":"IF(Analyze!S225=\"\",\"\",Analyze!S225)","v":{"$error":"#VALUE!"}},null,null,null,null,null,null,null,"","","",21.900000000000041,-2.834545086792692,21.900000000000041,2.8319126857583807,21.900000000000041,-1.1680873142415784,21.900000000000041,-5.1680873142415829,{"$error":"#VALUE!"},{"$error":"#VALUE!"},{"$error":"#VALUE!"},{"$error":"#VALUE!"},{"$error":"#VALUE!"},{"$error":"#VALUE!"},{"$error":"#VALUE!"},{"$error":"#VALUE!"},{"$error":"#VALUE!"},{"$error":"#VALUE!"},{"$error":"#VALUE!"},{"$error":"#VALUE!"}]
[null,null,null,null,null,null,null,null,null,null,null,null,null,null,{"$f":"IF(Analyze!G226=\"\",\"\",Analyze!G226)","v":""},{"$f":"IF(Analyze!S226=\"\",\"\",Analyze!S226)","v":{"$error":"#VALUE!"}},null,null,null,null,null,null,null,"","","",22.000000000000043,-2.904565840613663,22.000000000000043,2.8051177665152687,22.000000000000043,-1.1948822334846907,22.000000000000043,-5.1948822334846954,{"$error":"#VALUE!"},{"$error":"#VALUE!"},{"$error":"#VALUE!"},{"$error":"#VALUE!"},{"$error":"#VALUE!"},{"$error":"#VALUE!"},{"$error":"#VALUE!"},{"$error":"#VALUE!"},{"$error":"#VALUE!"},{"$error":"#VALUE!"},{"$error":"#VALUE!"},{"$error":"#VALUE!"}]
[null,null,null,null,null,null,null,null,null,null,null,null,null,null,{"$f":"IF(Analyze!G227=\"\",\"\",Analyze!G227)","v":""},{"$f":"IF(Analyze!S227=\"\",\"\",Analyze!S227)","v":{"$error":"#VALUE!"}},null,null,null,null,null,null,null,"","","",22.100000000000044,-2.9745865944346339,22.100000000000044,2.7783228472721566,22.100000000000044,-1.221677152727803,22.100000000000044,-5.2216771527278079,{"$error":"#VALUE!"},{"$error":"#VALUE!"},{"$error":"#VALUE!"},{"$error":"#VALUE!"},{"$error":"#VALUE!"},{"$error":"#VALUE!"},{"$error":"#VALUE!"},{"$error":"#VALUE!"},{"$error":"#VALUE!"},{"$error":"#VALUE!"},{"$error":"#VALUE!"},{"$error":"#VALUE!"}]
[null,null,null,null,null,null,null,null,null,null,null,null,null,null,{"$f":"IF(Analyze!G228=\"\",\"\",Analyze!G228)","v":""},{"$f":"IF(Analyze!S228=\"\",\"\",Analyze!S228)","v":{"$error":"#VALUE!"}},null,null,null,null,null,null,null,"","","",22.200000000000045,-3.0446073482556049,22.200000000000045,2.7515279280290446,22.200000000000045,-1.2484720719709153,22.200000000000045,-5.2484720719709204,{"$error":"#VALUE!"},{"$error":"#VALUE!"},{"$error":"#VALUE!"},{"$error":"#VALUE!"},{"$error":"#VALUE!"},{"$error":"#VALUE!"},{"$error":"#VALUE!"},{"$error":"#VALUE!"},{"$error":"#VALUE!"},{"$error":"#VALUE!"},{"$error":"#VALUE!"},{"$error":"#VALUE!"}]
[null,null,null,null,null,null,null,null,null,null,null,null,null,null,{"$f":"IF(Analyze!G229=\"\",\"\",Analyze!G229)","v":""},{"$f":"IF(Analyze!S229=\"\",\"\",Analyze!S229)","v":{"$error":"#VALUE!"}},null,null,null,null,null,null,null,"","","",22.300000000000047,-3.1146281020765758,22.300000000000047,2.7247330087859325,22.300000000000047,-1.2752669912140275,22.300000000000047,-5.2752669912140329,{"$error":"#VALUE!"},{"$error":"#VALUE!"},{"$error":"#VALUE!"},{"$error":"#VALUE!"},{"$error":"#VALUE!"},{"$error":"#VALUE!"},{"$error":"#VALUE!"},{"$error":"#VALUE!"},{"$error":"#VALUE!"},{"$error":"#VALUE!"},{"$error":"#VALUE!"},{"$error":"#VALUE!"}]
[null,null,null,null,null,null,null,null,null,null,null,null,null,null,{"$f":"IF(Analyze!G230=\"\",\"\",Analyze!G230)","v":""},{"$f":"IF(Analyze!S230=\"\",\"\",Analyze!S230)","v":{"$error":"#VALUE!"}},null,null,null,null,null,null,null,"","","",22.400000000000048,-3.1846488558975468,22.400000000000048,2.6979380895428204,22.400000000000048,-1.3020619104571398,22.400000000000048,-5.3020619104571454,{"$error":"#VALUE!"},{"$error":"#VALUE!"},{"$error":"#VALUE!"},{"$error":"#VALUE!"},{"$error":"#VALUE!"},{"$error":"#VALUE!"},{"$error":"#VALUE!"},{"$error":"#VALUE!"},{"$error":"#VALUE!"},{"$error":"#VALUE!"},{"$error":"#VALUE!"},{"$error":"#VALUE!"}]
[null,null,null,null,null,null,null,null,null,null,null,null,null,null,{"$f":"IF(Analyze!G231=\"\",\"\",Analyze!G231)","v":""},{"$f":"IF(Analyze!S231=\"\",\"\",Analyze!S231)","v":{"$error":"#VALUE!"}},null,null,null,null,null,null,null,"","","",22.50000000000005,-3.2546696097185177,22.50000000000005,2.6711431702997084,22.50000000000005,-1.3288568297002521,22.50000000000005,-5.3288568297002579,{"$error":"#VALUE!"},{"$error":"#VALUE!"},{"$error":"#VALUE!"},{"$error":"#VALUE!"},{"$error":"#VALUE!"},{"$error":"#VALUE!"},{"$error":"#VALUE!"},{"$error":"#VALUE!"},{"$error":"#VALUE!"},{"$error":"#VALUE!"},{"$error":"#VALUE!"},{"$error":"#VALUE!"}]
[null,null,null,null,null,null,null,null,null,null,null,null,null,null,{"$f":"IF(Analyze!G232=\"\",\"\",Analyze!G232)","v":""},{"$f":"IF(Analyze!S232=\"\",\"\",Analyze!S232)","v":{"$error":"#VALUE!"}},null,null,null,null,null,null,null,"","","",22.600000000000051,-3.3246903635394887,22.600000000000051,2.6443482510565963,22.600000000000051,-1.3556517489433644,22.600000000000051,-5.3556517489433704,{"$error":"#VALUE!"},{"$error":"#VALUE!"},{"$error":"#VALUE!"},{"$error":"#VALUE!"},{"$error":"#VALUE!"},{"$error":"#VALUE!"},{"$error":"#VALUE!"},{"$error":"#VALUE!"},{"$error":"#VALUE!"},{"$error":"#VALUE!"},{"$error":"#VALUE!"},{"$error":"#VALUE!"}]
[null,null,null,null,null,null,null,null,null,null,null,null,null,null,{"$f":"IF(Analyze!G233=\"\",\"\",Analyze!G233)","v":""},{"$f":"IF(Analyze!S233=\"\",\"\",Analyze!S233)","v":{"$error":"#VALUE!"}},null,null,null,null,null,null,null,"","","",22.700000000000053,-3.3947111173604596,22.700000000000053,2.6175533318134843,22.700000000000053,-1.3824466681864767,22.700000000000053,-5.3824466681864829,{"$error":"#VALUE!"},{"$error":"#VALUE!"},{"$error":"#VALUE!"},{"$error":"#VALUE!"},{"$error":"#VALUE!"},{"$error":"#VALUE!"},{"$error":"#VALUE!"},{"$error":"#VALUE!"},{"$error":"#VALUE!"},{"$error":"#VALUE!"},{"$error":"#VALUE!"},{"$error":"#VALUE!"}]
[null,null,null,null,null,null,null,null,null,null,null,null,null,null,{"$f":"IF(Analyze!G234=\"\",\"\",Analyze!G234)","v":""},{"$f":"IF(Analyze!S234=\"\",\"\",Analyze!S234)","v":{"$error":"#VALUE!"}},null,null,null,null,null,null,null,"","","",22.800000000000054,-3.4647318711814306,22.800000000000054,2.5907584125703722,22.800000000000054,-1.4092415874295889,22.800000000000054,-5.4092415874295954,{"$error":"#VALUE!"},{"$error":"#VALUE!"},{"$error":"#VALUE!"},{"$error":"#VALUE!"},{"$error":"#VALUE!"},{"$error":"#VALUE!"},{"$error":"#VALUE!"},{"$error":"#VALUE!"},{"$error":"#VALUE!"},{"$error":"#VALUE!"},{"$error":"#VALUE!"},{"$error":"#VALUE!"}]
[null,null,null,null,null,null,null,null,null,null,null,null,null,null,{"$f":"IF(Analyze!G235=\"\",\"\",Analyze!G235)","v":""},{"$f":"IF(Analyze!S235=\"\",\"\",Analyze!S235)","v":{"$error":"#VALUE!"}},null,null,null,null,null,null,null,"","","",22.900000000000055,-3.5347526250024015,22.900000000000055,2.5639634933272601,22.900000000000055,-1.4360365066727012,22.900000000000055,-5.4360365066727079,{"$error":"#VALUE!"},{"$error":"#VALUE!"},{"$error":"#VALUE!"},{"$error":"#VALUE!"},{"$error":"#VALUE!"},{"$error":"#VALUE!"},{"$error":"#VALUE!"},{"$error":"#VALUE!"},{"$error":"#VALUE!"},{"$error":"#VALUE!"},{"$error":"#VALUE!"},{"$error":"#VALUE!"}]
[null,null,null,null,null,null,null,null,null,null,null,null,null,null,{"$f":"IF(Analyze!G236=\"\",\"\",Analyze!G236)","v":""},{"$f":"IF(Analyze!S236=\"\",\"\",Analyze!S236)","v":{"$error":"#VALUE!"}},null,null,null,null,null,null,null,"","","",23.000000000000057,-3.6047733788233725,23.000000000000057,2.5371685740841481,23.000000000000057,-1.4628314259158135,23.000000000000057,-5.4628314259158204,{"$error":"#VALUE!"},{"$error":"#VALUE!"},{"$error":"#VALUE!"},{"$error":"#VALUE!"},{"$error":"#VALUE!"},{"$error":"#VALUE!"},{"$error":"#VALUE!"},{"$error":"#VALUE!"},{"$error":"#VALUE!"},{"$error":"#VALUE!"},{"$error":"#VALUE!"},{"$error":"#VALUE!"}]
[null,null,null,null,null,null,null,null,null,null,null,null,null,null,{"$f":"IF(Analyze!G237=\"\",\"\",Analyze!G237)","v":""},{"$f":"IF(Analyze!S237=\"\",\"\",Analyze!S237)","v":{"$error":"#VALUE!"}},null,null,null,null,null,null,null,"","","",23.100000000000058,-3.6747941326443434,23.100000000000058,2.510373654841036,23.100000000000058,-1.4896263451589258,23.100000000000058,-5.4896263451589329,{"$error":"#VALUE!"},{"$error":"#VALUE!"},{"$error":"#VALUE!"},{"$error":"#VALUE!"},{"$error":"#VALUE!"},{"$error":"#VALUE!"},{"$error":"#VALUE!"},{"$error":"#VALUE!"},{"$error":"#VALUE!"},{"$error":"#VALUE!"},{"$error":"#VALUE!"},{"$error":"#VALUE!"}]
[null,null,null,null,null,null,null,null,null,null,null,null,null,null,{"$f":"IF(Analyze!G238=\"\",\"\",Analyze!G238)","v":""},{"$f":"IF(Analyze!S238=\"\",\"\",Analyze!S238)","v":{"$error":"#VALUE!"}},null,null,null,null,null,null,null,"","","",23.20000000000006,-3.7448148864653144,23.20000000000006,2.483578735597924,23.20000000000006,-1.5164212644020381,23.20000000000006,-5.5164212644020454,{"$error":"#VALUE!"},{"$error":"#VALUE!"},{"$error":"#VALUE!"},{"$error":"#VALUE!"},{"$error":"#VALUE!"},{"$error":"#VALUE!"},{"$error":"#VALUE!"},{"$error":"#VALUE!"},{"$error":"#VALUE!"},{"$error":"#VALUE!"},{"$error":"#VALUE!"},{"$error":"#VALUE!"}]
[null,null,null,null,null,null,null,null,null,null,null,null,null,null,{"$f":"IF(Analyze!G239=\"\",\"\",Analyze!G239)","v":""},{"$f":"IF(Analyze!S239=\"\",\"\",Analyze!S239)","v":{"$error":"#VALUE!"}},null,null,null,null,null,null,null,"","","",23.300000000000061,-3.8148356402862853,23.300000000000061,2.4567838163548119,23.300000000000061,-1.5432161836451503,23.300000000000061,-5.5432161836451579,{"$error":"#VALUE!"},{"$error":"#VALUE!"},{"$error":"#VALUE!"},{"$error":"#VALUE!"},{"$error":"#VALUE!"},{"$error":"#VALUE!"},{"$error":"#VALUE!"},{"$error":"#VALUE!"},{"$error":"#VALUE!"},{"$error":"#VALUE!"},{"$error":"#VALUE!"},{"$error":"#VALUE!"}]
[null,null,null,null,null,null,null,null,null,null,null,null,null,null,{"$f":"IF(Analyze!G240=\"\",\"\",Analyze!G240)","v":""},{"$f":"IF(Analyze!S240=\"\",\"\",Analyze!S240)","v":{"$error":"#VALUE!"}},null,null,null,null,null,null,null,"","","",23.400000000000063,-3.8848563941072562,23.400000000000063,2.4299888971116999,23.400000000000063,-1.5700111028882626,23.400000000000063,-5.5700111028882704,{"$error":"#VALUE!"},{"$error":"#VALUE!"},{"$error":"#VALUE!"},{"$error":"#VALUE!"},{"$error":"#VALUE!"},{"$error":"#VALUE!"},{"$error":"#VALUE!"},{"$error":"#VALUE!"},{"$error":"#VALUE!"},{"$error":"#VALUE!"},{"$error":"#VALUE!"},{"$error":"#VALUE!"}]
[null,null,null,null,null,null,null,null,null,null,null,null,null,null,{"$f":"IF(Analyze!G241=\"\",\"\",Analyze!G241)","v":""},{"$f":"IF(Analyze!S241=\"\",\"\",Analyze!S241)","v":{"$error":"#VALUE!"}},null,null,null,null,null,null,null,"","","",23.500000000000064,-3.9548771479282272,23.500000000000064,2.4031939778685878,23.500000000000064,-1.5968060221313749,23.500000000000064,-5.5968060221313829,{"$error":"#VALUE!"},{"$error":"#VALUE!"},{"$error":"#VALUE!"},{"$error":"#VALUE!"},{"$error":"#VALUE!"},{"$error":"#VALUE!"},{"$error":"#VALUE!"},{"$error":"#VALUE!"},{"$error":"#VALUE!"},{"$error":"#VALUE!"},{"$error":"#VALUE!"},{"$error":"#VALUE!"}]
[null,null,null,null,null,null,null,null,null,null,null,null,null,null,{"$f":"IF(Analyze!G242=\"\",\"\",Analyze!G242)","v":""},{"$f":"IF(Analyze!S242=\"\",\"\",Analyze!S242)","v":{"$error":"#VALUE!"}},null,null,null,null,null,null,null,"","","",23.600000000000065,-4.0248979017491981,23.600000000000065,2.3763990586254757,23.600000000000065,-1.6236009413744872,23.600000000000065,-5.6236009413744954,{"$error":"#VALUE!"},{"$error":"#VALUE!"},{"$error":"#VALUE!"},{"$error":"#VALUE!"},{"$error":"#VALUE!"},{"$error":"#VALUE!"},{"$error":"#VALUE!"},{"$error":"#VALUE!"},{"$error":"#VALUE!"},{"$error":"#VALUE!"},{"$error":"#VALUE!"},{"$error":"#VALUE!"}]
[null,null,null,null,null,null,null,null,null,null,null,null,null,null,{"$f":"IF(Analyze!G243=\"\",\"\",Analyze!G243)","v":""},{"$f":"IF(Analyze!S243=\"\",\"\",Analyze!S243)","v":{"$error":"#VALUE!"}},null,null,null,null,null,null,null,"","","",23.700000000000067,-4.0949186555701695,23.700000000000067,2.3496041393823637,23.700000000000067,-1.6503958606175995,23.700000000000067,-5.6503958606176079,{"$error":"#VALUE!"},{"$error":"#VALUE!"},{"$error":"#VALUE!"},{"$error":"#VALUE!"},{"$error":"#VALUE!"},{"$error":"#VALUE!"},{"$error":"#VALUE!"},{"$error":"#VALUE!"},{"$error":"#VALUE!"},{"$error":"#VALUE!"},{"$error":"#VALUE!"},{"$error":"#VALUE!"}]
[null,null,null,null,null,null,null,null,null,null,null,null,null,null,{"$f":"IF(Analyze!G244=\"\",\"\",Analyze!G244)","v":""},{"$f":"IF(Analyze!S244=\"\",\"\",Analyze!S244)","v":{"$error":"#VALUE!"}},null,null,null,null,null,null,null,"","","",23.800000000000068,-4.1649394093911409,23.800000000000068,2.3228092201392516,23.800000000000068,-1.6771907798607117,23.800000000000068,-5.6771907798607204,{"$error":"#VALUE!"},{"$error":"#VALUE!"},{"$error":"#VALUE!"},{"$error":"#VALUE!"},{"$error":"#VALUE!"},{"$error":"#VALUE!"},{"$error":"#VALUE!"},{"$error":"#VALUE!"},{"$error":"#VALUE!"},{"$error":"#VALUE!"},{"$error":"#VALUE!"},{"$error":"#VALUE!"}]
[null,null,null,null,null,null,null,null,null,null,null,null,null,null,{"$f":"IF(Analyze!G245=\"\",\"\",Analyze!G245)","v":""},{"$f":"IF(Analyze!S245=\"\",\"\",Analyze!S245)","v":{"$error":"#VALUE!"}},null,null,null,null,null,null,null,"","","",23.90000000000007,-4.2349601632121123,23.90000000000007,2.2960143008961396,23.90000000000007,-1.703985699103824,23.90000000000007,-5.7039856991038329,{"$error":"#VALUE!"},{"$error":"#VALUE!"},{"$error":"#VALUE!"},{"$error":"#VALUE!"},{"$error":"#VALUE!"},{"$error":"#VALUE!"},{"$error":"#VALUE!"},{"$error":"#VALUE!"},{"$error":"#VALUE!"},{"$error":"#VALUE!"},{"$error":"#VALUE!"},{"$error":"#VALUE!"}]
[null,null,null,null,null,null,null,null,null,null,null,null,null,null,{"$f":"IF(Analyze!G246=\"\",\"\",Analyze!G246)","v":""},{"$f":"IF(Analyze!S246=\"\",\"\",Analyze!S246)","v":{"$error":"#VALUE!"}},null,null,null,null,null,null,null,"","","",24.000000000000071,-4.3049809170330837,24.000000000000071,2.2692193816530275,24.000000000000071,-1.7307806183469363,24.000000000000071,-5.7307806183469454,{"$error":"#VALUE!"},{"$error":"#VALUE!"},{"$error":"#VALUE!"},{"$error":"#VALUE!"},{"$error":"#VALUE!"},{"$error":"#VALUE!"},{"$error":"#VALUE!"},{"$error":"#VALUE!"},{"$error":"#VALUE!"},{"$error":"#VALUE!"},{"$error":"#VALUE!"},{"$error":"#VALUE!"}]
[null,null,null,null,null,null,null,null,null,null,null,null,null,null,{"$f":"IF(Analyze!G247=\"\",\"\",Analyze!G247)","v":""},{"$f":"IF(Analyze!S247=\"\",\"\",Analyze!S247)","v":{"$error":"#VALUE!"}},null,null,null,null,null,null,null,"","","",24.100000000000072,-4.3750016708540551,24.100000000000072,2.2424244624099154,24.100000000000072,-1.7575755375900486,24.100000000000072,-5.7575755375900579,{"$error":"#VALUE!"},{"$error":"#VALUE!"},{"$error":"#VALUE!"},{"$error":"#VALUE!"},{"$error":"#VALUE!"},{"$error":"#VALUE!"},{"$error":"#VALUE!"},{"$error":"#VALUE!"},{"$error":"#VALUE!"},{"$error":"#VALUE!"},{"$error":"#VALUE!"},{"$error":"#VALUE!"}]
[null,null,null,null,null,null,null,null,null,null,null,null,null,null,{"$f":"IF(Analyze!G248=\"\",\"\",Analyze!G248)","v":""},{"$f":"IF(Analyze!S248=\"\",\"\",Analyze!S248)","v":{"$error":"#VALUE!"}},null,null,null,null,null,null,null,"","","",24.200000000000074,-4.4450224246750265,24.200000000000074,2.2156295431668034,24.200000000000074,-1.7843704568331609,24.200000000000074,-5.7843704568331704,{"$error":"#VALUE!"},{"$error":"#VALUE!"},{"$error":"#VALUE!"},{"$error":"#VALUE!"},{"$error":"#VALUE!"},{"$error":"#VALUE!"},{"$error":"#VALUE!"},{"$error":"#VALUE!"},{"$error":"#VALUE!"},{"$error":"#VALUE!"},{"$error":"#VALUE!"},{"$error":"#VALUE!"}]
[null,null,null,null,null,null,null,null,null,null,null,null,null,null,{"$f":"IF(Analyze!G249=\"\",\"\",Analyze!G249)","v":""},{"$f":"IF(Analyze!S249=\"\",\"\",Analyze!S249)","v":{"$error":"#VALUE!"}},null,null,null,null,null,null,null,"","","",24.300000000000075,-4.5150431784959979,24.300000000000075,2.1888346239236913,24.300000000000075,-1.8111653760762731,24.300000000000075,-5.8111653760762829,{"$error":"#VALUE!"},{"$error":"#VALUE!"},{"$error":"#VALUE!"},{"$error":"#VALUE!"},{"$error":"#VALUE!"},{"$error":"#VALUE!"},{"$error":"#VALUE!"},{"$error":"#VALUE!"},{"$error":"#VALUE!"},{"$error":"#VALUE!"},{"$error":"#VALUE!"},{"$error":"#VALUE!"}]
[null,null,null,null,null,null,null,null,null,null,null,null,null,null,{"$f":"IF(Analyze!G250=\"\",\"\",Analyze!G250)","v":""},{"$f":"IF(Analyze!S250=\"\",\"\",Analyze!S250)","v":{"$error":"#VALUE!"}},null,null,null,null,null,null,null,"","","",24.400000000000077,-4.5850639323169693,24.400000000000077,2.1620397046805793,24.400000000000077,-1.8379602953193854,24.400000000000077,-5.8379602953193954,{"$error":"#VALUE!"},{"$error":"#VALUE!"},{"$error":"#VALUE!"},{"$error":"#VALUE!"},{"$error":"#VALUE!"},{"$error":"#VALUE!"},{"$error":"#VALUE!"},{"$error":"#VALUE!"},{"$error":"#VALUE!"},{"$error":"#VALUE!"},{"$error":"#VALUE!"},{"$error":"#VALUE!"}]
[null,null,null,null,null,null,null,null,null,null,null,null,null,null,{"$f":"IF(Analyze!G251=\"\",\"\",Analyze!G251)","v":""},{"$f":"IF(Analyze!S251=\"\",\"\",Analyze!S251)","v":{"$error":"#VALUE!"}},null,null,null,null,null,null,null,"","","",24.500000000000078,-4.6550846861379407,24.500000000000078,2.1352447854374672,24.500000000000078,-1.8647552145624977,24.500000000000078,-5.8647552145625079,{"$error":"#VALUE!"},{"$error":"#VALUE!"},{"$error":"#VALUE!"},{"$error":"#VALUE!"},{"$error":"#VALUE!"},{"$error":"#VALUE!"},{"$error":"#VALUE!"},{"$error":"#VALUE!"},{"$error":"#VALUE!"},{"$error":"#VALUE!"},{"$error":"#VALUE!"},{"$error":"#VALUE!"}]
[null,null,null,null,null,null,null,null,null,null,null,null,null,null,{"$f":"IF(Analyze!G252=\"\",\"\",Analyze!G252)","v":""},{"$f":"IF(Analyze!S252=\"\",\"\",Analyze!S252)","v":{"$error":"#VALUE!"}},null,null,null,null,null,null,null,"","","",24.60000000000008,-4.7251054399589121,24.60000000000008,2.1084498661943551,24.60000000000008,-1.89155013380561,24.60000000000008,-5.8915501338056204,{"$error":"#VALUE!"},{"$error":"#VALUE!"},{"$error":"#VALUE!"},{"$error":"#VALUE!"},{"$error":"#VALUE!"},{"$error":"#VALUE!"},{"$error":"#VALUE!"},{"$error":"#VALUE!"},{"$error":"#VALUE!"},{"$error":"#VALUE!"},{"$error":"#VALUE!"},{"$error":"#VALUE!"}]
[null,null,null,null,null,null,null,null,null,null,null,null,null,null,{"$f":"IF(Analyze!G253=\"\",\"\",Analyze!G253)","v":""},{"$f":"IF(Analyze!S253=\"\",\"\",Analyze!S253)","v":{"$error":"#VALUE!"}},null,null,null,null,null,null,null,"","","",24.700000000000081,-4.7951261937798835,24.700000000000081,2.0816549469512431,24.700000000000081,-1.9183450530487223,24.700000000000081,-5.9183450530487329,{"$error":"#VALUE!"},{"$error":"#VALUE!"},{"$error":"#VALUE!"},{"$error":"#VALUE!"},{"$error":"#VALUE!"},{"$error":"#VALUE!"},{"$error":"#VALUE!"},{"$error":"#VALUE!"},{"$error":"#VALUE!"},{"$error":"#VALUE!"},{"$error":"#VALUE!"},{"$error":"#VALUE!"}]
[null,null,null,null,null,null,null,null,null,null,null,null,null,null,{"$f":"IF(Analyze!G254=\"\",\"\",Analyze!G254)","v":""},{"$f":"IF(Analyze!S254=\"\",\"\",Analyze!S254)","v":{"$error":"#VALUE!"}},null,null,null,null,null,null,null,"","","",24.800000000000082,-4.8651469476008549,24.800000000000082,2.054860027708131,24.800000000000082,-1.9451399722918346,24.800000000000082,-5.9451399722918454,{"$error":"#VALUE!"},{"$error":"#VALUE!"},{"$error":"#VALUE!"},{"$error":"#VALUE!"},{"$error":"#VALUE!"},{"$error":"#VALUE!"},{"$error":"#VALUE!"},{"$error":"#VALUE!"},{"$error":"#VALUE!"},{"$error":"#VALUE!"},{"$error":"#VALUE!"},{"$error":"#VALUE!"}]
[null,null,null,null,null,null,null,null,null,null,null,null,null,null,{"$f":"IF(Analyze!G255=\"\",\"\",Analyze!G255)","v":""},{"$f":"IF(Analyze!S255=\"\",\"\",Analyze!S255)","v":{"$error":"#VALUE!"}},null,null,null,null,null,null,null,"","","",24.900000000000084,-4.9351677014218263,24.900000000000084,2.028065108465019,24.900000000000084,-1.9719348915349468,24.900000000000084,-5.9719348915349579,{"$error":"#VALUE!"},{"$error":"#VALUE!"},{"$error":"#VALUE!"},{"$error":"#VALUE!"},{"$error":"#VALUE!"},{"$error":"#VALUE!"},{"$error":"#VALUE!"},{"$error":"#VALUE!"},{"$error":"#VALUE!"},{"$error":"#VALUE!"},{"$error":"#VALUE!"},{"$error":"#VALUE!"}]
[null,null,null,null,null,null,null,null,null,null,null,null,null,null,{"$f":"IF(Analyze!G256=\"\",\"\",Analyze!G256)","v":""},{"$f":"IF(Analyze!S256=\"\",\"\",Analyze!S256)","v":{"$error":"#VALUE!"}},null,null,null,null,null,null,null,"","","",25.000000000000085,-5.0051884552427977,25.000000000000085,2.0012701892219069,25.000000000000085,-1.9987298107780591,25.000000000000085,-5.9987298107780704,{"$error":"#VALUE!"},{"$error":"#VALUE!"},{"$error":"#VALUE!"},{"$error":"#VALUE!"},{"$error":"#VALUE!"},{"$error":"#VALUE!"},{"$error":"#VALUE!"},{"$error":"#VALUE!"},{"$error":"#VALUE!"},{"$error":"#VALUE!"},{"$error":"#VALUE!"},{"$error":"#VALUE!"}]
[null,null,null,null,null,null,null,null,null,null,null,null,null,null,{"$f":"IF(Analyze!G257=\"\",\"\",Analyze!G257)","v":""},{"$f":"IF(Analyze!S257=\"\",\"\",Analyze!S257)","v":{"$error":"#VALUE!"}},null,null,null,null,null,null,null,"","","",25.100000000000087,-5.075209209063769,25.100000000000087,1.9744752699787946,25.100000000000087,-2.0255247300211714,25.100000000000087,-6.0255247300211829,{"$error":"#VALUE!"},{"$error":"#VALUE!"},{"$error":"#VALUE!"},{"$error":"#VALUE!"},{"$error":"#VALUE!"},{"$error":"#VALUE!"},{"$error":"#VALUE!"},{"$error":"#VALUE!"},{"$error":"#VALUE!"},{"$error":"#VALUE!"},{"$error":"#VALUE!"},{"$error":"#VALUE!"}]
[null,null,null,null,null,null,null,null,null,null,null,null,null,null,{"$f":"IF(Analyze!G258=\"\",\"\",Analyze!G258)","v":""},{"$f":"IF(Analyze!S258=\"\",\"\",Analyze!S258)","v":{"$error":"#VALUE!"}},null,null,null,null,null,null,null,"","","",25.200000000000088,-5.1452299628847404,25.200000000000088,1.9476803507356824,25.200000000000088,-2.0523196492642835,25.200000000000088,-6.0523196492642954,{"$error":"#VALUE!"},{"$error":"#VALUE!"},{"$error":"#VALUE!"},{"$error":"#VALUE!"},{"$error":"#VALUE!"},{"$error":"#VALUE!"},{"$error":"#VALUE!"},{"$error":"#VALUE!"},{"$error":"#VALUE!"},{"$error":"#VALUE!"},{"$error":"#VALUE!"},{"$error":"#VALUE!"}]
[null,null,null,null,null,null,null,null,null,null,null,null,null,null,{"$f":"IF(Analyze!G259=\"\",\"\",Analyze!G259)","v":""},{"$f":"IF(Analyze!S259=\"\",\"\",Analyze!S259)","v":{"$error":"#VALUE!"}},null,null,null,null,null,null,null,"","","",25.30000000000009,-5.2152507167057118,25.30000000000009,1.9208854314925701,25.30000000000009,-2.0791145685073955,25.30000000000009,-6.0791145685074079,{"$error":"#VALUE!"},{"$error":"#VALUE!"},{"$error":"#VALUE!"},{"$error":"#VALUE!"},{"$error":"#VALUE!"},{"$error":"#VALUE!"},{"$error":"#VALUE!"},{"$error":"#VALUE!"},{"$error":"#VALUE!"},{"$error":"#VALUE!"},{"$error":"#VALUE!"},{"$error":"#VALUE!"}]
[null,null,null,null,null,null,null,null,null,null,null,null,null,null,{"$f":"IF(Analyze!G260=\"\",\"\",Analyze!G260)","v":""},{"$f":"IF(Analyze!S260=\"\",\"\",Analyze!S260)","v":{"$error":"#VALUE!"}},null,null,null,null,null,null,null,"","","",25.400000000000091,-5.2852714705266832,25.400000000000091,1.8940905122494578,25.400000000000091,-2.1059094877505076,25.400000000000091,-6.1059094877505204,{"$error":"#VALUE!"},{"$error":"#VALUE!"},{"$error":"#VALUE!"},{"$error":"#VALUE!"},{"$error":"#VALUE!"},{"$error":"#VALUE!"},{"$error":"#VALUE!"},{"$error":"#VALUE!"},{"$error":"#VALUE!"},{"$error":"#VALUE!"},{"$error":"#VALUE!"},{"$error":"#VALUE!"}]
[null,null,null,null,null,null,null,null,null,null,null,null,null,null,{"$f":"IF(Analyze!G261=\"\",\"\",Analyze!G261)","v":""},{"$f":"IF(Analyze!S261=\"\",\"\",Analyze!S261)","v":{"$error":"#VALUE!"}},null,null,null,null,null,null,null,"","","",25.500000000000092,-5.3552922243476546,25.500000000000092,1.8672955930063455,25.500000000000092,-2.1327044069936196,25.500000000000092,-6.132704406993633,{"$error":"#VALUE!"},{"$error":"#VALUE!"},{"$error":"#VALUE!"},{"$error":"#VALUE!"},{"$error":"#VALUE!"},{"$error":"#VALUE!"},{"$error":"#VALUE!"},{"$error":"#VALUE!"},{"$error":"#VALUE!"},{"$error":"#VALUE!"},{"$error":"#VALUE!"},{"$error":"#VALUE!"}]
[null,null,null,null,null,null,null,null,null,null,null,null,null,null,{"$f":"IF(Analyze!G262=\"\",\"\",Analyze!G262)","v":""},{"$f":"IF(Analyze!S262=\"\",\"\",Analyze!S262)","v":{"$error":"#VALUE!"}},null,null,null,null,null,null,null,{"$f":"IF(O262=\"\",\"\",IF(O262>h+$H$2,(\"\"),(h-O262)))","v":""},"","",25.600000000000094,-5.425312978168626,25.600000000000094,1.8405006737632332,25.600000000000094,-2.1594993262367317,25.600000000000094,-6.1594993262367455,{"$error":"#VALUE!"},{"$error":"#VALUE!"},{"$error":"#VALUE!"},{"$error":"#VALUE!"},{"$error":"#VALUE!"},{"$error":"#VALUE!"},{"$error":"#VALUE!"},{"$error":"#VALUE!"},{"$error":"#VALUE!"},{"$error":"#VALUE!"},{"$error":"#VALUE!"},{"$error":"#VALUE!"}]
[null,null,null,null,null,null,null,null,null,null,null,null,null,null,{"$f":"IF(Analyze!G263=\"\",\"\",Analyze!G263)","v":""},{"$f":"IF(Analyze!S263=\"\",\"\",Analyze!S263)","v":{"$error":"#VALUE!"}},null,null,null,null,null,null,null,"",{"$f":"IF(W264=\"\",\"\",W263+$H$4*COS(ATAN((X264-X263)/(W264-W263))))","v":""},{"$f":"IF(W264=\"\",\"\",X263-$H$4*SIN(ATAN((X264-X263)/(W264-W263))))","v":""},25.700000000000095,-5.4953337319895974,25.700000000000095,1.8137057545201209,25.700000000000095,-2.1862942454798437,25.700000000000095,-6.186294245479858,{"$error":"#VALUE!"},{"$error":"#VALUE!"},{"$error":"#VALUE!"},{"$error":"#VALUE!"},{"$error":"#VALUE!"},{"$error":"#VALUE!"},{"$error":"#VALUE!"},{"$error":"#VALUE!"},{"$error":"#VALUE!"},{"$error":"#VALUE!"},{"$error":"#VALUE!"},{"$error":"#VALUE!"}]
[null,null,null,null,null,null,null,null,null,null,null,null,null,null,{"$f":"IF(Analyze!G264=\"\",\"\",Analyze!G264)","v":""},{"$f":"IF(Analyze!S264=\"\",\"\",Analyze!S264)","v":{"$error":"#VALUE!"}},null,null,null,null,null,null,null,"","","",{"$f":"AA263+0.1","v":25.800000000000097},{"$f":"AB263-0.1*TAN(RADIANS($F$7))","v":-5.5653544858105688},{"$f":"AC263+0.1","v":25.800000000000097},{"$f":"AD263-0.1*TAN(RADIANS($F$8))","v":1.7869108352770087},{"$f":"AE263+0.1","v":25.800000000000097},{"$f":"AF263-0.1*TAN(RADIANS($F$9))","v":-2.2130891647229558},{"$f":"AG263+0.1","v":25.800000000000097},{"$f":"AH263-0.1*TAN(RADIANS($F$10))","v":-6.2130891647229705},{"$f":"AI263+0.1","v":{"$error":"#VALUE!"}},{"$f":"AJ263-0.1*TAN(RADIANS($F$11))","v":{"$error":"#VALUE!"}},{"$f":"AK263+0.1","v":{"$error":"#VALUE!"}},{"$f":"AL263-0.1*TAN(RADIANS($F$12))","v":{"$error":"#VALUE!"}},{"$f":"AM263+0.1","v":{"$error":"#VALUE!"}},{"$f":"AN263-0.1*TAN(RADIANS($F$13))","v":{"$error":"#VALUE!"}},{"$f":"AO263+0.1","v":{"$error":"#VALUE!"}},{"$f":"AP263-0.1*TAN(RADIANS($F$14))","v":{"$error":"#VALUE!"}},{"$f":"AQ263+0.1","v":{"$error":"#VALUE!"}},{"$f":"AR263-0.1*TAN(RADIANS($F$15))","v":{"$error":"#VALUE!"}},{"$f":"AS263+0.1","v":{"$error":"#VALUE!"}},{"$f":"AT263-0.1*TAN(RADIANS($F$16))","v":{"$error":"#VALUE!"}}]
[null,null,null,null,null,null,null,null,null,null,null,null,null,null,{"$f":"IF(Analyze!G265=\"\",\"\",Analyze!G265)","v":""},{"$f":"IF(Analyze!S265=\"\",\"\",Analyze!S265)","v":{"$error":"#VALUE!"}},null,null,null,null,null,null,null,"","","",25.900000000000098,-5.6353752396315402,25.900000000000098,1.7601159160338964,25.900000000000098,-2.2398840839660679,25.900000000000098,-6.239884083966083,{"$error":"#VALUE!"},{"$error":"#VALUE!"},{"$error":"#VALUE!"},{"$error":"#VALUE!"},{"$error":"#VALUE!"},{"$error":"#VALUE!"},{"$error":"#VALUE!"},{"$error":"#VALUE!"},{"$error":"#VALUE!"},{"$error":"#VALUE!"},{"$error":"#VALUE!"},{"$error":"#VALUE!"}]
[null,null,null,null,null,null,null,null,null,null,null,null,null,null,{"$f":"IF(Analyze!G266=\"\",\"\",Analyze!G266)","v":""},{"$f":"IF(Analyze!S266=\"\",\"\",Analyze!S266)","v":{"$error":"#VALUE!"}},null,null,null,null,null,null,null,"","","",26.000000000000099,-5.7053959934525116,26.000000000000099,1.7333209967907841,26.000000000000099,-2.2666790032091799,26.000000000000099,-6.2666790032091955,{"$error":"#VALUE!"},{"$error":"#VALUE!"},{"$error":"#VALUE!"},{"$error":"#VALUE!"},{"$error":"#VALUE!"},{"$error":"#VALUE!"},{"$error":"#VALUE!"},{"$error":"#VALUE!"},{"$error":"#VALUE!"},{"$error":"#VALUE!"},{"$error":"#VALUE!"},{"$error":"#VALUE!"}]
[null,null,null,null,null,null,null,null,null,null,null,null,null,null,{"$f":"IF(Analyze!G267=\"\",\"\",Analyze!G267)","v":""},{"$f":"IF(Analyze!S267=\"\",\"\",Analyze!S267)","v":{"$error":"#VALUE!"}},null,null,null,null,null,null,null,"","","",26.100000000000101,-5.775416747273483,26.100000000000101,1.7065260775476718,26.100000000000101,-2.293473922452292,26.100000000000101,-6.293473922452308,{"$error":"#VALUE!"},{"$error":"#VALUE!"},{"$error":"#VALUE!"},{"$error":"#VALUE!"},{"$error":"#VALUE!"},{"$error":"#VALUE!"},{"$error":"#VALUE!"},{"$error":"#VALUE!"},{"$error":"#VALUE!"},{"$error":"#VALUE!"},{"$error":"#VALUE!"},{"$error":"#VALUE!"}]
[null,null,null,null,null,null,null,null,null,null,null,null,null,null,{"$f":"IF(Analyze!G268=\"\",\"\",Analyze!G268)","v":""},{"$f":"IF(Analyze!S268=\"\",\"\",Analyze!S268)","v":{"$error":"#VALUE!"}},null,null,null,null,null,null,null,"","","",26.200000000000102,-5.8454375010944544,26.200000000000102,1.6797311583045595,26.200000000000102,-2.320268841695404,26.200000000000102,-6.3202688416954205,{"$error":"#VALUE!"},{"$error":"#VALUE!"},{"$error":"#VALUE!"},{"$error":"#VALUE!"},{"$error":"#VALUE!"},{"$error":"#VALUE!"},{"$error":"#VALUE!"},{"$error":"#VALUE!"},{"$error":"#VALUE!"},{"$error":"#VALUE!"},{"$error":"#VALUE!"},{"$error":"#VALUE!"}]
[null,null,null,null,null,null,null,null,null,null,null,null,null,null,{"$f":"IF(Analyze!G269=\"\",\"\",Analyze!G269)","v":""},{"$f":"IF(Analyze!S269=\"\",\"\",Analyze!S269)","v":{"$error":"#VALUE!"}},null,null,null,null,null,null,null,"","","",26.300000000000104,-5.9154582549154258,26.300000000000104,1.6529362390614473,26.300000000000104,-2.3470637609385161,26.300000000000104,-6.347063760938533,{"$error":"#VALUE!"},{"$error":"#VALUE!"},{"$error":"#VALUE!"},{"$error":"#VALUE!"},{"$error":"#VALUE!"},{"$error":"#VALUE!"},{"$error":"#VALUE!"},{"$error":"#VALUE!"},{"$error":"#VALUE!"},{"$error":"#VALUE!"},{"$error":"#VALUE!"},{"$error":"#VALUE!"}]
[null,null,null,null,null,null,null,null,null,null,null,null,null,null,{"$f":"IF(Analyze!G270=\"\",\"\",Analyze!G270)","v":""},{"$f":"IF(Analyze!S270=\"\",\"\",Analyze!S270)","v":{"$error":"#VALUE!"}},null,null,null,null,null,null,null,"","","",26.400000000000105,-5.9854790087363972,26.400000000000105,1.626141319818335,26.400000000000105,-2.3738586801816282,26.400000000000105,-6.3738586801816455,{"$error":"#VALUE!"},{"$error":"#VALUE!"},{"$error":"#VALUE!"},{"$error":"#VALUE!"},{"$error":"#VALUE!"},{"$error":"#VALUE!"},{"$error":"#VALUE!"},{"$error":"#VALUE!"},{"$error":"#VALUE!"},{"$error":"#VALUE!"},{"$error":"#VALUE!"},{"$error":"#VALUE!"}]
[null,null,null,null,null,null,null,null,null,null,null,null,null,null,{"$f":"IF(Analyze!G271=\"\",\"\",Analyze!G271)","v":""},{"$f":"IF(Analyze!S271=\"\",\"\",Analyze!S271)","v":{"$error":"#VALUE!"}},null,null,null,null,null,null,null,"","","",26.500000000000107,-6.0554997625573685,26.500000000000107,1.5993464005752227,26.500000000000107,-2.4006535994247402,26.500000000000107,-6.400653599424758,{"$error":"#VALUE!"},{"$error":"#VALUE!"},{"$error":"#VALUE!"},{"$error":"#VALUE!"},{"$error":"#VALUE!"},{"$error":"#VALUE!"},{"$error":"#VALUE!"},{"$error":"#VALUE!"},{"$error":"#VALUE!"},{"$error":"#VALUE!"},{"$error":"#VALUE!"},{"$error":"#VALUE!"}]
[null,null,null,null,null,null,null,null,null,null,null,null,null,null,{"$f":"IF(Analyze!G272=\"\",\"\",Analyze!G272)","v":""},{"$f":"IF(Analyze!S272=\"\",\"\",Analyze!S272)","v":{"$error":"#VALUE!"}},null,null,null,null,null,null,null,"","","",26.600000000000108,-6.1255205163783399,26.600000000000108,1.5725514813321104,26.600000000000108,-2.4274485186678523,26.600000000000108,-6.4274485186678705,{"$error":"#VALUE!"},{"$error":"#VALUE!"},{"$error":"#VALUE!"},{"$error":"#VALUE!"},{"$error":"#VALUE!"},{"$error":"#VALUE!"},{"$error":"#VALUE!"},{"$error":"#VALUE!"},{"$error":"#VALUE!"},{"$error":"#VALUE!"},{"$error":"#VALUE!"},{"$error":"#VALUE!"}]
[null,null,null,null,null,null,null,null,null,null,null,null,null,null,{"$f":"IF(Analyze!G273=\"\",\"\",Analyze!G273)","v":""},{"$f":"IF(Analyze!S273=\"\",\"\",Analyze!S273)","v":{"$error":"#VALUE!"}},null,null,null,null,null,null,null,"","","",26.700000000000109,-6.1955412701993113,26.700000000000109,1.5457565620889981,26.700000000000109,-2.4542434379109643,26.700000000000109,-6.454243437910983,{"$error":"#VALUE!"},{"$error":"#VALUE!"},{"$error":"#VALUE!"},{"$error":"#VALUE!"},{"$error":"#VALUE!"},{"$error":"#VALUE!"},{"$error":"#VALUE!"},{"$error":"#VALUE!"},{"$error":"#VALUE!"},{"$error":"#VALUE!"},{"$error":"#VALUE!"},{"$error":"#VALUE!"}]
[null,null,null,null,null,null,null,null,null,null,null,null,null,null,{"$f":"IF(Analyze!G274=\"\",\"\",Analyze!G274)","v":""},{"$f":"IF(Analyze!S274=\"\",\"\",Analyze!S274)","v":{"$error":"#VALUE!"}},null,null,null,null,null,null,null,"","","",26.800000000000111,-6.2655620240202827,26.800000000000111,1.5189616428458859,26.800000000000111,-2.4810383571540764,26.800000000000111,-6.4810383571540955,{"$error":"#VALUE!"},{"$error":"#VALUE!"},{"$error":"#VALUE!"},{"$error":"#VALUE!"},{"$error":"#VALUE!"},{"$error":"#VALUE!"},{"$error":"#VALUE!"},{"$error":"#VALUE!"},{"$error":"#VALUE!"},{"$error":"#VALUE!"},{"$error":"#VALUE!"},{"$error":"#VALUE!"}]
[null,null,null,null,null,null,null,null,null,null,null,null,null,null,{"$f":"IF(Analyze!G275=\"\",\"\",Analyze!G275)","v":""},{"$f":"IF(Analyze!S275=\"\",\"\",Analyze!S275)","v":{"$error":"#VALUE!"}},null,null,null,null,null,null,null,"","","",26.900000000000112,-6.3355827778412541,26.900000000000112,1.4921667236027736,26.900000000000112,-2.5078332763971884,26.900000000000112,-6.507833276397208,{"$error":"#VALUE!"},{"$error":"#VALUE!"},{"$error":"#VALUE!"},{"$error":"#VALUE!"},{"$error":"#VALUE!"},{"$error":"#VALUE!"},{"$error":"#VALUE!"},{"$error":"#VALUE!"},{"$error":"#VALUE!"},{"$error":"#VALUE!"},{"$error":"#VALUE!"},{"$error":"#VALUE!"}]
[null,null,null,null,null,null,null,null,null,null,null,null,null,null,{"$f":"IF(Analyze!G276=\"\",\"\",Analyze!G276)","v":""},{"$f":"IF(Analyze!S276=\"\",\"\",Analyze!S276)","v":{"$error":"#VALUE!"}},null,null,null,null,null,null,null,"","","",27.000000000000114,-6.4056035316622255,27.000000000000114,1.4653718043596613,27.000000000000114,-2.5346281956403005,27.000000000000114,-6.5346281956403205,{"$error":"#VALUE!"},{"$error":"#VALUE!"},{"$error":"#VALUE!"},{"$error":"#VALUE!"},{"$error":"#VALUE!"},{"$error":"#VALUE!"},{"$error":"#VALUE!"},{"$error":"#VALUE!"},{"$error":"#VALUE!"},{"$error":"#VALUE!"},{"$error":"#VALUE!"},{"$error":"#VALUE!"}]
[null,null,null,null,null,null,null,null,null,null,null,null,null,null,{"$f":"IF(Analyze!G277=\"\",\"\",Analyze!G277)","v":""},{"$f":"IF(Analyze!S277=\"\",\"\",Analyze!S277)","v":{"$error":"#VALUE!"}},null,null,null,null,null,null,null,"","","",27.100000000000115,-6.4756242854831969,27.100000000000115,1.438576885116549,27.100000000000115,-2.5614231148834126,27.100000000000115,-6.561423114883433,{"$error":"#VALUE!"},{"$error":"#VALUE!"},{"$error":"#VALUE!"},{"$error":"#VALUE!"},{"$error":"#VALUE!"},{"$error":"#VALUE!"},{"$error":"#VALUE!"},{"$error":"#VALUE!"},{"$error":"#VALUE!"},{"$error":"#VALUE!"},{"$error":"#VALUE!"},{"$error":"#VALUE!"}]
[null,null,null,null,null,null,null,null,null,null,null,null,null,null,{"$f":"IF(Analyze!G278=\"\",\"\",Analyze!G278)","v":""},{"$f":"IF(Analyze!S278=\"\",\"\",Analyze!S278)","v":{"$error":"#VALUE!"}},null,null,null,null,null,null,null,"","","",27.200000000000117,-6.5456450393041683,27.200000000000117,1.4117819658734367,27.200000000000117,-2.5882180341265246,27.200000000000117,-6.5882180341265455,{"$error":"#VALUE!"},{"$error":"#VALUE!"},{"$error":"#VALUE!"},{"$error":"#VALUE!"},{"$error":"#VALUE!"},{"$error":"#VALUE!"},{"$error":"#VALUE!"},{"$error":"#VALUE!"},{"$error":"#VALUE!"},{"$error":"#VALUE!"},{"$error":"#VALUE!"},{"$error":"#VALUE!"}]
[null,null,null,null,null,null,null,null,null,null,null,null,null,null,{"$f":"IF(Analyze!G279=\"\",\"\",Analyze!G279)","v":""},{"$f":"IF(Analyze!S279=\"\",\"\",Analyze!S279)","v":{"$error":"#VALUE!"}},null,null,null,null,null,null,null,"","","",27.300000000000118,-6.6156657931251397,27.300000000000118,1.3849870466303245,27.300000000000118,-2.6150129533696367,27.300000000000118,-6.615012953369658,{"$error":"#VALUE!"},{"$error":"#VALUE!"},{"$error":"#VALUE!"},{"$error":"#VALUE!"},{"$error":"#VALUE!"},{"$error":"#VALUE!"},{"$error":"#VALUE!"},{"$error":"#VALUE!"},{"$error":"#VALUE!"},{"$error":"#VALUE!"},{"$error":"#VALUE!"},{"$error":"#VALUE!"}]
[null,null,null,null,null,null,null,null,null,null,null,null,null,null,{"$f":"IF(Analyze!G280=\"\",\"\",Analyze!G280)","v":""},{"$f":"IF(Analyze!S280=\"\",\"\",Analyze!S280)","v":{"$error":"#VALUE!"}},null,null,null,null,null,null,null,"","","",27.400000000000119,-6.6856865469461111,27.400000000000119,1.3581921273872122,27.400000000000119,-2.6418078726127487,27.400000000000119,-6.6418078726127705,{"$error":"#VALUE!"},{"$error":"#VALUE!"},{"$error":"#VALUE!"},{"$error":"#VALUE!"},{"$error":"#VALUE!"},{"$error":"#VALUE!"},{"$error":"#VALUE!"},{"$error":"#VALUE!"},{"$error":"#VALUE!"},{"$error":"#VALUE!"},{"$error":"#VALUE!"},{"$error":"#VALUE!"}]
[null,null,null,null,null,null,null,null,null,null,null,null,null,null,{"$f":"IF(Analyze!G281=\"\",\"\",Analyze!G281)","v":""},{"$f":"IF(Analyze!S281=\"\",\"\",Analyze!S281)","v":{"$error":"#VALUE!"}},null,null,null,null,null,null,null,"","","",27.500000000000121,-6.7557073007670825,27.500000000000121,1.3313972081440999,27.500000000000121,-2.6686027918558608,27.500000000000121,-6.668602791855883,{"$error":"#VALUE!"},{"$error":"#VALUE!"},{"$error":"#VALUE!"},{"$error":"#VALUE!"},{"$error":"#VALUE!"},{"$error":"#VALUE!"},{"$error":"#VALUE!"},{"$error":"#VALUE!"},{"$error":"#VALUE!"},{"$error":"#VALUE!"},{"$error":"#VALUE!"},{"$error":"#VALUE!"}]
[null,null,null,null,null,null,null,null,null,null,null,null,null,null,{"$f":"IF(Analyze!G282=\"\",\"\",Analyze!G282)","v":""},{"$f":"IF(Analyze!S282=\"\",\"\",Analyze!S282)","v":{"$error":"#VALUE!"}},null,null,null,null,null,null,null,"","","",27.600000000000122,-6.8257280545880539,27.600000000000122,1.3046022889009876,27.600000000000122,-2.6953977110989729,27.600000000000122,-6.6953977110989955,{"$error":"#VALUE!"},{"$error":"#VALUE!"},{"$error":"#VALUE!"},{"$error":"#VALUE!"},{"$error":"#VALUE!"},{"$error":"#VALUE!"},{"$error":"#VALUE!"},{"$error":"#VALUE!"},{"$error":"#VALUE!"},{"$error":"#VALUE!"},{"$error":"#VALUE!"},{"$error":"#VALUE!"}]
[null,null,null,null,null,null,null,null,null,null,null,null,null,null,{"$f":"IF(Analyze!G283=\"\",\"\",Analyze!G283)","v":""},{"$f":"IF(Analyze!S283=\"\",\"\",Analyze!S283)","v":{"$error":"#VALUE!"}},null,null,null,null,null,null,null,"","","",27.700000000000124,-6.8957488084090253,27.700000000000124,1.2778073696578753,27.700000000000124,-2.7221926303420849,27.700000000000124,-6.722192630342108,{"$error":"#VALUE!"},{"$error":"#VALUE!"},{"$error":"#VALUE!"},{"$error":"#VALUE!"},{"$error":"#VALUE!"},{"$error":"#VALUE!"},{"$error":"#VALUE!"},{"$error":"#VALUE!"},{"$error":"#VALUE!"},{"$error":"#VALUE!"},{"$error":"#VALUE!"},{"$error":"#VALUE!"}]
[null,null,null,null,null,null,null,null,null,null,null,null,null,null,{"$f":"IF(Analyze!G284=\"\",\"\",Analyze!G284)","v":""},{"$f":"IF(Analyze!S284=\"\",\"\",Analyze!S284)","v":{"$error":"#VALUE!"}},null,null,null,null,null,null,null,"","","",27.800000000000125,-6.9657695622299967,27.800000000000125,1.2510124504147631,27.800000000000125,-2.748987549585197,27.800000000000125,-6.7489875495852205,{"$error":"#VALUE!"},{"$error":"#VALUE!"},{"$error":"#VALUE!"},{"$error":"#VALUE!"},{"$error":"#VALUE!"},{"$error":"#VALUE!"},{"$error":"#VALUE!"},{"$error":"#VALUE!"},{"$error":"#VALUE!"},{"$error":"#VALUE!"},{"$error":"#VALUE!"},{"$error":"#VALUE!"}]
[null,null,null,null,null,null,null,null,null,null,null,null,null,null,{"$f":"IF(Analyze!G285=\"\",\"\",Analyze!G285)","v":""},{"$f":"IF(Analyze!S285=\"\",\"\",Analyze!S285)","v":{"$error":"#VALUE!"}},null,null,null,null,null,null,null,"","","",27.900000000000126,-7.0357903160509681,27.900000000000126,1.2242175311716508,27.900000000000126,-2.775782468828309,27.900000000000126,-6.775782468828333,{"$error":"#VALUE!"},{"$error":"#VALUE!"},{"$error":"#VALUE!"},{"$error":"#VALUE!"},{"$error":"#VALUE!"},{"$error":"#VALUE!"},{"$error":"#VALUE!"},{"$error":"#VALUE!"},{"$error":"#VALUE!"},{"$error":"#VALUE!"},{"$error":"#VALUE!"},{"$error":"#VALUE!"}]
[null,null,null,null,null,null,null,null,null,null,null,null,null,null,{"$f":"IF(Analyze!G286=\"\",\"\",Analyze!G286)","v":""},{"$f":"IF(Analyze!S286=\"\",\"\",Analyze!S286)","v":{"$error":"#VALUE!"}},null,null,null,null,null,null,null,"","","",28.000000000000128,-7.1058110698719394,28.000000000000128,1.1974226119285385,28.000000000000128,-2.8025773880714211,28.000000000000128,-6.8025773880714455,{"$error":"#VALUE!"},{"$error":"#VALUE!"},{"$error":"#VALUE!"},{"$error":"#VALUE!"},{"$error":"#VALUE!"},{"$error":"#VALUE!"},{"$error":"#VALUE!"},{"$error":"#VALUE!"},{"$error":"#VALUE!"},{"$error":"#VALUE!"},{"$error":"#VALUE!"},{"$error":"#VALUE!"}]
[null,null,null,null,null,null,null,null,null,null,null,null,null,null,{"$f":"IF(Analyze!G287=\"\",\"\",Analyze!G287)","v":""},{"$f":"IF(Analyze!S287=\"\",\"\",Analyze!S287)","v":{"$error":"#VALUE!"}},null,null,null,null,null,null,null,"","","",28.100000000000129,-7.1758318236929108,28.100000000000129,1.1706276926854262,28.100000000000129,-2.8293723073145332,28.100000000000129,-6.829372307314558,{"$error":"#VALUE!"},{"$error":"#VALUE!"},{"$error":"#VALUE!"},{"$error":"#VALUE!"},{"$error":"#VALUE!"},{"$error":"#VALUE!"},{"$error":"#VALUE!"},{"$error":"#VALUE!"},{"$error":"#VALUE!"},{"$error":"#VALUE!"},{"$error":"#VALUE!"},{"$error":"#VALUE!"}]
[null,null,null,null,null,null,null,null,null,null,null,null,null,null,{"$f":"IF(Analyze!G288=\"\",\"\",Analyze!G288)","v":""},{"$f":"IF(Analyze!S288=\"\",\"\",Analyze!S288)","v":{"$error":"#VALUE!"}},null,null,null,null,null,null,null,"","","",28.200000000000131,-7.2458525775138822,28.200000000000131,1.1438327734423139,28.200000000000131,-2.8561672265576452,28.200000000000131,-6.8561672265576705,{"$error":"#VALUE!"},{"$error":"#VALUE!"},{"$error":"#VALUE!"},{"$error":"#VALUE!"},{"$error":"#VALUE!"},{"$error":"#VALUE!"},{"$error":"#VALUE!"},{"$error":"#VALUE!"},{"$error":"#VALUE!"},{"$error":"#VALUE!"},{"$error":"#VALUE!"},{"$error":"#VALUE!"}]
[null,null,null,null,null,null,null,null,null,null,null,null,null,null,{"$f":"IF(Analyze!G289=\"\",\"\",Analyze!G289)","v":""},{"$f":"IF(Analyze!S289=\"\",\"\",Analyze!S289)","v":{"$error":"#VALUE!"}},null,null,null,null,null,null,null,"","","",28.300000000000132,-7.3158733313348536,28.300000000000132,1.1170378541992017,28.300000000000132,-2.8829621458007573,28.300000000000132,-6.882962145800783,{"$error":"#VALUE!"},{"$error":"#VALUE!"},{"$error":"#VALUE!"},{"$error":"#VALUE!"},{"$error":"#VALUE!"},{"$error":"#VALUE!"},{"$error":"#VALUE!"},{"$error":"#VALUE!"},{"$error":"#VALUE!"},{"$error":"#VALUE!"},{"$error":"#VALUE!"},{"$error":"#VALUE!"}]
[null,null,null,null,null,null,null,null,null,null,null,null,null,null,{"$f":"IF(Analyze!G290=\"\",\"\",Analyze!G290)","v":""},{"$f":"IF(Analyze!S290=\"\",\"\",Analyze!S290)","v":{"$error":"#VALUE!"}},null,null,null,null,null,null,null,"","","",28.400000000000134,-7.385894085155825,28.400000000000134,1.0902429349560894,28.400000000000134,-2.9097570650438693,28.400000000000134,-6.9097570650438955,{"$error":"#VALUE!"},{"$error":"#VALUE!"},{"$error":"#VALUE!"},{"$error":"#VALUE!"},{"$error":"#VALUE!"},{"$error":"#VALUE!"},{"$error":"#VALUE!"},{"$error":"#VALUE!"},{"$error":"#VALUE!"},{"$error":"#VALUE!"},{"$error":"#VALUE!"},{"$error":"#VALUE!"}]
[null,null,null,null,null,null,null,null,null,null,null,null,null,null,{"$f":"IF(Analyze!G291=\"\",\"\",Analyze!G291)","v":""},{"$f":"IF(Analyze!S291=\"\",\"\",Analyze!S291)","v":{"$error":"#VALUE!"}},null,null,null,null,null,null,null,"","","",28.500000000000135,-7.4559148389767964,28.500000000000135,1.0634480157129771,28.500000000000135,-2.9365519842869814,28.500000000000135,-6.936551984287008,{"$error":"#VALUE!"},{"$error":"#VALUE!"},{"$error":"#VALUE!"},{"$error":"#VALUE!"},{"$error":"#VALUE!"},{"$error":"#VALUE!"},{"$error":"#VALUE!"},{"$error":"#VALUE!"},{"$error":"#VALUE!"},{"$error":"#VALUE!"},{"$error":"#VALUE!"},{"$error":"#VALUE!"}]
[null,null,null,null,null,null,null,null,null,null,null,null,null,null,{"$f":"IF(Analyze!G292=\"\",\"\",Analyze!G292)","v":""},{"$f":"IF(Analyze!S292=\"\",\"\",Analyze!S292)","v":{"$error":"#VALUE!"}},null,null,null,null,null,null,null,"","","",28.600000000000136,-7.5259355927977678,28.600000000000136,1.0366530964698648,28.600000000000136,-2.9633469035300934,28.600000000000136,-6.9633469035301205,{"$error":"#VALUE!"},{"$error":"#VALUE!"},{"$error":"#VALUE!"},{"$error":"#VALUE!"},{"$error":"#VALUE!"},{"$error":"#VALUE!"},{"$error":"#VALUE!"},{"$error":"#VALUE!"},{"$error":"#VALUE!"},{"$error":"#VALUE!"},{"$error":"#VALUE!"},{"$error":"#VALUE!"}]
[null,null,null,null,null,null,null,null,null,null,null,null,null,null,{"$f":"IF(Analyze!G293=\"\",\"\",Analyze!G293)","v":""},{"$f":"IF(Analyze!S293=\"\",\"\",Analyze!S293)","v":{"$error":"#VALUE!"}},null,null,null,null,null,null,null,"","","",28.700000000000138,-7.5959563466187392,28.700000000000138,1.0098581772267525,28.700000000000138,-2.9901418227732055,28.700000000000138,-6.990141822773233,{"$error":"#VALUE!"},{"$error":"#VALUE!"},{"$error":"#VALUE!"},{"$error":"#VALUE!"},{"$error":"#VALUE!"},{"$error":"#VALUE!"},{"$error":"#VALUE!"},{"$error":"#VALUE!"},{"$error":"#VALUE!"},{"$error":"#VALUE!"},{"$error":"#VALUE!"},{"$error":"#VALUE!"}]
[null,null,null,null,null,null,null,null,null,null,null,null,null,null,{"$f":"IF(Analyze!G294=\"\",\"\",Analyze!G294)","v":""},{"$f":"IF(Analyze!S294=\"\",\"\",Analyze!S294)","v":{"$error":"#VALUE!"}},null,null,null,null,null,null,null,"","","",28.800000000000139,-7.6659771004397106,28.800000000000139,0.98306325798364025,28.800000000000139,-3.0169367420163176,28.800000000000139,-7.0169367420163455,{"$error":"#VALUE!"},{"$error":"#VALUE!"},{"$error":"#VALUE!"},{"$error":"#VALUE!"},{"$error":"#VALUE!"},{"$error":"#VALUE!"},{"$error":"#VALUE!"},{"$error":"#VALUE!"},{"$error":"#VALUE!"},{"$error":"#VALUE!"},{"$error":"#VALUE!"},{"$error":"#VALUE!"}]
[null,null,null,null,null,null,null,null,null,null,null,null,null,null,{"$f":"IF(Analyze!G295=\"\",\"\",Analyze!G295)","v":""},{"$f":"IF(Analyze!S295=\"\",\"\",Analyze!S295)","v":{"$error":"#VALUE!"}},null,null,null,null,null,null,null,"","","",28.900000000000141,-7.735997854260682,28.900000000000141,0.95626833874052797,28.900000000000141,-3.0437316612594296,28.900000000000141,-7.043731661259458,{"$error":"#VALUE!"},{"$error":"#VALUE!"},{"$error":"#VALUE!"},{"$error":"#VALUE!"},{"$error":"#VALUE!"},{"$error":"#VALUE!"},{"$error":"#VALUE!"},{"$error":"#VALUE!"},{"$error":"#VALUE!"},{"$error":"#VALUE!"},{"$error":"#VALUE!"},{"$error":"#VALUE!"}]
[null,null,null,null,null,null,null,null,null,null,null,null,null,null,{"$f":"IF(Analyze!G296=\"\",\"\",Analyze!G296)","v":""},{"$f":"IF(Analyze!S296=\"\",\"\",Analyze!S296)","v":{"$error":"#VALUE!"}},null,null,null,null,null,null,null,"","","",29.000000000000142,-7.8060186080816534,29.000000000000142,0.92947341949741569,29.000000000000142,-3.0705265805025417,29.000000000000142,-7.0705265805025705,{"$error":"#VALUE!"},{"$error":"#VALUE!"},{"$error":"#VALUE!"},{"$error":"#VALUE!"},{"$error":"#VALUE!"},{"$error":"#VALUE!"},{"$error":"#VALUE!"},{"$error":"#VALUE!"},{"$error":"#VALUE!"},{"$error":"#VALUE!"},{"$error":"#VALUE!"},{"$error":"#VALUE!"}]
[null,null,null,null,null,null,null,null,null,null,null,null,null,null,{"$f":"IF(Analyze!G297=\"\",\"\",Analyze!G297)","v":""},{"$f":"IF(Analyze!S297=\"\",\"\",Analyze!S297)","v":{"$error":"#VALUE!"}},null,null,null,null,null,null,null,"","","",29.100000000000144,-7.8760393619026248,29.100000000000144,0.90267850025430341,29.100000000000144,-3.0973214997456537,29.100000000000144,-7.097321499745683,{"$error":"#VALUE!"},{"$error":"#VALUE!"},{"$error":"#VALUE!"},{"$error":"#VALUE!"},{"$error":"#VALUE!"},{"$error":"#VALUE!"},{"$error":"#VALUE!"},{"$error":"#VALUE!"},{"$error":"#VALUE!"},{"$error":"#VALUE!"},{"$error":"#VALUE!"},{"$error":"#VALUE!"}]
[null,null,null,null,null,null,null,null,null,null,null,null,null,null,{"$f":"IF(Analyze!G298=\"\",\"\",Analyze!G298)","v":""},{"$f":"IF(Analyze!S298=\"\",\"\",Analyze!S298)","v":{"$error":"#VALUE!"}},null,null,null,null,null,null,null,"","","",29.200000000000145,-7.9460601157235962,29.200000000000145,0.87588358101119113,29.200000000000145,-3.1241164189887658,29.200000000000145,-7.1241164189887956,{"$error":"#VALUE!"},{"$error":"#VALUE!"},{"$error":"#VALUE!"},{"$error":"#VALUE!"},{"$error":"#VALUE!"},{"$error":"#VALUE!"},{"$error":"#VALUE!"},{"$error":"#VALUE!"},{"$error":"#VALUE!"},{"$error":"#VALUE!"},{"$error":"#VALUE!"},{"$error":"#VALUE!"}]
[null,null,null,null,null,null,null,null,null,null,null,null,null,null,{"$f":"IF(Analyze!G299=\"\",\"\",Analyze!G299)","v":""},{"$f":"IF(Analyze!S299=\"\",\"\",Analyze!S299)","v":{"$error":"#VALUE!"}},null,null,null,null,null,null,null,"","","",29.300000000000146,-8.0160808695445667,29.300000000000146,0.84908866176807885,29.300000000000146,-3.1509113382318779,29.300000000000146,-7.1509113382319081,{"$error":"#VALUE!"},{"$error":"#VALUE!"},{"$error":"#VALUE!"},{"$error":"#VALUE!"},{"$error":"#VALUE!"},{"$error":"#VALUE!"},{"$error":"#VALUE!"},{"$error":"#VALUE!"},{"$error":"#VALUE!"},{"$error":"#VALUE!"},{"$error":"#VALUE!"},{"$error":"#VALUE!"}]
[null,null,null,null,null,null,null,null,null,null,null,null,null,null,{"$f":"IF(Analyze!G300=\"\",\"\",Analyze!G300)","v":""},{"$f":"IF(Analyze!S300=\"\",\"\",Analyze!S300)","v":{"$error":"#VALUE!"}},null,null,null,null,null,null,null,"","","",29.400000000000148,-8.0861016233655381,29.400000000000148,0.82229374252496656,29.400000000000148,-3.1777062574749899,29.400000000000148,-7.1777062574750206,{"$error":"#VALUE!"},{"$error":"#VALUE!"},{"$error":"#VALUE!"},{"$error":"#VALUE!"},{"$error":"#VALUE!"},{"$error":"#VALUE!"},{"$error":"#VALUE!"},{"$error":"#VALUE!"},{"$error":"#VALUE!"},{"$error":"#VALUE!"},{"$error":"#VALUE!"},{"$error":"#VALUE!"}]
[null,null,null,null,null,null,null,null,null,null,null,null,null,null,{"$f":"IF(Analyze!G301=\"\",\"\",Analyze!G301)","v":""},{"$f":"IF(Analyze!S301=\"\",\"\",Analyze!S301)","v":{"$error":"#VALUE!"}},null,null,null,null,null,null,null,"","","",29.500000000000149,-8.1561223771865095,29.500000000000149,0.79549882328185428,29.500000000000149,-3.204501176718102,29.500000000000149,-7.2045011767181331,{"$error":"#VALUE!"},{"$error":"#VALUE!"},{"$error":"#VALUE!"},{"$error":"#VALUE!"},{"$error":"#VALUE!"},{"$error":"#VALUE!"},{"$error":"#VALUE!"},{"$error":"#VALUE!"},{"$error":"#VALUE!"},{"$error":"#VALUE!"},{"$error":"#VALUE!"},{"$error":"#VALUE!"}]
[null,null,null,null,null,null,null,null,null,null,null,null,null,null,{"$f":"IF(Analyze!G302=\"\",\"\",Analyze!G302)","v":""},{"$f":"IF(Analyze!S302=\"\",\"\",Analyze!S302)","v":{"$error":"#VALUE!"}},null,null,null,null,null,null,null,"","","",29.600000000000151,-8.2261431310074808,29.600000000000151,0.768703904038742,29.600000000000151,-3.231296095961214,29.600000000000151,-7.2312960959612456,{"$error":"#VALUE!"},{"$error":"#VALUE!"},{"$error":"#VALUE!"},{"$error":"#VALUE!"},{"$error":"#VALUE!"},{"$error":"#VALUE!"},{"$error":"#VALUE!"},{"$error":"#VALUE!"},{"$error":"#VALUE!"},{"$error":"#VALUE!"},{"$error":"#VALUE!"},{"$error":"#VALUE!"}]
[null,null,null,null,null,null,null,null,null,null,null,null,null,null,{"$f":"IF(Analyze!G303=\"\",\"\",Analyze!G303)","v":""},{"$f":"IF(Analyze!S303=\"\",\"\",Analyze!S303)","v":{"$error":"#VALUE!"}},null,null,null,null,null,null,null,"","","",29.700000000000152,-8.2961638848284522,29.700000000000152,0.74190898479562972,29.700000000000152,-3.2580910152043261,29.700000000000152,-7.2580910152043581,{"$error":"#VALUE!"},{"$error":"#VALUE!"},{"$error":"#VALUE!"},{"$error":"#VALUE!"},{"$error":"#VALUE!"},{"$error":"#VALUE!"},{"$error":"#VALUE!"},{"$error":"#VALUE!"},{"$error":"#VALUE!"},{"$error":"#VALUE!"},{"$error":"#VALUE!"},{"$error":"#VALUE!"}]
[null,null,null,null,null,null,null,null,null,null,null,null,null,null,{"$f":"IF(Analyze!G304=\"\",\"\",Analyze!G304)","v":""},{"$f":"IF(Analyze!S304=\"\",\"\",Analyze!S304)","v":{"$error":"#VALUE!"}},null,null,null,null,null,null,null,"","","",29.800000000000153,-8.3661846386494236,29.800000000000153,0.71511406555251744,29.800000000000153,-3.2848859344474381,29.800000000000153,-7.2848859344474706,{"$error":"#VALUE!"},{"$error":"#VALUE!"},{"$error":"#VALUE!"},{"$error":"#VALUE!"},{"$error":"#VALUE!"},{"$error":"#VALUE!"},{"$error":"#VALUE!"},{"$error":"#VALUE!"},{"$error":"#VALUE!"},{"$error":"#VALUE!"},{"$error":"#VALUE!"},{"$error":"#VALUE!"}]
[null,null,null,null,null,null,null,null,null,null,null,null,null,null,{"$f":"IF(Analyze!G305=\"\",\"\",Analyze!G305)","v":""},{"$f":"IF(Analyze!S305=\"\",\"\",Analyze!S305)","v":{"$error":"#VALUE!"}},null,null,null,null,null,null,null,"","","",29.900000000000155,-8.436205392470395,29.900000000000155,0.68831914630940516,29.900000000000155,-3.3116808536905502,29.900000000000155,-7.3116808536905831,{"$error":"#VALUE!"},{"$error":"#VALUE!"},{"$error":"#VALUE!"},{"$error":"#VALUE!"},{"$error":"#VALUE!"},{"$error":"#VALUE!"},{"$error":"#VALUE!"},{"$error":"#VALUE!"},{"$error":"#VALUE!"},{"$error":"#VALUE!"},{"$error":"#VALUE!"},{"$error":"#VALUE!"}]
[null,null,null,null,null,null,null,null,null,null,null,null,null,null,{"$f":"IF(Analyze!G306=\"\",\"\",Analyze!G306)","v":""},{"$f":"IF(Analyze!S306=\"\",\"\",Analyze!S306)","v":{"$error":"#VALUE!"}},null,null,null,null,null,null,null,"","","",30.000000000000156,-8.5062261462913664,30.000000000000156,0.66152422706629288,30.000000000000156,-3.3384757729336623,30.000000000000156,-7.3384757729336956,{"$error":"#VALUE!"},{"$error":"#VALUE!"},{"$error":"#VALUE!"},{"$error":"#VALUE!"},{"$error":"#VALUE!"},{"$error":"#VALUE!"},{"$error":"#VALUE!"},{"$error":"#VALUE!"},{"$error":"#VALUE!"},{"$error":"#VALUE!"},{"$error":"#VALUE!"},{"$error":"#VALUE!"}]
[null,null,null,null,null,null,null,null,null,null,null,null,null,null,{"$f":"IF(Analyze!G307=\"\",\"\",Analyze!G307)","v":""},{"$f":"IF(Analyze!S307=\"\",\"\",Analyze!S307)","v":{"$error":"#VALUE!"}},null,null,null,null,null,null,null,"",{"$f":"IF(W308=\"\",\"\",W307+$H$4*COS(ATAN((X308-X307)/(W308-W307))))","v":""},{"$f":"IF(W308=\"\",\"\",X307-$H$4*SIN(ATAN((X308-X307)/(W308-W307))))","v":""},30.100000000000158,-8.5762469001123378,30.100000000000158,0.6347293078231806,30.100000000000158,-3.3652706921767743,30.100000000000158,-7.3652706921768081,{"$error":"#VALUE!"},{"$error":"#VALUE!"},{"$error":"#VALUE!"},{"$error":"#VALUE!"},{"$error":"#VALUE!"},{"$error":"#VALUE!"},{"$error":"#VALUE!"},{"$error":"#VALUE!"},{"$error":"#VALUE!"},{"$error":"#VALUE!"},{"$error":"#VALUE!"},{"$error":"#VALUE!"}]
[null,null,null,null,null,null,null,null,null,null,null,null,null,null,{"$f":"IF(Analyze!G308=\"\",\"\",Analyze!G308)","v":""},{"$f":"IF(Analyze!S308=\"\",\"\",Analyze!S308)","v":{"$error":"#VALUE!"}},null,null,null,null,null,null,null,"","","",30.200000000000159,-8.6462676539333092,30.200000000000159,0.60793438858006832,30.200000000000159,-3.3920656114198864,30.200000000000159,-7.3920656114199206,{"$error":"#VALUE!"},{"$error":"#VALUE!"},{"$error":"#VALUE!"},{"$error":"#VALUE!"},{"$error":"#VALUE!"},{"$error":"#VALUE!"},{"$error":"#VALUE!"},{"$error":"#VALUE!"},{"$error":"#VALUE!"},{"$error":"#VALUE!"},{"$error":"#VALUE!"},{"$error":"#VALUE!"}]
[null,null,null,null,null,null,null,null,null,null,null,null,null,null,{"$f":"IF(Analyze!G309=\"\",\"\",Analyze!G309)","v":""},{"$f":"IF(Analyze!S309=\"\",\"\",Analyze!S309)","v":{"$error":"#VALUE!"}},null,null,null,null,null,null,null,"","","",30.300000000000161,-8.7162884077542806,30.300000000000161,0.58113946933695604,30.300000000000161,-3.4188605306629984,30.300000000000161,-7.4188605306630331,{"$error":"#VALUE!"},{"$error":"#VALUE!"},{"$error":"#VALUE!"},{"$error":"#VALUE!"},{"$error":"#VALUE!"},{"$error":"#VALUE!"},{"$error":"#VALUE!"},{"$error":"#VALUE!"},{"$error":"#VALUE!"},{"$error":"#VALUE!"},{"$error":"#VALUE!"},{"$error":"#VALUE!"}]
[null,null,null,null,null,null,null,null,null,null,null,null,null,null,{"$f":"IF(Analyze!G310=\"\",\"\",Analyze!G310)","v":""},{"$f":"IF(Analyze!S310=\"\",\"\",Analyze!S310)","v":{"$error":"#VALUE!"}},null,null,null,null,null,null,null,"","","",30.400000000000162,-8.786309161575252,30.400000000000162,0.55434455009384376,30.400000000000162,-3.4456554499061105,30.400000000000162,-7.4456554499061456,{"$error":"#VALUE!"},{"$error":"#VALUE!"},{"$error":"#VALUE!"},{"$error":"#VALUE!"},{"$error":"#VALUE!"},{"$error":"#VALUE!"},{"$error":"#VALUE!"},{"$error":"#VALUE!"},{"$error":"#VALUE!"},{"$error":"#VALUE!"},{"$error":"#VALUE!"},{"$error":"#VALUE!"}]
[null,null,null,null,null,null,null,null,null,null,null,null,null,null,{"$f":"IF(Analyze!G311=\"\",\"\",Analyze!G311)","v":""},{"$f":"IF(Analyze!S311=\"\",\"\",Analyze!S311)","v":{"$error":"#VALUE!"}},null,null,null,null,null,null,null,"","","",30.500000000000163,-8.8563299153962234,30.500000000000163,0.52754963085073148,30.500000000000163,-3.4724503691492226,30.500000000000163,-7.4724503691492581,{"$error":"#VALUE!"},{"$error":"#VALUE!"},{"$error":"#VALUE!"},{"$error":"#VALUE!"},{"$error":"#VALUE!"},{"$error":"#VALUE!"},{"$error":"#VALUE!"},{"$error":"#VALUE!"},{"$error":"#VALUE!"},{"$error":"#VALUE!"},{"$error":"#VALUE!"},{"$error":"#VALUE!"}]
[null,null,null,null,null,null,null,null,null,null,null,null,null,null,{"$f":"IF(Analyze!G312=\"\",\"\",Analyze!G312)","v":""},{"$f":"IF(Analyze!S312=\"\",\"\",Analyze!S312)","v":{"$error":"#VALUE!"}},null,null,null,null,null,null,null,"","","",30.600000000000165,-8.9263506692171948,30.600000000000165,0.5007547116076192,30.600000000000165,-3.4992452883923346,30.600000000000165,-7.4992452883923706,{"$error":"#VALUE!"},{"$error":"#VALUE!"},{"$error":"#VALUE!"},{"$error":"#VALUE!"},{"$error":"#VALUE!"},{"$error":"#VALUE!"},{"$error":"#VALUE!"},{"$error":"#VALUE!"},{"$error":"#VALUE!"},{"$error":"#VALUE!"},{"$error":"#VALUE!"},{"$error":"#VALUE!"}]
[null,null,null,null,null,null,null,null,null,null,null,null,null,null,{"$f":"IF(Analyze!G313=\"\",\"\",Analyze!G313)","v":""},{"$f":"IF(Analyze!S313=\"\",\"\",Analyze!S313)","v":{"$error":"#VALUE!"}},null,null,null,null,null,null,null,"","","",30.700000000000166,-8.9963714230381662,30.700000000000166,0.47395979236450692,30.700000000000166,-3.5260402076354467,30.700000000000166,-7.5260402076354831,{"$error":"#VALUE!"},{"$error":"#VALUE!"},{"$error":"#VALUE!"},{"$error":"#VALUE!"},{"$error":"#VALUE!"},{"$error":"#VALUE!"},{"$error":"#VALUE!"},{"$error":"#VALUE!"},{"$error":"#VALUE!"},{"$error":"#VALUE!"},{"$error":"#VALUE!"},{"$error":"#VALUE!"}]
[null,null,null,null,null,null,null,null,null,null,null,null,null,null,{"$f":"IF(Analyze!G314=\"\",\"\",Analyze!G314)","v":""},{"$f":"IF(Analyze!S314=\"\",\"\",Analyze!S314)","v":{"$error":"#VALUE!"}},null,null,null,null,null,null,null,"","","",30.800000000000168,-9.0663921768591376,30.800000000000168,0.44716487312139463,30.800000000000168,-3.5528351268785587,30.800000000000168,-7.5528351268785956,{"$error":"#VALUE!"},{"$error":"#VALUE!"},{"$error":"#VALUE!"},{"$error":"#VALUE!"},{"$error":"#VALUE!"},{"$error":"#VALUE!"},{"$error":"#VALUE!"},{"$error":"#VALUE!"},{"$error":"#VALUE!"},{"$error":"#VALUE!"},{"$error":"#VALUE!"},{"$error":"#VALUE!"}]
[null,null,null,null,null,null,null,null,null,null,null,null,null,null,{"$f":"IF(Analyze!G315=\"\",\"\",Analyze!G315)","v":""},{"$f":"IF(Analyze!S315=\"\",\"\",Analyze!S315)","v":{"$error":"#VALUE!"}},null,null,null,null,null,null,null,"","","",30.900000000000169,-9.136412930680109,30.900000000000169,0.42036995387828235,30.900000000000169,-3.5796300461216708,30.900000000000169,-7.5796300461217081,{"$error":"#VALUE!"},{"$error":"#VALUE!"},{"$error":"#VALUE!"},{"$error":"#VALUE!"},{"$error":"#VALUE!"},{"$error":"#VALUE!"},{"$error":"#VALUE!"},{"$error":"#VALUE!"},{"$error":"#VALUE!"},{"$error":"#VALUE!"},{"$error":"#VALUE!"},{"$error":"#VALUE!"}]
[null,null,null,null,null,null,null,null,null,null,null,null,null,null,{"$f":"IF(Analyze!G316=\"\",\"\",Analyze!G316)","v":""},{"$f":"IF(Analyze!S316=\"\",\"\",Analyze!S316)","v":{"$error":"#VALUE!"}},null,null,null,null,null,null,null,"","","",31.000000000000171,-9.2064336845010804,31.000000000000171,0.39357503463517007,31.000000000000171,-3.6064249653647829,31.000000000000171,-7.6064249653648206,{"$error":"#VALUE!"},{"$error":"#VALUE!"},{"$error":"#VALUE!"},{"$error":"#VALUE!"},{"$error":"#VALUE!"},{"$error":"#VALUE!"},{"$error":"#VALUE!"},{"$error":"#VALUE!"},{"$error":"#VALUE!"},{"$error":"#VALUE!"},{"$error":"#VALUE!"},{"$error":"#VALUE!"}]
[null,null,null,null,null,null,null,null,null,null,null,null,null,null,{"$f":"IF(Analyze!G317=\"\",\"\",Analyze!G317)","v":""},{"$f":"IF(Analyze!S317=\"\",\"\",Analyze!S317)","v":{"$error":"#VALUE!"}},null,null,null,null,null,null,null,"","","",31.100000000000172,-9.2764544383220517,31.100000000000172,0.36678011539205779,31.100000000000172,-3.6332198846078949,31.100000000000172,-7.6332198846079331,{"$error":"#VALUE!"},{"$error":"#VALUE!"},{"$error":"#VALUE!"},{"$error":"#VALUE!"},{"$error":"#VALUE!"},{"$error":"#VALUE!"},{"$error":"#VALUE!"},{"$error":"#VALUE!"},{"$error":"#VALUE!"},{"$error":"#VALUE!"},{"$error":"#VALUE!"},{"$error":"#VALUE!"}]
[null,null,null,null,null,null,null,null,null,null,null,null,null,null,{"$f":"IF(Analyze!G318=\"\",\"\",Analyze!G318)","v":""},{"$f":"IF(Analyze!S318=\"\",\"\",Analyze!S318)","v":{"$error":"#VALUE!"}},null,null,null,null,null,null,null,"","","",31.200000000000173,-9.3464751921430231,31.200000000000173,0.33998519614894551,31.200000000000173,-3.660014803851007,31.200000000000173,-7.6600148038510456,{"$error":"#VALUE!"},{"$error":"#VALUE!"},{"$error":"#VALUE!"},{"$error":"#VALUE!"},{"$error":"#VALUE!"},{"$error":"#VALUE!"},{"$error":"#VALUE!"},{"$error":"#VALUE!"},{"$error":"#VALUE!"},{"$error":"#VALUE!"},{"$error":"#VALUE!"},{"$error":"#VALUE!"}]
[null,null,null,null,null,null,null,null,null,null,null,null,null,null,{"$f":"IF(Analyze!G319=\"\",\"\",Analyze!G319)","v":""},{"$f":"IF(Analyze!S319=\"\",\"\",Analyze!S319)","v":{"$error":"#VALUE!"}},null,null,null,null,null,null,null,"","","",31.300000000000175,-9.4164959459639945,31.300000000000175,0.31319027690583323,31.300000000000175,-3.686809723094119,31.300000000000175,-7.6868097230941581,{"$error":"#VALUE!"},{"$error":"#VALUE!"},{"$error":"#VALUE!"},{"$error":"#VALUE!"},{"$error":"#VALUE!"},{"$error":"#VALUE!"},{"$error":"#VALUE!"},{"$error":"#VALUE!"},{"$error":"#VALUE!"},{"$error":"#VALUE!"},{"$error":"#VALUE!"},{"$error":"#VALUE!"}]
[null,null,null,null,null,null,null,null,null,null,null,null,null,null,{"$f":"IF(Analyze!G320=\"\",\"\",Analyze!G320)","v":""},{"$f":"IF(Analyze!S320=\"\",\"\",Analyze!S320)","v":{"$error":"#VALUE!"}},null,null,null,null,null,null,null,"","","",31.400000000000176,-9.4865166997849659,31.400000000000176,0.28639535766272095,31.400000000000176,-3.7136046423372311,31.400000000000176,-7.7136046423372706,{"$error":"#VALUE!"},{"$error":"#VALUE!"},{"$error":"#VALUE!"},{"$error":"#VALUE!"},{"$error":"#VALUE!"},{"$error":"#VALUE!"},{"$error":"#VALUE!"},{"$error":"#VALUE!"},{"$error":"#VALUE!"},{"$error":"#VALUE!"},{"$error":"#VALUE!"},{"$error":"#VALUE!"}]
[null,null,null,null,null,null,null,null,null,null,null,null,null,null,{"$f":"IF(Analyze!G321=\"\",\"\",Analyze!G321)","v":""},{"$f":"IF(Analyze!S321=\"\",\"\",Analyze!S321)","v":{"$error":"#VALUE!"}},null,null,null,null,null,null,null,"","","",31.500000000000178,-9.5565374536059373,31.500000000000178,0.25960043841960867,31.500000000000178,-3.7403995615803431,31.500000000000178,-7.7403995615803831,{"$error":"#VALUE!"},{"$error":"#VALUE!"},{"$error":"#VALUE!"},{"$error":"#VALUE!"},{"$error":"#VALUE!"},{"$error":"#VALUE!"},{"$error":"#VALUE!"},{"$error":"#VALUE!"},{"$error":"#VALUE!"},{"$error":"#VALUE!"},{"$error":"#VALUE!"},{"$error":"#VALUE!"}]
[null,null,null,null,null,null,null,null,null,null,null,null,null,null,{"$f":"IF(Analyze!G322=\"\",\"\",Analyze!G322)","v":""},{"$f":"IF(Analyze!S322=\"\",\"\",Analyze!S322)","v":{"$error":"#VALUE!"}},null,null,null,null,null,null,null,"","","",31.600000000000179,-9.6265582074269087,31.600000000000179,0.23280551917649639,31.600000000000179,-3.7671944808234552,31.600000000000179,-7.7671944808234956,{"$error":"#VALUE!"},{"$error":"#VALUE!"},{"$error":"#VALUE!"},{"$error":"#VALUE!"},{"$error":"#VALUE!"},{"$error":"#VALUE!"},{"$error":"#VALUE!"},{"$error":"#VALUE!"},{"$error":"#VALUE!"},{"$error":"#VALUE!"},{"$error":"#VALUE!"},{"$error":"#VALUE!"}]
[null,null,null,null,null,null,null,null,null,null,null,null,null,null,{"$f":"IF(Analyze!G323=\"\",\"\",Analyze!G323)","v":""},{"$f":"IF(Analyze!S323=\"\",\"\",Analyze!S323)","v":{"$error":"#VALUE!"}},null,null,null,null,null,null,null,"","","",31.70000000000018,-9.6965789612478801,31.70000000000018,0.20601059993338411,31.70000000000018,-3.7939894000665673,31.70000000000018,-7.7939894000666081,{"$error":"#VALUE!"},{"$error":"#VALUE!"},{"$error":"#VALUE!"},{"$error":"#VALUE!"},{"$error":"#VALUE!"},{"$error":"#VALUE!"},{"$error":"#VALUE!"},{"$error":"#VALUE!"},{"$error":"#VALUE!"},{"$error":"#VALUE!"},{"$error":"#VALUE!"},{"$error":"#VALUE!"}]
[null,null,null,null,null,null,null,null,null,null,null,null,null,null,{"$f":"IF(Analyze!G324=\"\",\"\",Analyze!G324)","v":""},{"$f":"IF(Analyze!S324=\"\",\"\",Analyze!S324)","v":{"$error":"#VALUE!"}},null,null,null,null,null,null,null,"","","",31.800000000000182,-9.7665997150688515,31.800000000000182,0.17921568069027183,31.800000000000182,-3.8207843193096793,31.800000000000182,-7.8207843193097206,{"$error":"#VALUE!"},{"$error":"#VALUE!"},{"$error":"#VALUE!"},{"$error":"#VALUE!"},{"$error":"#VALUE!"},{"$error":"#VALUE!"},{"$error":"#VALUE!"},{"$error":"#VALUE!"},{"$error":"#VALUE!"},{"$error":"#VALUE!"},{"$error":"#VALUE!"},{"$error":"#VALUE!"}]
[null,null,null,null,null,null,null,null,null,null,null,null,null,null,{"$f":"IF(Analyze!G325=\"\",\"\",Analyze!G325)","v":""},{"$f":"IF(Analyze!S325=\"\",\"\",Analyze!S325)","v":{"$error":"#VALUE!"}},null,null,null,null,null,null,null,"","","",31.900000000000183,-9.8366204688898229,31.900000000000183,0.15242076144715955,31.900000000000183,-3.8475792385527914,31.900000000000183,-7.8475792385528331,{"$error":"#VALUE!"},{"$error":"#VALUE!"},{"$error":"#VALUE!"},{"$error":"#VALUE!"},{"$error":"#VALUE!"},{"$error":"#VALUE!"},{"$error":"#VALUE!"},{"$error":"#VALUE!"},{"$error":"#VALUE!"},{"$error":"#VALUE!"},{"$error":"#VALUE!"},{"$error":"#VALUE!"}]
[null,null,null,null,null,null,null,null,null,null,null,null,null,null,{"$f":"IF(Analyze!G326=\"\",\"\",Analyze!G326)","v":""},{"$f":"IF(Analyze!S326=\"\",\"\",Analyze!S326)","v":{"$error":"#VALUE!"}},null,null,null,null,null,null,null,{"$f":"IF(O326=\"\",\"\",IF(O326>h+$H$2,(\"\"),(h-O326)))","v":""},"","",32.000000000000185,-9.9066412227107943,32.000000000000185,0.12562584220404727,32.000000000000185,-3.8743741577959034,32.000000000000185,-7.8743741577959456,{"$error":"#VALUE!"},{"$error":"#VALUE!"},{"$error":"#VALUE!"},{"$error":"#VALUE!"},{"$error":"#VALUE!"},{"$error":"#VALUE!"},{"$error":"#VALUE!"},{"$error":"#VALUE!"},{"$error":"#VALUE!"},{"$error":"#VALUE!"},{"$error":"#VALUE!"},{"$error":"#VALUE!"}]
[null,null,null,null,null,null,null,null,null,null,null,null,null,null,{"$f":"IF(Analyze!G327=\"\",\"\",Analyze!G327)","v":""},{"$f":"IF(Analyze!S327=\"\",\"\",Analyze!S327)","v":{"$error":"#VALUE!"}},null,null,null,null,null,null,null,"","","",32.100000000000186,-9.9766619765317657,32.100000000000186,9.8830922960935E-2,32.100000000000186,-3.9011690770390155,32.100000000000186,-7.9011690770390581,{"$error":"#VALUE!"},{"$error":"#VALUE!"},{"$error":"#VALUE!"},{"$error":"#VALUE!"},{"$error":"#VALUE!"},{"$error":"#VALUE!"},{"$error":"#VALUE!"},{"$error":"#VALUE!"},{"$error":"#VALUE!"},{"$error":"#VALUE!"},{"$error":"#VALUE!"},{"$error":"#VALUE!"}]
[null,null,null,null,null,null,null,null,null,null,null,null,null,null,{"$f":"IF(Analyze!G328=\"\",\"\",Analyze!G328)","v":""},{"$f":"IF(Analyze!S328=\"\",\"\",Analyze!S328)","v":{"$error":"#VALUE!"}},null,null,null,null,null,null,null,"","","",{"$f":"AA327+0.1","v":32.200000000000188},{"$f":"AB327-0.1*TAN(RADIANS($F$7))","v":-10.046682730352737},{"$f":"AC327+0.1","v":32.200000000000188},{"$f":"AD327-0.1*TAN(RADIANS($F$8))","v":7.2036003717822733E-2},{"$f":"AE327+0.1","v":32.200000000000188},{"$f":"AF327-0.1*TAN(RADIANS($F$9))","v":-3.9279639962821276},{"$f":"AG327+0.1","v":32.200000000000188},{"$f":"AH327-0.1*TAN(RADIANS($F$10))","v":-7.9279639962821706},{"$f":"AI327+0.1","v":{"$error":"#VALUE!"}},{"$f":"AJ327-0.1*TAN(RADIANS($F$11))","v":{"$error":"#VALUE!"}},{"$f":"AK327+0.1","v":{"$error":"#VALUE!"}},{"$f":"AL327-0.1*TAN(RADIANS($F$12))","v":{"$error":"#VALUE!"}},{"$f":"AM327+0.1","v":{"$error":"#VALUE!"}},{"$f":"AN327-0.1*TAN(RADIANS($F$13))","v":{"$error":"#VALUE!"}},{"$f":"AO327+0.1","v":{"$error":"#VALUE!"}},{"$f":"AP327-0.1*TAN(RADIANS($F$14))","v":{"$error":"#VALUE!"}},{"$f":"AQ327+0.1","v":{"$error":"#VALUE!"}},{"$f":"AR327-0.1*TAN(RADIANS($F$15))","v":{"$error":"#VALUE!"}},{"$f":"AS327+0.1","v":{"$error":"#VALUE!"}},{"$f":"AT327-0.1*TAN(RADIANS($F$16))","v":{"$error":"#VALUE!"}}]
[null,null,null,null,null,null,null,null,null,null,null,null,null,null,{"$f":"IF(Analyze!G329=\"\",\"\",Analyze!G329)","v":""},{"$f":"IF(Analyze!S329=\"\",\"\",Analyze!S329)","v":{"$error":"#VALUE!"}},null,null,null,null,null,null,null,"","","",32.300000000000189,-10.116703484173708,32.300000000000189,4.5241084474710466E-2,32.300000000000189,-3.9547589155252396,32.300000000000189,-7.9547589155252831,{"$error":"#VALUE!"},{"$error":"#VALUE!"},{"$error":"#VALUE!"},{"$error":"#VALUE!"},{"$error":"#VALUE!"},{"$error":"#VALUE!"},{"$error":"#VALUE!"},{"$error":"#VALUE!"},{"$error":"#VALUE!"},{"$error":"#VALUE!"},{"$error":"#VALUE!"},{"$error":"#VALUE!"}]
[null,null,null,null,null,null,null,null,null,null,null,null,null,null,{"$f":"IF(Analyze!G330=\"\",\"\",Analyze!G330)","v":""},{"$f":"IF(Analyze!S330=\"\",\"\",Analyze!S330)","v":{"$error":"#VALUE!"}},null,null,null,null,null,null,null,"","","",32.40000000000019,-10.18672423799468,32.40000000000019,1.8446165231598196E-2,32.40000000000019,-3.9815538347683517,32.40000000000019,-7.9815538347683956,{"$error":"#VALUE!"},{"$error":"#VALUE!"},{"$error":"#VALUE!"},{"$error":"#VALUE!"},{"$error":"#VALUE!"},{"$error":"#VALUE!"},{"$error":"#VALUE!"},{"$error":"#VALUE!"},{"$error":"#VALUE!"},{"$error":"#VALUE!"},{"$error":"#VALUE!"},{"$error":"#VALUE!"}]
[null,null,null,null,null,null,null,null,null,null,null,null,null,null,{"$f":"IF(Analyze!G331=\"\",\"\",Analyze!G331)","v":""},{"$f":"IF(Analyze!S331=\"\",\"\",Analyze!S331)","v":{"$error":"#VALUE!"}},null,null,null,null,null,null,null,"","","",32.500000000000192,-10.256744991815651,32.500000000000192,-8.3487540115140743E-3,32.500000000000192,-4.0083487540114637,32.500000000000192,-8.0083487540115073,{"$error":"#VALUE!"},{"$error":"#VALUE!"},{"$error":"#VALUE!"},{"$error":"#VALUE!"},{"$error":"#VALUE!"},{"$error":"#VALUE!"},{"$error":"#VALUE!"},{"$error":"#VALUE!"},{"$error":"#VALUE!"},{"$error":"#VALUE!"},{"$error":"#VALUE!"},{"$error":"#VALUE!"}]
[null,null,null,null,null,null,null,null,null,null,null,null,null,null,{"$f":"IF(Analyze!G332=\"\",\"\",Analyze!G332)","v":""},{"$f":"IF(Analyze!S332=\"\",\"\",Analyze!S332)","v":{"$error":"#VALUE!"}},null,null,null,null,null,null,null,"","","",32.600000000000193,-10.326765745636623,32.600000000000193,-3.5143673254626348E-2,32.600000000000193,-4.0351436732545762,32.600000000000193,-8.0351436732546198,{"$error":"#VALUE!"},{"$error":"#VALUE!"},{"$error":"#VALUE!"},{"$error":"#VALUE!"},{"$error":"#VALUE!"},{"$error":"#VALUE!"},{"$error":"#VALUE!"},{"$error":"#VALUE!"},{"$error":"#VALUE!"},{"$error":"#VALUE!"},{"$error":"#VALUE!"},{"$error":"#VALUE!"}]
[null,null,null,null,null,null,null,null,null,null,null,null,null,null,{"$f":"IF(Analyze!G333=\"\",\"\",Analyze!G333)","v":""},{"$f":"IF(Analyze!S333=\"\",\"\",Analyze!S333)","v":{"$error":"#VALUE!"}},null,null,null,null,null,null,null,"","","",32.700000000000195,-10.396786499457594,32.700000000000195,-6.1938592497738615E-2,32.700000000000195,-4.0619385924976887,32.700000000000195,-8.0619385924977323,{"$error":"#VALUE!"},{"$error":"#VALUE!"},{"$error":"#VALUE!"},{"$error":"#VALUE!"},{"$error":"#VALUE!"},{"$error":"#VALUE!"},{"$error":"#VALUE!"},{"$error":"#VALUE!"},{"$error":"#VALUE!"},{"$error":"#VALUE!"},{"$error":"#VALUE!"},{"$error":"#VALUE!"}]
[null,null,null,null,null,null,null,null,null,null,null,null,null,null,{"$f":"IF(Analyze!G334=\"\",\"\",Analyze!G334)","v":""},{"$f":"IF(Analyze!S334=\"\",\"\",Analyze!S334)","v":{"$error":"#VALUE!"}},null,null,null,null,null,null,null,"","","",32.800000000000196,-10.466807253278565,32.800000000000196,-8.8733511740850882E-2,32.800000000000196,-4.0887335117408012,32.800000000000196,-8.0887335117408448,{"$error":"#VALUE!"},{"$error":"#VALUE!"},{"$error":"#VALUE!"},{"$error":"#VALUE!"},{"$error":"#VALUE!"},{"$error":"#VALUE!"},{"$error":"#VALUE!"},{"$error":"#VALUE!"},{"$error":"#VALUE!"},{"$error":"#VALUE!"},{"$error":"#VALUE!"},{"$error":"#VALUE!"}]
[null,null,null,null,null,null,null,null,null,null,null,null,null,null,{"$f":"IF(Analyze!G335=\"\",\"\",Analyze!G335)","v":""},{"$f":"IF(Analyze!S335=\"\",\"\",Analyze!S335)","v":{"$error":"#VALUE!"}},null,null,null,null,null,null,null,"","","",32.900000000000198,-10.536828007099537,32.900000000000198,-0.11552843098396315,32.900000000000198,-4.1155284309839137,32.900000000000198,-8.1155284309839573,{"$error":"#VALUE!"},{"$error":"#VALUE!"},{"$error":"#VALUE!"},{"$error":"#VALUE!"},{"$error":"#VALUE!"},{"$error":"#VALUE!"},{"$error":"#VALUE!"},{"$error":"#VALUE!"},{"$error":"#VALUE!"},{"$error":"#VALUE!"},{"$error":"#VALUE!"},{"$error":"#VALUE!"}]
[null,null,null,null,null,null,null,null,null,null,null,null,null,null,{"$f":"IF(Analyze!G336=\"\",\"\",Analyze!G336)","v":""},{"$f":"IF(Analyze!S336=\"\",\"\",Analyze!S336)","v":{"$error":"#VALUE!"}},null,null,null,null,null,null,null,"","","",33.000000000000199,-10.606848760920508,33.000000000000199,-0.14232335022707543,33.000000000000199,-4.1423233502270262,33.000000000000199,-8.1423233502270698,{"$error":"#VALUE!"},{"$error":"#VALUE!"},{"$error":"#VALUE!"},{"$error":"#VALUE!"},{"$error":"#VALUE!"},{"$error":"#VALUE!"},{"$error":"#VALUE!"},{"$error":"#VALUE!"},{"$error":"#VALUE!"},{"$error":"#VALUE!"},{"$error":"#VALUE!"},{"$error":"#VALUE!"}]
[null,null,null,null,null,null,null,null,null,null,null,null,null,null,{"$f":"IF(Analyze!G337=\"\",\"\",Analyze!G337)","v":""},{"$f":"IF(Analyze!S337=\"\",\"\",Analyze!S337)","v":{"$error":"#VALUE!"}},null,null,null,null,null,null,null,"","","",33.1000000000002,-10.67686951474148,33.1000000000002,-0.16911826947018771,33.1000000000002,-4.1691182694701387,33.1000000000002,-8.1691182694701823,{"$error":"#VALUE!"},{"$error":"#VALUE!"},{"$error":"#VALUE!"},{"$error":"#VALUE!"},{"$error":"#VALUE!"},{"$error":"#VALUE!"},{"$error":"#VALUE!"},{"$error":"#VALUE!"},{"$error":"#VALUE!"},{"$error":"#VALUE!"},{"$error":"#VALUE!"},{"$error":"#VALUE!"}]
[null,null,null,null,null,null,null,null,null,null,null,null,null,null,{"$f":"IF(Analyze!G338=\"\",\"\",Analyze!G338)","v":""},{"$f":"IF(Analyze!S338=\"\",\"\",Analyze!S338)","v":{"$error":"#VALUE!"}},null,null,null,null,null,null,null,"","","",33.200000000000202,-10.746890268562451,33.200000000000202,-0.19591318871329999,33.200000000000202,-4.1959131887132513,33.200000000000202,-8.1959131887132948,{"$error":"#VALUE!"},{"$error":"#VALUE!"},{"$error":"#VALUE!"},{"$error":"#VALUE!"},{"$error":"#VALUE!"},{"$error":"#VALUE!"},{"$error":"#VALUE!"},{"$error":"#VALUE!"},{"$error":"#VALUE!"},{"$error":"#VALUE!"},{"$error":"#VALUE!"},{"$error":"#VALUE!"}]
[null,null,null,null,null,null,null,null,null,null,null,null,null,null,{"$f":"IF(Analyze!G339=\"\",\"\",Analyze!G339)","v":""},{"$f":"IF(Analyze!S339=\"\",\"\",Analyze!S339)","v":{"$error":"#VALUE!"}},null,null,null,null,null,null,null,"","","",33.300000000000203,-10.816911022383422,33.300000000000203,-0.22270810795641227,33.300000000000203,-4.2227081079563638,33.300000000000203,-8.2227081079564073,{"$error":"#VALUE!"},{"$error":"#VALUE!"},{"$error":"#VALUE!"},{"$error":"#VALUE!"},{"$error":"#VALUE!"},{"$error":"#VALUE!"},{"$error":"#VALUE!"},{"$error":"#VALUE!"},{"$error":"#VALUE!"},{"$error":"#VALUE!"},{"$error":"#VALUE!"},{"$error":"#VALUE!"}]
[null,null,null,null,null,null,null,null,null,null,null,null,null,null,{"$f":"IF(Analyze!G340=\"\",\"\",Analyze!G340)","v":""},{"$f":"IF(Analyze!S340=\"\",\"\",Analyze!S340)","v":{"$error":"#VALUE!"}},null,null,null,null,null,null,null,"","","",33.400000000000205,-10.886931776204394,33.400000000000205,-0.24950302719952455,33.400000000000205,-4.2495030271994763,33.400000000000205,-8.2495030271995198,{"$error":"#VALUE!"},{"$error":"#VALUE!"},{"$error":"#VALUE!"},{"$error":"#VALUE!"},{"$error":"#VALUE!"},{"$error":"#VALUE!"},{"$error":"#VALUE!"},{"$error":"#VALUE!"},{"$error":"#VALUE!"},{"$error":"#VALUE!"},{"$error":"#VALUE!"},{"$error":"#VALUE!"}]
[null,null,null,null,null,null,null,null,null,null,null,null,null,null,{"$f":"IF(Analyze!G341=\"\",\"\",Analyze!G341)","v":""},{"$f":"IF(Analyze!S341=\"\",\"\",Analyze!S341)","v":{"$error":"#VALUE!"}},null,null,null,null,null,null,null,"","","",33.500000000000206,-10.956952530025365,33.500000000000206,-0.27629794644263683,33.500000000000206,-4.2762979464425888,33.500000000000206,-8.2762979464426323,{"$error":"#VALUE!"},{"$error":"#VALUE!"},{"$error":"#VALUE!"},{"$error":"#VALUE!"},{"$error":"#VALUE!"},{"$error":"#VALUE!"},{"$error":"#VALUE!"},{"$error":"#VALUE!"},{"$error":"#VALUE!"},{"$error":"#VALUE!"},{"$error":"#VALUE!"},{"$error":"#VALUE!"}]
[null,null,null,null,null,null,null,null,null,null,null,null,null,null,{"$f":"IF(Analyze!G342=\"\",\"\",Analyze!G342)","v":""},{"$f":"IF(Analyze!S342=\"\",\"\",Analyze!S342)","v":{"$error":"#VALUE!"}},null,null,null,null,null,null,null,"","","",33.600000000000207,-11.026973283846337,33.600000000000207,-0.30309286568574911,33.600000000000207,-4.3030928656857013,33.600000000000207,-8.3030928656857448,{"$error":"#VALUE!"},{"$error":"#VALUE!"},{"$error":"#VALUE!"},{"$error":"#VALUE!"},{"$error":"#VALUE!"},{"$error":"#VALUE!"},{"$error":"#VALUE!"},{"$error":"#VALUE!"},{"$error":"#VALUE!"},{"$error":"#VALUE!"},{"$error":"#VALUE!"},{"$error":"#VALUE!"}]
[null,null,null,null,null,null,null,null,null,null,null,null,null,null,{"$f":"IF(Analyze!G343=\"\",\"\",Analyze!G343)","v":""},{"$f":"IF(Analyze!S343=\"\",\"\",Analyze!S343)","v":{"$error":"#VALUE!"}},null,null,null,null,null,null,null,"","","",33.700000000000209,-11.096994037667308,33.700000000000209,-0.32988778492886139,33.700000000000209,-4.3298877849288138,33.700000000000209,-8.3298877849288573,{"$error":"#VALUE!"},{"$error":"#VALUE!"},{"$error":"#VALUE!"},{"$error":"#VALUE!"},{"$error":"#VALUE!"},{"$error":"#VALUE!"},{"$error":"#VALUE!"},{"$error":"#VALUE!"},{"$error":"#VALUE!"},{"$error":"#VALUE!"},{"$error":"#VALUE!"},{"$error":"#VALUE!"}]
[null,null,null,null,null,null,null,null,null,null,null,null,null,null,{"$f":"IF(Analyze!G344=\"\",\"\",Analyze!G344)","v":""},{"$f":"IF(Analyze!S344=\"\",\"\",Analyze!S344)","v":{"$error":"#VALUE!"}},null,null,null,null,null,null,null,"","","",33.80000000000021,-11.167014791488279,33.80000000000021,-0.35668270417197367,33.80000000000021,-4.3566827041719263,33.80000000000021,-8.3566827041719698,{"$error":"#VALUE!"},{"$error":"#VALUE!"},{"$error":"#VALUE!"},{"$error":"#VALUE!"},{"$error":"#VALUE!"},{"$error":"#VALUE!"},{"$error":"#VALUE!"},{"$error":"#VALUE!"},{"$error":"#VALUE!"},{"$error":"#VALUE!"},{"$error":"#VALUE!"},{"$error":"#VALUE!"}]
[null,null,null,null,null,null,null,null,null,null,null,null,null,null,{"$f":"IF(Analyze!G345=\"\",\"\",Analyze!G345)","v":""},{"$f":"IF(Analyze!S345=\"\",\"\",Analyze!S345)","v":{"$error":"#VALUE!"}},null,null,null,null,null,null,null,"","","",33.900000000000212,-11.237035545309251,33.900000000000212,-0.38347762341508596,33.900000000000212,-4.3834776234150388,33.900000000000212,-8.3834776234150823,{"$error":"#VALUE!"},{"$error":"#VALUE!"},{"$error":"#VALUE!"},{"$error":"#VALUE!"},{"$error":"#VALUE!"},{"$error":"#VALUE!"},{"$error":"#VALUE!"},{"$error":"#VALUE!"},{"$error":"#VALUE!"},{"$error":"#VALUE!"},{"$error":"#VALUE!"},{"$error":"#VALUE!"}]
[null,null,null,null,null,null,null,null,null,null,null,null,null,null,{"$f":"IF(Analyze!G346=\"\",\"\",Analyze!G346)","v":""},{"$f":"IF(Analyze!S346=\"\",\"\",Analyze!S346)","v":{"$error":"#VALUE!"}},null,null,null,null,null,null,null,"","","",34.000000000000213,-11.307056299130222,34.000000000000213,-0.41027254265819824,34.000000000000213,-4.4102725426581513,34.000000000000213,-8.4102725426581948,{"$error":"#VALUE!"},{"$error":"#VALUE!"},{"$error":"#VALUE!"},{"$error":"#VALUE!"},{"$error":"#VALUE!"},{"$error":"#VALUE!"},{"$error":"#VALUE!"},{"$error":"#VALUE!"},{"$error":"#VALUE!"},{"$error":"#VALUE!"},{"$error":"#VALUE!"},{"$error":"#VALUE!"}]
[null,null,null,null,null,null,null,null,null,null,null,null,null,null,{"$f":"IF(Analyze!G347=\"\",\"\",Analyze!G347)","v":""},{"$f":"IF(Analyze!S347=\"\",\"\",Analyze!S347)","v":{"$error":"#VALUE!"}},null,null,null,null,null,null,null,"","","",34.100000000000215,-11.377077052951194,34.100000000000215,-0.43706746190131052,34.100000000000215,-4.4370674619012638,34.100000000000215,-8.4370674619013073,{"$error":"#VALUE!"},{"$error":"#VALUE!"},{"$error":"#VALUE!"},{"$error":"#VALUE!"},{"$error":"#VALUE!"},{"$error":"#VALUE!"},{"$error":"#VALUE!"},{"$error":"#VALUE!"},{"$error":"#VALUE!"},{"$error":"#VALUE!"},{"$error":"#VALUE!"},{"$error":"#VALUE!"}]
[null,null,null,null,null,null,null,null,null,null,null,null,null,null,{"$f":"IF(Analyze!G348=\"\",\"\",Analyze!G348)","v":""},{"$f":"IF(Analyze!S348=\"\",\"\",Analyze!S348)","v":{"$error":"#VALUE!"}},null,null,null,null,null,null,null,"","","",34.200000000000216,-11.447097806772165,34.200000000000216,-0.4638623811444228,34.200000000000216,-4.4638623811443763,34.200000000000216,-8.4638623811444198,{"$error":"#VALUE!"},{"$error":"#VALUE!"},{"$error":"#VALUE!"},{"$error":"#VALUE!"},{"$error":"#VALUE!"},{"$error":"#VALUE!"},{"$error":"#VALUE!"},{"$error":"#VALUE!"},{"$error":"#VALUE!"},{"$error":"#VALUE!"},{"$error":"#VALUE!"},{"$error":"#VALUE!"}]
[null,null,null,null,null,null,null,null,null,null,null,null,null,null,{"$f":"IF(Analyze!G349=\"\",\"\",Analyze!G349)","v":""},{"$f":"IF(Analyze!S349=\"\",\"\",Analyze!S349)","v":{"$error":"#VALUE!"}},null,null,null,null,null,null,null,"","","",34.300000000000217,-11.517118560593136,34.300000000000217,-0.49065730038753508,34.300000000000217,-4.4906573003874888,34.300000000000217,-8.4906573003875323,{"$error":"#VALUE!"},{"$error":"#VALUE!"},{"$error":"#VALUE!"},{"$error":"#VALUE!"},{"$error":"#VALUE!"},{"$error":"#VALUE!"},{"$error":"#VALUE!"},{"$error":"#VALUE!"},{"$error":"#VALUE!"},{"$error":"#VALUE!"},{"$error":"#VALUE!"},{"$error":"#VALUE!"}]
[null,null,null,null,null,null,null,null,null,null,null,null,null,null,{"$f":"IF(Analyze!G350=\"\",\"\",Analyze!G350)","v":""},{"$f":"IF(Analyze!S350=\"\",\"\",Analyze!S350)","v":{"$error":"#VALUE!"}},null,null,null,null,null,null,null,"","","",34.400000000000219,-11.587139314414108,34.400000000000219,-0.51745221963064736,34.400000000000219,-4.5174522196306013,34.400000000000219,-8.5174522196306448,{"$error":"#VALUE!"},{"$error":"#VALUE!"},{"$error":"#VALUE!"},{"$error":"#VALUE!"},{"$error":"#VALUE!"},{"$error":"#VALUE!"},{"$error":"#VALUE!"},{"$error":"#VALUE!"},{"$error":"#VALUE!"},{"$error":"#VALUE!"},{"$error":"#VALUE!"},{"$error":"#VALUE!"}]
[null,null,null,null,null,null,null,null,null,null,null,null,null,null,{"$f":"IF(Analyze!G351=\"\",\"\",Analyze!G351)","v":""},{"$f":"IF(Analyze!S351=\"\",\"\",Analyze!S351)","v":{"$error":"#VALUE!"}},null,null,null,null,null,null,null,"","","",34.50000000000022,-11.657160068235079,34.50000000000022,-0.54424713887375964,34.50000000000022,-4.5442471388737138,34.50000000000022,-8.5442471388737573,{"$error":"#VALUE!"},{"$error":"#VALUE!"},{"$error":"#VALUE!"},{"$error":"#VALUE!"},{"$error":"#VALUE!"},{"$error":"#VALUE!"},{"$error":"#VALUE!"},{"$error":"#VALUE!"},{"$error":"#VALUE!"},{"$error":"#VALUE!"},{"$error":"#VALUE!"},{"$error":"#VALUE!"}]
[null,null,null,null,null,null,null,null,null,null,null,null,null,null,{"$f":"IF(Analyze!G352=\"\",\"\",Analyze!G352)","v":""},{"$f":"IF(Analyze!S352=\"\",\"\",Analyze!S352)","v":{"$error":"#VALUE!"}},null,null,null,null,null,null,null,"","","",34.600000000000222,-11.727180822056051,34.600000000000222,-0.57104205811687192,34.600000000000222,-4.5710420581168263,34.600000000000222,-8.5710420581168698,{"$error":"#VALUE!"},{"$error":"#VALUE!"},{"$error":"#VALUE!"},{"$error":"#VALUE!"},{"$error":"#VALUE!"},{"$error":"#VALUE!"},{"$error":"#VALUE!"},{"$error":"#VALUE!"},{"$error":"#VALUE!"},{"$error":"#VALUE!"},{"$error":"#VALUE!"},{"$error":"#VALUE!"}]
[null,null,null,null,null,null,null,null,null,null,null,null,null,null,{"$f":"IF(Analyze!G353=\"\",\"\",Analyze!G353)","v":""},{"$f":"IF(Analyze!S353=\"\",\"\",Analyze!S353)","v":{"$error":"#VALUE!"}},null,null,null,null,null,null,null,"","","",34.700000000000223,-11.797201575877022,34.700000000000223,-0.5978369773599842,34.700000000000223,-4.5978369773599388,34.700000000000223,-8.5978369773599823,{"$error":"#VALUE!"},{"$error":"#VALUE!"},{"$error":"#VALUE!"},{"$error":"#VALUE!"},{"$error":"#VALUE!"},{"$error":"#VALUE!"},{"$error":"#VALUE!"},{"$error":"#VALUE!"},{"$error":"#VALUE!"},{"$error":"#VALUE!"},{"$error":"#VALUE!"},{"$error":"#VALUE!"}]
[null,null,null,null,null,null,null,null,null,null,null,null,null,null,{"$f":"IF(Analyze!G354=\"\",\"\",Analyze!G354)","v":""},{"$f":"IF(Analyze!S354=\"\",\"\",Analyze!S354)","v":{"$error":"#VALUE!"}},null,null,null,null,null,null,null,"","","",34.800000000000225,-11.867222329697993,34.800000000000225,-0.62463189660309648,34.800000000000225,-4.6246318966030513,34.800000000000225,-8.6246318966030948,{"$error":"#VALUE!"},{"$error":"#VALUE!"},{"$error":"#VALUE!"},{"$error":"#VALUE!"},{"$error":"#VALUE!"},{"$error":"#VALUE!"},{"$error":"#VALUE!"},{"$error":"#VALUE!"},{"$error":"#VALUE!"},{"$error":"#VALUE!"},{"$error":"#VALUE!"},{"$error":"#VALUE!"}]
[null,null,null,null,null,null,null,null,null,null,null,null,null,null,{"$f":"IF(Analyze!G355=\"\",\"\",Analyze!G355)","v":""},{"$f":"IF(Analyze!S355=\"\",\"\",Analyze!S355)","v":{"$error":"#VALUE!"}},null,null,null,null,null,null,null,"","","",34.900000000000226,-11.937243083518965,34.900000000000226,-0.65142681584620876,34.900000000000226,-4.6514268158461638,34.900000000000226,-8.6514268158462073,{"$error":"#VALUE!"},{"$error":"#VALUE!"},{"$error":"#VALUE!"},{"$error":"#VALUE!"},{"$error":"#VALUE!"},{"$error":"#VALUE!"},{"$error":"#VALUE!"},{"$error":"#VALUE!"},{"$error":"#VALUE!"},{"$error":"#VALUE!"},{"$error":"#VALUE!"},{"$error":"#VALUE!"}]
[null,null,null,null,null,null,null,null,null,null,null,null,null,null,{"$f":"IF(Analyze!G356=\"\",\"\",Analyze!G356)","v":""},{"$f":"IF(Analyze!S356=\"\",\"\",Analyze!S356)","v":{"$error":"#VALUE!"}},null,null,null,null,null,null,null,"","","",35.000000000000227,-12.007263837339936,35.000000000000227,-0.67822173508932104,35.000000000000227,-4.6782217350892763,35.000000000000227,-8.6782217350893198,{"$error":"#VALUE!"},{"$error":"#VALUE!"},{"$error":"#VALUE!"},{"$error":"#VALUE!"},{"$error":"#VALUE!"},{"$error":"#VALUE!"},{"$error":"#VALUE!"},{"$error":"#VALUE!"},{"$error":"#VALUE!"},{"$error":"#VALUE!"},{"$error":"#VALUE!"},{"$error":"#VALUE!"}]
[null,null,null,null,null,null,null,null,null,null,null,null,null,null,{"$f":"IF(Analyze!G357=\"\",\"\",Analyze!G357)","v":""},{"$f":"IF(Analyze!S357=\"\",\"\",Analyze!S357)","v":{"$error":"#VALUE!"}},null,null,null,null,null,null,null,"","","",35.100000000000229,-12.077284591160907,35.100000000000229,-0.70501665433243332,35.100000000000229,-4.7050166543323888,35.100000000000229,-8.7050166543324323,{"$error":"#VALUE!"},{"$error":"#VALUE!"},{"$error":"#VALUE!"},{"$error":"#VALUE!"},{"$error":"#VALUE!"},{"$error":"#VALUE!"},{"$error":"#VALUE!"},{"$error":"#VALUE!"},{"$error":"#VALUE!"},{"$error":"#VALUE!"},{"$error":"#VALUE!"},{"$error":"#VALUE!"}]
[null,null,null,null,null,null,null,null,null,null,null,null,null,null,{"$f":"IF(Analyze!G358=\"\",\"\",Analyze!G358)","v":""},{"$f":"IF(Analyze!S358=\"\",\"\",Analyze!S358)","v":{"$error":"#VALUE!"}},null,null,null,null,null,null,null,"","","",35.20000000000023,-12.147305344981879,35.20000000000023,-0.7318115735755456,35.20000000000023,-4.7318115735755013,35.20000000000023,-8.7318115735755448,{"$error":"#VALUE!"},{"$error":"#VALUE!"},{"$error":"#VALUE!"},{"$error":"#VALUE!"},{"$error":"#VALUE!"},{"$error":"#VALUE!"},{"$error":"#VALUE!"},{"$error":"#VALUE!"},{"$error":"#VALUE!"},{"$error":"#VALUE!"},{"$error":"#VALUE!"},{"$error":"#VALUE!"}]
[null,null,null,null,null,null,null,null,null,null,null,null,null,null,{"$f":"IF(Analyze!G359=\"\",\"\",Analyze!G359)","v":""},{"$f":"IF(Analyze!S359=\"\",\"\",Analyze!S359)","v":{"$error":"#VALUE!"}},null,null,null,null,null,null,null,"","","",35.300000000000232,-12.21732609880285,35.300000000000232,-0.75860649281865788,35.300000000000232,-4.7586064928186138,35.300000000000232,-8.7586064928186573,{"$error":"#VALUE!"},{"$error":"#VALUE!"},{"$error":"#VALUE!"},{"$error":"#VALUE!"},{"$error":"#VALUE!"},{"$error":"#VALUE!"},{"$error":"#VALUE!"},{"$error":"#VALUE!"},{"$error":"#VALUE!"},{"$error":"#VALUE!"},{"$error":"#VALUE!"},{"$error":"#VALUE!"}]
[null,null,null,null,null,null,null,null,null,null,null,null,null,null,{"$f":"IF(Analyze!G360=\"\",\"\",Analyze!G360)","v":""},{"$f":"IF(Analyze!S360=\"\",\"\",Analyze!S360)","v":{"$error":"#VALUE!"}},null,null,null,null,null,null,null,"","","",35.400000000000233,-12.287346852623822,35.400000000000233,-0.78540141206177017,35.400000000000233,-4.7854014120617263,35.400000000000233,-8.7854014120617698,{"$error":"#VALUE!"},{"$error":"#VALUE!"},{"$error":"#VALUE!"},{"$error":"#VALUE!"},{"$error":"#VALUE!"},{"$error":"#VALUE!"},{"$error":"#VALUE!"},{"$error":"#VALUE!"},{"$error":"#VALUE!"},{"$error":"#VALUE!"},{"$error":"#VALUE!"},{"$error":"#VALUE!"}]
[null,null,null,null,null,null,null,null,null,null,null,null,null,null,{"$f":"IF(Analyze!G361=\"\",\"\",Analyze!G361)","v":""},{"$f":"IF(Analyze!S361=\"\",\"\",Analyze!S361)","v":{"$error":"#VALUE!"}},null,null,null,null,null,null,null,"","","",35.500000000000234,-12.357367606444793,35.500000000000234,-0.81219633130488245,35.500000000000234,-4.8121963313048388,35.500000000000234,-8.8121963313048823,{"$error":"#VALUE!"},{"$error":"#VALUE!"},{"$error":"#VALUE!"},{"$error":"#VALUE!"},{"$error":"#VALUE!"},{"$error":"#VALUE!"},{"$error":"#VALUE!"},{"$error":"#VALUE!"},{"$error":"#VALUE!"},{"$error":"#VALUE!"},{"$error":"#VALUE!"},{"$error":"#VALUE!"}]
[null,null,null,null,null,null,null,null,null,null,null,null,null,null,{"$f":"IF(Analyze!G362=\"\",\"\",Analyze!G362)","v":""},{"$f":"IF(Analyze!S362=\"\",\"\",Analyze!S362)","v":{"$error":"#VALUE!"}},null,null,null,null,null,null,null,"","","",35.600000000000236,-12.427388360265764,35.600000000000236,-0.83899125054799473,35.600000000000236,-4.8389912505479513,35.600000000000236,-8.8389912505479948,{"$error":"#VALUE!"},{"$error":"#VALUE!"},{"$error":"#VALUE!"},{"$error":"#VALUE!"},{"$error":"#VALUE!"},{"$error":"#VALUE!"},{"$error":"#VALUE!"},{"$error":"#VALUE!"},{"$error":"#VALUE!"},{"$error":"#VALUE!"},{"$error":"#VALUE!"},{"$error":"#VALUE!"}]
[null,null,null,null,null,null,null,null,null,null,null,null,null,null,{"$f":"IF(Analyze!G363=\"\",\"\",Analyze!G363)","v":""},{"$f":"IF(Analyze!S363=\"\",\"\",Analyze!S363)","v":{"$error":"#VALUE!"}},null,null,null,null,null,null,null,"","","",35.700000000000237,-12.497409114086736,35.700000000000237,-0.86578616979110701,35.700000000000237,-4.8657861697910638,35.700000000000237,-8.8657861697911073,{"$error":"#VALUE!"},{"$error":"#VALUE!"},{"$error":"#VALUE!"},{"$error":"#VALUE!"},{"$error":"#VALUE!"},{"$error":"#VALUE!"},{"$error":"#VALUE!"},{"$error":"#VALUE!"},{"$error":"#VALUE!"},{"$error":"#VALUE!"},{"$error":"#VALUE!"},{"$error":"#VALUE!"}]
[null,null,null,null,null,null,null,null,null,null,null,null,null,null,{"$f":"IF(Analyze!G364=\"\",\"\",Analyze!G364)","v":""},{"$f":"IF(Analyze!S364=\"\",\"\",Analyze!S364)","v":{"$error":"#VALUE!"}},null,null,null,null,null,null,null,"","","",35.800000000000239,-12.567429867907707,35.800000000000239,-0.89258108903421929,35.800000000000239,-4.8925810890341763,35.800000000000239,-8.8925810890342198,{"$error":"#VALUE!"},{"$error":"#VALUE!"},{"$error":"#VALUE!"},{"$error":"#VALUE!"},{"$error":"#VALUE!"},{"$error":"#VALUE!"},{"$error":"#VALUE!"},{"$error":"#VALUE!"},{"$error":"#VALUE!"},{"$error":"#VALUE!"},{"$error":"#VALUE!"},{"$error":"#VALUE!"}]
[null,null,null,null,null,null,null,null,null,null,null,null,null,null,{"$f":"IF(Analyze!G365=\"\",\"\",Analyze!G365)","v":""},{"$f":"IF(Analyze!S365=\"\",\"\",Analyze!S365)","v":{"$error":"#VALUE!"}},null,null,null,null,null,null,null,"","","",35.90000000000024,-12.637450621728679,35.90000000000024,-0.91937600827733157,35.90000000000024,-4.9193760082772888,35.90000000000024,-8.9193760082773323,{"$error":"#VALUE!"},{"$error":"#VALUE!"},{"$error":"#VALUE!"},{"$error":"#VALUE!"},{"$error":"#VALUE!"},{"$error":"#VALUE!"},{"$error":"#VALUE!"},{"$error":"#VALUE!"},{"$error":"#VALUE!"},{"$error":"#VALUE!"},{"$error":"#VALUE!"},{"$error":"#VALUE!"}]
[null,null,null,null,null,null,null,null,null,null,null,null,null,null,{"$f":"IF(Analyze!G366=\"\",\"\",Analyze!G366)","v":""},{"$f":"IF(Analyze!S366=\"\",\"\",Analyze!S366)","v":{"$error":"#VALUE!"}},null,null,null,null,null,null,null,"","","",36.000000000000242,-12.70747137554965,36.000000000000242,-0.94617092752044385,36.000000000000242,-4.9461709275204013,36.000000000000242,-8.9461709275204448,{"$error":"#VALUE!"},{"$error":"#VALUE!"},{"$error":"#VALUE!"},{"$error":"#VALUE!"},{"$error":"#VALUE!"},{"$error":"#VALUE!"},{"$error":"#VALUE!"},{"$error":"#VALUE!"},{"$error":"#VALUE!"},{"$error":"#VALUE!"},{"$error":"#VALUE!"},{"$error":"#VALUE!"}]
[null,null,null,null,null,null,null,null,null,null,null,null,null,null,{"$f":"IF(Analyze!G367=\"\",\"\",Analyze!G367)","v":""},{"$f":"IF(Analyze!S367=\"\",\"\",Analyze!S367)","v":{"$error":"#VALUE!"}},null,null,null,null,null,null,null,"","","",36.100000000000243,-12.777492129370621,36.100000000000243,-0.97296584676355613,36.100000000000243,-4.9729658467635138,36.100000000000243,-8.9729658467635574,{"$error":"#VALUE!"},{"$error":"#VALUE!"},{"$error":"#VALUE!"},{"$error":"#VALUE!"},{"$error":"#VALUE!"},{"$error":"#VALUE!"},{"$error":"#VALUE!"},{"$error":"#VALUE!"},{"$error":"#VALUE!"},{"$error":"#VALUE!"},{"$error":"#VALUE!"},{"$error":"#VALUE!"}]
[null,null,null,null,null,null,null,null,null,null,null,null,null,null,{"$f":"IF(Analyze!G368=\"\",\"\",Analyze!G368)","v":""},{"$f":"IF(Analyze!S368=\"\",\"\",Analyze!S368)","v":{"$error":"#VALUE!"}},null,null,null,null,null,null,null,"","","",36.200000000000244,-12.847512883191593,36.200000000000244,-0.99976076600666841,36.200000000000244,-4.9997607660066263,36.200000000000244,-8.9997607660066699,{"$error":"#VALUE!"},{"$error":"#VALUE!"},{"$error":"#VALUE!"},{"$error":"#VALUE!"},{"$error":"#VALUE!"},{"$error":"#VALUE!"},{"$error":"#VALUE!"},{"$error":"#VALUE!"},{"$error":"#VALUE!"},{"$error":"#VALUE!"},{"$error":"#VALUE!"},{"$error":"#VALUE!"}]
[null,null,null,null,null,null,null,null,null,null,null,null,null,null,{"$f":"IF(Analyze!G369=\"\",\"\",Analyze!G369)","v":""},{"$f":"IF(Analyze!S369=\"\",\"\",Analyze!S369)","v":{"$error":"#VALUE!"}},null,null,null,null,null,null,null,"","","",36.300000000000246,-12.917533637012564,36.300000000000246,-1.0265556852497806,36.300000000000246,-5.0265556852497388,36.300000000000246,-9.0265556852497824,{"$error":"#VALUE!"},{"$error":"#VALUE!"},{"$error":"#VALUE!"},{"$error":"#VALUE!"},{"$error":"#VALUE!"},{"$error":"#VALUE!"},{"$error":"#VALUE!"},{"$error":"#VALUE!"},{"$error":"#VALUE!"},{"$error":"#VALUE!"},{"$error":"#VALUE!"},{"$error":"#VALUE!"}]
[null,null,null,null,null,null,null,null,null,null,null,null,null,null,{"$f":"IF(Analyze!G370=\"\",\"\",Analyze!G370)","v":""},{"$f":"IF(Analyze!S370=\"\",\"\",Analyze!S370)","v":{"$error":"#VALUE!"}},null,null,null,null,null,null,null,"","","",36.400000000000247,-12.987554390833536,36.400000000000247,-1.0533506044928929,36.400000000000247,-5.0533506044928513,36.400000000000247,-9.0533506044928949,{"$error":"#VALUE!"},{"$error":"#VALUE!"},{"$error":"#VALUE!"},{"$error":"#VALUE!"},{"$error":"#VALUE!"},{"$error":"#VALUE!"},{"$error":"#VALUE!"},{"$error":"#VALUE!"},{"$error":"#VALUE!"},{"$error":"#VALUE!"},{"$error":"#VALUE!"},{"$error":"#VALUE!"}]
[null,null,null,null,null,null,null,null,null,null,null,null,null,null,{"$f":"IF(Analyze!G371=\"\",\"\",Analyze!G371)","v":""},{"$f":"IF(Analyze!S371=\"\",\"\",Analyze!S371)","v":{"$error":"#VALUE!"}},null,null,null,null,null,null,null,"",{"$f":"IF(W372=\"\",\"\",W371+$H$4*COS(ATAN((X372-X371)/(W372-W371))))","v":""},{"$f":"IF(W372=\"\",\"\",X371-$H$4*SIN(ATAN((X372-X371)/(W372-W371))))","v":""},36.500000000000249,-13.057575144654507,36.500000000000249,-1.0801455237360051,36.500000000000249,-5.0801455237359638,36.500000000000249,-9.0801455237360074,{"$error":"#VALUE!"},{"$error":"#VALUE!"},{"$error":"#VALUE!"},{"$error":"#VALUE!"},{"$error":"#VALUE!"},{"$error":"#VALUE!"},{"$error":"#VALUE!"},{"$error":"#VALUE!"},{"$error":"#VALUE!"},{"$error":"#VALUE!"},{"$error":"#VALUE!"},{"$error":"#VALUE!"}]
[null,null,null,null,null,null,null,null,null,null,null,null,null,null,{"$f":"IF(Analyze!G372=\"\",\"\",Analyze!G372)","v":""},{"$f":"IF(Analyze!S372=\"\",\"\",Analyze!S372)","v":{"$error":"#VALUE!"}},null,null,null,null,null,null,null,"","","",36.60000000000025,-13.127595898475478,36.60000000000025,-1.1069404429791174,36.60000000000025,-5.1069404429790763,36.60000000000025,-9.1069404429791199,{"$error":"#VALUE!"},{"$error":"#VALUE!"},{"$error":"#VALUE!"},{"$error":"#VALUE!"},{"$error":"#VALUE!"},{"$error":"#VALUE!"},{"$error":"#VALUE!"},{"$error":"#VALUE!"},{"$error":"#VALUE!"},{"$error":"#VALUE!"},{"$error":"#VALUE!"},{"$error":"#VALUE!"}]
[null,null,null,null,null,null,null,null,null,null,null,null,null,null,{"$f":"IF(Analyze!G373=\"\",\"\",Analyze!G373)","v":""},{"$f":"IF(Analyze!S373=\"\",\"\",Analyze!S373)","v":{"$error":"#VALUE!"}},null,null,null,null,null,null,null,"","","",36.700000000000252,-13.19761665229645,36.700000000000252,-1.1337353622222297,36.700000000000252,-5.1337353622221888,36.700000000000252,-9.1337353622222324,{"$error":"#VALUE!"},{"$error":"#VALUE!"},{"$error":"#VALUE!"},{"$error":"#VALUE!"},{"$error":"#VALUE!"},{"$error":"#VALUE!"},{"$error":"#VALUE!"},{"$error":"#VALUE!"},{"$error":"#VALUE!"},{"$error":"#VALUE!"},{"$error":"#VALUE!"},{"$error":"#VALUE!"}]
[null,null,null,null,null,null,null,null,null,null,null,null,null,null,{"$f":"IF(Analyze!G374=\"\",\"\",Analyze!G374)","v":""},{"$f":"IF(Analyze!S374=\"\",\"\",Analyze!S374)","v":{"$error":"#VALUE!"}},null,null,null,null,null,null,null,"","","",36.800000000000253,-13.267637406117421,36.800000000000253,-1.160530281465342,36.800000000000253,-5.1605302814653013,36.800000000000253,-9.1605302814653449,{"$error":"#VALUE!"},{"$error":"#VALUE!"},{"$error":"#VALUE!"},{"$error":"#VALUE!"},{"$error":"#VALUE!"},{"$error":"#VALUE!"},{"$error":"#VALUE!"},{"$error":"#VALUE!"},{"$error":"#VALUE!"},{"$error":"#VALUE!"},{"$error":"#VALUE!"},{"$error":"#VALUE!"}]
[null,null,null,null,null,null,null,null,null,null,null,null,null,null,{"$f":"IF(Analyze!G375=\"\",\"\",Analyze!G375)","v":""},{"$f":"IF(Analyze!S375=\"\",\"\",Analyze!S375)","v":{"$error":"#VALUE!"}},null,null,null,null,null,null,null,"","","",36.900000000000254,-13.337658159938393,36.900000000000254,-1.1873252007084543,36.900000000000254,-5.1873252007084139,36.900000000000254,-9.1873252007084574,{"$error":"#VALUE!"},{"$error":"#VALUE!"},{"$error":"#VALUE!"},{"$error":"#VALUE!"},{"$error":"#VALUE!"},{"$error":"#VALUE!"},{"$error":"#VALUE!"},{"$error":"#VALUE!"},{"$error":"#VALUE!"},{"$error":"#VALUE!"},{"$error":"#VALUE!"},{"$error":"#VALUE!"}]
[null,null,null,null,null,null,null,null,null,null,null,null,null,null,{"$f":"IF(Analyze!G376=\"\",\"\",Analyze!G376)","v":""},{"$f":"IF(Analyze!S376=\"\",\"\",Analyze!S376)","v":{"$error":"#VALUE!"}},null,null,null,null,null,null,null,"","","",37.000000000000256,-13.407678913759364,37.000000000000256,-1.2141201199515665,37.000000000000256,-5.2141201199515264,37.000000000000256,-9.2141201199515699,{"$error":"#VALUE!"},{"$error":"#VALUE!"},{"$error":"#VALUE!"},{"$error":"#VALUE!"},{"$error":"#VALUE!"},{"$error":"#VALUE!"},{"$error":"#VALUE!"},{"$error":"#VALUE!"},{"$error":"#VALUE!"},{"$error":"#VALUE!"},{"$error":"#VALUE!"},{"$error":"#VALUE!"}]
[null,null,null,null,null,null,null,null,null,null,null,null,null,null,{"$f":"IF(Analyze!G377=\"\",\"\",Analyze!G377)","v":""},{"$f":"IF(Analyze!S377=\"\",\"\",Analyze!S377)","v":{"$error":"#VALUE!"}},null,null,null,null,null,null,null,"","","",37.100000000000257,-13.477699667580335,37.100000000000257,-1.2409150391946788,37.100000000000257,-5.2409150391946389,37.100000000000257,-9.2409150391946824,{"$error":"#VALUE!"},{"$error":"#VALUE!"},{"$error":"#VALUE!"},{"$error":"#VALUE!"},{"$error":"#VALUE!"},{"$error":"#VALUE!"},{"$error":"#VALUE!"},{"$error":"#VALUE!"},{"$error":"#VALUE!"},{"$error":"#VALUE!"},{"$error":"#VALUE!"},{"$error":"#VALUE!"}]
[null,null,null,null,null,null,null,null,null,null,null,null,null,null,{"$f":"IF(Analyze!G378=\"\",\"\",Analyze!G378)","v":""},{"$f":"IF(Analyze!S378=\"\",\"\",Analyze!S378)","v":{"$error":"#VALUE!"}},null,null,null,null,null,null,null,"","","",37.200000000000259,-13.547720421401307,37.200000000000259,-1.2677099584377911,37.200000000000259,-5.2677099584377514,37.200000000000259,-9.2677099584377949,{"$error":"#VALUE!"},{"$error":"#VALUE!"},{"$error":"#VALUE!"},{"$error":"#VALUE!"},{"$error":"#VALUE!"},{"$error":"#VALUE!"},{"$error":"#VALUE!"},{"$error":"#VALUE!"},{"$error":"#VALUE!"},{"$error":"#VALUE!"},{"$error":"#VALUE!"},{"$error":"#VALUE!"}]
[null,null,null,null,null,null,null,null,null,null,null,null,null,null,{"$f":"IF(Analyze!G379=\"\",\"\",Analyze!G379)","v":""},{"$f":"IF(Analyze!S379=\"\",\"\",Analyze!S379)","v":{"$error":"#VALUE!"}},null,null,null,null,null,null,null,"","","",37.30000000000026,-13.617741175222278,37.30000000000026,-1.2945048776809034,37.30000000000026,-5.2945048776808639,37.30000000000026,-9.2945048776809074,{"$error":"#VALUE!"},{"$error":"#VALUE!"},{"$error":"#VALUE!"},{"$error":"#VALUE!"},{"$error":"#VALUE!"},{"$error":"#VALUE!"},{"$error":"#VALUE!"},{"$error":"#VALUE!"},{"$error":"#VALUE!"},{"$error":"#VALUE!"},{"$error":"#VALUE!"},{"$error":"#VALUE!"}]
[null,null,null,null,null,null,null,null,null,null,null,null,null,null,{"$f":"IF(Analyze!G380=\"\",\"\",Analyze!G380)","v":""},{"$f":"IF(Analyze!S380=\"\",\"\",Analyze!S380)","v":{"$error":"#VALUE!"}},null,null,null,null,null,null,null,"","","",37.400000000000261,-13.68776192904325,37.400000000000261,-1.3212997969240157,37.400000000000261,-5.3212997969239764,37.400000000000261,-9.3212997969240199,{"$error":"#VALUE!"},{"$error":"#VALUE!"},{"$error":"#VALUE!"},{"$error":"#VALUE!"},{"$error":"#VALUE!"},{"$error":"#VALUE!"},{"$error":"#VALUE!"},{"$error":"#VALUE!"},{"$error":"#VALUE!"},{"$error":"#VALUE!"},{"$error":"#VALUE!"},{"$error":"#VALUE!"}]
[null,null,null,null,null,null,null,null,null,null,null,null,null,null,{"$f":"IF(Analyze!G381=\"\",\"\",Analyze!G381)","v":""},{"$f":"IF(Analyze!S381=\"\",\"\",Analyze!S381)","v":{"$error":"#VALUE!"}},null,null,null,null,null,null,null,"","","",37.500000000000263,-13.757782682864221,37.500000000000263,-1.3480947161671279,37.500000000000263,-5.3480947161670889,37.500000000000263,-9.3480947161671324,{"$error":"#VALUE!"},{"$error":"#VALUE!"},{"$error":"#VALUE!"},{"$error":"#VALUE!"},{"$error":"#VALUE!"},{"$error":"#VALUE!"},{"$error":"#VALUE!"},{"$error":"#VALUE!"},{"$error":"#VALUE!"},{"$error":"#VALUE!"},{"$error":"#VALUE!"},{"$error":"#VALUE!"}]
[null,null,null,null,null,null,null,null,null,null,null,null,null,null,{"$f":"IF(Analyze!G382=\"\",\"\",Analyze!G382)","v":""},{"$f":"IF(Analyze!S382=\"\",\"\",Analyze!S382)","v":{"$error":"#VALUE!"}},null,null,null,null,null,null,null,"","","",37.600000000000264,-13.827803436685192,37.600000000000264,-1.3748896354102402,37.600000000000264,-5.3748896354102014,37.600000000000264,-9.3748896354102449,{"$error":"#VALUE!"},{"$error":"#VALUE!"},{"$error":"#VALUE!"},{"$error":"#VALUE!"},{"$error":"#VALUE!"},{"$error":"#VALUE!"},{"$error":"#VALUE!"},{"$error":"#VALUE!"},{"$error":"#VALUE!"},{"$error":"#VALUE!"},{"$error":"#VALUE!"},{"$error":"#VALUE!"}]
[null,null,null,null,null,null,null,null,null,null,null,null,null,null,{"$f":"IF(Analyze!G383=\"\",\"\",Analyze!G383)","v":""},{"$f":"IF(Analyze!S383=\"\",\"\",Analyze!S383)","v":{"$error":"#VALUE!"}},null,null,null,null,null,null,null,"","","",37.700000000000266,-13.897824190506164,37.700000000000266,-1.4016845546533525,37.700000000000266,-5.4016845546533139,37.700000000000266,-9.4016845546533574,{"$error":"#VALUE!"},{"$error":"#VALUE!"},{"$error":"#VALUE!"},{"$error":"#VALUE!"},{"$error":"#VALUE!"},{"$error":"#VALUE!"},{"$error":"#VALUE!"},{"$error":"#VALUE!"},{"$error":"#VALUE!"},{"$error":"#VALUE!"},{"$error":"#VALUE!"},{"$error":"#VALUE!"}]
[null,null,null,null,null,null,null,null,null,null,null,null,null,null,{"$f":"IF(Analyze!G384=\"\",\"\",Analyze!G384)","v":""},{"$f":"IF(Analyze!S384=\"\",\"\",Analyze!S384)","v":{"$error":"#VALUE!"}},null,null,null,null,null,null,null,"","","",37.800000000000267,-13.967844944327135,37.800000000000267,-1.4284794738964648,37.800000000000267,-5.4284794738964264,37.800000000000267,-9.4284794738964699,{"$error":"#VALUE!"},{"$error":"#VALUE!"},{"$error":"#VALUE!"},{"$error":"#VALUE!"},{"$error":"#VALUE!"},{"$error":"#VALUE!"},{"$error":"#VALUE!"},{"$error":"#VALUE!"},{"$error":"#VALUE!"},{"$error":"#VALUE!"},{"$error":"#VALUE!"},{"$error":"#VALUE!"}]
[null,null,null,null,null,null,null,null,null,null,null,null,null,null,{"$f":"IF(Analyze!G385=\"\",\"\",Analyze!G385)","v":""},{"$f":"IF(Analyze!S385=\"\",\"\",Analyze!S385)","v":{"$error":"#VALUE!"}},null,null,null,null,null,null,null,"","","",37.900000000000269,-14.037865698148106,37.900000000000269,-1.4552743931395771,37.900000000000269,-5.4552743931395389,37.900000000000269,-9.4552743931395824,{"$error":"#VALUE!"},{"$error":"#VALUE!"},{"$error":"#VALUE!"},{"$error":"#VALUE!"},{"$error":"#VALUE!"},{"$error":"#VALUE!"},{"$error":"#VALUE!"},{"$error":"#VALUE!"},{"$error":"#VALUE!"},{"$error":"#VALUE!"},{"$error":"#VALUE!"},{"$error":"#VALUE!"}]
[null,null,null,null,null,null,null,null,null,null,null,null,null,null,{"$f":"IF(Analyze!G386=\"\",\"\",Analyze!G386)","v":""},{"$f":"IF(Analyze!S386=\"\",\"\",Analyze!S386)","v":{"$error":"#VALUE!"}},null,null,null,null,null,null,null,"","","",38.00000000000027,-14.107886451969078,38.00000000000027,-1.4820693123826894,38.00000000000027,-5.4820693123826514,38.00000000000027,-9.4820693123826949,{"$error":"#VALUE!"},{"$error":"#VALUE!"},{"$error":"#VALUE!"},{"$error":"#VALUE!"},{"$error":"#VALUE!"},{"$error":"#VALUE!"},{"$error":"#VALUE!"},{"$error":"#VALUE!"},{"$error":"#VALUE!"},{"$error":"#VALUE!"},{"$error":"#VALUE!"},{"$error":"#VALUE!"}]
[null,null,null,null,null,null,null,null,null,null,null,null,null,null,{"$f":"IF(Analyze!G387=\"\",\"\",Analyze!G387)","v":""},{"$f":"IF(Analyze!S387=\"\",\"\",Analyze!S387)","v":{"$error":"#VALUE!"}},null,null,null,null,null,null,null,"","","",38.100000000000271,-14.177907205790049,38.100000000000271,-1.5088642316258016,38.100000000000271,-5.5088642316257639,38.100000000000271,-9.5088642316258074,{"$error":"#VALUE!"},{"$error":"#VALUE!"},{"$error":"#VALUE!"},{"$error":"#VALUE!"},{"$error":"#VALUE!"},{"$error":"#VALUE!"},{"$error":"#VALUE!"},{"$error":"#VALUE!"},{"$error":"#VALUE!"},{"$error":"#VALUE!"},{"$error":"#VALUE!"},{"$error":"#VALUE!"}]
[null,null,null,null,null,null,null,null,null,null,null,null,null,null,{"$f":"IF(Analyze!G388=\"\",\"\",Analyze!G388)","v":""},{"$f":"IF(Analyze!S388=\"\",\"\",Analyze!S388)","v":{"$error":"#VALUE!"}},null,null,null,null,null,null,null,"","","",38.200000000000273,-14.247927959611021,38.200000000000273,-1.5356591508689139,38.200000000000273,-5.5356591508688764,38.200000000000273,-9.5356591508689199,{"$error":"#VALUE!"},{"$error":"#VALUE!"},{"$error":"#VALUE!"},{"$error":"#VALUE!"},{"$error":"#VALUE!"},{"$error":"#VALUE!"},{"$error":"#VALUE!"},{"$error":"#VALUE!"},{"$error":"#VALUE!"},{"$error":"#VALUE!"},{"$error":"#VALUE!"},{"$error":"#VALUE!"}]
[null,null,null,null,null,null,null,null,null,null,null,null,null,null,{"$f":"IF(Analyze!G389=\"\",\"\",Analyze!G389)","v":""},{"$f":"IF(Analyze!S389=\"\",\"\",Analyze!S389)","v":{"$error":"#VALUE!"}},null,null,null,null,null,null,null,"","","",38.300000000000274,-14.317948713431992,38.300000000000274,-1.5624540701120262,38.300000000000274,-5.5624540701119889,38.300000000000274,-9.5624540701120324,{"$error":"#VALUE!"},{"$error":"#VALUE!"},{"$error":"#VALUE!"},{"$error":"#VALUE!"},{"$error":"#VALUE!"},{"$error":"#VALUE!"},{"$error":"#VALUE!"},{"$error":"#VALUE!"},{"$error":"#VALUE!"},{"$error":"#VALUE!"},{"$error":"#VALUE!"},{"$error":"#VALUE!"}]
[null,null,null,null,null,null,null,null,null,null,null,null,null,null,{"$f":"IF(Analyze!G390=\"\",\"\",Analyze!G390)","v":""},{"$f":"IF(Analyze!S390=\"\",\"\",Analyze!S390)","v":{"$error":"#VALUE!"}},null,null,null,null,null,null,null,{"$f":"IF(O390=\"\",\"\",IF(O390>h+$H$2,(\"\"),(h-O390)))","v":""},"","",38.400000000000276,-14.387969467252963,38.400000000000276,-1.5892489893551385,38.400000000000276,-5.5892489893551014,38.400000000000276,-9.5892489893551449,{"$error":"#VALUE!"},{"$error":"#VALUE!"},{"$error":"#VALUE!"},{"$error":"#VALUE!"},{"$error":"#VALUE!"},{"$error":"#VALUE!"},{"$error":"#VALUE!"},{"$error":"#VALUE!"},{"$error":"#VALUE!"},{"$error":"#VALUE!"},{"$error":"#VALUE!"},{"$error":"#VALUE!"}]
[null,null,null,null,null,null,null,null,null,null,null,null,null,null,{"$f":"IF(Analyze!G391=\"\",\"\",Analyze!G391)","v":""},{"$f":"IF(Analyze!S391=\"\",\"\",Analyze!S391)","v":{"$error":"#VALUE!"}},null,null,null,null,null,null,null,"","","",38.500000000000277,-14.457990221073935,38.500000000000277,-1.6160439085982508,38.500000000000277,-5.6160439085982139,38.500000000000277,-9.6160439085982574,{"$error":"#VALUE!"},{"$error":"#VALUE!"},{"$error":"#VALUE!"},{"$error":"#VALUE!"},{"$error":"#VALUE!"},{"$error":"#VALUE!"},{"$error":"#VALUE!"},{"$error":"#VALUE!"},{"$error":"#VALUE!"},{"$error":"#VALUE!"},{"$error":"#VALUE!"},{"$error":"#VALUE!"}]
[null,null,null,null,null,null,null,null,null,null,null,null,null,null,{"$f":"IF(Analyze!G392=\"\",\"\",Analyze!G392)","v":""},{"$f":"IF(Analyze!S392=\"\",\"\",Analyze!S392)","v":{"$error":"#VALUE!"}},null,null,null,null,null,null,null,"","","",{"$f":"AA391+0.1","v":38.600000000000279},{"$f":"AB391-0.1*TAN(RADIANS($F$7))","v":-14.528010974894906},{"$f":"AC391+0.1","v":38.600000000000279},{"$f":"AD391-0.1*TAN(RADIANS($F$8))","v":-1.642838827841363},{"$f":"AE391+0.1","v":38.600000000000279},{"$f":"AF391-0.1*TAN(RADIANS($F$9))","v":-5.6428388278413264},{"$f":"AG391+0.1","v":38.600000000000279},{"$f":"AH391-0.1*TAN(RADIANS($F$10))","v":-9.6428388278413699},{"$f":"AI391+0.1","v":{"$error":"#VALUE!"}},{"$f":"AJ391-0.1*TAN(RADIANS($F$11))","v":{"$error":"#VALUE!"}},{"$f":"AK391+0.1","v":{"$error":"#VALUE!"}},{"$f":"AL391-0.1*TAN(RADIANS($F$12))","v":{"$error":"#VALUE!"}},{"$f":"AM391+0.1","v":{"$error":"#VALUE!"}},{"$f":"AN391-0.1*TAN(RADIANS($F$13))","v":{"$error":"#VALUE!"}},{"$f":"AO391+0.1","v":{"$error":"#VALUE!"}},{"$f":"AP391-0.1*TAN(RADIANS($F$14))","v":{"$error":"#VALUE!"}},{"$f":"AQ391+0.1","v":{"$error":"#VALUE!"}},{"$f":"AR391-0.1*TAN(RADIANS($F$15))","v":{"$error":"#VALUE!"}},{"$f":"AS391+0.1","v":{"$error":"#VALUE!"}},{"$f":"AT391-0.1*TAN(RADIANS($F$16))","v":{"$error":"#VALUE!"}}]
[null,null,null,null,null,null,null,null,null,null,null,null,null,null,{"$f":"IF(Analyze!G393=\"\",\"\",Analyze!G393)","v":""},{"$f":"IF(Analyze!S393=\"\",\"\",Analyze!S393)","v":{"$error":"#VALUE!"}},null,null,null,null,null,null,null,"","","",38.70000000000028,-14.598031728715878,38.70000000000028,-1.6696337470844753,38.70000000000028,-5.6696337470844389,38.70000000000028,-9.6696337470844824,{"$error":"#VALUE!"},{"$error":"#VALUE!"},{"$error":"#VALUE!"},{"$error":"#VALUE!"},{"$error":"#VALUE!"},{"$error":"#VALUE!"},{"$error":"#VALUE!"},{"$error":"#VALUE!"},{"$error":"#VALUE!"},{"$error":"#VALUE!"},{"$error":"#VALUE!"},{"$error":"#VALUE!"}]
[null,null,null,null,null,null,null,null,null,null,null,null,null,null,{"$f":"IF(Analyze!G394=\"\",\"\",Analyze!G394)","v":""},{"$f":"IF(Analyze!S394=\"\",\"\",Analyze!S394)","v":{"$error":"#VALUE!"}},null,null,null,null,null,null,null,"","","",38.800000000000281,-14.668052482536849,38.800000000000281,-1.6964286663275876,38.800000000000281,-5.6964286663275514,38.800000000000281,-9.6964286663275949,{"$error":"#VALUE!"},{"$error":"#VALUE!"},{"$error":"#VALUE!"},{"$error":"#VALUE!"},{"$error":"#VALUE!"},{"$error":"#VALUE!"},{"$error":"#VALUE!"},{"$error":"#VALUE!"},{"$error":"#VALUE!"},{"$error":"#VALUE!"},{"$error":"#VALUE!"},{"$error":"#VALUE!"}]
[null,null,null,null,null,null,null,null,null,null,null,null,null,null,{"$f":"IF(Analyze!G395=\"\",\"\",Analyze!G395)","v":""},{"$f":"IF(Analyze!S395=\"\",\"\",Analyze!S395)","v":{"$error":"#VALUE!"}},null,null,null,null,null,null,null,"","","",38.900000000000283,-14.73807323635782,38.900000000000283,-1.7232235855706999,38.900000000000283,-5.7232235855706639,38.900000000000283,-9.7232235855707074,{"$error":"#VALUE!"},{"$error":"#VALUE!"},{"$error":"#VALUE!"},{"$error":"#VALUE!"},{"$error":"#VALUE!"},{"$error":"#VALUE!"},{"$error":"#VALUE!"},{"$error":"#VALUE!"},{"$error":"#VALUE!"},{"$error":"#VALUE!"},{"$error":"#VALUE!"},{"$error":"#VALUE!"}]
[null,null,null,null,null,null,null,null,null,null,null,null,null,null,{"$f":"IF(Analyze!G396=\"\",\"\",Analyze!G396)","v":""},{"$f":"IF(Analyze!S396=\"\",\"\",Analyze!S396)","v":{"$error":"#VALUE!"}},null,null,null,null,null,null,null,"","","",39.000000000000284,-14.808093990178792,39.000000000000284,-1.7500185048138122,39.000000000000284,-5.7500185048137764,39.000000000000284,-9.7500185048138199,{"$error":"#VALUE!"},{"$error":"#VALUE!"},{"$error":"#VALUE!"},{"$error":"#VALUE!"},{"$error":"#VALUE!"},{"$error":"#VALUE!"},{"$error":"#VALUE!"},{"$error":"#VALUE!"},{"$error":"#VALUE!"},{"$error":"#VALUE!"},{"$error":"#VALUE!"},{"$error":"#VALUE!"}]
[null,null,null,null,null,null,null,null,null,null,null,null,null,null,{"$f":"IF(Analyze!G397=\"\",\"\",Analyze!G397)","v":""},{"$f":"IF(Analyze!S397=\"\",\"\",Analyze!S397)","v":{"$error":"#VALUE!"}},null,null,null,null,null,null,null,"","","",39.100000000000286,-14.878114743999763,39.100000000000286,-1.7768134240569244,39.100000000000286,-5.7768134240568889,39.100000000000286,-9.7768134240569324,{"$error":"#VALUE!"},{"$error":"#VALUE!"},{"$error":"#VALUE!"},{"$error":"#VALUE!"},{"$error":"#VALUE!"},{"$error":"#VALUE!"},{"$error":"#VALUE!"},{"$error":"#VALUE!"},{"$error":"#VALUE!"},{"$error":"#VALUE!"},{"$error":"#VALUE!"},{"$error":"#VALUE!"}]
[null,null,null,null,null,null,null,null,null,null,null,null,null,null,{"$f":"IF(Analyze!G398=\"\",\"\",Analyze!G398)","v":""},{"$f":"IF(Analyze!S398=\"\",\"\",Analyze!S398)","v":{"$error":"#VALUE!"}},null,null,null,null,null,null,null,"","","",39.200000000000287,-14.948135497820735,39.200000000000287,-1.8036083433000367,39.200000000000287,-5.8036083433000014,39.200000000000287,-9.8036083433000449,{"$error":"#VALUE!"},{"$error":"#VALUE!"},{"$error":"#VALUE!"},{"$error":"#VALUE!"},{"$error":"#VALUE!"},{"$error":"#VALUE!"},{"$error":"#VALUE!"},{"$error":"#VALUE!"},{"$error":"#VALUE!"},{"$error":"#VALUE!"},{"$error":"#VALUE!"},{"$error":"#VALUE!"}]
[null,null,null,null,null,null,null,null,null,null,null,null,null,null,{"$f":"IF(Analyze!G399=\"\",\"\",Analyze!G399)","v":""},{"$f":"IF(Analyze!S399=\"\",\"\",Analyze!S399)","v":{"$error":"#VALUE!"}},null,null,null,null,null,null,null,"","","",39.300000000000288,-15.018156251641706,39.300000000000288,-1.830403262543149,39.300000000000288,-5.8304032625431139,39.300000000000288,-9.8304032625431574,{"$error":"#VALUE!"},{"$error":"#VALUE!"},{"$error":"#VALUE!"},{"$error":"#VALUE!"},{"$error":"#VALUE!"},{"$error":"#VALUE!"},{"$error":"#VALUE!"},{"$error":"#VALUE!"},{"$error":"#VALUE!"},{"$error":"#VALUE!"},{"$error":"#VALUE!"},{"$error":"#VALUE!"}]
[null,null,null,null,null,null,null,null,null,null,null,null,null,null,{"$f":"IF(Analyze!G400=\"\",\"\",Analyze!G400)","v":""},{"$f":"IF(Analyze!S400=\"\",\"\",Analyze!S400)","v":{"$error":"#VALUE!"}},null,null,null,null,null,null,null,"","","",39.40000000000029,-15.088177005462677,39.40000000000029,-1.8571981817862613,39.40000000000029,-5.8571981817862264,39.40000000000029,-9.8571981817862699,{"$error":"#VALUE!"},{"$error":"#VALUE!"},{"$error":"#VALUE!"},{"$error":"#VALUE!"},{"$error":"#VALUE!"},{"$error":"#VALUE!"},{"$error":"#VALUE!"},{"$error":"#VALUE!"},{"$error":"#VALUE!"},{"$error":"#VALUE!"},{"$error":"#VALUE!"},{"$error":"#VALUE!"}]
[null,null,null,null,null,null,null,null,null,null,null,null,null,null,{"$f":"IF(Analyze!G401=\"\",\"\",Analyze!G401)","v":""},{"$f":"IF(Analyze!S401=\"\",\"\",Analyze!S401)","v":{"$error":"#VALUE!"}},null,null,null,null,null,null,null,"","","",39.500000000000291,-15.158197759283649,39.500000000000291,-1.8839931010293736,39.500000000000291,-5.8839931010293389,39.500000000000291,-9.8839931010293824,{"$error":"#VALUE!"},{"$error":"#VALUE!"},{"$error":"#VALUE!"},{"$error":"#VALUE!"},{"$error":"#VALUE!"},{"$error":"#VALUE!"},{"$error":"#VALUE!"},{"$error":"#VALUE!"},{"$error":"#VALUE!"},{"$error":"#VALUE!"},{"$error":"#VALUE!"},{"$error":"#VALUE!"}]
[null,null,null,null,null,null,null,null,null,null,null,null,null,null,{"$f":"IF(Analyze!G402=\"\",\"\",Analyze!G402)","v":""},{"$f":"IF(Analyze!S402=\"\",\"\",Analyze!S402)","v":{"$error":"#VALUE!"}},null,null,null,null,null,null,null,"","","",39.600000000000293,-15.22821851310462,39.600000000000293,-1.9107880202724858,39.600000000000293,-5.9107880202724514,39.600000000000293,-9.9107880202724949,{"$error":"#VALUE!"},{"$error":"#VALUE!"},{"$error":"#VALUE!"},{"$error":"#VALUE!"},{"$error":"#VALUE!"},{"$error":"#VALUE!"},{"$error":"#VALUE!"},{"$error":"#VALUE!"},{"$error":"#VALUE!"},{"$error":"#VALUE!"},{"$error":"#VALUE!"},{"$error":"#VALUE!"}]
[null,null,null,null,null,null,null,null,null,null,null,null,null,null,{"$f":"IF(Analyze!G403=\"\",\"\",Analyze!G403)","v":""},{"$f":"IF(Analyze!S403=\"\",\"\",Analyze!S403)","v":{"$error":"#VALUE!"}},null,null,null,null,null,null,null,"","","",39.700000000000294,-15.298239266925592,39.700000000000294,-1.9375829395155981,39.700000000000294,-5.9375829395155639,39.700000000000294,-9.9375829395156074,{"$error":"#VALUE!"},{"$error":"#VALUE!"},{"$error":"#VALUE!"},{"$error":"#VALUE!"},{"$error":"#VALUE!"},{"$error":"#VALUE!"},{"$error":"#VALUE!"},{"$error":"#VALUE!"},{"$error":"#VALUE!"},{"$error":"#VALUE!"},{"$error":"#VALUE!"},{"$error":"#VALUE!"}]
[null,null,null,null,null,null,null,null,null,null,null,null,null,null,{"$f":"IF(Analyze!G404=\"\",\"\",Analyze!G404)","v":""},{"$f":"IF(Analyze!S404=\"\",\"\",Analyze!S404)","v":{"$error":"#VALUE!"}},null,null,null,null,null,null,null,"","","",39.800000000000296,-15.368260020746563,39.800000000000296,-1.9643778587587104,39.800000000000296,-5.9643778587586764,39.800000000000296,-9.96437785875872,{"$error":"#VALUE!"},{"$error":"#VALUE!"},{"$error":"#VALUE!"},{"$error":"#VALUE!"},{"$error":"#VALUE!"},{"$error":"#VALUE!"},{"$error":"#VALUE!"},{"$error":"#VALUE!"},{"$error":"#VALUE!"},{"$error":"#VALUE!"},{"$error":"#VALUE!"},{"$error":"#VALUE!"}]
[null,null,null,null,null,null,null,null,null,null,null,null,null,null,{"$f":"IF(Analyze!G405=\"\",\"\",Analyze!G405)","v":""},{"$f":"IF(Analyze!S405=\"\",\"\",Analyze!S405)","v":{"$error":"#VALUE!"}},null,null,null,null,null,null,null,"","","",39.900000000000297,-15.438280774567534,39.900000000000297,-1.9911727780018227,39.900000000000297,-5.9911727780017889,39.900000000000297,-9.9911727780018325,{"$error":"#VALUE!"},{"$error":"#VALUE!"},{"$error":"#VALUE!"},{"$error":"#VALUE!"},{"$error":"#VALUE!"},{"$error":"#VALUE!"},{"$error":"#VALUE!"},{"$error":"#VALUE!"},{"$error":"#VALUE!"},{"$error":"#VALUE!"},{"$error":"#VALUE!"},{"$error":"#VALUE!"}]
[null,null,null,null,null,null,null,null,null,null,null,null,null,null,{"$f":"IF(Analyze!G406=\"\",\"\",Analyze!G406)","v":""},{"$f":"IF(Analyze!S406=\"\",\"\",Analyze!S406)","v":{"$error":"#VALUE!"}},null,null,null,null,null,null,null,"","","",40.000000000000298,-15.508301528388506,40.000000000000298,-2.0179676972449347,40.000000000000298,-6.0179676972449014,40.000000000000298,-10.017967697244945,{"$error":"#VALUE!"},{"$error":"#VALUE!"},{"$error":"#VALUE!"},{"$error":"#VALUE!"},{"$error":"#VALUE!"},{"$error":"#VALUE!"},{"$error":"#VALUE!"},{"$error":"#VALUE!"},{"$error":"#VALUE!"},{"$error":"#VALUE!"},{"$error":"#VALUE!"},{"$error":"#VALUE!"}]
[null,null,null,null,null,null,null,null,null,null,null,null,null,null,{"$f":"IF(Analyze!G407=\"\",\"\",Analyze!G407)","v":""},{"$f":"IF(Analyze!S407=\"\",\"\",Analyze!S407)","v":{"$error":"#VALUE!"}},null,null,null,null,null,null,null,"","","",40.1000000000003,-15.578322282209477,40.1000000000003,-2.0447626164880468,40.1000000000003,-6.0447626164880139,40.1000000000003,-10.044762616488057,{"$error":"#VALUE!"},{"$error":"#VALUE!"},{"$error":"#VALUE!"},{"$error":"#VALUE!"},{"$error":"#VALUE!"},{"$error":"#VALUE!"},{"$error":"#VALUE!"},{"$error":"#VALUE!"},{"$error":"#VALUE!"},{"$error":"#VALUE!"},{"$error":"#VALUE!"},{"$error":"#VALUE!"}]
[null,null,null,null,null,null,null,null,null,null,null,null,null,null,{"$f":"IF(Analyze!G408=\"\",\"\",Analyze!G408)","v":""},{"$f":"IF(Analyze!S408=\"\",\"\",Analyze!S408)","v":{"$error":"#VALUE!"}},null,null,null,null,null,null,null,"","","",40.200000000000301,-15.648343036030449,40.200000000000301,-2.0715575357311589,40.200000000000301,-6.0715575357311264,40.200000000000301,-10.07155753573117,{"$error":"#VALUE!"},{"$error":"#VALUE!"},{"$error":"#VALUE!"},{"$error":"#VALUE!"},{"$error":"#VALUE!"},{"$error":"#VALUE!"},{"$error":"#VALUE!"},{"$error":"#VALUE!"},{"$error":"#VALUE!"},{"$error":"#VALUE!"},{"$error":"#VALUE!"},{"$error":"#VALUE!"}]
[null,null,null,null,null,null,null,null,null,null,null,null,null,null,{"$f":"IF(Analyze!G409=\"\",\"\",Analyze!G409)","v":""},{"$f":"IF(Analyze!S409=\"\",\"\",Analyze!S409)","v":{"$error":"#VALUE!"}},null,null,null,null,null,null,null,"","","",40.300000000000303,-15.71836378985142,40.300000000000303,-2.0983524549742709,40.300000000000303,-6.0983524549742389,40.300000000000303,-10.098352454974282,{"$error":"#VALUE!"},{"$error":"#VALUE!"},{"$error":"#VALUE!"},{"$error":"#VALUE!"},{"$error":"#VALUE!"},{"$error":"#VALUE!"},{"$error":"#VALUE!"},{"$error":"#VALUE!"},{"$error":"#VALUE!"},{"$error":"#VALUE!"},{"$error":"#VALUE!"},{"$error":"#VALUE!"}]
[null,null,null,null,null,null,null,null,null,null,null,null,null,null,{"$f":"IF(Analyze!G410=\"\",\"\",Analyze!G410)","v":""},{"$f":"IF(Analyze!S410=\"\",\"\",Analyze!S410)","v":{"$error":"#VALUE!"}},null,null,null,null,null,null,null,"","","",40.400000000000304,-15.788384543672391,40.400000000000304,-2.125147374217383,40.400000000000304,-6.1251473742173514,40.400000000000304,-10.125147374217395,{"$error":"#VALUE!"},{"$error":"#VALUE!"},{"$error":"#VALUE!"},{"$error":"#VALUE!"},{"$error":"#VALUE!"},{"$error":"#VALUE!"},{"$error":"#VALUE!"},{"$error":"#VALUE!"},{"$error":"#VALUE!"},{"$error":"#VALUE!"},{"$error":"#VALUE!"},{"$error":"#VALUE!"}]
[null,null,null,null,null,null,null,null,null,null,null,null,null,null,{"$f":"IF(Analyze!G411=\"\",\"\",Analyze!G411)","v":""},{"$f":"IF(Analyze!S411=\"\",\"\",Analyze!S411)","v":{"$error":"#VALUE!"}},null,null,null,null,null,null,null,"","","",40.500000000000306,-15.858405297493363,40.500000000000306,-2.151942293460495,40.500000000000306,-6.151942293460464,40.500000000000306,-10.151942293460507,{"$error":"#VALUE!"},{"$error":"#VALUE!"},{"$error":"#VALUE!"},{"$error":"#VALUE!"},{"$error":"#VALUE!"},{"$error":"#VALUE!"},{"$error":"#VALUE!"},{"$error":"#VALUE!"},{"$error":"#VALUE!"},{"$error":"#VALUE!"},{"$error":"#VALUE!"},{"$error":"#VALUE!"}]
[null,null,null,null,null,null,null,null,null,null,null,null,null,null,{"$f":"IF(Analyze!G412=\"\",\"\",Analyze!G412)","v":""},{"$f":"IF(Analyze!S412=\"\",\"\",Analyze!S412)","v":{"$error":"#VALUE!"}},null,null,null,null,null,null,null,"","","",40.600000000000307,-15.928426051314334,40.600000000000307,-2.1787372127036071,40.600000000000307,-6.1787372127035765,40.600000000000307,-10.17873721270362,{"$error":"#VALUE!"},{"$error":"#VALUE!"},{"$error":"#VALUE!"},{"$error":"#VALUE!"},{"$error":"#VALUE!"},{"$error":"#VALUE!"},{"$error":"#VALUE!"},{"$error":"#VALUE!"},{"$error":"#VALUE!"},{"$error":"#VALUE!"},{"$error":"#VALUE!"},{"$error":"#VALUE!"}]
[null,null,null,null,null,null,null,null,null,null,null,null,null,null,{"$f":"IF(Analyze!G413=\"\",\"\",Analyze!G413)","v":""},{"$f":"IF(Analyze!S413=\"\",\"\",Analyze!S413)","v":{"$error":"#VALUE!"}},null,null,null,null,null,null,null,"","","",40.700000000000308,-15.998446805135305,40.700000000000308,-2.2055321319467192,40.700000000000308,-6.205532131946689,40.700000000000308,-10.205532131946732,{"$error":"#VALUE!"},{"$error":"#VALUE!"},{"$error":"#VALUE!"},{"$error":"#VALUE!"},{"$error":"#VALUE!"},{"$error":"#VALUE!"},{"$error":"#VALUE!"},{"$error":"#VALUE!"},{"$error":"#VALUE!"},{"$error":"#VALUE!"},{"$error":"#VALUE!"},{"$error":"#VALUE!"}]
[null,null,null,null,null,null,null,null,null,null,null,null,null,null,{"$f":"IF(Analyze!G414=\"\",\"\",Analyze!G414)","v":""},{"$f":"IF(Analyze!S414=\"\",\"\",Analyze!S414)","v":{"$error":"#VALUE!"}},null,null,null,null,null,null,null,"","","",40.80000000000031,-16.068467558956275,40.80000000000031,-2.2323270511898312,40.80000000000031,-6.2323270511898015,40.80000000000031,-10.232327051189845,{"$error":"#VALUE!"},{"$error":"#VALUE!"},{"$error":"#VALUE!"},{"$error":"#VALUE!"},{"$error":"#VALUE!"},{"$error":"#VALUE!"},{"$error":"#VALUE!"},{"$error":"#VALUE!"},{"$error":"#VALUE!"},{"$error":"#VALUE!"},{"$error":"#VALUE!"},{"$error":"#VALUE!"}]
[null,null,null,null,null,null,null,null,null,null,null,null,null,null,{"$f":"IF(Analyze!G415=\"\",\"\",Analyze!G415)","v":""},{"$f":"IF(Analyze!S415=\"\",\"\",Analyze!S415)","v":{"$error":"#VALUE!"}},null,null,null,null,null,null,null,"","","",40.900000000000311,-16.138488312777245,40.900000000000311,-2.2591219704329433,40.900000000000311,-6.259121970432914,40.900000000000311,-10.259121970432957,{"$error":"#VALUE!"},{"$error":"#VALUE!"},{"$error":"#VALUE!"},{"$error":"#VALUE!"},{"$error":"#VALUE!"},{"$error":"#VALUE!"},{"$error":"#VALUE!"},{"$error":"#VALUE!"},{"$error":"#VALUE!"},{"$error":"#VALUE!"},{"$error":"#VALUE!"},{"$error":"#VALUE!"}]
[null,null,null,null,null,null,null,null,null,null,null,null,null,null,{"$f":"IF(Analyze!G416=\"\",\"\",Analyze!G416)","v":""},{"$f":"IF(Analyze!S416=\"\",\"\",Analyze!S416)","v":{"$error":"#VALUE!"}},null,null,null,null,null,null,null,"","","",41.000000000000313,-16.208509066598214,41.000000000000313,-2.2859168896760553,41.000000000000313,-6.2859168896760265,41.000000000000313,-10.28591688967607,{"$error":"#VALUE!"},{"$error":"#VALUE!"},{"$error":"#VALUE!"},{"$error":"#VALUE!"},{"$error":"#VALUE!"},{"$error":"#VALUE!"},{"$error":"#VALUE!"},{"$error":"#VALUE!"},{"$error":"#VALUE!"},{"$error":"#VALUE!"},{"$error":"#VALUE!"},{"$error":"#VALUE!"}]
[null,null,null,null,null,null,null,null,null,null,null,null,null,null,{"$f":"IF(Analyze!G417=\"\",\"\",Analyze!G417)","v":""},{"$f":"IF(Analyze!S417=\"\",\"\",Analyze!S417)","v":{"$error":"#VALUE!"}},null,null,null,null,null,null,null,"","","",41.100000000000314,-16.278529820419184,41.100000000000314,-2.3127118089191674,41.100000000000314,-6.312711808919139,41.100000000000314,-10.312711808919182,{"$error":"#VALUE!"},{"$error":"#VALUE!"},{"$error":"#VALUE!"},{"$error":"#VALUE!"},{"$error":"#VALUE!"},{"$error":"#VALUE!"},{"$error":"#VALUE!"},{"$error":"#VALUE!"},{"$error":"#VALUE!"},{"$error":"#VALUE!"},{"$error":"#VALUE!"},{"$error":"#VALUE!"}]
[null,null,null,null,null,null,null,null,null,null,null,null,null,null,{"$f":"IF(Analyze!G418=\"\",\"\",Analyze!G418)","v":""},{"$f":"IF(Analyze!S418=\"\",\"\",Analyze!S418)","v":{"$error":"#VALUE!"}},null,null,null,null,null,null,null,"","","",41.200000000000315,-16.348550574240154,41.200000000000315,-2.3395067281622794,41.200000000000315,-6.3395067281622515,41.200000000000315,-10.339506728162295,{"$error":"#VALUE!"},{"$error":"#VALUE!"},{"$error":"#VALUE!"},{"$error":"#VALUE!"},{"$error":"#VALUE!"},{"$error":"#VALUE!"},{"$error":"#VALUE!"},{"$error":"#VALUE!"},{"$error":"#VALUE!"},{"$error":"#VALUE!"},{"$error":"#VALUE!"},{"$error":"#VALUE!"}]
[null,null,null,null,null,null,null,null,null,null,null,null,null,null,{"$f":"IF(Analyze!G419=\"\",\"\",Analyze!G419)","v":""},{"$f":"IF(Analyze!S419=\"\",\"\",Analyze!S419)","v":{"$error":"#VALUE!"}},null,null,null,null,null,null,null,"","","",41.300000000000317,-16.418571328061123,41.300000000000317,-2.3663016474053915,41.300000000000317,-6.366301647405364,41.300000000000317,-10.366301647405407,{"$error":"#VALUE!"},{"$error":"#VALUE!"},{"$error":"#VALUE!"},{"$error":"#VALUE!"},{"$error":"#VALUE!"},{"$error":"#VALUE!"},{"$error":"#VALUE!"},{"$error":"#VALUE!"},{"$error":"#VALUE!"},{"$error":"#VALUE!"},{"$error":"#VALUE!"},{"$error":"#VALUE!"}]
[null,null,null,null,null,null,null,null,null,null,null,null,null,null,{"$f":"IF(Analyze!G420=\"\",\"\",Analyze!G420)","v":""},{"$f":"IF(Analyze!S420=\"\",\"\",Analyze!S420)","v":{"$error":"#VALUE!"}},null,null,null,null,null,null,null,"","","",41.400000000000318,-16.488592081882093,41.400000000000318,-2.3930965666485036,41.400000000000318,-6.3930965666484765,41.400000000000318,-10.39309656664852,{"$error":"#VALUE!"},{"$error":"#VALUE!"},{"$error":"#VALUE!"},{"$error":"#VALUE!"},{"$error":"#VALUE!"},{"$error":"#VALUE!"},{"$error":"#VALUE!"},{"$error":"#VALUE!"},{"$error":"#VALUE!"},{"$error":"#VALUE!"},{"$error":"#VALUE!"},{"$error":"#VALUE!"}]
[null,null,null,null,null,null,null,null,null,null,null,null,null,null,{"$f":"IF(Analyze!G421=\"\",\"\",Analyze!G421)","v":""},{"$f":"IF(Analyze!S421=\"\",\"\",Analyze!S421)","v":{"$error":"#VALUE!"}},null,null,null,null,null,null,null,"","","",41.50000000000032,-16.558612835703062,41.50000000000032,-2.4198914858916156,41.50000000000032,-6.419891485891589,41.50000000000032,-10.419891485891632,{"$error":"#VALUE!"},{"$error":"#VALUE!"},{"$error":"#VALUE!"},{"$error":"#VALUE!"},{"$error":"#VALUE!"},{"$error":"#VALUE!"},{"$error":"#VALUE!"},{"$error":"#VALUE!"},{"$error":"#VALUE!"},{"$error":"#VALUE!"},{"$error":"#VALUE!"},{"$error":"#VALUE!"}]
[null,null,null,null,null,null,null,null,null,null,null,null,null,null,{"$f":"IF(Analyze!G422=\"\",\"\",Analyze!G422)","v":""},{"$f":"IF(Analyze!S422=\"\",\"\",Analyze!S422)","v":{"$error":"#VALUE!"}},null,null,null,null,null,null,null,"","","",41.600000000000321,-16.628633589524032,41.600000000000321,-2.4466864051347277,41.600000000000321,-6.4466864051347015,41.600000000000321,-10.446686405134745,{"$error":"#VALUE!"},{"$error":"#VALUE!"},{"$error":"#VALUE!"},{"$error":"#VALUE!"},{"$error":"#VALUE!"},{"$error":"#VALUE!"},{"$error":"#VALUE!"},{"$error":"#VALUE!"},{"$error":"#VALUE!"},{"$error":"#VALUE!"},{"$error":"#VALUE!"},{"$error":"#VALUE!"}]
[null,null,null,null,null,null,null,null,null,null,null,null,null,null,{"$f":"IF(Analyze!G423=\"\",\"\",Analyze!G423)","v":""},{"$f":"IF(Analyze!S423=\"\",\"\",Analyze!S423)","v":{"$error":"#VALUE!"}},null,null,null,null,null,null,null,"","","",41.700000000000323,-16.698654343345002,41.700000000000323,-2.4734813243778397,41.700000000000323,-6.473481324377814,41.700000000000323,-10.473481324377858,{"$error":"#VALUE!"},{"$error":"#VALUE!"},{"$error":"#VALUE!"},{"$error":"#VALUE!"},{"$error":"#VALUE!"},{"$error":"#VALUE!"},{"$error":"#VALUE!"},{"$error":"#VALUE!"},{"$error":"#VALUE!"},{"$error":"#VALUE!"},{"$error":"#VALUE!"},{"$error":"#VALUE!"}]
[null,null,null,null,null,null,null,null,null,null,null,null,null,null,{"$f":"IF(Analyze!G424=\"\",\"\",Analyze!G424)","v":""},{"$f":"IF(Analyze!S424=\"\",\"\",Analyze!S424)","v":{"$error":"#VALUE!"}},null,null,null,null,null,null,null,"","","",41.800000000000324,-16.768675097165971,41.800000000000324,-2.5002762436209518,41.800000000000324,-6.5002762436209265,41.800000000000324,-10.50027624362097,{"$error":"#VALUE!"},{"$error":"#VALUE!"},{"$error":"#VALUE!"},{"$error":"#VALUE!"},{"$error":"#VALUE!"},{"$error":"#VALUE!"},{"$error":"#VALUE!"},{"$error":"#VALUE!"},{"$error":"#VALUE!"},{"$error":"#VALUE!"},{"$error":"#VALUE!"},{"$error":"#VALUE!"}]
[null,null,null,null,null,null,null,null,null,null,null,null,null,null,{"$f":"IF(Analyze!G425=\"\",\"\",Analyze!G425)","v":""},{"$f":"IF(Analyze!S425=\"\",\"\",Analyze!S425)","v":{"$error":"#VALUE!"}},null,null,null,null,null,null,null,"","","",41.900000000000325,-16.838695850986941,41.900000000000325,-2.5270711628640639,41.900000000000325,-6.527071162864039,41.900000000000325,-10.527071162864083,{"$error":"#VALUE!"},{"$error":"#VALUE!"},{"$error":"#VALUE!"},{"$error":"#VALUE!"},{"$error":"#VALUE!"},{"$error":"#VALUE!"},{"$error":"#VALUE!"},{"$error":"#VALUE!"},{"$error":"#VALUE!"},{"$error":"#VALUE!"},{"$error":"#VALUE!"},{"$error":"#VALUE!"}]
[null,null,null,null,null,null,null,null,null,null,null,null,null,null,{"$f":"IF(Analyze!G426=\"\",\"\",Analyze!G426)","v":""},{"$f":"IF(Analyze!S426=\"\",\"\",Analyze!S426)","v":{"$error":"#VALUE!"}},null,null,null,null,null,null,null,"","","",42.000000000000327,-16.90871660480791,42.000000000000327,-2.5538660821071759,42.000000000000327,-6.5538660821071515,42.000000000000327,-10.553866082107195,{"$error":"#VALUE!"},{"$error":"#VALUE!"},{"$error":"#VALUE!"},{"$error":"#VALUE!"},{"$error":"#VALUE!"},{"$error":"#VALUE!"},{"$error":"#VALUE!"},{"$error":"#VALUE!"},{"$error":"#VALUE!"},{"$error":"#VALUE!"},{"$error":"#VALUE!"},{"$error":"#VALUE!"}]
[null,null,null,null,null,null,null,null,null,null,null,null,null,null,{"$f":"IF(Analyze!G427=\"\",\"\",Analyze!G427)","v":""},{"$f":"IF(Analyze!S427=\"\",\"\",Analyze!S427)","v":{"$error":"#VALUE!"}},null,null,null,null,null,null,null,"","","",42.100000000000328,-16.97873735862888,42.100000000000328,-2.580661001350288,42.100000000000328,-6.580661001350264,42.100000000000328,-10.580661001350308,{"$error":"#VALUE!"},{"$error":"#VALUE!"},{"$error":"#VALUE!"},{"$error":"#VALUE!"},{"$error":"#VALUE!"},{"$error":"#VALUE!"},{"$error":"#VALUE!"},{"$error":"#VALUE!"},{"$error":"#VALUE!"},{"$error":"#VALUE!"},{"$error":"#VALUE!"},{"$error":"#VALUE!"}]
[null,null,null,null,null,null,null,null,null,null,null,null,null,null,{"$f":"IF(Analyze!G428=\"\",\"\",Analyze!G428)","v":""},{"$f":"IF(Analyze!S428=\"\",\"\",Analyze!S428)","v":{"$error":"#VALUE!"}},null,null,null,null,null,null,null,"","","",42.20000000000033,-17.04875811244985,42.20000000000033,-2.6074559205934,42.20000000000033,-6.6074559205933765,42.20000000000033,-10.60745592059342,{"$error":"#VALUE!"},{"$error":"#VALUE!"},{"$error":"#VALUE!"},{"$error":"#VALUE!"},{"$error":"#VALUE!"},{"$error":"#VALUE!"},{"$error":"#VALUE!"},{"$error":"#VALUE!"},{"$error":"#VALUE!"},{"$error":"#VALUE!"},{"$error":"#VALUE!"},{"$error":"#VALUE!"}]
[null,null,null,null,null,null,null,null,null,null,null,null,null,null,{"$f":"IF(Analyze!G429=\"\",\"\",Analyze!G429)","v":""},{"$f":"IF(Analyze!S429=\"\",\"\",Analyze!S429)","v":{"$error":"#VALUE!"}},null,null,null,null,null,null,null,"","","",42.300000000000331,-17.118778866270819,42.300000000000331,-2.6342508398365121,42.300000000000331,-6.634250839836489,42.300000000000331,-10.634250839836533,{"$error":"#VALUE!"},{"$error":"#VALUE!"},{"$error":"#VALUE!"},{"$error":"#VALUE!"},{"$error":"#VALUE!"},{"$error":"#VALUE!"},{"$error":"#VALUE!"},{"$error":"#VALUE!"},{"$error":"#VALUE!"},{"$error":"#VALUE!"},{"$error":"#VALUE!"},{"$error":"#VALUE!"}]
[null,null,null,null,null,null,null,null,null,null,null,null,null,null,{"$f":"IF(Analyze!G430=\"\",\"\",Analyze!G430)","v":""},{"$f":"IF(Analyze!S430=\"\",\"\",Analyze!S430)","v":{"$error":"#VALUE!"}},null,null,null,null,null,null,null,"","","",42.400000000000333,-17.188799620091789,42.400000000000333,-2.6610457590796242,42.400000000000333,-6.6610457590796015,42.400000000000333,-10.661045759079645,{"$error":"#VALUE!"},{"$error":"#VALUE!"},{"$error":"#VALUE!"},{"$error":"#VALUE!"},{"$error":"#VALUE!"},{"$error":"#VALUE!"},{"$error":"#VALUE!"},{"$error":"#VALUE!"},{"$error":"#VALUE!"},{"$error":"#VALUE!"},{"$error":"#VALUE!"},{"$error":"#VALUE!"}]
[null,null,null,null,null,null,null,null,null,null,null,null,null,null,{"$f":"IF(Analyze!G431=\"\",\"\",Analyze!G431)","v":""},{"$f":"IF(Analyze!S431=\"\",\"\",Analyze!S431)","v":{"$error":"#VALUE!"}},null,null,null,null,null,null,null,"","","",42.500000000000334,-17.258820373912759,42.500000000000334,-2.6878406783227362,42.500000000000334,-6.687840678322714,42.500000000000334,-10.687840678322758,{"$error":"#VALUE!"},{"$error":"#VALUE!"},{"$error":"#VALUE!"},{"$error":"#VALUE!"},{"$error":"#VALUE!"},{"$error":"#VALUE!"},{"$error":"#VALUE!"},{"$error":"#VALUE!"},{"$error":"#VALUE!"},{"$error":"#VALUE!"},{"$error":"#VALUE!"},{"$error":"#VALUE!"}]
[null,null,null,null,null,null,null,null,null,null,null,null,null,null,{"$f":"IF(Analyze!G432=\"\",\"\",Analyze!G432)","v":""},{"$f":"IF(Analyze!S432=\"\",\"\",Analyze!S432)","v":{"$error":"#VALUE!"}},null,null,null,null,null,null,null,"","","",42.600000000000335,-17.328841127733728,42.600000000000335,-2.7146355975658483,42.600000000000335,-6.7146355975658265,42.600000000000335,-10.71463559756587,{"$error":"#VALUE!"},{"$error":"#VALUE!"},{"$error":"#VALUE!"},{"$error":"#VALUE!"},{"$error":"#VALUE!"},{"$error":"#VALUE!"},{"$error":"#VALUE!"},{"$error":"#VALUE!"},{"$error":"#VALUE!"},{"$error":"#VALUE!"},{"$error":"#VALUE!"},{"$error":"#VALUE!"}]
[null,null,null,null,null,null,null,null,null,null,null,null,null,null,{"$f":"IF(Analyze!G433=\"\",\"\",Analyze!G433)","v":""},{"$f":"IF(Analyze!S433=\"\",\"\",Analyze!S433)","v":{"$error":"#VALUE!"}},null,null,null,null,null,null,null,"","","",42.700000000000337,-17.398861881554698,42.700000000000337,-2.7414305168089603,42.700000000000337,-6.741430516808939,42.700000000000337,-10.741430516808983,{"$error":"#VALUE!"},{"$error":"#VALUE!"},{"$error":"#VALUE!"},{"$error":"#VALUE!"},{"$error":"#VALUE!"},{"$error":"#VALUE!"},{"$error":"#VALUE!"},{"$error":"#VALUE!"},{"$error":"#VALUE!"},{"$error":"#VALUE!"},{"$error":"#VALUE!"},{"$error":"#VALUE!"}]
[null,null,null,null,null,null,null,null,null,null,null,null,null,null,{"$f":"IF(Analyze!G434=\"\",\"\",Analyze!G434)","v":""},{"$f":"IF(Analyze!S434=\"\",\"\",Analyze!S434)","v":{"$error":"#VALUE!"}},null,null,null,null,null,null,null,"","","",42.800000000000338,-17.468882635375667,42.800000000000338,-2.7682254360520724,42.800000000000338,-6.7682254360520515,42.800000000000338,-10.768225436052095,{"$error":"#VALUE!"},{"$error":"#VALUE!"},{"$error":"#VALUE!"},{"$error":"#VALUE!"},{"$error":"#VALUE!"},{"$error":"#VALUE!"},{"$error":"#VALUE!"},{"$error":"#VALUE!"},{"$error":"#VALUE!"},{"$error":"#VALUE!"},{"$error":"#VALUE!"},{"$error":"#VALUE!"}]
[null,null,null,null,null,null,null,null,null,null,null,null,null,null,{"$f":"IF(Analyze!G435=\"\",\"\",Analyze!G435)","v":""},{"$f":"IF(Analyze!S435=\"\",\"\",Analyze!S435)","v":{"$error":"#VALUE!"}},null,null,null,null,null,null,null,"",{"$f":"IF(W436=\"\",\"\",W435+$H$4*COS(ATAN((X436-X435)/(W436-W435))))","v":""},{"$f":"IF(W436=\"\",\"\",X435-$H$4*SIN(ATAN((X436-X435)/(W436-W435))))","v":""},42.90000000000034,-17.538903389196637,42.90000000000034,-2.7950203552951844,42.90000000000034,-6.795020355295164,42.90000000000034,-10.795020355295208,{"$error":"#VALUE!"},{"$error":"#VALUE!"},{"$error":"#VALUE!"},{"$error":"#VALUE!"},{"$error":"#VALUE!"},{"$error":"#VALUE!"},{"$error":"#VALUE!"},{"$error":"#VALUE!"},{"$error":"#VALUE!"},{"$error":"#VALUE!"},{"$error":"#VALUE!"},{"$error":"#VALUE!"}]
[null,null,null,null,null,null,null,null,null,null,null,null,null,null,{"$f":"IF(Analyze!G436=\"\",\"\",Analyze!G436)","v":""},{"$f":"IF(Analyze!S436=\"\",\"\",Analyze!S436)","v":{"$error":"#VALUE!"}},null,null,null,null,null,null,null,"","","",43.000000000000341,-17.608924143017607,43.000000000000341,-2.8218152745382965,43.000000000000341,-6.8218152745382765,43.000000000000341,-10.82181527453832,{"$error":"#VALUE!"},{"$error":"#VALUE!"},{"$error":"#VALUE!"},{"$error":"#VALUE!"},{"$error":"#VALUE!"},{"$error":"#VALUE!"},{"$error":"#VALUE!"},{"$error":"#VALUE!"},{"$error":"#VALUE!"},{"$error":"#VALUE!"},{"$error":"#VALUE!"},{"$error":"#VALUE!"}]
[null,null,null,null,null,null,null,null,null,null,null,null,null,null,{"$f":"IF(Analyze!G437=\"\",\"\",Analyze!G437)","v":""},{"$f":"IF(Analyze!S437=\"\",\"\",Analyze!S437)","v":{"$error":"#VALUE!"}},null,null,null,null,null,null,null,"","","",43.100000000000342,-17.678944896838576,43.100000000000342,-2.8486101937814086,43.100000000000342,-6.848610193781389,43.100000000000342,-10.848610193781433,{"$error":"#VALUE!"},{"$error":"#VALUE!"},{"$error":"#VALUE!"},{"$error":"#VALUE!"},{"$error":"#VALUE!"},{"$error":"#VALUE!"},{"$error":"#VALUE!"},{"$error":"#VALUE!"},{"$error":"#VALUE!"},{"$error":"#VALUE!"},{"$error":"#VALUE!"},{"$error":"#VALUE!"}]
[null,null,null,null,null,null,null,null,null,null,null,null,null,null,{"$f":"IF(Analyze!G438=\"\",\"\",Analyze!G438)","v":""},{"$f":"IF(Analyze!S438=\"\",\"\",Analyze!S438)","v":{"$error":"#VALUE!"}},null,null,null,null,null,null,null,"","","",43.200000000000344,-17.748965650659546,43.200000000000344,-2.8754051130245206,43.200000000000344,-6.8754051130245015,43.200000000000344,-10.875405113024545,{"$error":"#VALUE!"},{"$error":"#VALUE!"},{"$error":"#VALUE!"},{"$error":"#VALUE!"},{"$error":"#VALUE!"},{"$error":"#VALUE!"},{"$error":"#VALUE!"},{"$error":"#VALUE!"},{"$error":"#VALUE!"},{"$error":"#VALUE!"},{"$error":"#VALUE!"},{"$error":"#VALUE!"}]
[null,null,null,null,null,null,null,null,null,null,null,null,null,null,{"$f":"IF(Analyze!G439=\"\",\"\",Analyze!G439)","v":""},{"$f":"IF(Analyze!S439=\"\",\"\",Analyze!S439)","v":{"$error":"#VALUE!"}},null,null,null,null,null,null,null,"","","",43.300000000000345,-17.818986404480516,43.300000000000345,-2.9022000322676327,43.300000000000345,-6.902200032267614,43.300000000000345,-10.902200032267658,{"$error":"#VALUE!"},{"$error":"#VALUE!"},{"$error":"#VALUE!"},{"$error":"#VALUE!"},{"$error":"#VALUE!"},{"$error":"#VALUE!"},{"$error":"#VALUE!"},{"$error":"#VALUE!"},{"$error":"#VALUE!"},{"$error":"#VALUE!"},{"$error":"#VALUE!"},{"$error":"#VALUE!"}]
[null,null,null,null,null,null,null,null,null,null,null,null,null,null,{"$f":"IF(Analyze!G440=\"\",\"\",Analyze!G440)","v":""},{"$f":"IF(Analyze!S440=\"\",\"\",Analyze!S440)","v":{"$error":"#VALUE!"}},null,null,null,null,null,null,null,"","","",43.400000000000347,-17.889007158301485,43.400000000000347,-2.9289949515107447,43.400000000000347,-6.9289949515107265,43.400000000000347,-10.92899495151077,{"$error":"#VALUE!"},{"$error":"#VALUE!"},{"$error":"#VALUE!"},{"$error":"#VALUE!"},{"$error":"#VALUE!"},{"$error":"#VALUE!"},{"$error":"#VALUE!"},{"$error":"#VALUE!"},{"$error":"#VALUE!"},{"$error":"#VALUE!"},{"$error":"#VALUE!"},{"$error":"#VALUE!"}]
[null,null,null,null,null,null,null,null,null,null,null,null,null,null,{"$f":"IF(Analyze!G441=\"\",\"\",Analyze!G441)","v":""},{"$f":"IF(Analyze!S441=\"\",\"\",Analyze!S441)","v":{"$error":"#VALUE!"}},null,null,null,null,null,null,null,"","","",43.500000000000348,-17.959027912122455,43.500000000000348,-2.9557898707538568,43.500000000000348,-6.955789870753839,43.500000000000348,-10.955789870753883,{"$error":"#VALUE!"},{"$error":"#VALUE!"},{"$error":"#VALUE!"},{"$error":"#VALUE!"},{"$error":"#VALUE!"},{"$error":"#VALUE!"},{"$error":"#VALUE!"},{"$error":"#VALUE!"},{"$error":"#VALUE!"},{"$error":"#VALUE!"},{"$error":"#VALUE!"},{"$error":"#VALUE!"}]
[null,null,null,null,null,null,null,null,null,null,null,null,null,null,{"$f":"IF(Analyze!G442=\"\",\"\",Analyze!G442)","v":""},{"$f":"IF(Analyze!S442=\"\",\"\",Analyze!S442)","v":{"$error":"#VALUE!"}},null,null,null,null,null,null,null,"","","",43.60000000000035,-18.029048665943424,43.60000000000035,-2.9825847899969689,43.60000000000035,-6.9825847899969515,43.60000000000035,-10.982584789996995,{"$error":"#VALUE!"},{"$error":"#VALUE!"},{"$error":"#VALUE!"},{"$error":"#VALUE!"},{"$error":"#VALUE!"},{"$error":"#VALUE!"},{"$error":"#VALUE!"},{"$error":"#VALUE!"},{"$error":"#VALUE!"},{"$error":"#VALUE!"},{"$error":"#VALUE!"},{"$error":"#VALUE!"}]
[null,null,null,null,null,null,null,null,null,null,null,null,null,null,{"$f":"IF(Analyze!G443=\"\",\"\",Analyze!G443)","v":""},{"$f":"IF(Analyze!S443=\"\",\"\",Analyze!S443)","v":{"$error":"#VALUE!"}},null,null,null,null,null,null,null,"","","",43.700000000000351,-18.099069419764394,43.700000000000351,-3.0093797092400809,43.700000000000351,-7.009379709240064,43.700000000000351,-11.009379709240108,{"$error":"#VALUE!"},{"$error":"#VALUE!"},{"$error":"#VALUE!"},{"$error":"#VALUE!"},{"$error":"#VALUE!"},{"$error":"#VALUE!"},{"$error":"#VALUE!"},{"$error":"#VALUE!"},{"$error":"#VALUE!"},{"$error":"#VALUE!"},{"$error":"#VALUE!"},{"$error":"#VALUE!"}]
[null,null,null,null,null,null,null,null,null,null,null,null,null,null,{"$f":"IF(Analyze!G444=\"\",\"\",Analyze!G444)","v":""},{"$f":"IF(Analyze!S444=\"\",\"\",Analyze!S444)","v":{"$error":"#VALUE!"}},null,null,null,null,null,null,null,"","","",43.800000000000352,-18.169090173585364,43.800000000000352,-3.036174628483193,43.800000000000352,-7.0361746284831765,43.800000000000352,-11.03617462848322,{"$error":"#VALUE!"},{"$error":"#VALUE!"},{"$error":"#VALUE!"},{"$error":"#VALUE!"},{"$error":"#VALUE!"},{"$error":"#VALUE!"},{"$error":"#VALUE!"},{"$error":"#VALUE!"},{"$error":"#VALUE!"},{"$error":"#VALUE!"},{"$error":"#VALUE!"},{"$error":"#VALUE!"}]
[null,null,null,null,null,null,null,null,null,null,null,null,null,null,{"$f":"IF(Analyze!G445=\"\",\"\",Analyze!G445)","v":""},{"$f":"IF(Analyze!S445=\"\",\"\",Analyze!S445)","v":{"$error":"#VALUE!"}},null,null,null,null,null,null,null,"","","",43.900000000000354,-18.239110927406333,43.900000000000354,-3.062969547726305,43.900000000000354,-7.062969547726289,43.900000000000354,-11.062969547726333,{"$error":"#VALUE!"},{"$error":"#VALUE!"},{"$error":"#VALUE!"},{"$error":"#VALUE!"},{"$error":"#VALUE!"},{"$error":"#VALUE!"},{"$error":"#VALUE!"},{"$error":"#VALUE!"},{"$error":"#VALUE!"},{"$error":"#VALUE!"},{"$error":"#VALUE!"},{"$error":"#VALUE!"}]
[null,null,null,null,null,null,null,null,null,null,null,null,null,null,{"$f":"IF(Analyze!G446=\"\",\"\",Analyze!G446)","v":""},{"$f":"IF(Analyze!S446=\"\",\"\",Analyze!S446)","v":{"$error":"#VALUE!"}},null,null,null,null,null,null,null,"","","",44.000000000000355,-18.309131681227303,44.000000000000355,-3.0897644669694171,44.000000000000355,-7.0897644669694015,44.000000000000355,-11.089764466969445,{"$error":"#VALUE!"},{"$error":"#VALUE!"},{"$error":"#VALUE!"},{"$error":"#VALUE!"},{"$error":"#VALUE!"},{"$error":"#VALUE!"},{"$error":"#VALUE!"},{"$error":"#VALUE!"},{"$error":"#VALUE!"},{"$error":"#VALUE!"},{"$error":"#VALUE!"},{"$error":"#VALUE!"}]
[null,null,null,null,null,null,null,null,null,null,null,null,null,null,{"$f":"IF(Analyze!G447=\"\",\"\",Analyze!G447)","v":""},{"$f":"IF(Analyze!S447=\"\",\"\",Analyze!S447)","v":{"$error":"#VALUE!"}},null,null,null,null,null,null,null,"","","",44.100000000000357,-18.379152435048272,44.100000000000357,-3.1165593862125291,44.100000000000357,-7.116559386212514,44.100000000000357,-11.116559386212558,{"$error":"#VALUE!"},{"$error":"#VALUE!"},{"$error":"#VALUE!"},{"$error":"#VALUE!"},{"$error":"#VALUE!"},{"$error":"#VALUE!"},{"$error":"#VALUE!"},{"$error":"#VALUE!"},{"$error":"#VALUE!"},{"$error":"#VALUE!"},{"$error":"#VALUE!"},{"$error":"#VALUE!"}]
[null,null,null,null,null,null,null,null,null,null,null,null,null,null,{"$f":"IF(Analyze!G448=\"\",\"\",Analyze!G448)","v":""},{"$f":"IF(Analyze!S448=\"\",\"\",Analyze!S448)","v":{"$error":"#VALUE!"}},null,null,null,null,null,null,null,"","","",44.200000000000358,-18.449173188869242,44.200000000000358,-3.1433543054556412,44.200000000000358,-7.1433543054556266,44.200000000000358,-11.14335430545567,{"$error":"#VALUE!"},{"$error":"#VALUE!"},{"$error":"#VALUE!"},{"$error":"#VALUE!"},{"$error":"#VALUE!"},{"$error":"#VALUE!"},{"$error":"#VALUE!"},{"$error":"#VALUE!"},{"$error":"#VALUE!"},{"$error":"#VALUE!"},{"$error":"#VALUE!"},{"$error":"#VALUE!"}]
[null,null,null,null,null,null,null,null,null,null,null,null,null,null,{"$f":"IF(Analyze!G449=\"\",\"\",Analyze!G449)","v":""},{"$f":"IF(Analyze!S449=\"\",\"\",Analyze!S449)","v":{"$error":"#VALUE!"}},null,null,null,null,null,null,null,"","","",44.30000000000036,-18.519193942690212,44.30000000000036,-3.1701492246987533,44.30000000000036,-7.1701492246987391,44.30000000000036,-11.170149224698783,{"$error":"#VALUE!"},{"$error":"#VALUE!"},{"$error":"#VALUE!"},{"$error":"#VALUE!"},{"$error":"#VALUE!"},{"$error":"#VALUE!"},{"$error":"#VALUE!"},{"$error":"#VALUE!"},{"$error":"#VALUE!"},{"$error":"#VALUE!"},{"$error":"#VALUE!"},{"$error":"#VALUE!"}]
[null,null,null,null,null,null,null,null,null,null,null,null,null,null,{"$f":"IF(Analyze!G450=\"\",\"\",Analyze!G450)","v":""},{"$f":"IF(Analyze!S450=\"\",\"\",Analyze!S450)","v":{"$error":"#VALUE!"}},null,null,null,null,null,null,null,"","","",44.400000000000361,-18.589214696511181,44.400000000000361,-3.1969441439418653,44.400000000000361,-7.1969441439418516,44.400000000000361,-11.196944143941895,{"$error":"#VALUE!"},{"$error":"#VALUE!"},{"$error":"#VALUE!"},{"$error":"#VALUE!"},{"$error":"#VALUE!"},{"$error":"#VALUE!"},{"$error":"#VALUE!"},{"$error":"#VALUE!"},{"$error":"#VALUE!"},{"$error":"#VALUE!"},{"$error":"#VALUE!"},{"$error":"#VALUE!"}]
[null,null,null,null,null,null,null,null,null,null,null,null,null,null,{"$f":"IF(Analyze!G451=\"\",\"\",Analyze!G451)","v":""},{"$f":"IF(Analyze!S451=\"\",\"\",Analyze!S451)","v":{"$error":"#VALUE!"}},null,null,null,null,null,null,null,"","","",44.500000000000362,-18.659235450332151,44.500000000000362,-3.2237390631849774,44.500000000000362,-7.2237390631849641,44.500000000000362,-11.223739063185008,{"$error":"#VALUE!"},{"$error":"#VALUE!"},{"$error":"#VALUE!"},{"$error":"#VALUE!"},{"$error":"#VALUE!"},{"$error":"#VALUE!"},{"$error":"#VALUE!"},{"$error":"#VALUE!"},{"$error":"#VALUE!"},{"$error":"#VALUE!"},{"$error":"#VALUE!"},{"$error":"#VALUE!"}]
[null,null,null,null,null,null,null,null,null,null,null,null,null,null,{"$f":"IF(Analyze!G452=\"\",\"\",Analyze!G452)","v":""},{"$f":"IF(Analyze!S452=\"\",\"\",Analyze!S452)","v":{"$error":"#VALUE!"}},null,null,null,null,null,null,null,"","","",44.600000000000364,-18.729256204153121,44.600000000000364,-3.2505339824280894,44.600000000000364,-7.2505339824280766,44.600000000000364,-11.25053398242812,{"$error":"#VALUE!"},{"$error":"#VALUE!"},{"$error":"#VALUE!"},{"$error":"#VALUE!"},{"$error":"#VALUE!"},{"$error":"#VALUE!"},{"$error":"#VALUE!"},{"$error":"#VALUE!"},{"$error":"#VALUE!"},{"$error":"#VALUE!"},{"$error":"#VALUE!"},{"$error":"#VALUE!"}]
[null,null,null,null,null,null,null,null,null,null,null,null,null,null,{"$f":"IF(Analyze!G453=\"\",\"\",Analyze!G453)","v":""},{"$f":"IF(Analyze!S453=\"\",\"\",Analyze!S453)","v":{"$error":"#VALUE!"}},null,null,null,null,null,null,null,"","","",44.700000000000365,-18.79927695797409,44.700000000000365,-3.2773289016712015,44.700000000000365,-7.2773289016711891,44.700000000000365,-11.277328901671233,{"$error":"#VALUE!"},{"$error":"#VALUE!"},{"$error":"#VALUE!"},{"$error":"#VALUE!"},{"$error":"#VALUE!"},{"$error":"#VALUE!"},{"$error":"#VALUE!"},{"$error":"#VALUE!"},{"$error":"#VALUE!"},{"$error":"#VALUE!"},{"$error":"#VALUE!"},{"$error":"#VALUE!"}]
[null,null,null,null,null,null,null,null,null,null,null,null,null,null,{"$f":"IF(Analyze!G454=\"\",\"\",Analyze!G454)","v":""},{"$f":"IF(Analyze!S454=\"\",\"\",Analyze!S454)","v":{"$error":"#VALUE!"}},null,null,null,null,null,null,null,{"$f":"IF(O454=\"\",\"\",IF(O454>h+$H$2,(\"\"),(h-O454)))","v":""},"","",44.800000000000367,-18.86929771179506,44.800000000000367,-3.3041238209143136,44.800000000000367,-7.3041238209143016,44.800000000000367,-11.304123820914345,{"$error":"#VALUE!"},{"$error":"#VALUE!"},{"$error":"#VALUE!"},{"$error":"#VALUE!"},{"$error":"#VALUE!"},{"$error":"#VALUE!"},{"$error":"#VALUE!"},{"$error":"#VALUE!"},{"$error":"#VALUE!"},{"$error":"#VALUE!"},{"$error":"#VALUE!"},{"$error":"#VALUE!"}]
[null,null,null,null,null,null,null,null,null,null,null,null,null,null,{"$f":"IF(Analyze!G455=\"\",\"\",Analyze!G455)","v":""},{"$f":"IF(Analyze!S455=\"\",\"\",Analyze!S455)","v":{"$error":"#VALUE!"}},null,null,null,null,null,null,null,"","","",44.900000000000368,-18.939318465616029,44.900000000000368,-3.3309187401574256,44.900000000000368,-7.3309187401574141,44.900000000000368,-11.330918740157458,{"$error":"#VALUE!"},{"$error":"#VALUE!"},{"$error":"#VALUE!"},{"$error":"#VALUE!"},{"$error":"#VALUE!"},{"$error":"#VALUE!"},{"$error":"#VALUE!"},{"$error":"#VALUE!"},{"$error":"#VALUE!"},{"$error":"#VALUE!"},{"$error":"#VALUE!"},{"$error":"#VALUE!"}]
[null,null,null,null,null,null,null,null,null,null,null,null,null,null,{"$f":"IF(Analyze!G456=\"\",\"\",Analyze!G456)","v":""},{"$f":"IF(Analyze!S456=\"\",\"\",Analyze!S456)","v":{"$error":"#VALUE!"}},null,null,null,null,null,null,null,"","","",{"$f":"AA455+0.1","v":45.000000000000369},{"$f":"AB455-0.1*TAN(RADIANS($F$7))","v":-19.009339219436999},{"$f":"AC455+0.1","v":45.000000000000369},{"$f":"AD455-0.1*TAN(RADIANS($F$8))","v":-3.3577136594005377},{"$f":"AE455+0.1","v":45.000000000000369},{"$f":"AF455-0.1*TAN(RADIANS($F$9))","v":-7.3577136594005266},{"$f":"AG455+0.1","v":45.000000000000369},{"$f":"AH455-0.1*TAN(RADIANS($F$10))","v":-11.35771365940057},{"$f":"AI455+0.1","v":{"$error":"#VALUE!"}},{"$f":"AJ455-0.1*TAN(RADIANS($F$11))","v":{"$error":"#VALUE!"}},{"$f":"AK455+0.1","v":{"$error":"#VALUE!"}},{"$f":"AL455-0.1*TAN(RADIANS($F$12))","v":{"$error":"#VALUE!"}},{"$f":"AM455+0.1","v":{"$error":"#VALUE!"}},{"$f":"AN455-0.1*TAN(RADIANS($F$13))","v":{"$error":"#VALUE!"}},{"$f":"AO455+0.1","v":{"$error":"#VALUE!"}},{"$f":"AP455-0.1*TAN(RADIANS($F$14))","v":{"$error":"#VALUE!"}},{"$f":"AQ455+0.1","v":{"$error":"#VALUE!"}},{"$f":"AR455-0.1*TAN(RADIANS($F$15))","v":{"$error":"#VALUE!"}},{"$f":"AS455+0.1","v":{"$error":"#VALUE!"}},{"$f":"AT455-0.1*TAN(RADIANS($F$16))","v":{"$error":"#VALUE!"}}]
[null,null,null,null,null,null,null,null,null,null,null,null,null,null,{"$f":"IF(Analyze!G457=\"\",\"\",Analyze!G457)","v":""},{"$f":"IF(Analyze!S457=\"\",\"\",Analyze!S457)","v":{"$error":"#VALUE!"}},null,null,null,null,null,null,null,"","","",45.100000000000371,-19.079359973257969,45.100000000000371,-3.3845085786436497,45.100000000000371,-7.3845085786436391,45.100000000000371,-11.384508578643683,{"$error":"#VALUE!"},{"$error":"#VALUE!"},{"$error":"#VALUE!"},{"$error":"#VALUE!"},{"$error":"#VALUE!"},{"$error":"#VALUE!"},{"$error":"#VALUE!"},{"$error":"#VALUE!"},{"$error":"#VALUE!"},{"$error":"#VALUE!"},{"$error":"#VALUE!"},{"$error":"#VALUE!"}]
[null,null,null,null,null,null,null,null,null,null,null,null,null,null,{"$f":"IF(Analyze!G458=\"\",\"\",Analyze!G458)","v":""},{"$f":"IF(Analyze!S458=\"\",\"\",Analyze!S458)","v":{"$error":"#VALUE!"}},null,null,null,null,null,null,null,"","","",45.200000000000372,-19.149380727078938,45.200000000000372,-3.4113034978867618,45.200000000000372,-7.4113034978867516,45.200000000000372,-11.411303497886795,{"$error":"#VALUE!"},{"$error":"#VALUE!"},{"$error":"#VALUE!"},{"$error":"#VALUE!"},{"$error":"#VALUE!"},{"$error":"#VALUE!"},{"$error":"#VALUE!"},{"$error":"#VALUE!"},{"$error":"#VALUE!"},{"$error":"#VALUE!"},{"$error":"#VALUE!"},{"$error":"#VALUE!"}]
[null,null,null,null,null,null,null,null,null,null,null,null,null,null,{"$f":"IF(Analyze!G459=\"\",\"\",Analyze!G459)","v":""},{"$f":"IF(Analyze!S459=\"\",\"\",Analyze!S459)","v":{"$error":"#VALUE!"}},null,null,null,null,null,null,null,"","","",45.300000000000374,-19.219401480899908,45.300000000000374,-3.4380984171298739,45.300000000000374,-7.4380984171298641,45.300000000000374,-11.438098417129908,{"$error":"#VALUE!"},{"$error":"#VALUE!"},{"$error":"#VALUE!"},{"$error":"#VALUE!"},{"$error":"#VALUE!"},{"$error":"#VALUE!"},{"$error":"#VALUE!"},{"$error":"#VALUE!"},{"$error":"#VALUE!"},{"$error":"#VALUE!"},{"$error":"#VALUE!"},{"$error":"#VALUE!"}]
[null,null,null,null,null,null,null,null,null,null,null,null,null,null,{"$f":"IF(Analyze!G460=\"\",\"\",Analyze!G460)","v":""},{"$f":"IF(Analyze!S460=\"\",\"\",Analyze!S460)","v":{"$error":"#VALUE!"}},null,null,null,null,null,null,null,"","","",45.400000000000375,-19.289422234720877,45.400000000000375,-3.4648933363729859,45.400000000000375,-7.4648933363729766,45.400000000000375,-11.46489333637302,{"$error":"#VALUE!"},{"$error":"#VALUE!"},{"$error":"#VALUE!"},{"$error":"#VALUE!"},{"$error":"#VALUE!"},{"$error":"#VALUE!"},{"$error":"#VALUE!"},{"$error":"#VALUE!"},{"$error":"#VALUE!"},{"$error":"#VALUE!"},{"$error":"#VALUE!"},{"$error":"#VALUE!"}]
[null,null,null,null,null,null,null,null,null,null,null,null,null,null,{"$f":"IF(Analyze!G461=\"\",\"\",Analyze!G461)","v":""},{"$f":"IF(Analyze!S461=\"\",\"\",Analyze!S461)","v":{"$error":"#VALUE!"}},null,null,null,null,null,null,null,"","","",45.500000000000377,-19.359442988541847,45.500000000000377,-3.491688255616098,45.500000000000377,-7.4916882556160891,45.500000000000377,-11.491688255616133,{"$error":"#VALUE!"},{"$error":"#VALUE!"},{"$error":"#VALUE!"},{"$error":"#VALUE!"},{"$error":"#VALUE!"},{"$error":"#VALUE!"},{"$error":"#VALUE!"},{"$error":"#VALUE!"},{"$error":"#VALUE!"},{"$error":"#VALUE!"},{"$error":"#VALUE!"},{"$error":"#VALUE!"}]
[null,null,null,null,null,null,null,null,null,null,null,null,null,null,{"$f":"IF(Analyze!G462=\"\",\"\",Analyze!G462)","v":""},{"$f":"IF(Analyze!S462=\"\",\"\",Analyze!S462)","v":{"$error":"#VALUE!"}},null,null,null,null,null,null,null,"","","",45.600000000000378,-19.429463742362817,45.600000000000378,-3.51848317485921,45.600000000000378,-7.5184831748592016,45.600000000000378,-11.518483174859245,{"$error":"#VALUE!"},{"$error":"#VALUE!"},{"$error":"#VALUE!"},{"$error":"#VALUE!"},{"$error":"#VALUE!"},{"$error":"#VALUE!"},{"$error":"#VALUE!"},{"$error":"#VALUE!"},{"$error":"#VALUE!"},{"$error":"#VALUE!"},{"$error":"#VALUE!"},{"$error":"#VALUE!"}]
[null,null,null,null,null,null,null,null,null,null,null,null,null,null,{"$f":"IF(Analyze!G463=\"\",\"\",Analyze!G463)","v":""},{"$f":"IF(Analyze!S463=\"\",\"\",Analyze!S463)","v":{"$error":"#VALUE!"}},null,null,null,null,null,null,null,"","","",45.700000000000379,-19.499484496183786,45.700000000000379,-3.5452780941023221,45.700000000000379,-7.5452780941023141,45.700000000000379,-11.545278094102358,{"$error":"#VALUE!"},{"$error":"#VALUE!"},{"$error":"#VALUE!"},{"$error":"#VALUE!"},{"$error":"#VALUE!"},{"$error":"#VALUE!"},{"$error":"#VALUE!"},{"$error":"#VALUE!"},{"$error":"#VALUE!"},{"$error":"#VALUE!"},{"$error":"#VALUE!"},{"$error":"#VALUE!"}]
[null,null,null,null,null,null,null,null,null,null,null,null,null,null,{"$f":"IF(Analyze!G464=\"\",\"\",Analyze!G464)","v":""},{"$f":"IF(Analyze!S464=\"\",\"\",Analyze!S464)","v":{"$error":"#VALUE!"}},null,null,null,null,null,null,null,"","","",45.800000000000381,-19.569505250004756,45.800000000000381,-3.5720730133454341,45.800000000000381,-7.5720730133454266,45.800000000000381,-11.57207301334547,{"$error":"#VALUE!"},{"$error":"#VALUE!"},{"$error":"#VALUE!"},{"$error":"#VALUE!"},{"$error":"#VALUE!"},{"$error":"#VALUE!"},{"$error":"#VALUE!"},{"$error":"#VALUE!"},{"$error":"#VALUE!"},{"$error":"#VALUE!"},{"$error":"#VALUE!"},{"$error":"#VALUE!"}]
[null,null,null,null,null,null,null,null,null,null,null,null,null,null,{"$f":"IF(Analyze!G465=\"\",\"\",Analyze!G465)","v":""},{"$f":"IF(Analyze!S465=\"\",\"\",Analyze!S465)","v":{"$error":"#VALUE!"}},null,null,null,null,null,null,null,"","","",45.900000000000382,-19.639526003825726,45.900000000000382,-3.5988679325885462,45.900000000000382,-7.5988679325885391,45.900000000000382,-11.598867932588583,{"$error":"#VALUE!"},{"$error":"#VALUE!"},{"$error":"#VALUE!"},{"$error":"#VALUE!"},{"$error":"#VALUE!"},{"$error":"#VALUE!"},{"$error":"#VALUE!"},{"$error":"#VALUE!"},{"$error":"#VALUE!"},{"$error":"#VALUE!"},{"$error":"#VALUE!"},{"$error":"#VALUE!"}]
[null,null,null,null,null,null,null,null,null,null,null,null,null,null,{"$f":"IF(Analyze!G466=\"\",\"\",Analyze!G466)","v":""},{"$f":"IF(Analyze!S466=\"\",\"\",Analyze!S466)","v":{"$error":"#VALUE!"}},null,null,null,null,null,null,null,"","","",46.000000000000384,-19.709546757646695,46.000000000000384,-3.6256628518316583,46.000000000000384,-7.6256628518316516,46.000000000000384,-11.625662851831695,{"$error":"#VALUE!"},{"$error":"#VALUE!"},{"$error":"#VALUE!"},{"$error":"#VALUE!"},{"$error":"#VALUE!"},{"$error":"#VALUE!"},{"$error":"#VALUE!"},{"$error":"#VALUE!"},{"$error":"#VALUE!"},{"$error":"#VALUE!"},{"$error":"#VALUE!"},{"$error":"#VALUE!"}]
[null,null,null,null,null,null,null,null,null,null,null,null,null,null,{"$f":"IF(Analyze!G467=\"\",\"\",Analyze!G467)","v":""},{"$f":"IF(Analyze!S467=\"\",\"\",Analyze!S467)","v":{"$error":"#VALUE!"}},null,null,null,null,null,null,null,"","","",46.100000000000385,-19.779567511467665,46.100000000000385,-3.6524577710747703,46.100000000000385,-7.6524577710747641,46.100000000000385,-11.652457771074808,{"$error":"#VALUE!"},{"$error":"#VALUE!"},{"$error":"#VALUE!"},{"$error":"#VALUE!"},{"$error":"#VALUE!"},{"$error":"#VALUE!"},{"$error":"#VALUE!"},{"$error":"#VALUE!"},{"$error":"#VALUE!"},{"$error":"#VALUE!"},{"$error":"#VALUE!"},{"$error":"#VALUE!"}]
[null,null,null,null,null,null,null,null,null,null,null,null,null,null,{"$f":"IF(Analyze!G468=\"\",\"\",Analyze!G468)","v":""},{"$f":"IF(Analyze!S468=\"\",\"\",Analyze!S468)","v":{"$error":"#VALUE!"}},null,null,null,null,null,null,null,"","","",46.200000000000387,-19.849588265288634,46.200000000000387,-3.6792526903178824,46.200000000000387,-7.6792526903178766,46.200000000000387,-11.67925269031792,{"$error":"#VALUE!"},{"$error":"#VALUE!"},{"$error":"#VALUE!"},{"$error":"#VALUE!"},{"$error":"#VALUE!"},{"$error":"#VALUE!"},{"$error":"#VALUE!"},{"$error":"#VALUE!"},{"$error":"#VALUE!"},{"$error":"#VALUE!"},{"$error":"#VALUE!"},{"$error":"#VALUE!"}]
[null,null,null,null,null,null,null,null,null,null,null,null,null,null,{"$f":"IF(Analyze!G469=\"\",\"\",Analyze!G469)","v":""},{"$f":"IF(Analyze!S469=\"\",\"\",Analyze!S469)","v":{"$error":"#VALUE!"}},null,null,null,null,null,null,null,"","","",46.300000000000388,-19.919609019109604,46.300000000000388,-3.7060476095609944,46.300000000000388,-7.7060476095609891,46.300000000000388,-11.706047609561033,{"$error":"#VALUE!"},{"$error":"#VALUE!"},{"$error":"#VALUE!"},{"$error":"#VALUE!"},{"$error":"#VALUE!"},{"$error":"#VALUE!"},{"$error":"#VALUE!"},{"$error":"#VALUE!"},{"$error":"#VALUE!"},{"$error":"#VALUE!"},{"$error":"#VALUE!"},{"$error":"#VALUE!"}]
[null,null,null,null,null,null,null,null,null,null,null,null,null,null,{"$f":"IF(Analyze!G470=\"\",\"\",Analyze!G470)","v":""},{"$f":"IF(Analyze!S470=\"\",\"\",Analyze!S470)","v":{"$error":"#VALUE!"}},null,null,null,null,null,null,null,"","","",46.400000000000389,-19.989629772930574,46.400000000000389,-3.7328425288041065,46.400000000000389,-7.7328425288041016,46.400000000000389,-11.732842528804145,{"$error":"#VALUE!"},{"$error":"#VALUE!"},{"$error":"#VALUE!"},{"$error":"#VALUE!"},{"$error":"#VALUE!"},{"$error":"#VALUE!"},{"$error":"#VALUE!"},{"$error":"#VALUE!"},{"$error":"#VALUE!"},{"$error":"#VALUE!"},{"$error":"#VALUE!"},{"$error":"#VALUE!"}]
[null,null,null,null,null,null,null,null,null,null,null,null,null,null,{"$f":"IF(Analyze!G471=\"\",\"\",Analyze!G471)","v":""},{"$f":"IF(Analyze!S471=\"\",\"\",Analyze!S471)","v":{"$error":"#VALUE!"}},null,null,null,null,null,null,null,"","","",46.500000000000391,-20.059650526751543,46.500000000000391,-3.7596374480472186,46.500000000000391,-7.7596374480472141,46.500000000000391,-11.759637448047258,{"$error":"#VALUE!"},{"$error":"#VALUE!"},{"$error":"#VALUE!"},{"$error":"#VALUE!"},{"$error":"#VALUE!"},{"$error":"#VALUE!"},{"$error":"#VALUE!"},{"$error":"#VALUE!"},{"$error":"#VALUE!"},{"$error":"#VALUE!"},{"$error":"#VALUE!"},{"$error":"#VALUE!"}]
[null,null,null,null,null,null,null,null,null,null,null,null,null,null,{"$f":"IF(Analyze!G472=\"\",\"\",Analyze!G472)","v":""},{"$f":"IF(Analyze!S472=\"\",\"\",Analyze!S472)","v":{"$error":"#VALUE!"}},null,null,null,null,null,null,null,"","","",46.600000000000392,-20.129671280572513,46.600000000000392,-3.7864323672903306,46.600000000000392,-7.7864323672903266,46.600000000000392,-11.78643236729037,{"$error":"#VALUE!"},{"$error":"#VALUE!"},{"$error":"#VALUE!"},{"$error":"#VALUE!"},{"$error":"#VALUE!"},{"$error":"#VALUE!"},{"$error":"#VALUE!"},{"$error":"#VALUE!"},{"$error":"#VALUE!"},{"$error":"#VALUE!"},{"$error":"#VALUE!"},{"$error":"#VALUE!"}]
[null,null,null,null,null,null,null,null,null,null,null,null,null,null,{"$f":"IF(Analyze!G473=\"\",\"\",Analyze!G473)","v":""},{"$f":"IF(Analyze!S473=\"\",\"\",Analyze!S473)","v":{"$error":"#VALUE!"}},null,null,null,null,null,null,null,"","","",46.700000000000394,-20.199692034393482,46.700000000000394,-3.8132272865334427,46.700000000000394,-7.8132272865334391,46.700000000000394,-11.813227286533483,{"$error":"#VALUE!"},{"$error":"#VALUE!"},{"$error":"#VALUE!"},{"$error":"#VALUE!"},{"$error":"#VALUE!"},{"$error":"#VALUE!"},{"$error":"#VALUE!"},{"$error":"#VALUE!"},{"$error":"#VALUE!"},{"$error":"#VALUE!"},{"$error":"#VALUE!"},{"$error":"#VALUE!"}]
[null,null,null,null,null,null,null,null,null,null,null,null,null,null,{"$f":"IF(Analyze!G474=\"\",\"\",Analyze!G474)","v":""},{"$f":"IF(Analyze!S474=\"\",\"\",Analyze!S474)","v":{"$error":"#VALUE!"}},null,null,null,null,null,null,null,"","","",46.800000000000395,-20.269712788214452,46.800000000000395,-3.8400222057765547,46.800000000000395,-7.8400222057765516,46.800000000000395,-11.840022205776595,{"$error":"#VALUE!"},{"$error":"#VALUE!"},{"$error":"#VALUE!"},{"$error":"#VALUE!"},{"$error":"#VALUE!"},{"$error":"#VALUE!"},{"$error":"#VALUE!"},{"$error":"#VALUE!"},{"$error":"#VALUE!"},{"$error":"#VALUE!"},{"$error":"#VALUE!"},{"$error":"#VALUE!"}]
[null,null,null,null,null,null,null,null,null,null,null,null,null,null,{"$f":"IF(Analyze!G475=\"\",\"\",Analyze!G475)","v":""},{"$f":"IF(Analyze!S475=\"\",\"\",Analyze!S475)","v":{"$error":"#VALUE!"}},null,null,null,null,null,null,null,"","","",46.900000000000396,-20.339733542035422,46.900000000000396,-3.8668171250196668,46.900000000000396,-7.8668171250196641,46.900000000000396,-11.866817125019708,{"$error":"#VALUE!"},{"$error":"#VALUE!"},{"$error":"#VALUE!"},{"$error":"#VALUE!"},{"$error":"#VALUE!"},{"$error":"#VALUE!"},{"$error":"#VALUE!"},{"$error":"#VALUE!"},{"$error":"#VALUE!"},{"$error":"#VALUE!"},{"$error":"#VALUE!"},{"$error":"#VALUE!"}]
[null,null,null,null,null,null,null,null,null,null,null,null,null,null,{"$f":"IF(Analyze!G476=\"\",\"\",Analyze!G476)","v":""},{"$f":"IF(Analyze!S476=\"\",\"\",Analyze!S476)","v":{"$error":"#VALUE!"}},null,null,null,null,null,null,null,"","","",47.000000000000398,-20.409754295856391,47.000000000000398,-3.8936120442627788,47.000000000000398,-7.8936120442627766,47.000000000000398,-11.89361204426282,{"$error":"#VALUE!"},{"$error":"#VALUE!"},{"$error":"#VALUE!"},{"$error":"#VALUE!"},{"$error":"#VALUE!"},{"$error":"#VALUE!"},{"$error":"#VALUE!"},{"$error":"#VALUE!"},{"$error":"#VALUE!"},{"$error":"#VALUE!"},{"$error":"#VALUE!"},{"$error":"#VALUE!"}]
[null,null,null,null,null,null,null,null,null,null,null,null,null,null,{"$f":"IF(Analyze!G477=\"\",\"\",Analyze!G477)","v":""},{"$f":"IF(Analyze!S477=\"\",\"\",Analyze!S477)","v":{"$error":"#VALUE!"}},null,null,null,null,null,null,null,"","","",47.100000000000399,-20.479775049677361,47.100000000000399,-3.9204069635058909,47.100000000000399,-7.9204069635058891,47.100000000000399,-11.920406963505933,{"$error":"#VALUE!"},{"$error":"#VALUE!"},{"$error":"#VALUE!"},{"$error":"#VALUE!"},{"$error":"#VALUE!"},{"$error":"#VALUE!"},{"$error":"#VALUE!"},{"$error":"#VALUE!"},{"$error":"#VALUE!"},{"$error":"#VALUE!"},{"$error":"#VALUE!"},{"$error":"#VALUE!"}]
[null,null,null,null,null,null,null,null,null,null,null,null,null,null,{"$f":"IF(Analyze!G478=\"\",\"\",Analyze!G478)","v":""},{"$f":"IF(Analyze!S478=\"\",\"\",Analyze!S478)","v":{"$error":"#VALUE!"}},null,null,null,null,null,null,null,"","","",47.200000000000401,-20.549795803498331,47.200000000000401,-3.947201882749003,47.200000000000401,-7.9472018827490016,47.200000000000401,-11.947201882749045,{"$error":"#VALUE!"},{"$error":"#VALUE!"},{"$error":"#VALUE!"},{"$error":"#VALUE!"},{"$error":"#VALUE!"},{"$error":"#VALUE!"},{"$error":"#VALUE!"},{"$error":"#VALUE!"},{"$error":"#VALUE!"},{"$error":"#VALUE!"},{"$error":"#VALUE!"},{"$error":"#VALUE!"}]
[null,null,null,null,null,null,null,null,null,null,null,null,null,null,{"$f":"IF(Analyze!G479=\"\",\"\",Analyze!G479)","v":""},{"$f":"IF(Analyze!S479=\"\",\"\",Analyze!S479)","v":{"$error":"#VALUE!"}},null,null,null,null,null,null,null,"","","",47.300000000000402,-20.6198165573193,47.300000000000402,-3.973996801992115,47.300000000000402,-7.9739968019921141,47.300000000000402,-11.973996801992158,{"$error":"#VALUE!"},{"$error":"#VALUE!"},{"$error":"#VALUE!"},{"$error":"#VALUE!"},{"$error":"#VALUE!"},{"$error":"#VALUE!"},{"$error":"#VALUE!"},{"$error":"#VALUE!"},{"$error":"#VALUE!"},{"$error":"#VALUE!"},{"$error":"#VALUE!"},{"$error":"#VALUE!"}]
[null,null,null,null,null,null,null,null,null,null,null,null,null,null,{"$f":"IF(Analyze!G480=\"\",\"\",Analyze!G480)","v":""},{"$f":"IF(Analyze!S480=\"\",\"\",Analyze!S480)","v":{"$error":"#VALUE!"}},null,null,null,null,null,null,null,"","","",47.400000000000404,-20.68983731114027,47.400000000000404,-4.0007917212352275,47.400000000000404,-8.0007917212352258,47.400000000000404,-12.00079172123527,{"$error":"#VALUE!"},{"$error":"#VALUE!"},{"$error":"#VALUE!"},{"$error":"#VALUE!"},{"$error":"#VALUE!"},{"$error":"#VALUE!"},{"$error":"#VALUE!"},{"$error":"#VALUE!"},{"$error":"#VALUE!"},{"$error":"#VALUE!"},{"$error":"#VALUE!"},{"$error":"#VALUE!"}]
[null,null,null,null,null,null,null,null,null,null,null,null,null,null,{"$f":"IF(Analyze!G481=\"\",\"\",Analyze!G481)","v":""},{"$f":"IF(Analyze!S481=\"\",\"\",Analyze!S481)","v":{"$error":"#VALUE!"}},null,null,null,null,null,null,null,"","","",47.500000000000405,-20.759858064961239,47.500000000000405,-4.02758664047834,47.500000000000405,-8.0275866404783383,47.500000000000405,-12.027586640478383,{"$error":"#VALUE!"},{"$error":"#VALUE!"},{"$error":"#VALUE!"},{"$error":"#VALUE!"},{"$error":"#VALUE!"},{"$error":"#VALUE!"},{"$error":"#VALUE!"},{"$error":"#VALUE!"},{"$error":"#VALUE!"},{"$error":"#VALUE!"},{"$error":"#VALUE!"},{"$error":"#VALUE!"}]
[null,null,null,null,null,null,null,null,null,null,null,null,null,null,{"$f":"IF(Analyze!G482=\"\",\"\",Analyze!G482)","v":""},{"$f":"IF(Analyze!S482=\"\",\"\",Analyze!S482)","v":{"$error":"#VALUE!"}},null,null,null,null,null,null,null,"","","",47.600000000000406,-20.829878818782209,47.600000000000406,-4.0543815597214525,47.600000000000406,-8.0543815597214508,47.600000000000406,-12.054381559721495,{"$error":"#VALUE!"},{"$error":"#VALUE!"},{"$error":"#VALUE!"},{"$error":"#VALUE!"},{"$error":"#VALUE!"},{"$error":"#VALUE!"},{"$error":"#VALUE!"},{"$error":"#VALUE!"},{"$error":"#VALUE!"},{"$error":"#VALUE!"},{"$error":"#VALUE!"},{"$error":"#VALUE!"}]
[null,null,null,null,null,null,null,null,null,null,null,null,null,null,{"$f":"IF(Analyze!G483=\"\",\"\",Analyze!G483)","v":""},{"$f":"IF(Analyze!S483=\"\",\"\",Analyze!S483)","v":{"$error":"#VALUE!"}},null,null,null,null,null,null,null,"","","",47.700000000000408,-20.899899572603179,47.700000000000408,-4.081176478964565,47.700000000000408,-8.0811764789645633,47.700000000000408,-12.081176478964608,{"$error":"#VALUE!"},{"$error":"#VALUE!"},{"$error":"#VALUE!"},{"$error":"#VALUE!"},{"$error":"#VALUE!"},{"$error":"#VALUE!"},{"$error":"#VALUE!"},{"$error":"#VALUE!"},{"$error":"#VALUE!"},{"$error":"#VALUE!"},{"$error":"#VALUE!"},{"$error":"#VALUE!"}]
[null,null,null,null,null,null,null,null,null,null,null,null,null,null,{"$f":"IF(Analyze!G484=\"\",\"\",Analyze!G484)","v":""},{"$f":"IF(Analyze!S484=\"\",\"\",Analyze!S484)","v":{"$error":"#VALUE!"}},null,null,null,null,null,null,null,"","","",47.800000000000409,-20.969920326424148,47.800000000000409,-4.1079713982076775,47.800000000000409,-8.1079713982076758,47.800000000000409,-12.10797139820772,{"$error":"#VALUE!"},{"$error":"#VALUE!"},{"$error":"#VALUE!"},{"$error":"#VALUE!"},{"$error":"#VALUE!"},{"$error":"#VALUE!"},{"$error":"#VALUE!"},{"$error":"#VALUE!"},{"$error":"#VALUE!"},{"$error":"#VALUE!"},{"$error":"#VALUE!"},{"$error":"#VALUE!"}]
[null,null,null,null,null,null,null,null,null,null,null,null,null,null,{"$f":"IF(Analyze!G485=\"\",\"\",Analyze!G485)","v":""},{"$f":"IF(Analyze!S485=\"\",\"\",Analyze!S485)","v":{"$error":"#VALUE!"}},null,null,null,null,null,null,null,"","","",47.900000000000411,-21.039941080245118,47.900000000000411,-4.13476631745079,47.900000000000411,-8.1347663174507883,47.900000000000411,-12.134766317450833,{"$error":"#VALUE!"},{"$error":"#VALUE!"},{"$error":"#VALUE!"},{"$error":"#VALUE!"},{"$error":"#VALUE!"},{"$error":"#VALUE!"},{"$error":"#VALUE!"},{"$error":"#VALUE!"},{"$error":"#VALUE!"},{"$error":"#VALUE!"},{"$error":"#VALUE!"},{"$error":"#VALUE!"}]
[null,null,null,null,null,null,null,null,null,null,null,null,null,null,{"$f":"IF(Analyze!G486=\"\",\"\",Analyze!G486)","v":""},{"$f":"IF(Analyze!S486=\"\",\"\",Analyze!S486)","v":{"$error":"#VALUE!"}},null,null,null,null,null,null,null,"","","",48.000000000000412,-21.109961834066088,48.000000000000412,-4.1615612366939025,48.000000000000412,-8.1615612366939008,48.000000000000412,-12.161561236693945,{"$error":"#VALUE!"},{"$error":"#VALUE!"},{"$error":"#VALUE!"},{"$error":"#VALUE!"},{"$error":"#VALUE!"},{"$error":"#VALUE!"},{"$error":"#VALUE!"},{"$error":"#VALUE!"},{"$error":"#VALUE!"},{"$error":"#VALUE!"},{"$error":"#VALUE!"},{"$error":"#VALUE!"}]
[null,null,null,null,null,null,null,null,null,null,null,null,null,null,{"$f":"IF(Analyze!G487=\"\",\"\",Analyze!G487)","v":""},{"$f":"IF(Analyze!S487=\"\",\"\",Analyze!S487)","v":{"$error":"#VALUE!"}},null,null,null,null,null,null,null,"","","",48.100000000000414,-21.179982587887057,48.100000000000414,-4.188356155937015,48.100000000000414,-8.1883561559370133,48.100000000000414,-12.188356155937058,{"$error":"#VALUE!"},{"$error":"#VALUE!"},{"$error":"#VALUE!"},{"$error":"#VALUE!"},{"$error":"#VALUE!"},{"$error":"#VALUE!"},{"$error":"#VALUE!"},{"$error":"#VALUE!"},{"$error":"#VALUE!"},{"$error":"#VALUE!"},{"$error":"#VALUE!"},{"$error":"#VALUE!"}]
[null,null,null,null,null,null,null,null,null,null,null,null,null,null,{"$f":"IF(Analyze!G488=\"\",\"\",Analyze!G488)","v":""},{"$f":"IF(Analyze!S488=\"\",\"\",Analyze!S488)","v":{"$error":"#VALUE!"}},null,null,null,null,null,null,null,"","","",48.200000000000415,-21.250003341708027,48.200000000000415,-4.2151510751801275,48.200000000000415,-8.2151510751801258,48.200000000000415,-12.21515107518017,{"$error":"#VALUE!"},{"$error":"#VALUE!"},{"$error":"#VALUE!"},{"$error":"#VALUE!"},{"$error":"#VALUE!"},{"$error":"#VALUE!"},{"$error":"#VALUE!"},{"$error":"#VALUE!"},{"$error":"#VALUE!"},{"$error":"#VALUE!"},{"$error":"#VALUE!"},{"$error":"#VALUE!"}]
[null,null,null,null,null,null,null,null,null,null,null,null,null,null,{"$f":"IF(Analyze!G489=\"\",\"\",Analyze!G489)","v":""},{"$f":"IF(Analyze!S489=\"\",\"\",Analyze!S489)","v":{"$error":"#VALUE!"}},null,null,null,null,null,null,null,"","","",48.300000000000416,-21.320024095528996,48.300000000000416,-4.2419459944232401,48.300000000000416,-8.2419459944232383,48.300000000000416,-12.241945994423283,{"$error":"#VALUE!"},{"$error":"#VALUE!"},{"$error":"#VALUE!"},{"$error":"#VALUE!"},{"$error":"#VALUE!"},{"$error":"#VALUE!"},{"$error":"#VALUE!"},{"$error":"#VALUE!"},{"$error":"#VALUE!"},{"$error":"#VALUE!"},{"$error":"#VALUE!"},{"$error":"#VALUE!"}]
[null,null,null,null,null,null,null,null,null,null,null,null,null,null,{"$f":"IF(Analyze!G490=\"\",\"\",Analyze!G490)","v":""},{"$f":"IF(Analyze!S490=\"\",\"\",Analyze!S490)","v":{"$error":"#VALUE!"}},null,null,null,null,null,null,null,"","","",48.400000000000418,-21.390044849349966,48.400000000000418,-4.2687409136663526,48.400000000000418,-8.2687409136663508,48.400000000000418,-12.268740913666395,{"$error":"#VALUE!"},{"$error":"#VALUE!"},{"$error":"#VALUE!"},{"$error":"#VALUE!"},{"$error":"#VALUE!"},{"$error":"#VALUE!"},{"$error":"#VALUE!"},{"$error":"#VALUE!"},{"$error":"#VALUE!"},{"$error":"#VALUE!"},{"$error":"#VALUE!"},{"$error":"#VALUE!"}]
[null,null,null,null,null,null,null,null,null,null,null,null,null,null,{"$f":"IF(Analyze!G491=\"\",\"\",Analyze!G491)","v":""},{"$f":"IF(Analyze!S491=\"\",\"\",Analyze!S491)","v":{"$error":"#VALUE!"}},null,null,null,null,null,null,null,"","","",48.500000000000419,-21.460065603170936,48.500000000000419,-4.2955358329094651,48.500000000000419,-8.2955358329094633,48.500000000000419,-12.295535832909508,{"$error":"#VALUE!"},{"$error":"#VALUE!"},{"$error":"#VALUE!"},{"$error":"#VALUE!"},{"$error":"#VALUE!"},{"$error":"#VALUE!"},{"$error":"#VALUE!"},{"$error":"#VALUE!"},{"$error":"#VALUE!"},{"$error":"#VALUE!"},{"$error":"#VALUE!"},{"$error":"#VALUE!"}]
[null,null,null,null,null,null,null,null,null,null,null,null,null,null,{"$f":"IF(Analyze!G492=\"\",\"\",Analyze!G492)","v":""},{"$f":"IF(Analyze!S492=\"\",\"\",Analyze!S492)","v":{"$error":"#VALUE!"}},null,null,null,null,null,null,null,"","","",48.600000000000421,-21.530086356991905,48.600000000000421,-4.3223307521525776,48.600000000000421,-8.3223307521525758,48.600000000000421,-12.32233075215262,{"$error":"#VALUE!"},{"$error":"#VALUE!"},{"$error":"#VALUE!"},{"$error":"#VALUE!"},{"$error":"#VALUE!"},{"$error":"#VALUE!"},{"$error":"#VALUE!"},{"$error":"#VALUE!"},{"$error":"#VALUE!"},{"$error":"#VALUE!"},{"$error":"#VALUE!"},{"$error":"#VALUE!"}]
[null,null,null,null,null,null,null,null,null,null,null,null,null,null,{"$f":"IF(Analyze!G493=\"\",\"\",Analyze!G493)","v":""},{"$f":"IF(Analyze!S493=\"\",\"\",Analyze!S493)","v":{"$error":"#VALUE!"}},null,null,null,null,null,null,null,"","","",48.700000000000422,-21.600107110812875,48.700000000000422,-4.3491256713956901,48.700000000000422,-8.3491256713956883,48.700000000000422,-12.349125671395733,{"$error":"#VALUE!"},{"$error":"#VALUE!"},{"$error":"#VALUE!"},{"$error":"#VALUE!"},{"$error":"#VALUE!"},{"$error":"#VALUE!"},{"$error":"#VALUE!"},{"$error":"#VALUE!"},{"$error":"#VALUE!"},{"$error":"#VALUE!"},{"$error":"#VALUE!"},{"$error":"#VALUE!"}]
[null,null,null,null,null,null,null,null,null,null,null,null,null,null,{"$f":"IF(Analyze!G494=\"\",\"\",Analyze!G494)","v":""},{"$f":"IF(Analyze!S494=\"\",\"\",Analyze!S494)","v":{"$error":"#VALUE!"}},null,null,null,null,null,null,null,"","","",48.800000000000423,-21.670127864633844,48.800000000000423,-4.3759205906388026,48.800000000000423,-8.3759205906388008,48.800000000000423,-12.375920590638845,{"$error":"#VALUE!"},{"$error":"#VALUE!"},{"$error":"#VALUE!"},{"$error":"#VALUE!"},{"$error":"#VALUE!"},{"$error":"#VALUE!"},{"$error":"#VALUE!"},{"$error":"#VALUE!"},{"$error":"#VALUE!"},{"$error":"#VALUE!"},{"$error":"#VALUE!"},{"$error":"#VALUE!"}]
[null,null,null,null,null,null,null,null,null,null,null,null,null,null,{"$f":"IF(Analyze!G495=\"\",\"\",Analyze!G495)","v":""},{"$f":"IF(Analyze!S495=\"\",\"\",Analyze!S495)","v":{"$error":"#VALUE!"}},null,null,null,null,null,null,null,"","","",48.900000000000425,-21.740148618454814,48.900000000000425,-4.4027155098819151,48.900000000000425,-8.4027155098819133,48.900000000000425,-12.402715509881958,{"$error":"#VALUE!"},{"$error":"#VALUE!"},{"$error":"#VALUE!"},{"$error":"#VALUE!"},{"$error":"#VALUE!"},{"$error":"#VALUE!"},{"$error":"#VALUE!"},{"$error":"#VALUE!"},{"$error":"#VALUE!"},{"$error":"#VALUE!"},{"$error":"#VALUE!"},{"$error":"#VALUE!"}]
[null,null,null,null,null,null,null,null,null,null,null,null,null,null,{"$f":"IF(Analyze!G496=\"\",\"\",Analyze!G496)","v":""},{"$f":"IF(Analyze!S496=\"\",\"\",Analyze!S496)","v":{"$error":"#VALUE!"}},null,null,null,null,null,null,null,"","","",49.000000000000426,-21.810169372275784,49.000000000000426,-4.4295104291250276,49.000000000000426,-8.4295104291250258,49.000000000000426,-12.42951042912507,{"$error":"#VALUE!"},{"$error":"#VALUE!"},{"$error":"#VALUE!"},{"$error":"#VALUE!"},{"$error":"#VALUE!"},{"$error":"#VALUE!"},{"$error":"#VALUE!"},{"$error":"#VALUE!"},{"$error":"#VALUE!"},{"$error":"#VALUE!"},{"$error":"#VALUE!"},{"$error":"#VALUE!"}]
[null,null,null,null,null,null,null,null,null,null,null,null,null,null,{"$f":"IF(Analyze!G497=\"\",\"\",Analyze!G497)","v":""},{"$f":"IF(Analyze!S497=\"\",\"\",Analyze!S497)","v":{"$error":"#VALUE!"}},null,null,null,null,null,null,null,"","","",49.100000000000428,-21.880190126096753,49.100000000000428,-4.4563053483681401,49.100000000000428,-8.4563053483681383,49.100000000000428,-12.456305348368183,{"$error":"#VALUE!"},{"$error":"#VALUE!"},{"$error":"#VALUE!"},{"$error":"#VALUE!"},{"$error":"#VALUE!"},{"$error":"#VALUE!"},{"$error":"#VALUE!"},{"$error":"#VALUE!"},{"$error":"#VALUE!"},{"$error":"#VALUE!"},{"$error":"#VALUE!"},{"$error":"#VALUE!"}]
[null,null,null,null,null,null,null,null,null,null,null,null,null,null,{"$f":"IF(Analyze!G498=\"\",\"\",Analyze!G498)","v":""},{"$f":"IF(Analyze!S498=\"\",\"\",Analyze!S498)","v":{"$error":"#VALUE!"}},null,null,null,null,null,null,null,"","","",49.200000000000429,-21.950210879917723,49.200000000000429,-4.4831002676112526,49.200000000000429,-8.4831002676112508,49.200000000000429,-12.483100267611295,{"$error":"#VALUE!"},{"$error":"#VALUE!"},{"$error":"#VALUE!"},{"$error":"#VALUE!"},{"$error":"#VALUE!"},{"$error":"#VALUE!"},{"$error":"#VALUE!"},{"$error":"#VALUE!"},{"$error":"#VALUE!"},{"$error":"#VALUE!"},{"$error":"#VALUE!"},{"$error":"#VALUE!"}]
[null,null,null,null,null,null,null,null,null,null,null,null,null,null,{"$f":"IF(Analyze!G499=\"\",\"\",Analyze!G499)","v":""},{"$f":"IF(Analyze!S499=\"\",\"\",Analyze!S499)","v":{"$error":"#VALUE!"}},null,null,null,null,null,null,null,"",{"$f":"IF(W500=\"\",\"\",W499+$H$4*COS(ATAN((X500-X499)/(W500-W499))))","v":""},{"$f":"IF(W500=\"\",\"\",X499-$H$4*SIN(ATAN((X500-X499)/(W500-W499))))","v":""},49.300000000000431,-22.020231633738693,49.300000000000431,-4.5098951868543651,49.300000000000431,-8.5098951868543633,49.300000000000431,-12.509895186854408,{"$error":"#VALUE!"},{"$error":"#VALUE!"},{"$error":"#VALUE!"},{"$error":"#VALUE!"},{"$error":"#VALUE!"},{"$error":"#VALUE!"},{"$error":"#VALUE!"},{"$error":"#VALUE!"},{"$error":"#VALUE!"},{"$error":"#VALUE!"},{"$error":"#VALUE!"},{"$error":"#VALUE!"}]
[null,null,null,null,null,null,null,null,null,null,null,null,null,null,{"$f":"IF(Analyze!G500=\"\",\"\",Analyze!G500)","v":""},{"$f":"IF(Analyze!S500=\"\",\"\",Analyze!S500)","v":{"$error":"#VALUE!"}},null,null,null,null,null,null,null,"","","",49.400000000000432,-22.090252387559662,49.400000000000432,-4.5366901060974776,49.400000000000432,-8.5366901060974758,49.400000000000432,-12.53669010609752,{"$error":"#VALUE!"},{"$error":"#VALUE!"},{"$error":"#VALUE!"},{"$error":"#VALUE!"},{"$error":"#VALUE!"},{"$error":"#VALUE!"},{"$error":"#VALUE!"},{"$error":"#VALUE!"},{"$error":"#VALUE!"},{"$error":"#VALUE!"},{"$error":"#VALUE!"},{"$error":"#VALUE!"}]
[null,null,null,null,null,null,null,null,null,null,null,null,null,null,{"$f":"IF(Analyze!G501=\"\",\"\",Analyze!G501)","v":""},{"$f":"IF(Analyze!S501=\"\",\"\",Analyze!S501)","v":{"$error":"#VALUE!"}},null,null,null,null,null,null,null,"","","",49.500000000000433,-22.160273141380632,49.500000000000433,-4.5634850253405901,49.500000000000433,-8.5634850253405883,49.500000000000433,-12.563485025340633,{"$error":"#VALUE!"},{"$error":"#VALUE!"},{"$error":"#VALUE!"},{"$error":"#VALUE!"},{"$error":"#VALUE!"},{"$error":"#VALUE!"},{"$error":"#VALUE!"},{"$error":"#VALUE!"},{"$error":"#VALUE!"},{"$error":"#VALUE!"},{"$error":"#VALUE!"},{"$error":"#VALUE!"}]
[null,null,null,null,null,null,null,null,null,null,null,null,null,null,{"$f":"IF(Analyze!G502=\"\",\"\",Analyze!G502)","v":""},{"$f":"IF(Analyze!S502=\"\",\"\",Analyze!S502)","v":{"$error":"#VALUE!"}},null,null,null,null,null,null,null,"","","",49.600000000000435,-22.230293895201601,49.600000000000435,-4.5902799445837026,49.600000000000435,-8.5902799445837008,49.600000000000435,-12.590279944583745,{"$error":"#VALUE!"},{"$error":"#VALUE!"},{"$error":"#VALUE!"},{"$error":"#VALUE!"},{"$error":"#VALUE!"},{"$error":"#VALUE!"},{"$error":"#VALUE!"},{"$error":"#VALUE!"},{"$error":"#VALUE!"},{"$error":"#VALUE!"},{"$error":"#VALUE!"},{"$error":"#VALUE!"}]
[null,null,null,null,null,null,null,null,null,null,null,null,null,null,{"$f":"IF(Analyze!G503=\"\",\"\",Analyze!G503)","v":""},{"$f":"IF(Analyze!S503=\"\",\"\",Analyze!S503)","v":{"$error":"#VALUE!"}},null,null,null,null,null,null,null,"","","",49.700000000000436,-22.300314649022571,49.700000000000436,-4.6170748638268151,49.700000000000436,-8.6170748638268133,49.700000000000436,-12.617074863826858,{"$error":"#VALUE!"},{"$error":"#VALUE!"},{"$error":"#VALUE!"},{"$error":"#VALUE!"},{"$error":"#VALUE!"},{"$error":"#VALUE!"},{"$error":"#VALUE!"},{"$error":"#VALUE!"},{"$error":"#VALUE!"},{"$error":"#VALUE!"},{"$error":"#VALUE!"},{"$error":"#VALUE!"}]
[null,null,null,null,null,null,null,null,null,null,null,null,null,null,{"$f":"IF(Analyze!G504=\"\",\"\",Analyze!G504)","v":""},{"$f":"IF(Analyze!S504=\"\",\"\",Analyze!S504)","v":{"$error":"#VALUE!"}},null,null,null,null,null,null,null,"","","",49.800000000000438,-22.370335402843541,49.800000000000438,-4.6438697830699276,49.800000000000438,-8.6438697830699258,49.800000000000438,-12.64386978306997,{"$error":"#VALUE!"},{"$error":"#VALUE!"},{"$error":"#VALUE!"},{"$error":"#VALUE!"},{"$error":"#VALUE!"},{"$error":"#VALUE!"},{"$error":"#VALUE!"},{"$error":"#VALUE!"},{"$error":"#VALUE!"},{"$error":"#VALUE!"},{"$error":"#VALUE!"},{"$error":"#VALUE!"}]
[null,null,null,null,null,null,null,null,null,null,null,null,null,null,{"$f":"IF(Analyze!G505=\"\",\"\",Analyze!G505)","v":""},{"$f":"IF(Analyze!S505=\"\",\"\",Analyze!S505)","v":{"$error":"#VALUE!"}},null,null,null,null,null,null,null,"","","",49.900000000000439,-22.44035615666451,49.900000000000439,-4.6706647023130401,49.900000000000439,-8.6706647023130383,49.900000000000439,-12.670664702313083,{"$error":"#VALUE!"},{"$error":"#VALUE!"},{"$error":"#VALUE!"},{"$error":"#VALUE!"},{"$error":"#VALUE!"},{"$error":"#VALUE!"},{"$error":"#VALUE!"},{"$error":"#VALUE!"},{"$error":"#VALUE!"},{"$error":"#VALUE!"},{"$error":"#VALUE!"},{"$error":"#VALUE!"}]
[null,null,null,null,null,null,null,null,null,null,null,null,null,null,{"$f":"IF(Analyze!G506=\"\",\"\",Analyze!G506)","v":""},{"$f":"IF(Analyze!S506=\"\",\"\",Analyze!S506)","v":{"$error":"#VALUE!"}},null,null,null,null,null,null,null,"","","",50.000000000000441,-22.51037691048548,50.000000000000441,-4.6974596215561526,50.000000000000441,-8.6974596215561508,50.000000000000441,-12.697459621556195,{"$error":"#VALUE!"},{"$error":"#VALUE!"},{"$error":"#VALUE!"},{"$error":"#VALUE!"},{"$error":"#VALUE!"},{"$error":"#VALUE!"},{"$error":"#VALUE!"},{"$error":"#VALUE!"},{"$error":"#VALUE!"},{"$error":"#VALUE!"},{"$error":"#VALUE!"},{"$error":"#VALUE!"}]
[null,null,null,null,null,null,null,null,null,null,null,null,null,null,{"$f":"IF(Analyze!G507=\"\",\"\",Analyze!G507)","v":""},{"$f":"IF(Analyze!S507=\"\",\"\",Analyze!S507)","v":{"$error":"#VALUE!"}},null,null,null,null,null,null,null,"","","",50.100000000000442,-22.580397664306449,50.100000000000442,-4.7242545407992651,50.100000000000442,-8.7242545407992633,50.100000000000442,-12.724254540799308,{"$error":"#VALUE!"},{"$error":"#VALUE!"},{"$error":"#VALUE!"},{"$error":"#VALUE!"},{"$error":"#VALUE!"},{"$error":"#VALUE!"},{"$error":"#VALUE!"},{"$error":"#VALUE!"},{"$error":"#VALUE!"},{"$error":"#VALUE!"},{"$error":"#VALUE!"},{"$error":"#VALUE!"}]
[null,null,null,null,null,null,null,null,null,null,null,null,null,null,{"$f":"IF(Analyze!G508=\"\",\"\",Analyze!G508)","v":""},{"$f":"IF(Analyze!S508=\"\",\"\",Analyze!S508)","v":{"$error":"#VALUE!"}},null,null,null,null,null,null,null,"","","",50.200000000000443,-22.650418418127419,50.200000000000443,-4.7510494600423776,50.200000000000443,-8.7510494600423758,50.200000000000443,-12.75104946004242,{"$error":"#VALUE!"},{"$error":"#VALUE!"},{"$error":"#VALUE!"},{"$error":"#VALUE!"},{"$error":"#VALUE!"},{"$error":"#VALUE!"},{"$error":"#VALUE!"},{"$error":"#VALUE!"},{"$error":"#VALUE!"},{"$error":"#VALUE!"},{"$error":"#VALUE!"},{"$error":"#VALUE!"}]
[null,null,null,null,null,null,null,null,null,null,null,null,null,null,{"$f":"IF(Analyze!G509=\"\",\"\",Analyze!G509)","v":""},{"$f":"IF(Analyze!S509=\"\",\"\",Analyze!S509)","v":{"$error":"#VALUE!"}},null,null,null,null,null,null,null,"","","",50.300000000000445,-22.720439171948389,50.300000000000445,-4.7778443792854901,50.300000000000445,-8.7778443792854883,50.300000000000445,-12.777844379285533,{"$error":"#VALUE!"},{"$error":"#VALUE!"},{"$error":"#VALUE!"},{"$error":"#VALUE!"},{"$error":"#VALUE!"},{"$error":"#VALUE!"},{"$error":"#VALUE!"},{"$error":"#VALUE!"},{"$error":"#VALUE!"},{"$error":"#VALUE!"},{"$error":"#VALUE!"},{"$error":"#VALUE!"}]
[null,null,null,null,null,null,null,null,null,null,null,null,null,null,{"$f":"IF(Analyze!G510=\"\",\"\",Analyze!G510)","v":""},{"$f":"IF(Analyze!S510=\"\",\"\",Analyze!S510)","v":{"$error":"#VALUE!"}},null,null,null,null,null,null,null,"","","",50.400000000000446,-22.790459925769358,50.400000000000446,-4.8046392985286026,50.400000000000446,-8.8046392985286008,50.400000000000446,-12.804639298528645,{"$error":"#VALUE!"},{"$error":"#VALUE!"},{"$error":"#VALUE!"},{"$error":"#VALUE!"},{"$error":"#VALUE!"},{"$error":"#VALUE!"},{"$error":"#VALUE!"},{"$error":"#VALUE!"},{"$error":"#VALUE!"},{"$error":"#VALUE!"},{"$error":"#VALUE!"},{"$error":"#VALUE!"}]
[null,null,null,null,null,null,null,null,null,null,null,null,null,null,{"$f":"IF(Analyze!G511=\"\",\"\",Analyze!G511)","v":""},{"$f":"IF(Analyze!S511=\"\",\"\",Analyze!S511)","v":{"$error":"#VALUE!"}},null,null,null,null,null,null,null,"","","",50.500000000000448,-22.860480679590328,50.500000000000448,-4.8314342177717151,50.500000000000448,-8.8314342177717133,50.500000000000448,-12.831434217771758,{"$error":"#VALUE!"},{"$error":"#VALUE!"},{"$error":"#VALUE!"},{"$error":"#VALUE!"},{"$error":"#VALUE!"},{"$error":"#VALUE!"},{"$error":"#VALUE!"},{"$error":"#VALUE!"},{"$error":"#VALUE!"},{"$error":"#VALUE!"},{"$error":"#VALUE!"},{"$error":"#VALUE!"}]
[null,null,null,null,null,null,null,null,null,null,null,null,null,null,{"$f":"IF(Analyze!G512=\"\",\"\",Analyze!G512)","v":""},{"$f":"IF(Analyze!S512=\"\",\"\",Analyze!S512)","v":{"$error":"#VALUE!"}},null,null,null,null,null,null,null,"","","",50.600000000000449,-22.930501433411298,50.600000000000449,-4.8582291370148276,50.600000000000449,-8.8582291370148258,50.600000000000449,-12.85822913701487,{"$error":"#VALUE!"},{"$error":"#VALUE!"},{"$error":"#VALUE!"},{"$error":"#VALUE!"},{"$error":"#VALUE!"},{"$error":"#VALUE!"},{"$error":"#VALUE!"},{"$error":"#VALUE!"},{"$error":"#VALUE!"},{"$error":"#VALUE!"},{"$error":"#VALUE!"},{"$error":"#VALUE!"}]
[null,null,null,null,null,null,null,null,null,null,null,null,null,null,{"$f":"IF(Analyze!G513=\"\",\"\",Analyze!G513)","v":""},{"$f":"IF(Analyze!S513=\"\",\"\",Analyze!S513)","v":{"$error":"#VALUE!"}},null,null,null,null,null,null,null,"","","",50.70000000000045,-23.000522187232267,50.70000000000045,-4.8850240562579401,50.70000000000045,-8.8850240562579383,50.70000000000045,-12.885024056257983,{"$error":"#VALUE!"},{"$error":"#VALUE!"},{"$error":"#VALUE!"},{"$error":"#VALUE!"},{"$error":"#VALUE!"},{"$error":"#VALUE!"},{"$error":"#VALUE!"},{"$error":"#VALUE!"},{"$error":"#VALUE!"},{"$error":"#VALUE!"},{"$error":"#VALUE!"},{"$error":"#VALUE!"}]
[null,null,null,null,null,null,null,null,null,null,null,null,null,null,{"$f":"IF(Analyze!G514=\"\",\"\",Analyze!G514)","v":""},{"$f":"IF(Analyze!S514=\"\",\"\",Analyze!S514)","v":{"$error":"#VALUE!"}},null,null,null,null,null,null,null,"","","",50.800000000000452,-23.070542941053237,50.800000000000452,-4.9118189755010526,50.800000000000452,-8.9118189755010508,50.800000000000452,-12.911818975501095,{"$error":"#VALUE!"},{"$error":"#VALUE!"},{"$error":"#VALUE!"},{"$error":"#VALUE!"},{"$error":"#VALUE!"},{"$error":"#VALUE!"},{"$error":"#VALUE!"},{"$error":"#VALUE!"},{"$error":"#VALUE!"},{"$error":"#VALUE!"},{"$error":"#VALUE!"},{"$error":"#VALUE!"}]
[null,null,null,null,null,null,null,null,null,null,null,null,null,null,{"$f":"IF(Analyze!G515=\"\",\"\",Analyze!G515)","v":""},{"$f":"IF(Analyze!S515=\"\",\"\",Analyze!S515)","v":{"$error":"#VALUE!"}},null,null,null,null,null,null,null,"","","",50.900000000000453,-23.140563694874206,50.900000000000453,-4.9386138947441651,50.900000000000453,-8.9386138947441633,50.900000000000453,-12.938613894744208,{"$error":"#VALUE!"},{"$error":"#VALUE!"},{"$error":"#VALUE!"},{"$error":"#VALUE!"},{"$error":"#VALUE!"},{"$error":"#VALUE!"},{"$error":"#VALUE!"},{"$error":"#VALUE!"},{"$error":"#VALUE!"},{"$error":"#VALUE!"},{"$error":"#VALUE!"},{"$error":"#VALUE!"}]
[null,null,null,null,null,null,null,null,null,null,null,null,null,null,{"$f":"IF(Analyze!G516=\"\",\"\",Analyze!G516)","v":""},{"$f":"IF(Analyze!S516=\"\",\"\",Analyze!S516)","v":{"$error":"#VALUE!"}},null,null,null,null,null,null,null,"","","",51.000000000000455,-23.210584448695176,51.000000000000455,-4.9654088139872776,51.000000000000455,-8.9654088139872758,51.000000000000455,-12.96540881398732,{"$error":"#VALUE!"},{"$error":"#VALUE!"},{"$error":"#VALUE!"},{"$error":"#VALUE!"},{"$error":"#VALUE!"},{"$error":"#VALUE!"},{"$error":"#VALUE!"},{"$error":"#VALUE!"},{"$error":"#VALUE!"},{"$error":"#VALUE!"},{"$error":"#VALUE!"},{"$error":"#VALUE!"}]
[null,null,null,null,null,null,null,null,null,null,null,null,null,null,{"$f":"IF(Analyze!G517=\"\",\"\",Analyze!G517)","v":""},{"$f":"IF(Analyze!S517=\"\",\"\",Analyze!S517)","v":{"$error":"#VALUE!"}},null,null,null,null,null,null,null,"","","",51.100000000000456,-23.280605202516146,51.100000000000456,-4.9922037332303901,51.100000000000456,-8.9922037332303884,51.100000000000456,-12.992203733230433,{"$error":"#VALUE!"},{"$error":"#VALUE!"},{"$error":"#VALUE!"},{"$error":"#VALUE!"},{"$error":"#VALUE!"},{"$error":"#VALUE!"},{"$error":"#VALUE!"},{"$error":"#VALUE!"},{"$error":"#VALUE!"},{"$error":"#VALUE!"},{"$error":"#VALUE!"},{"$error":"#VALUE!"}]
[null,null,null,null,null,null,null,null,null,null,null,null,null,null,{"$f":"IF(Analyze!G518=\"\",\"\",Analyze!G518)","v":""},{"$f":"IF(Analyze!S518=\"\",\"\",Analyze!S518)","v":{"$error":"#VALUE!"}},null,null,null,null,null,null,null,{"$f":"IF(O518=\"\",\"\",IF(O518>h+$H$2,(\"\"),(h-O518)))","v":""},"","",51.200000000000458,-23.350625956337115,51.200000000000458,-5.0189986524735026,51.200000000000458,-9.0189986524735009,51.200000000000458,-13.018998652473545,{"$error":"#VALUE!"},{"$error":"#VALUE!"},{"$error":"#VALUE!"},{"$error":"#VALUE!"},{"$error":"#VALUE!"},{"$error":"#VALUE!"},{"$error":"#VALUE!"},{"$error":"#VALUE!"},{"$error":"#VALUE!"},{"$error":"#VALUE!"},{"$error":"#VALUE!"},{"$error":"#VALUE!"}]
[null,null,null,null,null,null,null,null,null,null,null,null,null,null,{"$f":"IF(Analyze!G519=\"\",\"\",Analyze!G519)","v":""},{"$f":"IF(Analyze!S519=\"\",\"\",Analyze!S519)","v":{"$error":"#VALUE!"}},null,null,null,null,null,null,null,"","","",51.300000000000459,-23.420646710158085,51.300000000000459,-5.0457935717166151,51.300000000000459,-9.0457935717166134,51.300000000000459,-13.045793571716658,{"$error":"#VALUE!"},{"$error":"#VALUE!"},{"$error":"#VALUE!"},{"$error":"#VALUE!"},{"$error":"#VALUE!"},{"$error":"#VALUE!"},{"$error":"#VALUE!"},{"$error":"#VALUE!"},{"$error":"#VALUE!"},{"$error":"#VALUE!"},{"$error":"#VALUE!"},{"$error":"#VALUE!"}]
[null,null,null,null,null,null,null,null,null,null,null,null,null,null,{"$f":"IF(Analyze!G520=\"\",\"\",Analyze!G520)","v":""},{"$f":"IF(Analyze!S520=\"\",\"\",Analyze!S520)","v":{"$error":"#VALUE!"}},null,null,null,null,null,null,null,"","","",{"$f":"AA519+0.1","v":51.40000000000046},{"$f":"AB519-0.1*TAN(RADIANS($F$7))","v":-23.490667463979054},{"$f":"AC519+0.1","v":51.40000000000046},{"$f":"AD519-0.1*TAN(RADIANS($F$8))","v":-5.0725884909597276},{"$f":"AE519+0.1","v":51.40000000000046},{"$f":"AF519-0.1*TAN(RADIANS($F$9))","v":-9.0725884909597259},{"$f":"AG519+0.1","v":51.40000000000046},{"$f":"AH519-0.1*TAN(RADIANS($F$10))","v":-13.07258849095977},{"$f":"AI519+0.1","v":{"$error":"#VALUE!"}},{"$f":"AJ519-0.1*TAN(RADIANS($F$11))","v":{"$error":"#VALUE!"}},{"$f":"AK519+0.1","v":{"$error":"#VALUE!"}},{"$f":"AL519-0.1*TAN(RADIANS($F$12))","v":{"$error":"#VALUE!"}},{"$f":"AM519+0.1","v":{"$error":"#VALUE!"}},{"$f":"AN519-0.1*TAN(RADIANS($F$13))","v":{"$error":"#VALUE!"}},{"$f":"AO519+0.1","v":{"$error":"#VALUE!"}},{"$f":"AP519-0.1*TAN(RADIANS($F$14))","v":{"$error":"#VALUE!"}},{"$f":"AQ519+0.1","v":{"$error":"#VALUE!"}},{"$f":"AR519-0.1*TAN(RADIANS($F$15))","v":{"$error":"#VALUE!"}},{"$f":"AS519+0.1","v":{"$error":"#VALUE!"}},{"$f":"AT519-0.1*TAN(RADIANS($F$16))","v":{"$error":"#VALUE!"}}]
[null,null,null,null,null,null,null,null,null,null,null,null,null,null,{"$f":"IF(Analyze!G521=\"\",\"\",Analyze!G521)","v":""},{"$f":"IF(Analyze!S521=\"\",\"\",Analyze!S521)","v":{"$error":"#VALUE!"}},null,null,null,null,null,null,null,"","","",51.500000000000462,-23.560688217800024,51.500000000000462,-5.0993834102028401,51.500000000000462,-9.0993834102028384,51.500000000000462,-13.099383410202883,{"$error":"#VALUE!"},{"$error":"#VALUE!"},{"$error":"#VALUE!"},{"$error":"#VALUE!"},{"$error":"#VALUE!"},{"$error":"#VALUE!"},{"$error":"#VALUE!"},{"$error":"#VALUE!"},{"$error":"#VALUE!"},{"$error":"#VALUE!"},{"$error":"#VALUE!"},{"$error":"#VALUE!"}]
[null,null,null,null,null,null,null,null,null,null,null,null,null,null,{"$f":"IF(Analyze!G522=\"\",\"\",Analyze!G522)","v":""},{"$f":"IF(Analyze!S522=\"\",\"\",Analyze!S522)","v":{"$error":"#VALUE!"}},null,null,null,null,null,null,null,"","","",51.600000000000463,-23.630708971620994,51.600000000000463,-5.1261783294459526,51.600000000000463,-9.1261783294459509,51.600000000000463,-13.126178329445995,{"$error":"#VALUE!"},{"$error":"#VALUE!"},{"$error":"#VALUE!"},{"$error":"#VALUE!"},{"$error":"#VALUE!"},{"$error":"#VALUE!"},{"$error":"#VALUE!"},{"$error":"#VALUE!"},{"$error":"#VALUE!"},{"$error":"#VALUE!"},{"$error":"#VALUE!"},{"$error":"#VALUE!"}]
[null,null,null,null,null,null,null,null,null,null,null,null,null,null,{"$f":"IF(Analyze!G523=\"\",\"\",Analyze!G523)","v":""},{"$f":"IF(Analyze!S523=\"\",\"\",Analyze!S523)","v":{"$error":"#VALUE!"}},null,null,null,null,null,null,null,"","","",51.700000000000465,-23.700729725441963,51.700000000000465,-5.1529732486890651,51.700000000000465,-9.1529732486890634,51.700000000000465,-13.152973248689108,{"$error":"#VALUE!"},{"$error":"#VALUE!"},{"$error":"#VALUE!"},{"$error":"#VALUE!"},{"$error":"#VALUE!"},{"$error":"#VALUE!"},{"$error":"#VALUE!"},{"$error":"#VALUE!"},{"$error":"#VALUE!"},{"$error":"#VALUE!"},{"$error":"#VALUE!"},{"$error":"#VALUE!"}]
[null,null,null,null,null,null,null,null,null,null,null,null,null,null,{"$f":"IF(Analyze!G524=\"\",\"\",Analyze!G524)","v":""},{"$f":"IF(Analyze!S524=\"\",\"\",Analyze!S524)","v":{"$error":"#VALUE!"}},null,null,null,null,null,null,null,"","","",51.800000000000466,-23.770750479262933,51.800000000000466,-5.1797681679321776,51.800000000000466,-9.1797681679321759,51.800000000000466,-13.17976816793222,{"$error":"#VALUE!"},{"$error":"#VALUE!"},{"$error":"#VALUE!"},{"$error":"#VALUE!"},{"$error":"#VALUE!"},{"$error":"#VALUE!"},{"$error":"#VALUE!"},{"$error":"#VALUE!"},{"$error":"#VALUE!"},{"$error":"#VALUE!"},{"$error":"#VALUE!"},{"$error":"#VALUE!"}]
[null,null,null,null,null,null,null,null,null,null,null,null,null,null,{"$f":"IF(Analyze!G525=\"\",\"\",Analyze!G525)","v":""},{"$f":"IF(Analyze!S525=\"\",\"\",Analyze!S525)","v":{"$error":"#VALUE!"}},null,null,null,null,null,null,null,"","","",51.900000000000468,-23.840771233083903,51.900000000000468,-5.2065630871752901,51.900000000000468,-9.2065630871752884,51.900000000000468,-13.206563087175333,{"$error":"#VALUE!"},{"$error":"#VALUE!"},{"$error":"#VALUE!"},{"$error":"#VALUE!"},{"$error":"#VALUE!"},{"$error":"#VALUE!"},{"$error":"#VALUE!"},{"$error":"#VALUE!"},{"$error":"#VALUE!"},{"$error":"#VALUE!"},{"$error":"#VALUE!"},{"$error":"#VALUE!"}]
[null,null,null,null,null,null,null,null,null,null,null,null,null,null,{"$f":"IF(Analyze!G526=\"\",\"\",Analyze!G526)","v":""},{"$f":"IF(Analyze!S526=\"\",\"\",Analyze!S526)","v":{"$error":"#VALUE!"}},null,null,null,null,null,null,null,"","","",52.000000000000469,-23.910791986904872,52.000000000000469,-5.2333580064184027,52.000000000000469,-9.2333580064184009,52.000000000000469,-13.233358006418445,{"$error":"#VALUE!"},{"$error":"#VALUE!"},{"$error":"#VALUE!"},{"$error":"#VALUE!"},{"$error":"#VALUE!"},{"$error":"#VALUE!"},{"$error":"#VALUE!"},{"$error":"#VALUE!"},{"$error":"#VALUE!"},{"$error":"#VALUE!"},{"$error":"#VALUE!"},{"$error":"#VALUE!"}]
[null,null,null,null,null,null,null,null,null,null,null,null,null,null,{"$f":"IF(Analyze!G527=\"\",\"\",Analyze!G527)","v":""},{"$f":"IF(Analyze!S527=\"\",\"\",Analyze!S527)","v":{"$error":"#VALUE!"}},null,null,null,null,null,null,null,"","","",52.10000000000047,-23.980812740725842,52.10000000000047,-5.2601529256615152,52.10000000000047,-9.2601529256615134,52.10000000000047,-13.260152925661558,{"$error":"#VALUE!"},{"$error":"#VALUE!"},{"$error":"#VALUE!"},{"$error":"#VALUE!"},{"$error":"#VALUE!"},{"$error":"#VALUE!"},{"$error":"#VALUE!"},{"$error":"#VALUE!"},{"$error":"#VALUE!"},{"$error":"#VALUE!"},{"$error":"#VALUE!"},{"$error":"#VALUE!"}]
[null,null,null,null,null,null,null,null,null,null,null,null,null,null,{"$f":"IF(Analyze!G528=\"\",\"\",Analyze!G528)","v":""},{"$f":"IF(Analyze!S528=\"\",\"\",Analyze!S528)","v":{"$error":"#VALUE!"}},null,null,null,null,null,null,null,"","","",52.200000000000472,-24.050833494546811,52.200000000000472,-5.2869478449046277,52.200000000000472,-9.2869478449046259,52.200000000000472,-13.28694784490467,{"$error":"#VALUE!"},{"$error":"#VALUE!"},{"$error":"#VALUE!"},{"$error":"#VALUE!"},{"$error":"#VALUE!"},{"$error":"#VALUE!"},{"$error":"#VALUE!"},{"$error":"#VALUE!"},{"$error":"#VALUE!"},{"$error":"#VALUE!"},{"$error":"#VALUE!"},{"$error":"#VALUE!"}]
[null,null,null,null,null,null,null,null,null,null,null,null,null,null,{"$f":"IF(Analyze!G529=\"\",\"\",Analyze!G529)","v":""},{"$f":"IF(Analyze!S529=\"\",\"\",Analyze!S529)","v":{"$error":"#VALUE!"}},null,null,null,null,null,null,null,"","","",52.300000000000473,-24.120854248367781,52.300000000000473,-5.3137427641477402,52.300000000000473,-9.3137427641477384,52.300000000000473,-13.313742764147783,{"$error":"#VALUE!"},{"$error":"#VALUE!"},{"$error":"#VALUE!"},{"$error":"#VALUE!"},{"$error":"#VALUE!"},{"$error":"#VALUE!"},{"$error":"#VALUE!"},{"$error":"#VALUE!"},{"$error":"#VALUE!"},{"$error":"#VALUE!"},{"$error":"#VALUE!"},{"$error":"#VALUE!"}]
[null,null,null,null,null,null,null,null,null,null,null,null,null,null,{"$f":"IF(Analyze!G530=\"\",\"\",Analyze!G530)","v":""},{"$f":"IF(Analyze!S530=\"\",\"\",Analyze!S530)","v":{"$error":"#VALUE!"}},null,null,null,null,null,null,null,"","","",52.400000000000475,-24.190875002188751,52.400000000000475,-5.3405376833908527,52.400000000000475,-9.3405376833908509,52.400000000000475,-13.340537683390895,{"$error":"#VALUE!"},{"$error":"#VALUE!"},{"$error":"#VALUE!"},{"$error":"#VALUE!"},{"$error":"#VALUE!"},{"$error":"#VALUE!"},{"$error":"#VALUE!"},{"$error":"#VALUE!"},{"$error":"#VALUE!"},{"$error":"#VALUE!"},{"$error":"#VALUE!"},{"$error":"#VALUE!"}]
[null,null,null,null,null,null,null,null,null,null,null,null,null,null,{"$f":"IF(Analyze!G531=\"\",\"\",Analyze!G531)","v":""},{"$f":"IF(Analyze!S531=\"\",\"\",Analyze!S531)","v":{"$error":"#VALUE!"}},null,null,null,null,null,null,null,"","","",52.500000000000476,-24.26089575600972,52.500000000000476,-5.3673326026339652,52.500000000000476,-9.3673326026339634,52.500000000000476,-13.367332602634008,{"$error":"#VALUE!"},{"$error":"#VALUE!"},{"$error":"#VALUE!"},{"$error":"#VALUE!"},{"$error":"#VALUE!"},{"$error":"#VALUE!"},{"$error":"#VALUE!"},{"$error":"#VALUE!"},{"$error":"#VALUE!"},{"$error":"#VALUE!"},{"$error":"#VALUE!"},{"$error":"#VALUE!"}]
[null,null,null,null,null,null,null,null,null,null,null,null,null,null,{"$f":"IF(Analyze!G532=\"\",\"\",Analyze!G532)","v":""},{"$f":"IF(Analyze!S532=\"\",\"\",Analyze!S532)","v":{"$error":"#VALUE!"}},null,null,null,null,null,null,null,"","","",52.600000000000477,-24.33091650983069,52.600000000000477,-5.3941275218770777,52.600000000000477,-9.3941275218770759,52.600000000000477,-13.39412752187712,{"$error":"#VALUE!"},{"$error":"#VALUE!"},{"$error":"#VALUE!"},{"$error":"#VALUE!"},{"$error":"#VALUE!"},{"$error":"#VALUE!"},{"$error":"#VALUE!"},{"$error":"#VALUE!"},{"$error":"#VALUE!"},{"$error":"#VALUE!"},{"$error":"#VALUE!"},{"$error":"#VALUE!"}]
[null,null,null,null,null,null,null,null,null,null,null,null,null,null,{"$f":"IF(Analyze!G533=\"\",\"\",Analyze!G533)","v":""},{"$f":"IF(Analyze!S533=\"\",\"\",Analyze!S533)","v":{"$error":"#VALUE!"}},null,null,null,null,null,null,null,"","","",52.700000000000479,-24.400937263651659,52.700000000000479,-5.4209224411201902,52.700000000000479,-9.4209224411201884,52.700000000000479,-13.420922441120233,{"$error":"#VALUE!"},{"$error":"#VALUE!"},{"$error":"#VALUE!"},{"$error":"#VALUE!"},{"$error":"#VALUE!"},{"$error":"#VALUE!"},{"$error":"#VALUE!"},{"$error":"#VALUE!"},{"$error":"#VALUE!"},{"$error":"#VALUE!"},{"$error":"#VALUE!"},{"$error":"#VALUE!"}]
[null,null,null,null,null,null,null,null,null,null,null,null,null,null,{"$f":"IF(Analyze!G534=\"\",\"\",Analyze!G534)","v":""},{"$f":"IF(Analyze!S534=\"\",\"\",Analyze!S534)","v":{"$error":"#VALUE!"}},null,null,null,null,null,null,null,"","","",52.80000000000048,-24.470958017472629,52.80000000000048,-5.4477173603633027,52.80000000000048,-9.4477173603633009,52.80000000000048,-13.447717360363345,{"$error":"#VALUE!"},{"$error":"#VALUE!"},{"$error":"#VALUE!"},{"$error":"#VALUE!"},{"$error":"#VALUE!"},{"$error":"#VALUE!"},{"$error":"#VALUE!"},{"$error":"#VALUE!"},{"$error":"#VALUE!"},{"$error":"#VALUE!"},{"$error":"#VALUE!"},{"$error":"#VALUE!"}]
[null,null,null,null,null,null,null,null,null,null,null,null,null,null,{"$f":"IF(Analyze!G535=\"\",\"\",Analyze!G535)","v":""},{"$f":"IF(Analyze!S535=\"\",\"\",Analyze!S535)","v":{"$error":"#VALUE!"}},null,null,null,null,null,null,null,"","","",52.900000000000482,-24.540978771293599,52.900000000000482,-5.4745122796064152,52.900000000000482,-9.4745122796064134,52.900000000000482,-13.474512279606458,{"$error":"#VALUE!"},{"$error":"#VALUE!"},{"$error":"#VALUE!"},{"$error":"#VALUE!"},{"$error":"#VALUE!"},{"$error":"#VALUE!"},{"$error":"#VALUE!"},{"$error":"#VALUE!"},{"$error":"#VALUE!"},{"$error":"#VALUE!"},{"$error":"#VALUE!"},{"$error":"#VALUE!"}]
[null,null,null,null,null,null,null,null,null,null,null,null,null,null,{"$f":"IF(Analyze!G536=\"\",\"\",Analyze!G536)","v":""},{"$f":"IF(Analyze!S536=\"\",\"\",Analyze!S536)","v":{"$error":"#VALUE!"}},null,null,null,null,null,null,null,"","","",53.000000000000483,-24.610999525114568,53.000000000000483,-5.5013071988495277,53.000000000000483,-9.5013071988495259,53.000000000000483,-13.50130719884957,{"$error":"#VALUE!"},{"$error":"#VALUE!"},{"$error":"#VALUE!"},{"$error":"#VALUE!"},{"$error":"#VALUE!"},{"$error":"#VALUE!"},{"$error":"#VALUE!"},{"$error":"#VALUE!"},{"$error":"#VALUE!"},{"$error":"#VALUE!"},{"$error":"#VALUE!"},{"$error":"#VALUE!"}]
[null,null,null,null,null,null,null,null,null,null,null,null,null,null,{"$f":"IF(Analyze!G537=\"\",\"\",Analyze!G537)","v":""},{"$f":"IF(Analyze!S537=\"\",\"\",Analyze!S537)","v":{"$error":"#VALUE!"}},null,null,null,null,null,null,null,"","","",53.100000000000485,-24.681020278935538,53.100000000000485,-5.5281021180926402,53.100000000000485,-9.5281021180926384,53.100000000000485,-13.528102118092683,{"$error":"#VALUE!"},{"$error":"#VALUE!"},{"$error":"#VALUE!"},{"$error":"#VALUE!"},{"$error":"#VALUE!"},{"$error":"#VALUE!"},{"$error":"#VALUE!"},{"$error":"#VALUE!"},{"$error":"#VALUE!"},{"$error":"#VALUE!"},{"$error":"#VALUE!"},{"$error":"#VALUE!"}]
[null,null,null,null,null,null,null,null,null,null,null,null,null,null,{"$f":"IF(Analyze!G538=\"\",\"\",Analyze!G538)","v":""},{"$f":"IF(Analyze!S538=\"\",\"\",Analyze!S538)","v":{"$error":"#VALUE!"}},null,null,null,null,null,null,null,"","","",53.200000000000486,-24.751041032756508,53.200000000000486,-5.5548970373357527,53.200000000000486,-9.5548970373357509,53.200000000000486,-13.554897037335795,{"$error":"#VALUE!"},{"$error":"#VALUE!"},{"$error":"#VALUE!"},{"$error":"#VALUE!"},{"$error":"#VALUE!"},{"$error":"#VALUE!"},{"$error":"#VALUE!"},{"$error":"#VALUE!"},{"$error":"#VALUE!"},{"$error":"#VALUE!"},{"$error":"#VALUE!"},{"$error":"#VALUE!"}]
[null,null,null,null,null,null,null,null,null,null,null,null,null,null,{"$f":"IF(Analyze!G539=\"\",\"\",Analyze!G539)","v":""},{"$f":"IF(Analyze!S539=\"\",\"\",Analyze!S539)","v":{"$error":"#VALUE!"}},null,null,null,null,null,null,null,"","","",53.300000000000487,-24.821061786577477,53.300000000000487,-5.5816919565788652,53.300000000000487,-9.5816919565788634,53.300000000000487,-13.581691956578908,{"$error":"#VALUE!"},{"$error":"#VALUE!"},{"$error":"#VALUE!"},{"$error":"#VALUE!"},{"$error":"#VALUE!"},{"$error":"#VALUE!"},{"$error":"#VALUE!"},{"$error":"#VALUE!"},{"$error":"#VALUE!"},{"$error":"#VALUE!"},{"$error":"#VALUE!"},{"$error":"#VALUE!"}]
[null,null,null,null,null,null,null,null,null,null,null,null,null,null,{"$f":"IF(Analyze!G540=\"\",\"\",Analyze!G540)","v":""},{"$f":"IF(Analyze!S540=\"\",\"\",Analyze!S540)","v":{"$error":"#VALUE!"}},null,null,null,null,null,null,null,"","","",53.400000000000489,-24.891082540398447,53.400000000000489,-5.6084868758219777,53.400000000000489,-9.6084868758219759,53.400000000000489,-13.60848687582202,{"$error":"#VALUE!"},{"$error":"#VALUE!"},{"$error":"#VALUE!"},{"$error":"#VALUE!"},{"$error":"#VALUE!"},{"$error":"#VALUE!"},{"$error":"#VALUE!"},{"$error":"#VALUE!"},{"$error":"#VALUE!"},{"$error":"#VALUE!"},{"$error":"#VALUE!"},{"$error":"#VALUE!"}]
[null,null,null,null,null,null,null,null,null,null,null,null,null,null,{"$f":"IF(Analyze!G541=\"\",\"\",Analyze!G541)","v":""},{"$f":"IF(Analyze!S541=\"\",\"\",Analyze!S541)","v":{"$error":"#VALUE!"}},null,null,null,null,null,null,null,"","","",53.50000000000049,-24.961103294219416,53.50000000000049,-5.6352817950650902,53.50000000000049,-9.6352817950650884,53.50000000000049,-13.635281795065133,{"$error":"#VALUE!"},{"$error":"#VALUE!"},{"$error":"#VALUE!"},{"$error":"#VALUE!"},{"$error":"#VALUE!"},{"$error":"#VALUE!"},{"$error":"#VALUE!"},{"$error":"#VALUE!"},{"$error":"#VALUE!"},{"$error":"#VALUE!"},{"$error":"#VALUE!"},{"$error":"#VALUE!"}]
[null,null,null,null,null,null,null,null,null,null,null,null,null,null,{"$f":"IF(Analyze!G542=\"\",\"\",Analyze!G542)","v":""},{"$f":"IF(Analyze!S542=\"\",\"\",Analyze!S542)","v":{"$error":"#VALUE!"}},null,null,null,null,null,null,null,"","","",53.600000000000492,-25.031124048040386,53.600000000000492,-5.6620767143082027,53.600000000000492,-9.6620767143082009,53.600000000000492,-13.662076714308245,{"$error":"#VALUE!"},{"$error":"#VALUE!"},{"$error":"#VALUE!"},{"$error":"#VALUE!"},{"$error":"#VALUE!"},{"$error":"#VALUE!"},{"$error":"#VALUE!"},{"$error":"#VALUE!"},{"$error":"#VALUE!"},{"$error":"#VALUE!"},{"$error":"#VALUE!"},{"$error":"#VALUE!"}]
[null,null,null,null,null,null,null,null,null,null,null,null,null,null,{"$f":"IF(Analyze!G543=\"\",\"\",Analyze!G543)","v":""},{"$f":"IF(Analyze!S543=\"\",\"\",Analyze!S543)","v":{"$error":"#VALUE!"}},null,null,null,null,null,null,null,"","","",53.700000000000493,-25.101144801861356,53.700000000000493,-5.6888716335513152,53.700000000000493,-9.6888716335513134,53.700000000000493,-13.688871633551358,{"$error":"#VALUE!"},{"$error":"#VALUE!"},{"$error":"#VALUE!"},{"$error":"#VALUE!"},{"$error":"#VALUE!"},{"$error":"#VALUE!"},{"$error":"#VALUE!"},{"$error":"#VALUE!"},{"$error":"#VALUE!"},{"$error":"#VALUE!"},{"$error":"#VALUE!"},{"$error":"#VALUE!"}]
[null,null,null,null,null,null,null,null,null,null,null,null,null,null,{"$f":"IF(Analyze!G544=\"\",\"\",Analyze!G544)","v":""},{"$f":"IF(Analyze!S544=\"\",\"\",Analyze!S544)","v":{"$error":"#VALUE!"}},null,null,null,null,null,null,null,"","","",53.800000000000495,-25.171165555682325,53.800000000000495,-5.7156665527944277,53.800000000000495,-9.7156665527944259,53.800000000000495,-13.71566655279447,{"$error":"#VALUE!"},{"$error":"#VALUE!"},{"$error":"#VALUE!"},{"$error":"#VALUE!"},{"$error":"#VALUE!"},{"$error":"#VALUE!"},{"$error":"#VALUE!"},{"$error":"#VALUE!"},{"$error":"#VALUE!"},{"$error":"#VALUE!"},{"$error":"#VALUE!"},{"$error":"#VALUE!"}]
[null,null,null,null,null,null,null,null,null,null,null,null,null,null,{"$f":"IF(Analyze!G545=\"\",\"\",Analyze!G545)","v":""},{"$f":"IF(Analyze!S545=\"\",\"\",Analyze!S545)","v":{"$error":"#VALUE!"}},null,null,null,null,null,null,null,"","","",53.900000000000496,-25.241186309503295,53.900000000000496,-5.7424614720375402,53.900000000000496,-9.7424614720375384,53.900000000000496,-13.742461472037583,{"$error":"#VALUE!"},{"$error":"#VALUE!"},{"$error":"#VALUE!"},{"$error":"#VALUE!"},{"$error":"#VALUE!"},{"$error":"#VALUE!"},{"$error":"#VALUE!"},{"$error":"#VALUE!"},{"$error":"#VALUE!"},{"$error":"#VALUE!"},{"$error":"#VALUE!"},{"$error":"#VALUE!"}]
[null,null,null,null,null,null,null,null,null,null,null,null,null,null,{"$f":"IF(Analyze!G546=\"\",\"\",Analyze!G546)","v":""},{"$f":"IF(Analyze!S546=\"\",\"\",Analyze!S546)","v":{"$error":"#VALUE!"}},null,null,null,null,null,null,null,"","","",54.000000000000497,-25.311207063324265,54.000000000000497,-5.7692563912806527,54.000000000000497,-9.7692563912806509,54.000000000000497,-13.769256391280695,{"$error":"#VALUE!"},{"$error":"#VALUE!"},{"$error":"#VALUE!"},{"$error":"#VALUE!"},{"$error":"#VALUE!"},{"$error":"#VALUE!"},{"$error":"#VALUE!"},{"$error":"#VALUE!"},{"$error":"#VALUE!"},{"$error":"#VALUE!"},{"$error":"#VALUE!"},{"$error":"#VALUE!"}]
[null,null,null,null,null,null,null,null,null,null,null,null,null,null,{"$f":"IF(Analyze!G547=\"\",\"\",Analyze!G547)","v":""},{"$f":"IF(Analyze!S547=\"\",\"\",Analyze!S547)","v":{"$error":"#VALUE!"}},null,null,null,null,null,null,null,"","","",54.100000000000499,-25.381227817145234,54.100000000000499,-5.7960513105237652,54.100000000000499,-9.7960513105237634,54.100000000000499,-13.796051310523808,{"$error":"#VALUE!"},{"$error":"#VALUE!"},{"$error":"#VALUE!"},{"$error":"#VALUE!"},{"$error":"#VALUE!"},{"$error":"#VALUE!"},{"$error":"#VALUE!"},{"$error":"#VALUE!"},{"$error":"#VALUE!"},{"$error":"#VALUE!"},{"$error":"#VALUE!"},{"$error":"#VALUE!"}]
[null,null,null,null,null,null,null,null,null,null,null,null,null,null,{"$f":"IF(Analyze!G548=\"\",\"\",Analyze!G548)","v":""},{"$f":"IF(Analyze!S548=\"\",\"\",Analyze!S548)","v":{"$error":"#VALUE!"}},null,null,null,null,null,null,null,"","","",54.2000000000005,-25.451248570966204,54.2000000000005,-5.8228462297668777,54.2000000000005,-9.8228462297668759,54.2000000000005,-13.82284622976692,{"$error":"#VALUE!"},{"$error":"#VALUE!"},{"$error":"#VALUE!"},{"$error":"#VALUE!"},{"$error":"#VALUE!"},{"$error":"#VALUE!"},{"$error":"#VALUE!"},{"$error":"#VALUE!"},{"$error":"#VALUE!"},{"$error":"#VALUE!"},{"$error":"#VALUE!"},{"$error":"#VALUE!"}]
[null,null,null,null,null,null,null,null,null,null,null,null,null,null,{"$f":"IF(Analyze!G549=\"\",\"\",Analyze!G549)","v":""},{"$f":"IF(Analyze!S549=\"\",\"\",Analyze!S549)","v":{"$error":"#VALUE!"}},null,null,null,null,null,null,null,"","","",54.300000000000502,-25.521269324787173,54.300000000000502,-5.8496411490099902,54.300000000000502,-9.8496411490099884,54.300000000000502,-13.849641149010033,{"$error":"#VALUE!"},{"$error":"#VALUE!"},{"$error":"#VALUE!"},{"$error":"#VALUE!"},{"$error":"#VALUE!"},{"$error":"#VALUE!"},{"$error":"#VALUE!"},{"$error":"#VALUE!"},{"$error":"#VALUE!"},{"$error":"#VALUE!"},{"$error":"#VALUE!"},{"$error":"#VALUE!"}]
[null,null,null,null,null,null,null,null,null,null,null,null,null,null,{"$f":"IF(Analyze!G550=\"\",\"\",Analyze!G550)","v":""},{"$f":"IF(Analyze!S550=\"\",\"\",Analyze!S550)","v":{"$error":"#VALUE!"}},null,null,null,null,null,null,null,"","","",54.400000000000503,-25.591290078608143,54.400000000000503,-5.8764360682531027,54.400000000000503,-9.8764360682531009,54.400000000000503,-13.876436068253145,{"$error":"#VALUE!"},{"$error":"#VALUE!"},{"$error":"#VALUE!"},{"$error":"#VALUE!"},{"$error":"#VALUE!"},{"$error":"#VALUE!"},{"$error":"#VALUE!"},{"$error":"#VALUE!"},{"$error":"#VALUE!"},{"$error":"#VALUE!"},{"$error":"#VALUE!"},{"$error":"#VALUE!"}]
[null,null,null,null,null,null,null,null,null,null,null,null,null,null,{"$f":"IF(Analyze!G551=\"\",\"\",Analyze!G551)","v":""},{"$f":"IF(Analyze!S551=\"\",\"\",Analyze!S551)","v":{"$error":"#VALUE!"}},null,null,null,null,null,null,null,"","","",54.500000000000504,-25.661310832429113,54.500000000000504,-5.9032309874962152,54.500000000000504,-9.9032309874962134,54.500000000000504,-13.903230987496258,{"$error":"#VALUE!"},{"$error":"#VALUE!"},{"$error":"#VALUE!"},{"$error":"#VALUE!"},{"$error":"#VALUE!"},{"$error":"#VALUE!"},{"$error":"#VALUE!"},{"$error":"#VALUE!"},{"$error":"#VALUE!"},{"$error":"#VALUE!"},{"$error":"#VALUE!"},{"$error":"#VALUE!"}]
[null,null,null,null,null,null,null,null,null,null,null,null,null,null,{"$f":"IF(Analyze!G552=\"\",\"\",Analyze!G552)","v":""},{"$f":"IF(Analyze!S552=\"\",\"\",Analyze!S552)","v":{"$error":"#VALUE!"}},null,null,null,null,null,null,null,"","","",54.600000000000506,-25.731331586250082,54.600000000000506,-5.9300259067393277,54.600000000000506,-9.9300259067393259,54.600000000000506,-13.93002590673937,{"$error":"#VALUE!"},{"$error":"#VALUE!"},{"$error":"#VALUE!"},{"$error":"#VALUE!"},{"$error":"#VALUE!"},{"$error":"#VALUE!"},{"$error":"#VALUE!"},{"$error":"#VALUE!"},{"$error":"#VALUE!"},{"$error":"#VALUE!"},{"$error":"#VALUE!"},{"$error":"#VALUE!"}]
[null,null,null,null,null,null,null,null,null,null,null,null,null,null,{"$f":"IF(Analyze!G553=\"\",\"\",Analyze!G553)","v":""},{"$f":"IF(Analyze!S553=\"\",\"\",Analyze!S553)","v":{"$error":"#VALUE!"}},null,null,null,null,null,null,null,"","","",54.700000000000507,-25.801352340071052,54.700000000000507,-5.9568208259824402,54.700000000000507,-9.9568208259824384,54.700000000000507,-13.956820825982483,{"$error":"#VALUE!"},{"$error":"#VALUE!"},{"$error":"#VALUE!"},{"$error":"#VALUE!"},{"$error":"#VALUE!"},{"$error":"#VALUE!"},{"$error":"#VALUE!"},{"$error":"#VALUE!"},{"$error":"#VALUE!"},{"$error":"#VALUE!"},{"$error":"#VALUE!"},{"$error":"#VALUE!"}]
[null,null,null,null,null,null,null,null,null,null,null,null,null,null,{"$f":"IF(Analyze!G554=\"\",\"\",Analyze!G554)","v":""},{"$f":"IF(Analyze!S554=\"\",\"\",Analyze!S554)","v":{"$error":"#VALUE!"}},null,null,null,null,null,null,null,"","","",54.800000000000509,-25.871373093892021,54.800000000000509,-5.9836157452255527,54.800000000000509,-9.983615745225551,54.800000000000509,-13.983615745225595,{"$error":"#VALUE!"},{"$error":"#VALUE!"},{"$error":"#VALUE!"},{"$error":"#VALUE!"},{"$error":"#VALUE!"},{"$error":"#VALUE!"},{"$error":"#VALUE!"},{"$error":"#VALUE!"},{"$error":"#VALUE!"},{"$error":"#VALUE!"},{"$error":"#VALUE!"},{"$error":"#VALUE!"}]
[null,null,null,null,null,null,null,null,null,null,null,null,null,null,{"$f":"IF(Analyze!G555=\"\",\"\",Analyze!G555)","v":""},{"$f":"IF(Analyze!S555=\"\",\"\",Analyze!S555)","v":{"$error":"#VALUE!"}},null,null,null,null,null,null,null,"","","",54.90000000000051,-25.941393847712991,54.90000000000051,-6.0104106644686652,54.90000000000051,-10.010410664468663,54.90000000000051,-14.010410664468708,{"$error":"#VALUE!"},{"$error":"#VALUE!"},{"$error":"#VALUE!"},{"$error":"#VALUE!"},{"$error":"#VALUE!"},{"$error":"#VALUE!"},{"$error":"#VALUE!"},{"$error":"#VALUE!"},{"$error":"#VALUE!"},{"$error":"#VALUE!"},{"$error":"#VALUE!"},{"$error":"#VALUE!"}]
[null,null,null,null,null,null,null,null,null,null,null,null,null,null,{"$f":"IF(Analyze!G556=\"\",\"\",Analyze!G556)","v":""},{"$f":"IF(Analyze!S556=\"\",\"\",Analyze!S556)","v":{"$error":"#VALUE!"}},null,null,null,null,null,null,null,"","","",55.000000000000512,-26.011414601533961,55.000000000000512,-6.0372055837117777,55.000000000000512,-10.037205583711776,55.000000000000512,-14.03720558371182,{"$error":"#VALUE!"},{"$error":"#VALUE!"},{"$error":"#VALUE!"},{"$error":"#VALUE!"},{"$error":"#VALUE!"},{"$error":"#VALUE!"},{"$error":"#VALUE!"},{"$error":"#VALUE!"},{"$error":"#VALUE!"},{"$error":"#VALUE!"},{"$error":"#VALUE!"},{"$error":"#VALUE!"}]
[null,null,null,null,null,null,null,null,null,null,null,null,null,null,{"$f":"IF(Analyze!G557=\"\",\"\",Analyze!G557)","v":""},{"$f":"IF(Analyze!S557=\"\",\"\",Analyze!S557)","v":{"$error":"#VALUE!"}},null,null,null,null,null,null,null,"","","",55.100000000000513,-26.08143535535493,55.100000000000513,-6.0640005029548902,55.100000000000513,-10.064000502954888,55.100000000000513,-14.064000502954933,{"$error":"#VALUE!"},{"$error":"#VALUE!"},{"$error":"#VALUE!"},{"$error":"#VALUE!"},{"$error":"#VALUE!"},{"$error":"#VALUE!"},{"$error":"#VALUE!"},{"$error":"#VALUE!"},{"$error":"#VALUE!"},{"$error":"#VALUE!"},{"$error":"#VALUE!"},{"$error":"#VALUE!"}]
[null,null,null,null,null,null,null,null,null,null,null,null,null,null,{"$f":"IF(Analyze!G558=\"\",\"\",Analyze!G558)","v":""},{"$f":"IF(Analyze!S558=\"\",\"\",Analyze!S558)","v":{"$error":"#VALUE!"}},null,null,null,null,null,null,null,"","","",55.200000000000514,-26.1514561091759,55.200000000000514,-6.0907954221980027,55.200000000000514,-10.090795422198001,55.200000000000514,-14.090795422198045,{"$error":"#VALUE!"},{"$error":"#VALUE!"},{"$error":"#VALUE!"},{"$error":"#VALUE!"},{"$error":"#VALUE!"},{"$error":"#VALUE!"},{"$error":"#VALUE!"},{"$error":"#VALUE!"},{"$error":"#VALUE!"},{"$error":"#VALUE!"},{"$error":"#VALUE!"},{"$error":"#VALUE!"}]
[null,null,null,null,null,null,null,null,null,null,null,null,null,null,{"$f":"IF(Analyze!G559=\"\",\"\",Analyze!G559)","v":""},{"$f":"IF(Analyze!S559=\"\",\"\",Analyze!S559)","v":{"$error":"#VALUE!"}},null,null,null,null,null,null,null,"","","",55.300000000000516,-26.22147686299687,55.300000000000516,-6.1175903414411152,55.300000000000516,-10.117590341441113,55.300000000000516,-14.117590341441158,{"$error":"#VALUE!"},{"$error":"#VALUE!"},{"$error":"#VALUE!"},{"$error":"#VALUE!"},{"$error":"#VALUE!"},{"$error":"#VALUE!"},{"$error":"#VALUE!"},{"$error":"#VALUE!"},{"$error":"#VALUE!"},{"$error":"#VALUE!"},{"$error":"#VALUE!"},{"$error":"#VALUE!"}]
[null,null,null,null,null,null,null,null,null,null,null,null,null,null,{"$f":"IF(Analyze!G560=\"\",\"\",Analyze!G560)","v":""},{"$f":"IF(Analyze!S560=\"\",\"\",Analyze!S560)","v":{"$error":"#VALUE!"}},null,null,null,null,null,null,null,"","","",55.400000000000517,-26.291497616817839,55.400000000000517,-6.1443852606842277,55.400000000000517,-10.144385260684226,55.400000000000517,-14.14438526068427,{"$error":"#VALUE!"},{"$error":"#VALUE!"},{"$error":"#VALUE!"},{"$error":"#VALUE!"},{"$error":"#VALUE!"},{"$error":"#VALUE!"},{"$error":"#VALUE!"},{"$error":"#VALUE!"},{"$error":"#VALUE!"},{"$error":"#VALUE!"},{"$error":"#VALUE!"},{"$error":"#VALUE!"}]
[null,null,null,null,null,null,null,null,null,null,null,null,null,null,{"$f":"IF(Analyze!G561=\"\",\"\",Analyze!G561)","v":""},{"$f":"IF(Analyze!S561=\"\",\"\",Analyze!S561)","v":{"$error":"#VALUE!"}},null,null,null,null,null,null,null,"","","",55.500000000000519,-26.361518370638809,55.500000000000519,-6.1711801799273402,55.500000000000519,-10.171180179927338,55.500000000000519,-14.171180179927383,{"$error":"#VALUE!"},{"$error":"#VALUE!"},{"$error":"#VALUE!"},{"$error":"#VALUE!"},{"$error":"#VALUE!"},{"$error":"#VALUE!"},{"$error":"#VALUE!"},{"$error":"#VALUE!"},{"$error":"#VALUE!"},{"$error":"#VALUE!"},{"$error":"#VALUE!"},{"$error":"#VALUE!"}]
[null,null,null,null,null,null,null,null,null,null,null,null,null,null,{"$f":"IF(Analyze!G562=\"\",\"\",Analyze!G562)","v":""},{"$f":"IF(Analyze!S562=\"\",\"\",Analyze!S562)","v":{"$error":"#VALUE!"}},null,null,null,null,null,null,null,"","","",55.60000000000052,-26.431539124459778,55.60000000000052,-6.1979750991704528,55.60000000000052,-10.197975099170451,55.60000000000052,-14.197975099170495,{"$error":"#VALUE!"},{"$error":"#VALUE!"},{"$error":"#VALUE!"},{"$error":"#VALUE!"},{"$error":"#VALUE!"},{"$error":"#VALUE!"},{"$error":"#VALUE!"},{"$error":"#VALUE!"},{"$error":"#VALUE!"},{"$error":"#VALUE!"},{"$error":"#VALUE!"},{"$error":"#VALUE!"}]
[null,null,null,null,null,null,null,null,null,null,null,null,null,null,{"$f":"IF(Analyze!G563=\"\",\"\",Analyze!G563)","v":""},{"$f":"IF(Analyze!S563=\"\",\"\",Analyze!S563)","v":{"$error":"#VALUE!"}},null,null,null,null,null,null,null,"",{"$f":"IF(W564=\"\",\"\",W563+$H$4*COS(ATAN((X564-X563)/(W564-W563))))","v":""},{"$f":"IF(W564=\"\",\"\",X563-$H$4*SIN(ATAN((X564-X563)/(W564-W563))))","v":""},55.700000000000522,-26.501559878280748,55.700000000000522,-6.2247700184135653,55.700000000000522,-10.224770018413563,55.700000000000522,-14.224770018413608,{"$error":"#VALUE!"},{"$error":"#VALUE!"},{"$error":"#VALUE!"},{"$error":"#VALUE!"},{"$error":"#VALUE!"},{"$error":"#VALUE!"},{"$error":"#VALUE!"},{"$error":"#VALUE!"},{"$error":"#VALUE!"},{"$error":"#VALUE!"},{"$error":"#VALUE!"},{"$error":"#VALUE!"}]
[null,null,null,null,null,null,null,null,null,null,null,null,null,null,{"$f":"IF(Analyze!G564=\"\",\"\",Analyze!G564)","v":""},{"$f":"IF(Analyze!S564=\"\",\"\",Analyze!S564)","v":{"$error":"#VALUE!"}},null,null,null,null,null,null,null,"","","",55.800000000000523,-26.571580632101718,55.800000000000523,-6.2515649376566778,55.800000000000523,-10.251564937656676,55.800000000000523,-14.25156493765672,{"$error":"#VALUE!"},{"$error":"#VALUE!"},{"$error":"#VALUE!"},{"$error":"#VALUE!"},{"$error":"#VALUE!"},{"$error":"#VALUE!"},{"$error":"#VALUE!"},{"$error":"#VALUE!"},{"$error":"#VALUE!"},{"$error":"#VALUE!"},{"$error":"#VALUE!"},{"$error":"#VALUE!"}]
[null,null,null,null,null,null,null,null,null,null,null,null,null,null,{"$f":"IF(Analyze!G565=\"\",\"\",Analyze!G565)","v":""},{"$f":"IF(Analyze!S565=\"\",\"\",Analyze!S565)","v":{"$error":"#VALUE!"}},null,null,null,null,null,null,null,"","","",55.900000000000524,-26.641601385922687,55.900000000000524,-6.2783598568997903,55.900000000000524,-10.278359856899788,55.900000000000524,-14.278359856899833,{"$error":"#VALUE!"},{"$error":"#VALUE!"},{"$error":"#VALUE!"},{"$error":"#VALUE!"},{"$error":"#VALUE!"},{"$error":"#VALUE!"},{"$error":"#VALUE!"},{"$error":"#VALUE!"},{"$error":"#VALUE!"},{"$error":"#VALUE!"},{"$error":"#VALUE!"},{"$error":"#VALUE!"}]
[null,null,null,null,null,null,null,null,null,null,null,null,null,null,{"$f":"IF(Analyze!G566=\"\",\"\",Analyze!G566)","v":""},{"$f":"IF(Analyze!S566=\"\",\"\",Analyze!S566)","v":{"$error":"#VALUE!"}},null,null,null,null,null,null,null,"","","",56.000000000000526,-26.711622139743657,56.000000000000526,-6.3051547761429028,56.000000000000526,-10.305154776142901,56.000000000000526,-14.305154776142945,{"$error":"#VALUE!"},{"$error":"#VALUE!"},{"$error":"#VALUE!"},{"$error":"#VALUE!"},{"$error":"#VALUE!"},{"$error":"#VALUE!"},{"$error":"#VALUE!"},{"$error":"#VALUE!"},{"$error":"#VALUE!"},{"$error":"#VALUE!"},{"$error":"#VALUE!"},{"$error":"#VALUE!"}]
[null,null,null,null,null,null,null,null,null,null,null,null,null,null,{"$f":"IF(Analyze!G567=\"\",\"\",Analyze!G567)","v":""},{"$f":"IF(Analyze!S567=\"\",\"\",Analyze!S567)","v":{"$error":"#VALUE!"}},null,null,null,null,null,null,null,"","","",56.100000000000527,-26.781642893564626,56.100000000000527,-6.3319496953860153,56.100000000000527,-10.331949695386013,56.100000000000527,-14.331949695386058,{"$error":"#VALUE!"},{"$error":"#VALUE!"},{"$error":"#VALUE!"},{"$error":"#VALUE!"},{"$error":"#VALUE!"},{"$error":"#VALUE!"},{"$error":"#VALUE!"},{"$error":"#VALUE!"},{"$error":"#VALUE!"},{"$error":"#VALUE!"},{"$error":"#VALUE!"},{"$error":"#VALUE!"}]
[null,null,null,null,null,null,null,null,null,null,null,null,null,null,{"$f":"IF(Analyze!G568=\"\",\"\",Analyze!G568)","v":""},{"$f":"IF(Analyze!S568=\"\",\"\",Analyze!S568)","v":{"$error":"#VALUE!"}},null,null,null,null,null,null,null,"","","",56.200000000000529,-26.851663647385596,56.200000000000529,-6.3587446146291278,56.200000000000529,-10.358744614629126,56.200000000000529,-14.35874461462917,{"$error":"#VALUE!"},{"$error":"#VALUE!"},{"$error":"#VALUE!"},{"$error":"#VALUE!"},{"$error":"#VALUE!"},{"$error":"#VALUE!"},{"$error":"#VALUE!"},{"$error":"#VALUE!"},{"$error":"#VALUE!"},{"$error":"#VALUE!"},{"$error":"#VALUE!"},{"$error":"#VALUE!"}]
[null,null,null,null,null,null,null,null,null,null,null,null,null,null,{"$f":"IF(Analyze!G569=\"\",\"\",Analyze!G569)","v":""},{"$f":"IF(Analyze!S569=\"\",\"\",Analyze!S569)","v":{"$error":"#VALUE!"}},null,null,null,null,null,null,null,"","","",56.30000000000053,-26.921684401206566,56.30000000000053,-6.3855395338722403,56.30000000000053,-10.385539533872238,56.30000000000053,-14.385539533872283,{"$error":"#VALUE!"},{"$error":"#VALUE!"},{"$error":"#VALUE!"},{"$error":"#VALUE!"},{"$error":"#VALUE!"},{"$error":"#VALUE!"},{"$error":"#VALUE!"},{"$error":"#VALUE!"},{"$error":"#VALUE!"},{"$error":"#VALUE!"},{"$error":"#VALUE!"},{"$error":"#VALUE!"}]
[null,null,null,null,null,null,null,null,null,null,null,null,null,null,{"$f":"IF(Analyze!G570=\"\",\"\",Analyze!G570)","v":""},{"$f":"IF(Analyze!S570=\"\",\"\",Analyze!S570)","v":{"$error":"#VALUE!"}},null,null,null,null,null,null,null,"","","",56.400000000000531,-26.991705155027535,56.400000000000531,-6.4123344531153528,56.400000000000531,-10.412334453115351,56.400000000000531,-14.412334453115395,{"$error":"#VALUE!"},{"$error":"#VALUE!"},{"$error":"#VALUE!"},{"$error":"#VALUE!"},{"$error":"#VALUE!"},{"$error":"#VALUE!"},{"$error":"#VALUE!"},{"$error":"#VALUE!"},{"$error":"#VALUE!"},{"$error":"#VALUE!"},{"$error":"#VALUE!"},{"$error":"#VALUE!"}]
[null,null,null,null,null,null,null,null,null,null,null,null,null,null,{"$f":"IF(Analyze!G571=\"\",\"\",Analyze!G571)","v":""},{"$f":"IF(Analyze!S571=\"\",\"\",Analyze!S571)","v":{"$error":"#VALUE!"}},null,null,null,null,null,null,null,"","","",56.500000000000533,-27.061725908848505,56.500000000000533,-6.4391293723584653,56.500000000000533,-10.439129372358463,56.500000000000533,-14.439129372358508,{"$error":"#VALUE!"},{"$error":"#VALUE!"},{"$error":"#VALUE!"},{"$error":"#VALUE!"},{"$error":"#VALUE!"},{"$error":"#VALUE!"},{"$error":"#VALUE!"},{"$error":"#VALUE!"},{"$error":"#VALUE!"},{"$error":"#VALUE!"},{"$error":"#VALUE!"},{"$error":"#VALUE!"}]
[null,null,null,null,null,null,null,null,null,null,null,null,null,null,{"$f":"IF(Analyze!G572=\"\",\"\",Analyze!G572)","v":""},{"$f":"IF(Analyze!S572=\"\",\"\",Analyze!S572)","v":{"$error":"#VALUE!"}},null,null,null,null,null,null,null,"","","",56.600000000000534,-27.131746662669475,56.600000000000534,-6.4659242916015778,56.600000000000534,-10.465924291601576,56.600000000000534,-14.46592429160162,{"$error":"#VALUE!"},{"$error":"#VALUE!"},{"$error":"#VALUE!"},{"$error":"#VALUE!"},{"$error":"#VALUE!"},{"$error":"#VALUE!"},{"$error":"#VALUE!"},{"$error":"#VALUE!"},{"$error":"#VALUE!"},{"$error":"#VALUE!"},{"$error":"#VALUE!"},{"$error":"#VALUE!"}]
[null,null,null,null,null,null,null,null,null,null,null,null,null,null,{"$f":"IF(Analyze!G573=\"\",\"\",Analyze!G573)","v":""},{"$f":"IF(Analyze!S573=\"\",\"\",Analyze!S573)","v":{"$error":"#VALUE!"}},null,null,null,null,null,null,null,"","","",56.700000000000536,-27.201767416490444,56.700000000000536,-6.4927192108446903,56.700000000000536,-10.492719210844689,56.700000000000536,-14.492719210844733,{"$error":"#VALUE!"},{"$error":"#VALUE!"},{"$error":"#VALUE!"},{"$error":"#VALUE!"},{"$error":"#VALUE!"},{"$error":"#VALUE!"},{"$error":"#VALUE!"},{"$error":"#VALUE!"},{"$error":"#VALUE!"},{"$error":"#VALUE!"},{"$error":"#VALUE!"},{"$error":"#VALUE!"}]
[null,null,null,null,null,null,null,null,null,null,null,null,null,null,{"$f":"IF(Analyze!G574=\"\",\"\",Analyze!G574)","v":""},{"$f":"IF(Analyze!S574=\"\",\"\",Analyze!S574)","v":{"$error":"#VALUE!"}},null,null,null,null,null,null,null,"","","",56.800000000000537,-27.271788170311414,56.800000000000537,-6.5195141300878028,56.800000000000537,-10.519514130087801,56.800000000000537,-14.519514130087845,{"$error":"#VALUE!"},{"$error":"#VALUE!"},{"$error":"#VALUE!"},{"$error":"#VALUE!"},{"$error":"#VALUE!"},{"$error":"#VALUE!"},{"$error":"#VALUE!"},{"$error":"#VALUE!"},{"$error":"#VALUE!"},{"$error":"#VALUE!"},{"$error":"#VALUE!"},{"$error":"#VALUE!"}]
[null,null,null,null,null,null,null,null,null,null,null,null,null,null,{"$f":"IF(Analyze!G575=\"\",\"\",Analyze!G575)","v":""},{"$f":"IF(Analyze!S575=\"\",\"\",Analyze!S575)","v":{"$error":"#VALUE!"}},null,null,null,null,null,null,null,"","","",56.900000000000539,-27.341808924132383,56.900000000000539,-6.5463090493309153,56.900000000000539,-10.546309049330914,56.900000000000539,-14.546309049330958,{"$error":"#VALUE!"},{"$error":"#VALUE!"},{"$error":"#VALUE!"},{"$error":"#VALUE!"},{"$error":"#VALUE!"},{"$error":"#VALUE!"},{"$error":"#VALUE!"},{"$error":"#VALUE!"},{"$error":"#VALUE!"},{"$error":"#VALUE!"},{"$error":"#VALUE!"},{"$error":"#VALUE!"}]
[null,null,null,null,null,null,null,null,null,null,null,null,null,null,{"$f":"IF(Analyze!G576=\"\",\"\",Analyze!G576)","v":""},{"$f":"IF(Analyze!S576=\"\",\"\",Analyze!S576)","v":{"$error":"#VALUE!"}},null,null,null,null,null,null,null,"","","",57.00000000000054,-27.411829677953353,57.00000000000054,-6.5731039685740278,57.00000000000054,-10.573103968574026,57.00000000000054,-14.57310396857407,{"$error":"#VALUE!"},{"$error":"#VALUE!"},{"$error":"#VALUE!"},{"$error":"#VALUE!"},{"$error":"#VALUE!"},{"$error":"#VALUE!"},{"$error":"#VALUE!"},{"$error":"#VALUE!"},{"$error":"#VALUE!"},{"$error":"#VALUE!"},{"$error":"#VALUE!"},{"$error":"#VALUE!"}]
[null,null,null,null,null,null,null,null,null,null,null,null,null,null,{"$f":"IF(Analyze!G577=\"\",\"\",Analyze!G577)","v":""},{"$f":"IF(Analyze!S577=\"\",\"\",Analyze!S577)","v":{"$error":"#VALUE!"}},null,null,null,null,null,null,null,"","","",57.100000000000541,-27.481850431774323,57.100000000000541,-6.5998988878171403,57.100000000000541,-10.599898887817139,57.100000000000541,-14.599898887817183,{"$error":"#VALUE!"},{"$error":"#VALUE!"},{"$error":"#VALUE!"},{"$error":"#VALUE!"},{"$error":"#VALUE!"},{"$error":"#VALUE!"},{"$error":"#VALUE!"},{"$error":"#VALUE!"},{"$error":"#VALUE!"},{"$error":"#VALUE!"},{"$error":"#VALUE!"},{"$error":"#VALUE!"}]
[null,null,null,null,null,null,null,null,null,null,null,null,null,null,{"$f":"IF(Analyze!G578=\"\",\"\",Analyze!G578)","v":""},{"$f":"IF(Analyze!S578=\"\",\"\",Analyze!S578)","v":{"$error":"#VALUE!"}},null,null,null,null,null,null,null,"","","",57.200000000000543,-27.551871185595292,57.200000000000543,-6.6266938070602528,57.200000000000543,-10.626693807060251,57.200000000000543,-14.626693807060295,{"$error":"#VALUE!"},{"$error":"#VALUE!"},{"$error":"#VALUE!"},{"$error":"#VALUE!"},{"$error":"#VALUE!"},{"$error":"#VALUE!"},{"$error":"#VALUE!"},{"$error":"#VALUE!"},{"$error":"#VALUE!"},{"$error":"#VALUE!"},{"$error":"#VALUE!"},{"$error":"#VALUE!"}]
[null,null,null,null,null,null,null,null,null,null,null,null,null,null,{"$f":"IF(Analyze!G579=\"\",\"\",Analyze!G579)","v":""},{"$f":"IF(Analyze!S579=\"\",\"\",Analyze!S579)","v":{"$error":"#VALUE!"}},null,null,null,null,null,null,null,"","","",57.300000000000544,-27.621891939416262,57.300000000000544,-6.6534887263033653,57.300000000000544,-10.653488726303364,57.300000000000544,-14.653488726303408,{"$error":"#VALUE!"},{"$error":"#VALUE!"},{"$error":"#VALUE!"},{"$error":"#VALUE!"},{"$error":"#VALUE!"},{"$error":"#VALUE!"},{"$error":"#VALUE!"},{"$error":"#VALUE!"},{"$error":"#VALUE!"},{"$error":"#VALUE!"},{"$error":"#VALUE!"},{"$error":"#VALUE!"}]
[null,null,null,null,null,null,null,null,null,null,null,null,null,null,{"$f":"IF(Analyze!G580=\"\",\"\",Analyze!G580)","v":""},{"$f":"IF(Analyze!S580=\"\",\"\",Analyze!S580)","v":{"$error":"#VALUE!"}},null,null,null,null,null,null,null,"","","",57.400000000000546,-27.691912693237231,57.400000000000546,-6.6802836455464778,57.400000000000546,-10.680283645546476,57.400000000000546,-14.68028364554652,{"$error":"#VALUE!"},{"$error":"#VALUE!"},{"$error":"#VALUE!"},{"$error":"#VALUE!"},{"$error":"#VALUE!"},{"$error":"#VALUE!"},{"$error":"#VALUE!"},{"$error":"#VALUE!"},{"$error":"#VALUE!"},{"$error":"#VALUE!"},{"$error":"#VALUE!"},{"$error":"#VALUE!"}]
[null,null,null,null,null,null,null,null,null,null,null,null,null,null,{"$f":"IF(Analyze!G581=\"\",\"\",Analyze!G581)","v":""},{"$f":"IF(Analyze!S581=\"\",\"\",Analyze!S581)","v":{"$error":"#VALUE!"}},null,null,null,null,null,null,null,"","","",57.500000000000547,-27.761933447058201,57.500000000000547,-6.7070785647895903,57.500000000000547,-10.707078564789589,57.500000000000547,-14.707078564789633,{"$error":"#VALUE!"},{"$error":"#VALUE!"},{"$error":"#VALUE!"},{"$error":"#VALUE!"},{"$error":"#VALUE!"},{"$error":"#VALUE!"},{"$error":"#VALUE!"},{"$error":"#VALUE!"},{"$error":"#VALUE!"},{"$error":"#VALUE!"},{"$error":"#VALUE!"},{"$error":"#VALUE!"}]
[null,null,null,null,null,null,null,null,null,null,null,null,null,null,{"$f":"IF(Analyze!G582=\"\",\"\",Analyze!G582)","v":""},{"$f":"IF(Analyze!S582=\"\",\"\",Analyze!S582)","v":{"$error":"#VALUE!"}},null,null,null,null,null,null,null,{"$f":"IF(O582=\"\",\"\",IF(O582>h+$H$2,(\"\"),(h-O582)))","v":""},"","",57.600000000000549,-27.831954200879171,57.600000000000549,-6.7338734840327028,57.600000000000549,-10.733873484032701,57.600000000000549,-14.733873484032745,{"$error":"#VALUE!"},{"$error":"#VALUE!"},{"$error":"#VALUE!"},{"$error":"#VALUE!"},{"$error":"#VALUE!"},{"$error":"#VALUE!"},{"$error":"#VALUE!"},{"$error":"#VALUE!"},{"$error":"#VALUE!"},{"$error":"#VALUE!"},{"$error":"#VALUE!"},{"$error":"#VALUE!"}]
[null,null,null,null,null,null,null,null,null,null,null,null,null,null,{"$f":"IF(Analyze!G583=\"\",\"\",Analyze!G583)","v":""},{"$f":"IF(Analyze!S583=\"\",\"\",Analyze!S583)","v":{"$error":"#VALUE!"}},null,null,null,null,null,null,null,"","","",57.70000000000055,-27.90197495470014,57.70000000000055,-6.7606684032758153,57.70000000000055,-10.760668403275814,57.70000000000055,-14.760668403275858,{"$error":"#VALUE!"},{"$error":"#VALUE!"},{"$error":"#VALUE!"},{"$error":"#VALUE!"},{"$error":"#VALUE!"},{"$error":"#VALUE!"},{"$error":"#VALUE!"},{"$error":"#VALUE!"},{"$error":"#VALUE!"},{"$error":"#VALUE!"},{"$error":"#VALUE!"},{"$error":"#VALUE!"}]
[null,null,null,null,null,null,null,null,null,null,null,null,null,null,{"$f":"IF(Analyze!G584=\"\",\"\",Analyze!G584)","v":""},{"$f":"IF(Analyze!S584=\"\",\"\",Analyze!S584)","v":{"$error":"#VALUE!"}},null,null,null,null,null,null,null,"","","",{"$f":"AA583+0.1","v":57.800000000000551},{"$f":"AB583-0.1*TAN(RADIANS($F$7))","v":-27.97199570852111},{"$f":"AC583+0.1","v":57.800000000000551},{"$f":"AD583-0.1*TAN(RADIANS($F$8))","v":-6.7874633225189278},{"$f":"AE583+0.1","v":57.800000000000551},{"$f":"AF583-0.1*TAN(RADIANS($F$9))","v":-10.787463322518926},{"$f":"AG583+0.1","v":57.800000000000551},{"$f":"AH583-0.1*TAN(RADIANS($F$10))","v":-14.78746332251897},{"$f":"AI583+0.1","v":{"$error":"#VALUE!"}},{"$f":"AJ583-0.1*TAN(RADIANS($F$11))","v":{"$error":"#VALUE!"}},{"$f":"AK583+0.1","v":{"$error":"#VALUE!"}},{"$f":"AL583-0.1*TAN(RADIANS($F$12))","v":{"$error":"#VALUE!"}},{"$f":"AM583+0.1","v":{"$error":"#VALUE!"}},{"$f":"AN583-0.1*TAN(RADIANS($F$13))","v":{"$error":"#VALUE!"}},{"$f":"AO583+0.1","v":{"$error":"#VALUE!"}},{"$f":"AP583-0.1*TAN(RADIANS($F$14))","v":{"$error":"#VALUE!"}},{"$f":"AQ583+0.1","v":{"$error":"#VALUE!"}},{"$f":"AR583-0.1*TAN(RADIANS($F$15))","v":{"$error":"#VALUE!"}},{"$f":"AS583+0.1","v":{"$error":"#VALUE!"}},{"$f":"AT583-0.1*TAN(RADIANS($F$16))","v":{"$error":"#VALUE!"}}]
[null,null,null,null,null,null,null,null,null,null,null,null,null,null,{"$f":"IF(Analyze!G585=\"\",\"\",Analyze!G585)","v":""},{"$f":"IF(Analyze!S585=\"\",\"\",Analyze!S585)","v":{"$error":"#VALUE!"}},null,null,null,null,null,null,null,"","","",57.900000000000553,-28.04201646234208,57.900000000000553,-6.8142582417620403,57.900000000000553,-10.814258241762039,57.900000000000553,-14.814258241762083,{"$error":"#VALUE!"},{"$error":"#VALUE!"},{"$error":"#VALUE!"},{"$error":"#VALUE!"},{"$error":"#VALUE!"},{"$error":"#VALUE!"},{"$error":"#VALUE!"},{"$error":"#VALUE!"},{"$error":"#VALUE!"},{"$error":"#VALUE!"},{"$error":"#VALUE!"},{"$error":"#VALUE!"}]
[null,null,null,null,null,null,null,null,null,null,null,null,null,null,{"$f":"IF(Analyze!G586=\"\",\"\",Analyze!G586)","v":""},{"$f":"IF(Analyze!S586=\"\",\"\",Analyze!S586)","v":{"$error":"#VALUE!"}},null,null,null,null,null,null,null,"","","",58.000000000000554,-28.112037216163049,58.000000000000554,-6.8410531610051528,58.000000000000554,-10.841053161005151,58.000000000000554,-14.841053161005195,{"$error":"#VALUE!"},{"$error":"#VALUE!"},{"$error":"#VALUE!"},{"$error":"#VALUE!"},{"$error":"#VALUE!"},{"$error":"#VALUE!"},{"$error":"#VALUE!"},{"$error":"#VALUE!"},{"$error":"#VALUE!"},{"$error":"#VALUE!"},{"$error":"#VALUE!"},{"$error":"#VALUE!"}]
[null,null,null,null,null,null,null,null,null,null,null,null,null,null,{"$f":"IF(Analyze!G587=\"\",\"\",Analyze!G587)","v":""},{"$f":"IF(Analyze!S587=\"\",\"\",Analyze!S587)","v":{"$error":"#VALUE!"}},null,null,null,null,null,null,null,"","","",58.100000000000556,-28.182057969984019,58.100000000000556,-6.8678480802482653,58.100000000000556,-10.867848080248264,58.100000000000556,-14.867848080248308,{"$error":"#VALUE!"},{"$error":"#VALUE!"},{"$error":"#VALUE!"},{"$error":"#VALUE!"},{"$error":"#VALUE!"},{"$error":"#VALUE!"},{"$error":"#VALUE!"},{"$error":"#VALUE!"},{"$error":"#VALUE!"},{"$error":"#VALUE!"},{"$error":"#VALUE!"},{"$error":"#VALUE!"}]
[null,null,null,null,null,null,null,null,null,null,null,null,null,null,{"$f":"IF(Analyze!G588=\"\",\"\",Analyze!G588)","v":""},{"$f":"IF(Analyze!S588=\"\",\"\",Analyze!S588)","v":{"$error":"#VALUE!"}},null,null,null,null,null,null,null,"","","",58.200000000000557,-28.252078723804988,58.200000000000557,-6.8946429994913778,58.200000000000557,-10.894642999491376,58.200000000000557,-14.89464299949142,{"$error":"#VALUE!"},{"$error":"#VALUE!"},{"$error":"#VALUE!"},{"$error":"#VALUE!"},{"$error":"#VALUE!"},{"$error":"#VALUE!"},{"$error":"#VALUE!"},{"$error":"#VALUE!"},{"$error":"#VALUE!"},{"$error":"#VALUE!"},{"$error":"#VALUE!"},{"$error":"#VALUE!"}]
[null,null,null,null,null,null,null,null,null,null,null,null,null,null,{"$f":"IF(Analyze!G589=\"\",\"\",Analyze!G589)","v":""},{"$f":"IF(Analyze!S589=\"\",\"\",Analyze!S589)","v":{"$error":"#VALUE!"}},null,null,null,null,null,null,null,"","","",58.300000000000558,-28.322099477625958,58.300000000000558,-6.9214379187344903,58.300000000000558,-10.921437918734489,58.300000000000558,-14.921437918734533,{"$error":"#VALUE!"},{"$error":"#VALUE!"},{"$error":"#VALUE!"},{"$error":"#VALUE!"},{"$error":"#VALUE!"},{"$error":"#VALUE!"},{"$error":"#VALUE!"},{"$error":"#VALUE!"},{"$error":"#VALUE!"},{"$error":"#VALUE!"},{"$error":"#VALUE!"},{"$error":"#VALUE!"}]
[null,null,null,null,null,null,null,null,null,null,null,null,null,null,{"$f":"IF(Analyze!G590=\"\",\"\",Analyze!G590)","v":""},{"$f":"IF(Analyze!S590=\"\",\"\",Analyze!S590)","v":{"$error":"#VALUE!"}},null,null,null,null,null,null,null,"","","",58.40000000000056,-28.392120231446928,58.40000000000056,-6.9482328379776028,58.40000000000056,-10.948232837977601,58.40000000000056,-14.948232837977645,{"$error":"#VALUE!"},{"$error":"#VALUE!"},{"$error":"#VALUE!"},{"$error":"#VALUE!"},{"$error":"#VALUE!"},{"$error":"#VALUE!"},{"$error":"#VALUE!"},{"$error":"#VALUE!"},{"$error":"#VALUE!"},{"$error":"#VALUE!"},{"$error":"#VALUE!"},{"$error":"#VALUE!"}]
[null,null,null,null,null,null,null,null,null,null,null,null,null,null,{"$f":"IF(Analyze!G591=\"\",\"\",Analyze!G591)","v":""},{"$f":"IF(Analyze!S591=\"\",\"\",Analyze!S591)","v":{"$error":"#VALUE!"}},null,null,null,null,null,null,null,"","","",58.500000000000561,-28.462140985267897,58.500000000000561,-6.9750277572207153,58.500000000000561,-10.975027757220714,58.500000000000561,-14.975027757220758,{"$error":"#VALUE!"},{"$error":"#VALUE!"},{"$error":"#VALUE!"},{"$error":"#VALUE!"},{"$error":"#VALUE!"},{"$error":"#VALUE!"},{"$error":"#VALUE!"},{"$error":"#VALUE!"},{"$error":"#VALUE!"},{"$error":"#VALUE!"},{"$error":"#VALUE!"},{"$error":"#VALUE!"}]
[null,null,null,null,null,null,null,null,null,null,null,null,null,null,{"$f":"IF(Analyze!G592=\"\",\"\",Analyze!G592)","v":""},{"$f":"IF(Analyze!S592=\"\",\"\",Analyze!S592)","v":{"$error":"#VALUE!"}},null,null,null,null,null,null,null,"","","",58.600000000000563,-28.532161739088867,58.600000000000563,-7.0018226764638278,58.600000000000563,-11.001822676463826,58.600000000000563,-15.00182267646387,{"$error":"#VALUE!"},{"$error":"#VALUE!"},{"$error":"#VALUE!"},{"$error":"#VALUE!"},{"$error":"#VALUE!"},{"$error":"#VALUE!"},{"$error":"#VALUE!"},{"$error":"#VALUE!"},{"$error":"#VALUE!"},{"$error":"#VALUE!"},{"$error":"#VALUE!"},{"$error":"#VALUE!"}]
[null,null,null,null,null,null,null,null,null,null,null,null,null,null,{"$f":"IF(Analyze!G593=\"\",\"\",Analyze!G593)","v":""},{"$f":"IF(Analyze!S593=\"\",\"\",Analyze!S593)","v":{"$error":"#VALUE!"}},null,null,null,null,null,null,null,"","","",58.700000000000564,-28.602182492909836,58.700000000000564,-7.0286175957069403,58.700000000000564,-11.028617595706939,58.700000000000564,-15.028617595706983,{"$error":"#VALUE!"},{"$error":"#VALUE!"},{"$error":"#VALUE!"},{"$error":"#VALUE!"},{"$error":"#VALUE!"},{"$error":"#VALUE!"},{"$error":"#VALUE!"},{"$error":"#VALUE!"},{"$error":"#VALUE!"},{"$error":"#VALUE!"},{"$error":"#VALUE!"},{"$error":"#VALUE!"}]
[null,null,null,null,null,null,null,null,null,null,null,null,null,null,{"$f":"IF(Analyze!G594=\"\",\"\",Analyze!G594)","v":""},{"$f":"IF(Analyze!S594=\"\",\"\",Analyze!S594)","v":{"$error":"#VALUE!"}},null,null,null,null,null,null,null,"","","",58.800000000000566,-28.672203246730806,58.800000000000566,-7.0554125149500528,58.800000000000566,-11.055412514950051,58.800000000000566,-15.055412514950095,{"$error":"#VALUE!"},{"$error":"#VALUE!"},{"$error":"#VALUE!"},{"$error":"#VALUE!"},{"$error":"#VALUE!"},{"$error":"#VALUE!"},{"$error":"#VALUE!"},{"$error":"#VALUE!"},{"$error":"#VALUE!"},{"$error":"#VALUE!"},{"$error":"#VALUE!"},{"$error":"#VALUE!"}]
[null,null,null,null,null,null,null,null,null,null,null,null,null,null,{"$f":"IF(Analyze!G595=\"\",\"\",Analyze!G595)","v":""},{"$f":"IF(Analyze!S595=\"\",\"\",Analyze!S595)","v":{"$error":"#VALUE!"}},null,null,null,null,null,null,null,"","","",58.900000000000567,-28.742224000551776,58.900000000000567,-7.0822074341931653,58.900000000000567,-11.082207434193164,58.900000000000567,-15.082207434193208,{"$error":"#VALUE!"},{"$error":"#VALUE!"},{"$error":"#VALUE!"},{"$error":"#VALUE!"},{"$error":"#VALUE!"},{"$error":"#VALUE!"},{"$error":"#VALUE!"},{"$error":"#VALUE!"},{"$error":"#VALUE!"},{"$error":"#VALUE!"},{"$error":"#VALUE!"},{"$error":"#VALUE!"}]
[null,null,null,null,null,null,null,null,null,null,null,null,null,null,{"$f":"IF(Analyze!G596=\"\",\"\",Analyze!G596)","v":""},{"$f":"IF(Analyze!S596=\"\",\"\",Analyze!S596)","v":{"$error":"#VALUE!"}},null,null,null,null,null,null,null,"","","",59.000000000000568,-28.812244754372745,59.000000000000568,-7.1090023534362778,59.000000000000568,-11.109002353436276,59.000000000000568,-15.10900235343632,{"$error":"#VALUE!"},{"$error":"#VALUE!"},{"$error":"#VALUE!"},{"$error":"#VALUE!"},{"$error":"#VALUE!"},{"$error":"#VALUE!"},{"$error":"#VALUE!"},{"$error":"#VALUE!"},{"$error":"#VALUE!"},{"$error":"#VALUE!"},{"$error":"#VALUE!"},{"$error":"#VALUE!"}]
[null,null,null,null,null,null,null,null,null,null,null,null,null,null,{"$f":"IF(Analyze!G597=\"\",\"\",Analyze!G597)","v":""},{"$f":"IF(Analyze!S597=\"\",\"\",Analyze!S597)","v":{"$error":"#VALUE!"}},null,null,null,null,null,null,null,"","","",59.10000000000057,-28.882265508193715,59.10000000000057,-7.1357972726793903,59.10000000000057,-11.135797272679389,59.10000000000057,-15.135797272679433,{"$error":"#VALUE!"},{"$error":"#VALUE!"},{"$error":"#VALUE!"},{"$error":"#VALUE!"},{"$error":"#VALUE!"},{"$error":"#VALUE!"},{"$error":"#VALUE!"},{"$error":"#VALUE!"},{"$error":"#VALUE!"},{"$error":"#VALUE!"},{"$error":"#VALUE!"},{"$error":"#VALUE!"}]
[null,null,null,null,null,null,null,null,null,null,null,null,null,null,{"$f":"IF(Analyze!G598=\"\",\"\",Analyze!G598)","v":""},{"$f":"IF(Analyze!S598=\"\",\"\",Analyze!S598)","v":{"$error":"#VALUE!"}},null,null,null,null,null,null,null,"","","",59.200000000000571,-28.952286262014685,59.200000000000571,-7.1625921919225028,59.200000000000571,-11.162592191922501,59.200000000000571,-15.162592191922545,{"$error":"#VALUE!"},{"$error":"#VALUE!"},{"$error":"#VALUE!"},{"$error":"#VALUE!"},{"$error":"#VALUE!"},{"$error":"#VALUE!"},{"$error":"#VALUE!"},{"$error":"#VALUE!"},{"$error":"#VALUE!"},{"$error":"#VALUE!"},{"$error":"#VALUE!"},{"$error":"#VALUE!"}]
[null,null,null,null,null,null,null,null,null,null,null,null,null,null,{"$f":"IF(Analyze!G599=\"\",\"\",Analyze!G599)","v":""},{"$f":"IF(Analyze!S599=\"\",\"\",Analyze!S599)","v":{"$error":"#VALUE!"}},null,null,null,null,null,null,null,"","","",59.300000000000573,-29.022307015835654,59.300000000000573,-7.1893871111656154,59.300000000000573,-11.189387111165614,59.300000000000573,-15.189387111165658,{"$error":"#VALUE!"},{"$error":"#VALUE!"},{"$error":"#VALUE!"},{"$error":"#VALUE!"},{"$error":"#VALUE!"},{"$error":"#VALUE!"},{"$error":"#VALUE!"},{"$error":"#VALUE!"},{"$error":"#VALUE!"},{"$error":"#VALUE!"},{"$error":"#VALUE!"},{"$error":"#VALUE!"}]
[null,null,null,null,null,null,null,null,null,null,null,null,null,null,{"$f":"IF(Analyze!G600=\"\",\"\",Analyze!G600)","v":""},{"$f":"IF(Analyze!S600=\"\",\"\",Analyze!S600)","v":{"$error":"#VALUE!"}},null,null,null,null,null,null,null,"","","",59.400000000000574,-29.092327769656624,59.400000000000574,-7.2161820304087279,59.400000000000574,-11.216182030408726,59.400000000000574,-15.21618203040877,{"$error":"#VALUE!"},{"$error":"#VALUE!"},{"$error":"#VALUE!"},{"$error":"#VALUE!"},{"$error":"#VALUE!"},{"$error":"#VALUE!"},{"$error":"#VALUE!"},{"$error":"#VALUE!"},{"$error":"#VALUE!"},{"$error":"#VALUE!"},{"$error":"#VALUE!"},{"$error":"#VALUE!"}]
[null,null,null,null,null,null,null,null,null,null,null,null,null,null,{"$f":"IF(Analyze!G601=\"\",\"\",Analyze!G601)","v":""},{"$f":"IF(Analyze!S601=\"\",\"\",Analyze!S601)","v":{"$error":"#VALUE!"}},null,null,null,null,null,null,null,"","","",59.500000000000576,-29.162348523477593,59.500000000000576,-7.2429769496518404,59.500000000000576,-11.242976949651839,59.500000000000576,-15.242976949651883,{"$error":"#VALUE!"},{"$error":"#VALUE!"},{"$error":"#VALUE!"},{"$error":"#VALUE!"},{"$error":"#VALUE!"},{"$error":"#VALUE!"},{"$error":"#VALUE!"},{"$error":"#VALUE!"},{"$error":"#VALUE!"},{"$error":"#VALUE!"},{"$error":"#VALUE!"},{"$error":"#VALUE!"}]
[null,null,null,null,null,null,null,null,null,null,null,null,null,null,{"$f":"IF(Analyze!G602=\"\",\"\",Analyze!G602)","v":""},{"$f":"IF(Analyze!S602=\"\",\"\",Analyze!S602)","v":{"$error":"#VALUE!"}},null,null,null,null,null,null,null,"","","",59.600000000000577,-29.232369277298563,59.600000000000577,-7.2697718688949529,59.600000000000577,-11.269771868894951,59.600000000000577,-15.269771868894995,{"$error":"#VALUE!"},{"$error":"#VALUE!"},{"$error":"#VALUE!"},{"$error":"#VALUE!"},{"$error":"#VALUE!"},{"$error":"#VALUE!"},{"$error":"#VALUE!"},{"$error":"#VALUE!"},{"$error":"#VALUE!"},{"$error":"#VALUE!"},{"$error":"#VALUE!"},{"$error":"#VALUE!"}]
[null,null,null,null,null,null,null,null,null,null,null,null,null,null,{"$f":"IF(Analyze!G603=\"\",\"\",Analyze!G603)","v":""},{"$f":"IF(Analyze!S603=\"\",\"\",Analyze!S603)","v":{"$error":"#VALUE!"}},null,null,null,null,null,null,null,"","","",59.700000000000578,-29.302390031119533,59.700000000000578,-7.2965667881380654,59.700000000000578,-11.296566788138064,59.700000000000578,-15.296566788138108,{"$error":"#VALUE!"},{"$error":"#VALUE!"},{"$error":"#VALUE!"},{"$error":"#VALUE!"},{"$error":"#VALUE!"},{"$error":"#VALUE!"},{"$error":"#VALUE!"},{"$error":"#VALUE!"},{"$error":"#VALUE!"},{"$error":"#VALUE!"},{"$error":"#VALUE!"},{"$error":"#VALUE!"}]
[null,null,null,null,null,null,null,null,null,null,null,null,null,null,{"$f":"IF(Analyze!G604=\"\",\"\",Analyze!G604)","v":""},{"$f":"IF(Analyze!S604=\"\",\"\",Analyze!S604)","v":{"$error":"#VALUE!"}},null,null,null,null,null,null,null,"","","",59.80000000000058,-29.372410784940502,59.80000000000058,-7.3233617073811779,59.80000000000058,-11.323361707381176,59.80000000000058,-15.32336170738122,{"$error":"#VALUE!"},{"$error":"#VALUE!"},{"$error":"#VALUE!"},{"$error":"#VALUE!"},{"$error":"#VALUE!"},{"$error":"#VALUE!"},{"$error":"#VALUE!"},{"$error":"#VALUE!"},{"$error":"#VALUE!"},{"$error":"#VALUE!"},{"$error":"#VALUE!"},{"$error":"#VALUE!"}]
[null,null,null,null,null,null,null,null,null,null,null,null,null,null,{"$f":"IF(Analyze!G605=\"\",\"\",Analyze!G605)","v":""},{"$f":"IF(Analyze!S605=\"\",\"\",Analyze!S605)","v":{"$error":"#VALUE!"}},null,null,null,null,null,null,null,"","","",59.900000000000581,-29.442431538761472,59.900000000000581,-7.3501566266242904,59.900000000000581,-11.350156626624289,59.900000000000581,-15.350156626624333,{"$error":"#VALUE!"},{"$error":"#VALUE!"},{"$error":"#VALUE!"},{"$error":"#VALUE!"},{"$error":"#VALUE!"},{"$error":"#VALUE!"},{"$error":"#VALUE!"},{"$error":"#VALUE!"},{"$error":"#VALUE!"},{"$error":"#VALUE!"},{"$error":"#VALUE!"},{"$error":"#VALUE!"}]
[null,null,null,null,null,null,null,null,null,null,null,null,null,null,{"$f":"IF(Analyze!G606=\"\",\"\",Analyze!G606)","v":""},{"$f":"IF(Analyze!S606=\"\",\"\",Analyze!S606)","v":{"$error":"#VALUE!"}},null,null,null,null,null,null,null,"","","",60.000000000000583,-29.512452292582442,60.000000000000583,-7.3769515458674029,60.000000000000583,-11.376951545867401,60.000000000000583,-15.376951545867446,{"$error":"#VALUE!"},{"$error":"#VALUE!"},{"$error":"#VALUE!"},{"$error":"#VALUE!"},{"$error":"#VALUE!"},{"$error":"#VALUE!"},{"$error":"#VALUE!"},{"$error":"#VALUE!"},{"$error":"#VALUE!"},{"$error":"#VALUE!"},{"$error":"#VALUE!"},{"$error":"#VALUE!"}]
[null,null,null,null,null,null,null,null,null,null,null,null,null,null,{"$f":"IF(Analyze!G607=\"\",\"\",Analyze!G607)","v":""},{"$f":"IF(Analyze!S607=\"\",\"\",Analyze!S607)","v":{"$error":"#VALUE!"}},null,null,null,null,null,null,null,"","","",60.100000000000584,-29.582473046403411,60.100000000000584,-7.4037464651105154,60.100000000000584,-11.403746465110514,60.100000000000584,-15.403746465110558,{"$error":"#VALUE!"},{"$error":"#VALUE!"},{"$error":"#VALUE!"},{"$error":"#VALUE!"},{"$error":"#VALUE!"},{"$error":"#VALUE!"},{"$error":"#VALUE!"},{"$error":"#VALUE!"},{"$error":"#VALUE!"},{"$error":"#VALUE!"},{"$error":"#VALUE!"},{"$error":"#VALUE!"}]
[null,null,null,null,null,null,null,null,null,null,null,null,null,null,{"$f":"IF(Analyze!G608=\"\",\"\",Analyze!G608)","v":""},{"$f":"IF(Analyze!S608=\"\",\"\",Analyze!S608)","v":{"$error":"#VALUE!"}},null,null,null,null,null,null,null,"","","",60.200000000000585,-29.652493800224381,60.200000000000585,-7.4305413843536279,60.200000000000585,-11.430541384353626,60.200000000000585,-15.430541384353671,{"$error":"#VALUE!"},{"$error":"#VALUE!"},{"$error":"#VALUE!"},{"$error":"#VALUE!"},{"$error":"#VALUE!"},{"$error":"#VALUE!"},{"$error":"#VALUE!"},{"$error":"#VALUE!"},{"$error":"#VALUE!"},{"$error":"#VALUE!"},{"$error":"#VALUE!"},{"$error":"#VALUE!"}]
[null,null,null,null,null,null,null,null,null,null,null,null,null,null,{"$f":"IF(Analyze!G609=\"\",\"\",Analyze!G609)","v":""},{"$f":"IF(Analyze!S609=\"\",\"\",Analyze!S609)","v":{"$error":"#VALUE!"}},null,null,null,null,null,null,null,"","","",60.300000000000587,-29.72251455404535,60.300000000000587,-7.4573363035967404,60.300000000000587,-11.457336303596739,60.300000000000587,-15.457336303596783,{"$error":"#VALUE!"},{"$error":"#VALUE!"},{"$error":"#VALUE!"},{"$error":"#VALUE!"},{"$error":"#VALUE!"},{"$error":"#VALUE!"},{"$error":"#VALUE!"},{"$error":"#VALUE!"},{"$error":"#VALUE!"},{"$error":"#VALUE!"},{"$error":"#VALUE!"},{"$error":"#VALUE!"}]
[null,null,null,null,null,null,null,null,null,null,null,null,null,null,{"$f":"IF(Analyze!G610=\"\",\"\",Analyze!G610)","v":""},{"$f":"IF(Analyze!S610=\"\",\"\",Analyze!S610)","v":{"$error":"#VALUE!"}},null,null,null,null,null,null,null,"","","",60.400000000000588,-29.79253530786632,60.400000000000588,-7.4841312228398529,60.400000000000588,-11.484131222839851,60.400000000000588,-15.484131222839896,{"$error":"#VALUE!"},{"$error":"#VALUE!"},{"$error":"#VALUE!"},{"$error":"#VALUE!"},{"$error":"#VALUE!"},{"$error":"#VALUE!"},{"$error":"#VALUE!"},{"$error":"#VALUE!"},{"$error":"#VALUE!"},{"$error":"#VALUE!"},{"$error":"#VALUE!"},{"$error":"#VALUE!"}]
[null,null,null,null,null,null,null,null,null,null,null,null,null,null,{"$f":"IF(Analyze!G611=\"\",\"\",Analyze!G611)","v":""},{"$f":"IF(Analyze!S611=\"\",\"\",Analyze!S611)","v":{"$error":"#VALUE!"}},null,null,null,null,null,null,null,"","","",60.50000000000059,-29.86255606168729,60.50000000000059,-7.5109261420829654,60.50000000000059,-11.510926142082964,60.50000000000059,-15.510926142083008,{"$error":"#VALUE!"},{"$error":"#VALUE!"},{"$error":"#VALUE!"},{"$error":"#VALUE!"},{"$error":"#VALUE!"},{"$error":"#VALUE!"},{"$error":"#VALUE!"},{"$error":"#VALUE!"},{"$error":"#VALUE!"},{"$error":"#VALUE!"},{"$error":"#VALUE!"},{"$error":"#VALUE!"}]
[null,null,null,null,null,null,null,null,null,null,null,null,null,null,{"$f":"IF(Analyze!G612=\"\",\"\",Analyze!G612)","v":""},{"$f":"IF(Analyze!S612=\"\",\"\",Analyze!S612)","v":{"$error":"#VALUE!"}},null,null,null,null,null,null,null,"","","",60.600000000000591,-29.932576815508259,60.600000000000591,-7.5377210613260779,60.600000000000591,-11.537721061326076,60.600000000000591,-15.537721061326121,{"$error":"#VALUE!"},{"$error":"#VALUE!"},{"$error":"#VALUE!"},{"$error":"#VALUE!"},{"$error":"#VALUE!"},{"$error":"#VALUE!"},{"$error":"#VALUE!"},{"$error":"#VALUE!"},{"$error":"#VALUE!"},{"$error":"#VALUE!"},{"$error":"#VALUE!"},{"$error":"#VALUE!"}]
[null,null,null,null,null,null,null,null,null,null,null,null,null,null,{"$f":"IF(Analyze!G613=\"\",\"\",Analyze!G613)","v":""},{"$f":"IF(Analyze!S613=\"\",\"\",Analyze!S613)","v":{"$error":"#VALUE!"}},null,null,null,null,null,null,null,"","","",60.700000000000593,-30.002597569329229,60.700000000000593,-7.5645159805691904,60.700000000000593,-11.564515980569189,60.700000000000593,-15.564515980569233,{"$error":"#VALUE!"},{"$error":"#VALUE!"},{"$error":"#VALUE!"},{"$error":"#VALUE!"},{"$error":"#VALUE!"},{"$error":"#VALUE!"},{"$error":"#VALUE!"},{"$error":"#VALUE!"},{"$error":"#VALUE!"},{"$error":"#VALUE!"},{"$error":"#VALUE!"},{"$error":"#VALUE!"}]
[null,null,null,null,null,null,null,null,null,null,null,null,null,null,{"$f":"IF(Analyze!G614=\"\",\"\",Analyze!G614)","v":""},{"$f":"IF(Analyze!S614=\"\",\"\",Analyze!S614)","v":{"$error":"#VALUE!"}},null,null,null,null,null,null,null,"","","",60.800000000000594,-30.072618323150198,60.800000000000594,-7.5913108998123029,60.800000000000594,-11.591310899812301,60.800000000000594,-15.591310899812346,{"$error":"#VALUE!"},{"$error":"#VALUE!"},{"$error":"#VALUE!"},{"$error":"#VALUE!"},{"$error":"#VALUE!"},{"$error":"#VALUE!"},{"$error":"#VALUE!"},{"$error":"#VALUE!"},{"$error":"#VALUE!"},{"$error":"#VALUE!"},{"$error":"#VALUE!"},{"$error":"#VALUE!"}]
[null,null,null,null,null,null,null,null,null,null,null,null,null,null,{"$f":"IF(Analyze!G615=\"\",\"\",Analyze!G615)","v":""},{"$f":"IF(Analyze!S615=\"\",\"\",Analyze!S615)","v":{"$error":"#VALUE!"}},null,null,null,null,null,null,null,"","","",60.900000000000595,-30.142639076971168,60.900000000000595,-7.6181058190554154,60.900000000000595,-11.618105819055414,60.900000000000595,-15.618105819055458,{"$error":"#VALUE!"},{"$error":"#VALUE!"},{"$error":"#VALUE!"},{"$error":"#VALUE!"},{"$error":"#VALUE!"},{"$error":"#VALUE!"},{"$error":"#VALUE!"},{"$error":"#VALUE!"},{"$error":"#VALUE!"},{"$error":"#VALUE!"},{"$error":"#VALUE!"},{"$error":"#VALUE!"}]
[null,null,null,null,null,null,null,null,null,null,null,null,null,null,{"$f":"IF(Analyze!G616=\"\",\"\",Analyze!G616)","v":""},{"$f":"IF(Analyze!S616=\"\",\"\",Analyze!S616)","v":{"$error":"#VALUE!"}},null,null,null,null,null,null,null,"","","",61.000000000000597,-30.212659830792138,61.000000000000597,-7.6449007382985279,61.000000000000597,-11.644900738298526,61.000000000000597,-15.644900738298571,{"$error":"#VALUE!"},{"$error":"#VALUE!"},{"$error":"#VALUE!"},{"$error":"#VALUE!"},{"$error":"#VALUE!"},{"$error":"#VALUE!"},{"$error":"#VALUE!"},{"$error":"#VALUE!"},{"$error":"#VALUE!"},{"$error":"#VALUE!"},{"$error":"#VALUE!"},{"$error":"#VALUE!"}]
[null,null,null,null,null,null,null,null,null,null,null,null,null,null,{"$f":"IF(Analyze!G617=\"\",\"\",Analyze!G617)","v":""},{"$f":"IF(Analyze!S617=\"\",\"\",Analyze!S617)","v":{"$error":"#VALUE!"}},null,null,null,null,null,null,null,"","","",61.100000000000598,-30.282680584613107,61.100000000000598,-7.6716956575416404,61.100000000000598,-11.671695657541639,61.100000000000598,-15.671695657541683,{"$error":"#VALUE!"},{"$error":"#VALUE!"},{"$error":"#VALUE!"},{"$error":"#VALUE!"},{"$error":"#VALUE!"},{"$error":"#VALUE!"},{"$error":"#VALUE!"},{"$error":"#VALUE!"},{"$error":"#VALUE!"},{"$error":"#VALUE!"},{"$error":"#VALUE!"},{"$error":"#VALUE!"}]
[null,null,null,null,null,null,null,null,null,null,null,null,null,null,{"$f":"IF(Analyze!G618=\"\",\"\",Analyze!G618)","v":""},{"$f":"IF(Analyze!S618=\"\",\"\",Analyze!S618)","v":{"$error":"#VALUE!"}},null,null,null,null,null,null,null,"","","",61.2000000000006,-30.352701338434077,61.2000000000006,-7.6984905767847529,61.2000000000006,-11.698490576784751,61.2000000000006,-15.698490576784796,{"$error":"#VALUE!"},{"$error":"#VALUE!"},{"$error":"#VALUE!"},{"$error":"#VALUE!"},{"$error":"#VALUE!"},{"$error":"#VALUE!"},{"$error":"#VALUE!"},{"$error":"#VALUE!"},{"$error":"#VALUE!"},{"$error":"#VALUE!"},{"$error":"#VALUE!"},{"$error":"#VALUE!"}]
[null,null,null,null,null,null,null,null,null,null,null,null,null,null,{"$f":"IF(Analyze!G619=\"\",\"\",Analyze!G619)","v":""},{"$f":"IF(Analyze!S619=\"\",\"\",Analyze!S619)","v":{"$error":"#VALUE!"}},null,null,null,null,null,null,null,"","","",61.300000000000601,-30.422722092255047,61.300000000000601,-7.7252854960278654,61.300000000000601,-11.725285496027864,61.300000000000601,-15.725285496027908,{"$error":"#VALUE!"},{"$error":"#VALUE!"},{"$error":"#VALUE!"},{"$error":"#VALUE!"},{"$error":"#VALUE!"},{"$error":"#VALUE!"},{"$error":"#VALUE!"},{"$error":"#VALUE!"},{"$error":"#VALUE!"},{"$error":"#VALUE!"},{"$error":"#VALUE!"},{"$error":"#VALUE!"}]
[null,null,null,null,null,null,null,null,null,null,null,null,null,null,{"$f":"IF(Analyze!G620=\"\",\"\",Analyze!G620)","v":""},{"$f":"IF(Analyze!S620=\"\",\"\",Analyze!S620)","v":{"$error":"#VALUE!"}},null,null,null,null,null,null,null,"","","",61.400000000000603,-30.492742846076016,61.400000000000603,-7.7520804152709779,61.400000000000603,-11.752080415270976,61.400000000000603,-15.752080415271021,{"$error":"#VALUE!"},{"$error":"#VALUE!"},{"$error":"#VALUE!"},{"$error":"#VALUE!"},{"$error":"#VALUE!"},{"$error":"#VALUE!"},{"$error":"#VALUE!"},{"$error":"#VALUE!"},{"$error":"#VALUE!"},{"$error":"#VALUE!"},{"$error":"#VALUE!"},{"$error":"#VALUE!"}]
[null,null,null,null,null,null,null,null,null,null,null,null,null,null,{"$f":"IF(Analyze!G621=\"\",\"\",Analyze!G621)","v":""},{"$f":"IF(Analyze!S621=\"\",\"\",Analyze!S621)","v":{"$error":"#VALUE!"}},null,null,null,null,null,null,null,"","","",61.500000000000604,-30.562763599896986,61.500000000000604,-7.7788753345140904,61.500000000000604,-11.778875334514089,61.500000000000604,-15.778875334514133,{"$error":"#VALUE!"},{"$error":"#VALUE!"},{"$error":"#VALUE!"},{"$error":"#VALUE!"},{"$error":"#VALUE!"},{"$error":"#VALUE!"},{"$error":"#VALUE!"},{"$error":"#VALUE!"},{"$error":"#VALUE!"},{"$error":"#VALUE!"},{"$error":"#VALUE!"},{"$error":"#VALUE!"}]
[null,null,null,null,null,null,null,null,null,null,null,null,null,null,{"$f":"IF(Analyze!G622=\"\",\"\",Analyze!G622)","v":""},{"$f":"IF(Analyze!S622=\"\",\"\",Analyze!S622)","v":{"$error":"#VALUE!"}},null,null,null,null,null,null,null,"","","",61.600000000000605,-30.632784353717955,61.600000000000605,-7.8056702537572029,61.600000000000605,-11.805670253757201,61.600000000000605,-15.805670253757246,{"$error":"#VALUE!"},{"$error":"#VALUE!"},{"$error":"#VALUE!"},{"$error":"#VALUE!"},{"$error":"#VALUE!"},{"$error":"#VALUE!"},{"$error":"#VALUE!"},{"$error":"#VALUE!"},{"$error":"#VALUE!"},{"$error":"#VALUE!"},{"$error":"#VALUE!"},{"$error":"#VALUE!"}]
[null,null,null,null,null,null,null,null,null,null,null,null,null,null,{"$f":"IF(Analyze!G623=\"\",\"\",Analyze!G623)","v":""},{"$f":"IF(Analyze!S623=\"\",\"\",Analyze!S623)","v":{"$error":"#VALUE!"}},null,null,null,null,null,null,null,"","","",61.700000000000607,-30.702805107538925,61.700000000000607,-7.8324651730003154,61.700000000000607,-11.832465173000314,61.700000000000607,-15.832465173000358,{"$error":"#VALUE!"},{"$error":"#VALUE!"},{"$error":"#VALUE!"},{"$error":"#VALUE!"},{"$error":"#VALUE!"},{"$error":"#VALUE!"},{"$error":"#VALUE!"},{"$error":"#VALUE!"},{"$error":"#VALUE!"},{"$error":"#VALUE!"},{"$error":"#VALUE!"},{"$error":"#VALUE!"}]
[null,null,null,null,null,null,null,null,null,null,null,null,null,null,{"$f":"IF(Analyze!G624=\"\",\"\",Analyze!G624)","v":""},{"$f":"IF(Analyze!S624=\"\",\"\",Analyze!S624)","v":{"$error":"#VALUE!"}},null,null,null,null,null,null,null,"","","",61.800000000000608,-30.772825861359895,61.800000000000608,-7.8592600922434279,61.800000000000608,-11.859260092243426,61.800000000000608,-15.859260092243471,{"$error":"#VALUE!"},{"$error":"#VALUE!"},{"$error":"#VALUE!"},{"$error":"#VALUE!"},{"$error":"#VALUE!"},{"$error":"#VALUE!"},{"$error":"#VALUE!"},{"$error":"#VALUE!"},{"$error":"#VALUE!"},{"$error":"#VALUE!"},{"$error":"#VALUE!"},{"$error":"#VALUE!"}]
[null,null,null,null,null,null,null,null,null,null,null,null,null,null,{"$f":"IF(Analyze!G625=\"\",\"\",Analyze!G625)","v":""},{"$f":"IF(Analyze!S625=\"\",\"\",Analyze!S625)","v":{"$error":"#VALUE!"}},null,null,null,null,null,null,null,"","","",61.90000000000061,-30.842846615180864,61.90000000000061,-7.8860550114865404,61.90000000000061,-11.886055011486539,61.90000000000061,-15.886055011486583,{"$error":"#VALUE!"},{"$error":"#VALUE!"},{"$error":"#VALUE!"},{"$error":"#VALUE!"},{"$error":"#VALUE!"},{"$error":"#VALUE!"},{"$error":"#VALUE!"},{"$error":"#VALUE!"},{"$error":"#VALUE!"},{"$error":"#VALUE!"},{"$error":"#VALUE!"},{"$error":"#VALUE!"}]
[null,null,null,null,null,null,null,null,null,null,null,null,null,null,{"$f":"IF(Analyze!G626=\"\",\"\",Analyze!G626)","v":""},{"$f":"IF(Analyze!S626=\"\",\"\",Analyze!S626)","v":{"$error":"#VALUE!"}},null,null,null,null,null,null,null,"","","",62.000000000000611,-30.912867369001834,62.000000000000611,-7.9128499307296529,62.000000000000611,-11.912849930729651,62.000000000000611,-15.912849930729696,{"$error":"#VALUE!"},{"$error":"#VALUE!"},{"$error":"#VALUE!"},{"$error":"#VALUE!"},{"$error":"#VALUE!"},{"$error":"#VALUE!"},{"$error":"#VALUE!"},{"$error":"#VALUE!"},{"$error":"#VALUE!"},{"$error":"#VALUE!"},{"$error":"#VALUE!"},{"$error":"#VALUE!"}]
[null,null,null,null,null,null,null,null,null,null,null,null,null,null,{"$f":"IF(Analyze!G627=\"\",\"\",Analyze!G627)","v":""},{"$f":"IF(Analyze!S627=\"\",\"\",Analyze!S627)","v":{"$error":"#VALUE!"}},null,null,null,null,null,null,null,"",{"$f":"IF(W628=\"\",\"\",W627+$H$4*COS(ATAN((X628-X627)/(W628-W627))))","v":""},{"$f":"IF(W628=\"\",\"\",X627-$H$4*SIN(ATAN((X628-X627)/(W628-W627))))","v":""},62.100000000000612,-30.982888122822803,62.100000000000612,-7.9396448499727654,62.100000000000612,-11.939644849972764,62.100000000000612,-15.939644849972808,{"$error":"#VALUE!"},{"$error":"#VALUE!"},{"$error":"#VALUE!"},{"$error":"#VALUE!"},{"$error":"#VALUE!"},{"$error":"#VALUE!"},{"$error":"#VALUE!"},{"$error":"#VALUE!"},{"$error":"#VALUE!"},{"$error":"#VALUE!"},{"$error":"#VALUE!"},{"$error":"#VALUE!"}]
[null,null,null,null,null,null,null,null,null,null,null,null,null,null,{"$f":"IF(Analyze!G628=\"\",\"\",Analyze!G628)","v":""},{"$f":"IF(Analyze!S628=\"\",\"\",Analyze!S628)","v":{"$error":"#VALUE!"}},null,null,null,null,null,null,null,"","","",62.200000000000614,-31.052908876643773,62.200000000000614,-7.9664397692158779,62.200000000000614,-11.966439769215876,62.200000000000614,-15.966439769215921,{"$error":"#VALUE!"},{"$error":"#VALUE!"},{"$error":"#VALUE!"},{"$error":"#VALUE!"},{"$error":"#VALUE!"},{"$error":"#VALUE!"},{"$error":"#VALUE!"},{"$error":"#VALUE!"},{"$error":"#VALUE!"},{"$error":"#VALUE!"},{"$error":"#VALUE!"},{"$error":"#VALUE!"}]
[null,null,null,null,null,null,null,null,null,null,null,null,null,null,{"$f":"IF(Analyze!G629=\"\",\"\",Analyze!G629)","v":""},{"$f":"IF(Analyze!S629=\"\",\"\",Analyze!S629)","v":{"$error":"#VALUE!"}},null,null,null,null,null,null,null,"","","",62.300000000000615,-31.122929630464743,62.300000000000615,-7.9932346884589904,62.300000000000615,-11.993234688458989,62.300000000000615,-15.993234688459033,{"$error":"#VALUE!"},{"$error":"#VALUE!"},{"$error":"#VALUE!"},{"$error":"#VALUE!"},{"$error":"#VALUE!"},{"$error":"#VALUE!"},{"$error":"#VALUE!"},{"$error":"#VALUE!"},{"$error":"#VALUE!"},{"$error":"#VALUE!"},{"$error":"#VALUE!"},{"$error":"#VALUE!"}]
[null,null,null,null,null,null,null,null,null,null,null,null,null,null,{"$f":"IF(Analyze!G630=\"\",\"\",Analyze!G630)","v":""},{"$f":"IF(Analyze!S630=\"\",\"\",Analyze!S630)","v":{"$error":"#VALUE!"}},null,null,null,null,null,null,null,"","","",62.400000000000617,-31.192950384285712,62.400000000000617,-8.0200296077021029,62.400000000000617,-12.020029607702101,62.400000000000617,-16.020029607702146,{"$error":"#VALUE!"},{"$error":"#VALUE!"},{"$error":"#VALUE!"},{"$error":"#VALUE!"},{"$error":"#VALUE!"},{"$error":"#VALUE!"},{"$error":"#VALUE!"},{"$error":"#VALUE!"},{"$error":"#VALUE!"},{"$error":"#VALUE!"},{"$error":"#VALUE!"},{"$error":"#VALUE!"}]
[null,null,null,null,null,null,null,null,null,null,null,null,null,null,{"$f":"IF(Analyze!G631=\"\",\"\",Analyze!G631)","v":""},{"$f":"IF(Analyze!S631=\"\",\"\",Analyze!S631)","v":{"$error":"#VALUE!"}},null,null,null,null,null,null,null,"","","",62.500000000000618,-31.262971138106682,62.500000000000618,-8.0468245269452154,62.500000000000618,-12.046824526945214,62.500000000000618,-16.046824526945258,{"$error":"#VALUE!"},{"$error":"#VALUE!"},{"$error":"#VALUE!"},{"$error":"#VALUE!"},{"$error":"#VALUE!"},{"$error":"#VALUE!"},{"$error":"#VALUE!"},{"$error":"#VALUE!"},{"$error":"#VALUE!"},{"$error":"#VALUE!"},{"$error":"#VALUE!"},{"$error":"#VALUE!"}]
[null,null,null,null,null,null,null,null,null,null,null,null,null,null,{"$f":"IF(Analyze!G632=\"\",\"\",Analyze!G632)","v":""},{"$f":"IF(Analyze!S632=\"\",\"\",Analyze!S632)","v":{"$error":"#VALUE!"}},null,null,null,null,null,null,null,"","","",62.60000000000062,-31.332991891927652,62.60000000000062,-8.0736194461883279,62.60000000000062,-12.073619446188326,62.60000000000062,-16.073619446188371,{"$error":"#VALUE!"},{"$error":"#VALUE!"},{"$error":"#VALUE!"},{"$error":"#VALUE!"},{"$error":"#VALUE!"},{"$error":"#VALUE!"},{"$error":"#VALUE!"},{"$error":"#VALUE!"},{"$error":"#VALUE!"},{"$error":"#VALUE!"},{"$error":"#VALUE!"},{"$error":"#VALUE!"}]
[null,null,null,null,null,null,null,null,null,null,null,null,null,null,{"$f":"IF(Analyze!G633=\"\",\"\",Analyze!G633)","v":""},{"$f":"IF(Analyze!S633=\"\",\"\",Analyze!S633)","v":{"$error":"#VALUE!"}},null,null,null,null,null,null,null,"","","",62.700000000000621,-31.403012645748621,62.700000000000621,-8.1004143654314404,62.700000000000621,-12.100414365431439,62.700000000000621,-16.100414365431483,{"$error":"#VALUE!"},{"$error":"#VALUE!"},{"$error":"#VALUE!"},{"$error":"#VALUE!"},{"$error":"#VALUE!"},{"$error":"#VALUE!"},{"$error":"#VALUE!"},{"$error":"#VALUE!"},{"$error":"#VALUE!"},{"$error":"#VALUE!"},{"$error":"#VALUE!"},{"$error":"#VALUE!"}]
[null,null,null,null,null,null,null,null,null,null,null,null,null,null,{"$f":"IF(Analyze!G634=\"\",\"\",Analyze!G634)","v":""},{"$f":"IF(Analyze!S634=\"\",\"\",Analyze!S634)","v":{"$error":"#VALUE!"}},null,null,null,null,null,null,null,"","","",62.800000000000622,-31.473033399569591,62.800000000000622,-8.1272092846745529,62.800000000000622,-12.127209284674551,62.800000000000622,-16.127209284674596,{"$error":"#VALUE!"},{"$error":"#VALUE!"},{"$error":"#VALUE!"},{"$error":"#VALUE!"},{"$error":"#VALUE!"},{"$error":"#VALUE!"},{"$error":"#VALUE!"},{"$error":"#VALUE!"},{"$error":"#VALUE!"},{"$error":"#VALUE!"},{"$error":"#VALUE!"},{"$error":"#VALUE!"}]
[null,null,null,null,null,null,null,null,null,null,null,null,null,null,{"$f":"IF(Analyze!G635=\"\",\"\",Analyze!G635)","v":""},{"$f":"IF(Analyze!S635=\"\",\"\",Analyze!S635)","v":{"$error":"#VALUE!"}},null,null,null,null,null,null,null,"","","",62.900000000000624,-31.54305415339056,62.900000000000624,-8.1540042039176654,62.900000000000624,-12.154004203917664,62.900000000000624,-16.154004203917708,{"$error":"#VALUE!"},{"$error":"#VALUE!"},{"$error":"#VALUE!"},{"$error":"#VALUE!"},{"$error":"#VALUE!"},{"$error":"#VALUE!"},{"$error":"#VALUE!"},{"$error":"#VALUE!"},{"$error":"#VALUE!"},{"$error":"#VALUE!"},{"$error":"#VALUE!"},{"$error":"#VALUE!"}]
[null,null,null,null,null,null,null,null,null,null,null,null,null,null,{"$f":"IF(Analyze!G636=\"\",\"\",Analyze!G636)","v":""},{"$f":"IF(Analyze!S636=\"\",\"\",Analyze!S636)","v":{"$error":"#VALUE!"}},null,null,null,null,null,null,null,"","","",63.000000000000625,-31.61307490721153,63.000000000000625,-8.180799123160778,63.000000000000625,-12.180799123160776,63.000000000000625,-16.180799123160821,{"$error":"#VALUE!"},{"$error":"#VALUE!"},{"$error":"#VALUE!"},{"$error":"#VALUE!"},{"$error":"#VALUE!"},{"$error":"#VALUE!"},{"$error":"#VALUE!"},{"$error":"#VALUE!"},{"$error":"#VALUE!"},{"$error":"#VALUE!"},{"$error":"#VALUE!"},{"$error":"#VALUE!"}]
[null,null,null,null,null,null,null,null,null,null,null,null,null,null,{"$f":"IF(Analyze!G637=\"\",\"\",Analyze!G637)","v":""},{"$f":"IF(Analyze!S637=\"\",\"\",Analyze!S637)","v":{"$error":"#VALUE!"}},null,null,null,null,null,null,null,"","","",63.100000000000627,-31.6830956610325,63.100000000000627,-8.2075940424038905,63.100000000000627,-12.207594042403889,63.100000000000627,-16.207594042403933,{"$error":"#VALUE!"},{"$error":"#VALUE!"},{"$error":"#VALUE!"},{"$error":"#VALUE!"},{"$error":"#VALUE!"},{"$error":"#VALUE!"},{"$error":"#VALUE!"},{"$error":"#VALUE!"},{"$error":"#VALUE!"},{"$error":"#VALUE!"},{"$error":"#VALUE!"},{"$error":"#VALUE!"}]
[null,null,null,null,null,null,null,null,null,null,null,null,null,null,{"$f":"IF(Analyze!G638=\"\",\"\",Analyze!G638)","v":""},{"$f":"IF(Analyze!S638=\"\",\"\",Analyze!S638)","v":{"$error":"#VALUE!"}},null,null,null,null,null,null,null,"","","",63.200000000000628,-31.753116414853469,63.200000000000628,-8.234388961647003,63.200000000000628,-12.234388961647001,63.200000000000628,-16.234388961647046,{"$error":"#VALUE!"},{"$error":"#VALUE!"},{"$error":"#VALUE!"},{"$error":"#VALUE!"},{"$error":"#VALUE!"},{"$error":"#VALUE!"},{"$error":"#VALUE!"},{"$error":"#VALUE!"},{"$error":"#VALUE!"},{"$error":"#VALUE!"},{"$error":"#VALUE!"},{"$error":"#VALUE!"}]
[null,null,null,null,null,null,null,null,null,null,null,null,null,null,{"$f":"IF(Analyze!G639=\"\",\"\",Analyze!G639)","v":""},{"$f":"IF(Analyze!S639=\"\",\"\",Analyze!S639)","v":{"$error":"#VALUE!"}},null,null,null,null,null,null,null,"","","",63.30000000000063,-31.823137168674439,63.30000000000063,-8.2611838808901155,63.30000000000063,-12.261183880890114,63.30000000000063,-16.261183880890158,{"$error":"#VALUE!"},{"$error":"#VALUE!"},{"$error":"#VALUE!"},{"$error":"#VALUE!"},{"$error":"#VALUE!"},{"$error":"#VALUE!"},{"$error":"#VALUE!"},{"$error":"#VALUE!"},{"$error":"#VALUE!"},{"$error":"#VALUE!"},{"$error":"#VALUE!"},{"$error":"#VALUE!"}]
[null,null,null,null,null,null,null,null,null,null,null,null,null,null,{"$f":"IF(Analyze!G640=\"\",\"\",Analyze!G640)","v":""},{"$f":"IF(Analyze!S640=\"\",\"\",Analyze!S640)","v":{"$error":"#VALUE!"}},null,null,null,null,null,null,null,"","","",63.400000000000631,-31.893157922495408,63.400000000000631,-8.287978800133228,63.400000000000631,-12.287978800133226,63.400000000000631,-16.287978800133271,{"$error":"#VALUE!"},{"$error":"#VALUE!"},{"$error":"#VALUE!"},{"$error":"#VALUE!"},{"$error":"#VALUE!"},{"$error":"#VALUE!"},{"$error":"#VALUE!"},{"$error":"#VALUE!"},{"$error":"#VALUE!"},{"$error":"#VALUE!"},{"$error":"#VALUE!"},{"$error":"#VALUE!"}]
[null,null,null,null,null,null,null,null,null,null,null,null,null,null,{"$f":"IF(Analyze!G641=\"\",\"\",Analyze!G641)","v":""},{"$f":"IF(Analyze!S641=\"\",\"\",Analyze!S641)","v":{"$error":"#VALUE!"}},null,null,null,null,null,null,null,"","","",63.500000000000632,-31.963178676316378,63.500000000000632,-8.3147737193763405,63.500000000000632,-12.314773719376339,63.500000000000632,-16.314773719376383,{"$error":"#VALUE!"},{"$error":"#VALUE!"},{"$error":"#VALUE!"},{"$error":"#VALUE!"},{"$error":"#VALUE!"},{"$error":"#VALUE!"},{"$error":"#VALUE!"},{"$error":"#VALUE!"},{"$error":"#VALUE!"},{"$error":"#VALUE!"},{"$error":"#VALUE!"},{"$error":"#VALUE!"}]
[null,null,null,null,null,null,null,null,null,null,null,null,null,null,{"$f":"IF(Analyze!G642=\"\",\"\",Analyze!G642)","v":""},{"$f":"IF(Analyze!S642=\"\",\"\",Analyze!S642)","v":{"$error":"#VALUE!"}},null,null,null,null,null,null,null,"","","",63.600000000000634,-32.033199430137351,63.600000000000634,-8.341568638619453,63.600000000000634,-12.341568638619451,63.600000000000634,-16.341568638619496,{"$error":"#VALUE!"},{"$error":"#VALUE!"},{"$error":"#VALUE!"},{"$error":"#VALUE!"},{"$error":"#VALUE!"},{"$error":"#VALUE!"},{"$error":"#VALUE!"},{"$error":"#VALUE!"},{"$error":"#VALUE!"},{"$error":"#VALUE!"},{"$error":"#VALUE!"},{"$error":"#VALUE!"}]
[null,null,null,null,null,null,null,null,null,null,null,null,null,null,{"$f":"IF(Analyze!G643=\"\",\"\",Analyze!G643)","v":""},{"$f":"IF(Analyze!S643=\"\",\"\",Analyze!S643)","v":{"$error":"#VALUE!"}},null,null,null,null,null,null,null,"","","",63.700000000000635,-32.103220183958321,63.700000000000635,-8.3683635578625655,63.700000000000635,-12.368363557862564,63.700000000000635,-16.368363557862608,{"$error":"#VALUE!"},{"$error":"#VALUE!"},{"$error":"#VALUE!"},{"$error":"#VALUE!"},{"$error":"#VALUE!"},{"$error":"#VALUE!"},{"$error":"#VALUE!"},{"$error":"#VALUE!"},{"$error":"#VALUE!"},{"$error":"#VALUE!"},{"$error":"#VALUE!"},{"$error":"#VALUE!"}]
[null,null,null,null,null,null,null,null,null,null,null,null,null,null,{"$f":"IF(Analyze!G644=\"\",\"\",Analyze!G644)","v":""},{"$f":"IF(Analyze!S644=\"\",\"\",Analyze!S644)","v":{"$error":"#VALUE!"}},null,null,null,null,null,null,null,"","","",63.800000000000637,-32.173240937779291,63.800000000000637,-8.395158477105678,63.800000000000637,-12.395158477105676,63.800000000000637,-16.395158477105721,{"$error":"#VALUE!"},{"$error":"#VALUE!"},{"$error":"#VALUE!"},{"$error":"#VALUE!"},{"$error":"#VALUE!"},{"$error":"#VALUE!"},{"$error":"#VALUE!"},{"$error":"#VALUE!"},{"$error":"#VALUE!"},{"$error":"#VALUE!"},{"$error":"#VALUE!"},{"$error":"#VALUE!"}]
[null,null,null,null,null,null,null,null,null,null,null,null,null,null,{"$f":"IF(Analyze!G645=\"\",\"\",Analyze!G645)","v":""},{"$f":"IF(Analyze!S645=\"\",\"\",Analyze!S645)","v":{"$error":"#VALUE!"}},null,null,null,null,null,null,null,"","","",63.900000000000638,-32.24326169160026,63.900000000000638,-8.4219533963487905,63.900000000000638,-12.421953396348789,63.900000000000638,-16.421953396348833,{"$error":"#VALUE!"},{"$error":"#VALUE!"},{"$error":"#VALUE!"},{"$error":"#VALUE!"},{"$error":"#VALUE!"},{"$error":"#VALUE!"},{"$error":"#VALUE!"},{"$error":"#VALUE!"},{"$error":"#VALUE!"},{"$error":"#VALUE!"},{"$error":"#VALUE!"},{"$error":"#VALUE!"}]
[null,null,null,null,null,null,null,null,null,null,null,null,null,null,{"$f":"IF(Analyze!G646=\"\",\"\",Analyze!G646)","v":""},{"$f":"IF(Analyze!S646=\"\",\"\",Analyze!S646)","v":{"$error":"#VALUE!"}},null,null,null,null,null,null,null,{"$f":"IF(O646=\"\",\"\",IF(O646>h+$H$2,(\"\"),(h-O646)))","v":""},"","",64.000000000000639,-32.31328244542123,64.000000000000639,-8.448748315591903,64.000000000000639,-12.448748315591901,64.000000000000639,-16.448748315591946,{"$error":"#VALUE!"},{"$error":"#VALUE!"},{"$error":"#VALUE!"},{"$error":"#VALUE!"},{"$error":"#VALUE!"},{"$error":"#VALUE!"},{"$error":"#VALUE!"},{"$error":"#VALUE!"},{"$error":"#VALUE!"},{"$error":"#VALUE!"},{"$error":"#VALUE!"},{"$error":"#VALUE!"}]
[null,null,null,null,null,null,null,null,null,null,null,null,null,null,{"$f":"IF(Analyze!G647=\"\",\"\",Analyze!G647)","v":""},{"$f":"IF(Analyze!S647=\"\",\"\",Analyze!S647)","v":{"$error":"#VALUE!"}},null,null,null,null,null,null,null,"","","",64.100000000000634,-32.383303199242199,64.100000000000634,-8.4755432348350155,64.100000000000634,-12.475543234835014,64.100000000000634,-16.475543234835058,{"$error":"#VALUE!"},{"$error":"#VALUE!"},{"$error":"#VALUE!"},{"$error":"#VALUE!"},{"$error":"#VALUE!"},{"$error":"#VALUE!"},{"$error":"#VALUE!"},{"$error":"#VALUE!"},{"$error":"#VALUE!"},{"$error":"#VALUE!"},{"$error":"#VALUE!"},{"$error":"#VALUE!"}]
[null,null,null,null,null,null,null,null,null,null,null,null,null,null,{"$f":"IF(Analyze!G648=\"\",\"\",Analyze!G648)","v":""},{"$f":"IF(Analyze!S648=\"\",\"\",Analyze!S648)","v":{"$error":"#VALUE!"}},null,null,null,null,null,null,null,"","","",{"$f":"AA647+0.1","v":64.200000000000628},{"$f":"AB647-0.1*TAN(RADIANS($F$7))","v":-32.453323953063169},{"$f":"AC647+0.1","v":64.200000000000628},{"$f":"AD647-0.1*TAN(RADIANS($F$8))","v":-8.502338154078128},{"$f":"AE647+0.1","v":64.200000000000628},{"$f":"AF647-0.1*TAN(RADIANS($F$9))","v":-12.502338154078126},{"$f":"AG647+0.1","v":64.200000000000628},{"$f":"AH647-0.1*TAN(RADIANS($F$10))","v":-16.502338154078171},{"$f":"AI647+0.1","v":{"$error":"#VALUE!"}},{"$f":"AJ647-0.1*TAN(RADIANS($F$11))","v":{"$error":"#VALUE!"}},{"$f":"AK647+0.1","v":{"$error":"#VALUE!"}},{"$f":"AL647-0.1*TAN(RADIANS($F$12))","v":{"$error":"#VALUE!"}},{"$f":"AM647+0.1","v":{"$error":"#VALUE!"}},{"$f":"AN647-0.1*TAN(RADIANS($F$13))","v":{"$error":"#VALUE!"}},{"$f":"AO647+0.1","v":{"$error":"#VALUE!"}},{"$f":"AP647-0.1*TAN(RADIANS($F$14))","v":{"$error":"#VALUE!"}},{"$f":"AQ647+0.1","v":{"$error":"#VALUE!"}},{"$f":"AR647-0.1*TAN(RADIANS($F$15))","v":{"$error":"#VALUE!"}},{"$f":"AS647+0.1","v":{"$error":"#VALUE!"}},{"$f":"AT647-0.1*TAN(RADIANS($F$16))","v":{"$error":"#VALUE!"}}]
[null,null,null,null,null,null,null,null,null,null,null,null,null,null,{"$f":"IF(Analyze!G649=\"\",\"\",Analyze!G649)","v":""},{"$f":"IF(Analyze!S649=\"\",\"\",Analyze!S649)","v":{"$error":"#VALUE!"}},null,null,null,null,null,null,null,"","","",64.300000000000622,-32.523344706884139,64.300000000000622,-8.5291330733212405,64.300000000000622,-12.529133073321239,64.300000000000622,-16.529133073321283,{"$error":"#VALUE!"},{"$error":"#VALUE!"},{"$error":"#VALUE!"},{"$error":"#VALUE!"},{"$error":"#VALUE!"},{"$error":"#VALUE!"},{"$error":"#VALUE!"},{"$error":"#VALUE!"},{"$error":"#VALUE!"},{"$error":"#VALUE!"},{"$error":"#VALUE!"},{"$error":"#VALUE!"}]
[null,null,null,null,null,null,null,null,null,null,null,null,null,null,{"$f":"IF(Analyze!G650=\"\",\"\",Analyze!G650)","v":""},{"$f":"IF(Analyze!S650=\"\",\"\",Analyze!S650)","v":{"$error":"#VALUE!"}},null,null,null,null,null,null,null,"","","",64.400000000000617,-32.593365460705108,64.400000000000617,-8.555927992564353,64.400000000000617,-12.555927992564351,64.400000000000617,-16.555927992564396,{"$error":"#VALUE!"},{"$error":"#VALUE!"},{"$error":"#VALUE!"},{"$error":"#VALUE!"},{"$error":"#VALUE!"},{"$error":"#VALUE!"},{"$error":"#VALUE!"},{"$error":"#VALUE!"},{"$error":"#VALUE!"},{"$error":"#VALUE!"},{"$error":"#VALUE!"},{"$error":"#VALUE!"}]
[null,null,null,null,null,null,null,null,null,null,null,null,null,null,{"$f":"IF(Analyze!G651=\"\",\"\",Analyze!G651)","v":""},{"$f":"IF(Analyze!S651=\"\",\"\",Analyze!S651)","v":{"$error":"#VALUE!"}},null,null,null,null,null,null,null,"","","",64.500000000000611,-32.663386214526078,64.500000000000611,-8.5827229118074655,64.500000000000611,-12.582722911807464,64.500000000000611,-16.582722911807508,{"$error":"#VALUE!"},{"$error":"#VALUE!"},{"$error":"#VALUE!"},{"$error":"#VALUE!"},{"$error":"#VALUE!"},{"$error":"#VALUE!"},{"$error":"#VALUE!"},{"$error":"#VALUE!"},{"$error":"#VALUE!"},{"$error":"#VALUE!"},{"$error":"#VALUE!"},{"$error":"#VALUE!"}]
[null,null,null,null,null,null,null,null,null,null,null,null,null,null,{"$f":"IF(Analyze!G652=\"\",\"\",Analyze!G652)","v":""},{"$f":"IF(Analyze!S652=\"\",\"\",Analyze!S652)","v":{"$error":"#VALUE!"}},null,null,null,null,null,null,null,"","","",64.600000000000605,-32.733406968347047,64.600000000000605,-8.609517831050578,64.600000000000605,-12.609517831050576,64.600000000000605,-16.609517831050621,{"$error":"#VALUE!"},{"$error":"#VALUE!"},{"$error":"#VALUE!"},{"$error":"#VALUE!"},{"$error":"#VALUE!"},{"$error":"#VALUE!"},{"$error":"#VALUE!"},{"$error":"#VALUE!"},{"$error":"#VALUE!"},{"$error":"#VALUE!"},{"$error":"#VALUE!"},{"$error":"#VALUE!"}]
[null,null,null,null,null,null,null,null,null,null,null,null,null,null,{"$f":"IF(Analyze!G653=\"\",\"\",Analyze!G653)","v":""},{"$f":"IF(Analyze!S653=\"\",\"\",Analyze!S653)","v":{"$error":"#VALUE!"}},null,null,null,null,null,null,null,"","","",64.7000000000006,-32.803427722168017,64.7000000000006,-8.6363127502936905,64.7000000000006,-12.636312750293689,64.7000000000006,-16.636312750293733,{"$error":"#VALUE!"},{"$error":"#VALUE!"},{"$error":"#VALUE!"},{"$error":"#VALUE!"},{"$error":"#VALUE!"},{"$error":"#VALUE!"},{"$error":"#VALUE!"},{"$error":"#VALUE!"},{"$error":"#VALUE!"},{"$error":"#VALUE!"},{"$error":"#VALUE!"},{"$error":"#VALUE!"}]
[null,null,null,null,null,null,null,null,null,null,null,null,null,null,{"$f":"IF(Analyze!G654=\"\",\"\",Analyze!G654)","v":""},{"$f":"IF(Analyze!S654=\"\",\"\",Analyze!S654)","v":{"$error":"#VALUE!"}},null,null,null,null,null,null,null,"","","",64.800000000000594,-32.873448475988987,64.800000000000594,-8.663107669536803,64.800000000000594,-12.663107669536801,64.800000000000594,-16.663107669536846,{"$error":"#VALUE!"},{"$error":"#VALUE!"},{"$error":"#VALUE!"},{"$error":"#VALUE!"},{"$error":"#VALUE!"},{"$error":"#VALUE!"},{"$error":"#VALUE!"},{"$error":"#VALUE!"},{"$error":"#VALUE!"},{"$error":"#VALUE!"},{"$error":"#VALUE!"},{"$error":"#VALUE!"}]
[null,null,null,null,null,null,null,null,null,null,null,null,null,null,{"$f":"IF(Analyze!G655=\"\",\"\",Analyze!G655)","v":""},{"$f":"IF(Analyze!S655=\"\",\"\",Analyze!S655)","v":{"$error":"#VALUE!"}},null,null,null,null,null,null,null,"","","",64.900000000000588,-32.943469229809956,64.900000000000588,-8.6899025887799155,64.900000000000588,-12.689902588779914,64.900000000000588,-16.689902588779958,{"$error":"#VALUE!"},{"$error":"#VALUE!"},{"$error":"#VALUE!"},{"$error":"#VALUE!"},{"$error":"#VALUE!"},{"$error":"#VALUE!"},{"$error":"#VALUE!"},{"$error":"#VALUE!"},{"$error":"#VALUE!"},{"$error":"#VALUE!"},{"$error":"#VALUE!"},{"$error":"#VALUE!"}]
[null,null,null,null,null,null,null,null,null,null,null,null,null,null,{"$f":"IF(Analyze!G656=\"\",\"\",Analyze!G656)","v":""},{"$f":"IF(Analyze!S656=\"\",\"\",Analyze!S656)","v":{"$error":"#VALUE!"}},null,null,null,null,null,null,null,"","","",65.000000000000583,-33.013489983630926,65.000000000000583,-8.716697508023028,65.000000000000583,-12.716697508023026,65.000000000000583,-16.716697508023071,{"$error":"#VALUE!"},{"$error":"#VALUE!"},{"$error":"#VALUE!"},{"$error":"#VALUE!"},{"$error":"#VALUE!"},{"$error":"#VALUE!"},{"$error":"#VALUE!"},{"$error":"#VALUE!"},{"$error":"#VALUE!"},{"$error":"#VALUE!"},{"$error":"#VALUE!"},{"$error":"#VALUE!"}]
[null,null,null,null,null,null,null,null,null,null,null,null,null,null,{"$f":"IF(Analyze!G657=\"\",\"\",Analyze!G657)","v":""},{"$f":"IF(Analyze!S657=\"\",\"\",Analyze!S657)","v":{"$error":"#VALUE!"}},null,null,null,null,null,null,null,"","","",65.100000000000577,-33.083510737451896,65.100000000000577,-8.7434924272661405,65.100000000000577,-12.743492427266139,65.100000000000577,-16.743492427266183,{"$error":"#VALUE!"},{"$error":"#VALUE!"},{"$error":"#VALUE!"},{"$error":"#VALUE!"},{"$error":"#VALUE!"},{"$error":"#VALUE!"},{"$error":"#VALUE!"},{"$error":"#VALUE!"},{"$error":"#VALUE!"},{"$error":"#VALUE!"},{"$error":"#VALUE!"},{"$error":"#VALUE!"}]
[null,null,null,null,null,null,null,null,null,null,null,null,null,null,{"$f":"IF(Analyze!G658=\"\",\"\",Analyze!G658)","v":""},{"$f":"IF(Analyze!S658=\"\",\"\",Analyze!S658)","v":{"$error":"#VALUE!"}},null,null,null,null,null,null,null,"","","",65.200000000000571,-33.153531491272865,65.200000000000571,-8.770287346509253,65.200000000000571,-12.770287346509251,65.200000000000571,-16.770287346509296,{"$error":"#VALUE!"},{"$error":"#VALUE!"},{"$error":"#VALUE!"},{"$error":"#VALUE!"},{"$error":"#VALUE!"},{"$error":"#VALUE!"},{"$error":"#VALUE!"},{"$error":"#VALUE!"},{"$error":"#VALUE!"},{"$error":"#VALUE!"},{"$error":"#VALUE!"},{"$error":"#VALUE!"}]
[null,null,null,null,null,null,null,null,null,null,null,null,null,null,{"$f":"IF(Analyze!G659=\"\",\"\",Analyze!G659)","v":""},{"$f":"IF(Analyze!S659=\"\",\"\",Analyze!S659)","v":{"$error":"#VALUE!"}},null,null,null,null,null,null,null,"","","",65.300000000000566,-33.223552245093835,65.300000000000566,-8.7970822657523655,65.300000000000566,-12.797082265752364,65.300000000000566,-16.797082265752408,{"$error":"#VALUE!"},{"$error":"#VALUE!"},{"$error":"#VALUE!"},{"$error":"#VALUE!"},{"$error":"#VALUE!"},{"$error":"#VALUE!"},{"$error":"#VALUE!"},{"$error":"#VALUE!"},{"$error":"#VALUE!"},{"$error":"#VALUE!"},{"$error":"#VALUE!"},{"$error":"#VALUE!"}]
[null,null,null,null,null,null,null,null,null,null,null,null,null,null,{"$f":"IF(Analyze!G660=\"\",\"\",Analyze!G660)","v":""},{"$f":"IF(Analyze!S660=\"\",\"\",Analyze!S660)","v":{"$error":"#VALUE!"}},null,null,null,null,null,null,null,"","","",65.40000000000056,-33.293572998914804,65.40000000000056,-8.823877184995478,65.40000000000056,-12.823877184995476,65.40000000000056,-16.823877184995521,{"$error":"#VALUE!"},{"$error":"#VALUE!"},{"$error":"#VALUE!"},{"$error":"#VALUE!"},{"$error":"#VALUE!"},{"$error":"#VALUE!"},{"$error":"#VALUE!"},{"$error":"#VALUE!"},{"$error":"#VALUE!"},{"$error":"#VALUE!"},{"$error":"#VALUE!"},{"$error":"#VALUE!"}]
[null,null,null,null,null,null,null,null,null,null,null,null,null,null,{"$f":"IF(Analyze!G661=\"\",\"\",Analyze!G661)","v":""},{"$f":"IF(Analyze!S661=\"\",\"\",Analyze!S661)","v":{"$error":"#VALUE!"}},null,null,null,null,null,null,null,"","","",65.500000000000554,-33.363593752735774,65.500000000000554,-8.8506721042385905,65.500000000000554,-12.850672104238589,65.500000000000554,-16.850672104238633,{"$error":"#VALUE!"},{"$error":"#VALUE!"},{"$error":"#VALUE!"},{"$error":"#VALUE!"},{"$error":"#VALUE!"},{"$error":"#VALUE!"},{"$error":"#VALUE!"},{"$error":"#VALUE!"},{"$error":"#VALUE!"},{"$error":"#VALUE!"},{"$error":"#VALUE!"},{"$error":"#VALUE!"}]
[null,null,null,null,null,null,null,null,null,null,null,null,null,null,{"$f":"IF(Analyze!G662=\"\",\"\",Analyze!G662)","v":""},{"$f":"IF(Analyze!S662=\"\",\"\",Analyze!S662)","v":{"$error":"#VALUE!"}},null,null,null,null,null,null,null,"","","",65.600000000000549,-33.433614506556744,65.600000000000549,-8.877467023481703,65.600000000000549,-12.877467023481701,65.600000000000549,-16.877467023481746,{"$error":"#VALUE!"},{"$error":"#VALUE!"},{"$error":"#VALUE!"},{"$error":"#VALUE!"},{"$error":"#VALUE!"},{"$error":"#VALUE!"},{"$error":"#VALUE!"},{"$error":"#VALUE!"},{"$error":"#VALUE!"},{"$error":"#VALUE!"},{"$error":"#VALUE!"},{"$error":"#VALUE!"}]
[null,null,null,null,null,null,null,null,null,null,null,null,null,null,{"$f":"IF(Analyze!G663=\"\",\"\",Analyze!G663)","v":""},{"$f":"IF(Analyze!S663=\"\",\"\",Analyze!S663)","v":{"$error":"#VALUE!"}},null,null,null,null,null,null,null,"","","",65.700000000000543,-33.503635260377713,65.700000000000543,-8.9042619427248155,65.700000000000543,-12.904261942724814,65.700000000000543,-16.904261942724858,{"$error":"#VALUE!"},{"$error":"#VALUE!"},{"$error":"#VALUE!"},{"$error":"#VALUE!"},{"$error":"#VALUE!"},{"$error":"#VALUE!"},{"$error":"#VALUE!"},{"$error":"#VALUE!"},{"$error":"#VALUE!"},{"$error":"#VALUE!"},{"$error":"#VALUE!"},{"$error":"#VALUE!"}]
[null,null,null,null,null,null,null,null,null,null,null,null,null,null,{"$f":"IF(Analyze!G664=\"\",\"\",Analyze!G664)","v":""},{"$f":"IF(Analyze!S664=\"\",\"\",Analyze!S664)","v":{"$error":"#VALUE!"}},null,null,null,null,null,null,null,"","","",65.800000000000537,-33.573656014198683,65.800000000000537,-8.931056861967928,65.800000000000537,-12.931056861967926,65.800000000000537,-16.931056861967971,{"$error":"#VALUE!"},{"$error":"#VALUE!"},{"$error":"#VALUE!"},{"$error":"#VALUE!"},{"$error":"#VALUE!"},{"$error":"#VALUE!"},{"$error":"#VALUE!"},{"$error":"#VALUE!"},{"$error":"#VALUE!"},{"$error":"#VALUE!"},{"$error":"#VALUE!"},{"$error":"#VALUE!"}]
[null,null,null,null,null,null,null,null,null,null,null,null,null,null,{"$f":"IF(Analyze!G665=\"\",\"\",Analyze!G665)","v":""},{"$f":"IF(Analyze!S665=\"\",\"\",Analyze!S665)","v":{"$error":"#VALUE!"}},null,null,null,null,null,null,null,"","","",65.900000000000531,-33.643676768019652,65.900000000000531,-8.9578517812110405,65.900000000000531,-12.957851781211039,65.900000000000531,-16.957851781211083,{"$error":"#VALUE!"},{"$error":"#VALUE!"},{"$error":"#VALUE!"},{"$error":"#VALUE!"},{"$error":"#VALUE!"},{"$error":"#VALUE!"},{"$error":"#VALUE!"},{"$error":"#VALUE!"},{"$error":"#VALUE!"},{"$error":"#VALUE!"},{"$error":"#VALUE!"},{"$error":"#VALUE!"}]
[null,null,null,null,null,null,null,null,null,null,null,null,null,null,{"$f":"IF(Analyze!G666=\"\",\"\",Analyze!G666)","v":""},{"$f":"IF(Analyze!S666=\"\",\"\",Analyze!S666)","v":{"$error":"#VALUE!"}},null,null,null,null,null,null,null,"","","",66.000000000000526,-33.713697521840622,66.000000000000526,-8.984646700454153,66.000000000000526,-12.984646700454151,66.000000000000526,-16.984646700454196,{"$error":"#VALUE!"},{"$error":"#VALUE!"},{"$error":"#VALUE!"},{"$error":"#VALUE!"},{"$error":"#VALUE!"},{"$error":"#VALUE!"},{"$error":"#VALUE!"},{"$error":"#VALUE!"},{"$error":"#VALUE!"},{"$error":"#VALUE!"},{"$error":"#VALUE!"},{"$error":"#VALUE!"}]
[null,null,null,null,null,null,null,null,null,null,null,null,null,null,{"$f":"IF(Analyze!G667=\"\",\"\",Analyze!G667)","v":""},{"$f":"IF(Analyze!S667=\"\",\"\",Analyze!S667)","v":{"$error":"#VALUE!"}},null,null,null,null,null,null,null,"","","",66.10000000000052,-33.783718275661592,66.10000000000052,-9.0114416196972655,66.10000000000052,-13.011441619697264,66.10000000000052,-17.011441619697308,{"$error":"#VALUE!"},{"$error":"#VALUE!"},{"$error":"#VALUE!"},{"$error":"#VALUE!"},{"$error":"#VALUE!"},{"$error":"#VALUE!"},{"$error":"#VALUE!"},{"$error":"#VALUE!"},{"$error":"#VALUE!"},{"$error":"#VALUE!"},{"$error":"#VALUE!"},{"$error":"#VALUE!"}]
[null,null,null,null,null,null,null,null,null,null,null,null,null,null,{"$f":"IF(Analyze!G668=\"\",\"\",Analyze!G668)","v":""},{"$f":"IF(Analyze!S668=\"\",\"\",Analyze!S668)","v":{"$error":"#VALUE!"}},null,null,null,null,null,null,null,"","","",66.200000000000514,-33.853739029482561,66.200000000000514,-9.038236538940378,66.200000000000514,-13.038236538940376,66.200000000000514,-17.038236538940421,{"$error":"#VALUE!"},{"$error":"#VALUE!"},{"$error":"#VALUE!"},{"$error":"#VALUE!"},{"$error":"#VALUE!"},{"$error":"#VALUE!"},{"$error":"#VALUE!"},{"$error":"#VALUE!"},{"$error":"#VALUE!"},{"$error":"#VALUE!"},{"$error":"#VALUE!"},{"$error":"#VALUE!"}]
[null,null,null,null,null,null,null,null,null,null,null,null,null,null,{"$f":"IF(Analyze!G669=\"\",\"\",Analyze!G669)","v":""},{"$f":"IF(Analyze!S669=\"\",\"\",Analyze!S669)","v":{"$error":"#VALUE!"}},null,null,null,null,null,null,null,"","","",66.300000000000509,-33.923759783303531,66.300000000000509,-9.0650314581834905,66.300000000000509,-13.065031458183489,66.300000000000509,-17.065031458183533,{"$error":"#VALUE!"},{"$error":"#VALUE!"},{"$error":"#VALUE!"},{"$error":"#VALUE!"},{"$error":"#VALUE!"},{"$error":"#VALUE!"},{"$error":"#VALUE!"},{"$error":"#VALUE!"},{"$error":"#VALUE!"},{"$error":"#VALUE!"},{"$error":"#VALUE!"},{"$error":"#VALUE!"}]
[null,null,null,null,null,null,null,null,null,null,null,null,null,null,{"$f":"IF(Analyze!G670=\"\",\"\",Analyze!G670)","v":""},{"$f":"IF(Analyze!S670=\"\",\"\",Analyze!S670)","v":{"$error":"#VALUE!"}},null,null,null,null,null,null,null,"","","",66.400000000000503,-33.993780537124501,66.400000000000503,-9.091826377426603,66.400000000000503,-13.091826377426601,66.400000000000503,-17.091826377426646,{"$error":"#VALUE!"},{"$error":"#VALUE!"},{"$error":"#VALUE!"},{"$error":"#VALUE!"},{"$error":"#VALUE!"},{"$error":"#VALUE!"},{"$error":"#VALUE!"},{"$error":"#VALUE!"},{"$error":"#VALUE!"},{"$error":"#VALUE!"},{"$error":"#VALUE!"},{"$error":"#VALUE!"}]
[null,null,null,null,null,null,null,null,null,null,null,null,null,null,{"$f":"IF(Analyze!G671=\"\",\"\",Analyze!G671)","v":""},{"$f":"IF(Analyze!S671=\"\",\"\",Analyze!S671)","v":{"$error":"#VALUE!"}},null,null,null,null,null,null,null,"","","",66.500000000000497,-34.06380129094547,66.500000000000497,-9.1186212966697155,66.500000000000497,-13.118621296669714,66.500000000000497,-17.118621296669758,{"$error":"#VALUE!"},{"$error":"#VALUE!"},{"$error":"#VALUE!"},{"$error":"#VALUE!"},{"$error":"#VALUE!"},{"$error":"#VALUE!"},{"$error":"#VALUE!"},{"$error":"#VALUE!"},{"$error":"#VALUE!"},{"$error":"#VALUE!"},{"$error":"#VALUE!"},{"$error":"#VALUE!"}]
[null,null,null,null,null,null,null,null,null,null,null,null,null,null,{"$f":"IF(Analyze!G672=\"\",\"\",Analyze!G672)","v":""},{"$f":"IF(Analyze!S672=\"\",\"\",Analyze!S672)","v":{"$error":"#VALUE!"}},null,null,null,null,null,null,null,"","","",66.600000000000492,-34.13382204476644,66.600000000000492,-9.1454162159128281,66.600000000000492,-13.145416215912826,66.600000000000492,-17.145416215912871,{"$error":"#VALUE!"},{"$error":"#VALUE!"},{"$error":"#VALUE!"},{"$error":"#VALUE!"},{"$error":"#VALUE!"},{"$error":"#VALUE!"},{"$error":"#VALUE!"},{"$error":"#VALUE!"},{"$error":"#VALUE!"},{"$error":"#VALUE!"},{"$error":"#VALUE!"},{"$error":"#VALUE!"}]
[null,null,null,null,null,null,null,null,null,null,null,null,null,null,{"$f":"IF(Analyze!G673=\"\",\"\",Analyze!G673)","v":""},{"$f":"IF(Analyze!S673=\"\",\"\",Analyze!S673)","v":{"$error":"#VALUE!"}},null,null,null,null,null,null,null,"","","",66.700000000000486,-34.203842798587409,66.700000000000486,-9.1722111351559406,66.700000000000486,-13.172211135155939,66.700000000000486,-17.172211135155983,{"$error":"#VALUE!"},{"$error":"#VALUE!"},{"$error":"#VALUE!"},{"$error":"#VALUE!"},{"$error":"#VALUE!"},{"$error":"#VALUE!"},{"$error":"#VALUE!"},{"$error":"#VALUE!"},{"$error":"#VALUE!"},{"$error":"#VALUE!"},{"$error":"#VALUE!"},{"$error":"#VALUE!"}]
[null,null,null,null,null,null,null,null,null,null,null,null,null,null,{"$f":"IF(Analyze!G674=\"\",\"\",Analyze!G674)","v":""},{"$f":"IF(Analyze!S674=\"\",\"\",Analyze!S674)","v":{"$error":"#VALUE!"}},null,null,null,null,null,null,null,"","","",66.80000000000048,-34.273863552408379,66.80000000000048,-9.1990060543990531,66.80000000000048,-13.199006054399051,66.80000000000048,-17.199006054399096,{"$error":"#VALUE!"},{"$error":"#VALUE!"},{"$error":"#VALUE!"},{"$error":"#VALUE!"},{"$error":"#VALUE!"},{"$error":"#VALUE!"},{"$error":"#VALUE!"},{"$error":"#VALUE!"},{"$error":"#VALUE!"},{"$error":"#VALUE!"},{"$error":"#VALUE!"},{"$error":"#VALUE!"}]
[null,null,null,null,null,null,null,null,null,null,null,null,null,null,{"$f":"IF(Analyze!G675=\"\",\"\",Analyze!G675)","v":""},{"$f":"IF(Analyze!S675=\"\",\"\",Analyze!S675)","v":{"$error":"#VALUE!"}},null,null,null,null,null,null,null,"","","",66.900000000000475,-34.343884306229349,66.900000000000475,-9.2258009736421656,66.900000000000475,-13.225800973642164,66.900000000000475,-17.225800973642208,{"$error":"#VALUE!"},{"$error":"#VALUE!"},{"$error":"#VALUE!"},{"$error":"#VALUE!"},{"$error":"#VALUE!"},{"$error":"#VALUE!"},{"$error":"#VALUE!"},{"$error":"#VALUE!"},{"$error":"#VALUE!"},{"$error":"#VALUE!"},{"$error":"#VALUE!"},{"$error":"#VALUE!"}]
[null,null,null,null,null,null,null,null,null,null,null,null,null,null,{"$f":"IF(Analyze!G676=\"\",\"\",Analyze!G676)","v":""},{"$f":"IF(Analyze!S676=\"\",\"\",Analyze!S676)","v":{"$error":"#VALUE!"}},null,null,null,null,null,null,null,"","","",67.000000000000469,-34.413905060050318,67.000000000000469,-9.2525958928852781,67.000000000000469,-13.252595892885276,67.000000000000469,-17.252595892885321,{"$error":"#VALUE!"},{"$error":"#VALUE!"},{"$error":"#VALUE!"},{"$error":"#VALUE!"},{"$error":"#VALUE!"},{"$error":"#VALUE!"},{"$error":"#VALUE!"},{"$error":"#VALUE!"},{"$error":"#VALUE!"},{"$error":"#VALUE!"},{"$error":"#VALUE!"},{"$error":"#VALUE!"}]
[null,null,null,null,null,null,null,null,null,null,null,null,null,null,{"$f":"IF(Analyze!G677=\"\",\"\",Analyze!G677)","v":""},{"$f":"IF(Analyze!S677=\"\",\"\",Analyze!S677)","v":{"$error":"#VALUE!"}},null,null,null,null,null,null,null,"","","",67.100000000000463,-34.483925813871288,67.100000000000463,-9.2793908121283906,67.100000000000463,-13.279390812128389,67.100000000000463,-17.279390812128433,{"$error":"#VALUE!"},{"$error":"#VALUE!"},{"$error":"#VALUE!"},{"$error":"#VALUE!"},{"$error":"#VALUE!"},{"$error":"#VALUE!"},{"$error":"#VALUE!"},{"$error":"#VALUE!"},{"$error":"#VALUE!"},{"$error":"#VALUE!"},{"$error":"#VALUE!"},{"$error":"#VALUE!"}]
[null,null,null,null,null,null,null,null,null,null,null,null,null,null,{"$f":"IF(Analyze!G678=\"\",\"\",Analyze!G678)","v":""},{"$f":"IF(Analyze!S678=\"\",\"\",Analyze!S678)","v":{"$error":"#VALUE!"}},null,null,null,null,null,null,null,"","","",67.200000000000458,-34.553946567692257,67.200000000000458,-9.3061857313715031,67.200000000000458,-13.306185731371501,67.200000000000458,-17.306185731371546,{"$error":"#VALUE!"},{"$error":"#VALUE!"},{"$error":"#VALUE!"},{"$error":"#VALUE!"},{"$error":"#VALUE!"},{"$error":"#VALUE!"},{"$error":"#VALUE!"},{"$error":"#VALUE!"},{"$error":"#VALUE!"},{"$error":"#VALUE!"},{"$error":"#VALUE!"},{"$error":"#VALUE!"}]
[null,null,null,null,null,null,null,null,null,null,null,null,null,null,{"$f":"IF(Analyze!G679=\"\",\"\",Analyze!G679)","v":""},{"$f":"IF(Analyze!S679=\"\",\"\",Analyze!S679)","v":{"$error":"#VALUE!"}},null,null,null,null,null,null,null,"","","",67.300000000000452,-34.623967321513227,67.300000000000452,-9.3329806506146156,67.300000000000452,-13.332980650614614,67.300000000000452,-17.332980650614658,{"$error":"#VALUE!"},{"$error":"#VALUE!"},{"$error":"#VALUE!"},{"$error":"#VALUE!"},{"$error":"#VALUE!"},{"$error":"#VALUE!"},{"$error":"#VALUE!"},{"$error":"#VALUE!"},{"$error":"#VALUE!"},{"$error":"#VALUE!"},{"$error":"#VALUE!"},{"$error":"#VALUE!"}]
[null,null,null,null,null,null,null,null,null,null,null,null,null,null,{"$f":"IF(Analyze!G680=\"\",\"\",Analyze!G680)","v":""},{"$f":"IF(Analyze!S680=\"\",\"\",Analyze!S680)","v":{"$error":"#VALUE!"}},null,null,null,null,null,null,null,"","","",67.400000000000446,-34.693988075334197,67.400000000000446,-9.3597755698577281,67.400000000000446,-13.359775569857726,67.400000000000446,-17.359775569857771,{"$error":"#VALUE!"},{"$error":"#VALUE!"},{"$error":"#VALUE!"},{"$error":"#VALUE!"},{"$error":"#VALUE!"},{"$error":"#VALUE!"},{"$error":"#VALUE!"},{"$error":"#VALUE!"},{"$error":"#VALUE!"},{"$error":"#VALUE!"},{"$error":"#VALUE!"},{"$error":"#VALUE!"}]
[null,null,null,null,null,null,null,null,null,null,null,null,null,null,{"$f":"IF(Analyze!G681=\"\",\"\",Analyze!G681)","v":""},{"$f":"IF(Analyze!S681=\"\",\"\",Analyze!S681)","v":{"$error":"#VALUE!"}},null,null,null,null,null,null,null,"","","",67.500000000000441,-34.764008829155166,67.500000000000441,-9.3865704891008406,67.500000000000441,-13.386570489100839,67.500000000000441,-17.386570489100883,{"$error":"#VALUE!"},{"$error":"#VALUE!"},{"$error":"#VALUE!"},{"$error":"#VALUE!"},{"$error":"#VALUE!"},{"$error":"#VALUE!"},{"$error":"#VALUE!"},{"$error":"#VALUE!"},{"$error":"#VALUE!"},{"$error":"#VALUE!"},{"$error":"#VALUE!"},{"$error":"#VALUE!"}]
[null,null,null,null,null,null,null,null,null,null,null,null,null,null,{"$f":"IF(Analyze!G682=\"\",\"\",Analyze!G682)","v":""},{"$f":"IF(Analyze!S682=\"\",\"\",Analyze!S682)","v":{"$error":"#VALUE!"}},null,null,null,null,null,null,null,"","","",67.600000000000435,-34.834029582976136,67.600000000000435,-9.4133654083439531,67.600000000000435,-13.413365408343951,67.600000000000435,-17.413365408343996,{"$error":"#VALUE!"},{"$error":"#VALUE!"},{"$error":"#VALUE!"},{"$error":"#VALUE!"},{"$error":"#VALUE!"},{"$error":"#VALUE!"},{"$error":"#VALUE!"},{"$error":"#VALUE!"},{"$error":"#VALUE!"},{"$error":"#VALUE!"},{"$error":"#VALUE!"},{"$error":"#VALUE!"}]
[null,null,null,null,null,null,null,null,null,null,null,null,null,null,{"$f":"IF(Analyze!G683=\"\",\"\",Analyze!G683)","v":""},{"$f":"IF(Analyze!S683=\"\",\"\",Analyze!S683)","v":{"$error":"#VALUE!"}},null,null,null,null,null,null,null,"","","",67.700000000000429,-34.904050336797106,67.700000000000429,-9.4401603275870656,67.700000000000429,-13.440160327587064,67.700000000000429,-17.440160327587108,{"$error":"#VALUE!"},{"$error":"#VALUE!"},{"$error":"#VALUE!"},{"$error":"#VALUE!"},{"$error":"#VALUE!"},{"$error":"#VALUE!"},{"$error":"#VALUE!"},{"$error":"#VALUE!"},{"$error":"#VALUE!"},{"$error":"#VALUE!"},{"$error":"#VALUE!"},{"$error":"#VALUE!"}]
[null,null,null,null,null,null,null,null,null,null,null,null,null,null,{"$f":"IF(Analyze!G684=\"\",\"\",Analyze!G684)","v":""},{"$f":"IF(Analyze!S684=\"\",\"\",Analyze!S684)","v":{"$error":"#VALUE!"}},null,null,null,null,null,null,null,"","","",67.800000000000423,-34.974071090618075,67.800000000000423,-9.4669552468301781,67.800000000000423,-13.466955246830176,67.800000000000423,-17.466955246830221,{"$error":"#VALUE!"},{"$error":"#VALUE!"},{"$error":"#VALUE!"},{"$error":"#VALUE!"},{"$error":"#VALUE!"},{"$error":"#VALUE!"},{"$error":"#VALUE!"},{"$error":"#VALUE!"},{"$error":"#VALUE!"},{"$error":"#VALUE!"},{"$error":"#VALUE!"},{"$error":"#VALUE!"}]
[null,null,null,null,null,null,null,null,null,null,null,null,null,null,{"$f":"IF(Analyze!G685=\"\",\"\",Analyze!G685)","v":""},{"$f":"IF(Analyze!S685=\"\",\"\",Analyze!S685)","v":{"$error":"#VALUE!"}},null,null,null,null,null,null,null,"","","",67.900000000000418,-35.044091844439045,67.900000000000418,-9.4937501660732906,67.900000000000418,-13.493750166073289,67.900000000000418,-17.493750166073333,{"$error":"#VALUE!"},{"$error":"#VALUE!"},{"$error":"#VALUE!"},{"$error":"#VALUE!"},{"$error":"#VALUE!"},{"$error":"#VALUE!"},{"$error":"#VALUE!"},{"$error":"#VALUE!"},{"$error":"#VALUE!"},{"$error":"#VALUE!"},{"$error":"#VALUE!"},{"$error":"#VALUE!"}]
[null,null,null,null,null,null,null,null,null,null,null,null,null,null,{"$f":"IF(Analyze!G686=\"\",\"\",Analyze!G686)","v":""},{"$f":"IF(Analyze!S686=\"\",\"\",Analyze!S686)","v":{"$error":"#VALUE!"}},null,null,null,null,null,null,null,"","","",68.000000000000412,-35.114112598260014,68.000000000000412,-9.5205450853164031,68.000000000000412,-13.520545085316401,68.000000000000412,-17.520545085316446,{"$error":"#VALUE!"},{"$error":"#VALUE!"},{"$error":"#VALUE!"},{"$error":"#VALUE!"},{"$error":"#VALUE!"},{"$error":"#VALUE!"},{"$error":"#VALUE!"},{"$error":"#VALUE!"},{"$error":"#VALUE!"},{"$error":"#VALUE!"},{"$error":"#VALUE!"},{"$error":"#VALUE!"}]
[null,null,null,null,null,null,null,null,null,null,null,null,null,null,{"$f":"IF(Analyze!G687=\"\",\"\",Analyze!G687)","v":""},{"$f":"IF(Analyze!S687=\"\",\"\",Analyze!S687)","v":{"$error":"#VALUE!"}},null,null,null,null,null,null,null,"","","",68.100000000000406,-35.184133352080984,68.100000000000406,-9.5473400045595156,68.100000000000406,-13.547340004559514,68.100000000000406,-17.547340004559558,{"$error":"#VALUE!"},{"$error":"#VALUE!"},{"$error":"#VALUE!"},{"$error":"#VALUE!"},{"$error":"#VALUE!"},{"$error":"#VALUE!"},{"$error":"#VALUE!"},{"$error":"#VALUE!"},{"$error":"#VALUE!"},{"$error":"#VALUE!"},{"$error":"#VALUE!"},{"$error":"#VALUE!"}]
[null,null,null,null,null,null,null,null,null,null,null,null,null,null,{"$f":"IF(Analyze!G688=\"\",\"\",Analyze!G688)","v":""},{"$f":"IF(Analyze!S688=\"\",\"\",Analyze!S688)","v":{"$error":"#VALUE!"}},null,null,null,null,null,null,null,"","","",68.200000000000401,-35.254154105901954,68.200000000000401,-9.5741349238026281,68.200000000000401,-13.574134923802626,68.200000000000401,-17.574134923802671,{"$error":"#VALUE!"},{"$error":"#VALUE!"},{"$error":"#VALUE!"},{"$error":"#VALUE!"},{"$error":"#VALUE!"},{"$error":"#VALUE!"},{"$error":"#VALUE!"},{"$error":"#VALUE!"},{"$error":"#VALUE!"},{"$error":"#VALUE!"},{"$error":"#VALUE!"},{"$error":"#VALUE!"}]
[null,null,null,null,null,null,null,null,null,null,null,null,null,null,{"$f":"IF(Analyze!G689=\"\",\"\",Analyze!G689)","v":""},{"$f":"IF(Analyze!S689=\"\",\"\",Analyze!S689)","v":{"$error":"#VALUE!"}},null,null,null,null,null,null,null,"","","",68.300000000000395,-35.324174859722923,68.300000000000395,-9.6009298430457406,68.300000000000395,-13.600929843045739,68.300000000000395,-17.600929843045783,{"$error":"#VALUE!"},{"$error":"#VALUE!"},{"$error":"#VALUE!"},{"$error":"#VALUE!"},{"$error":"#VALUE!"},{"$error":"#VALUE!"},{"$error":"#VALUE!"},{"$error":"#VALUE!"},{"$error":"#VALUE!"},{"$error":"#VALUE!"},{"$error":"#VALUE!"},{"$error":"#VALUE!"}]
[null,null,null,null,null,null,null,null,null,null,null,null,null,null,{"$f":"IF(Analyze!G690=\"\",\"\",Analyze!G690)","v":""},{"$f":"IF(Analyze!S690=\"\",\"\",Analyze!S690)","v":{"$error":"#VALUE!"}},null,null,null,null,null,null,null,"","","",68.400000000000389,-35.394195613543893,68.400000000000389,-9.6277247622888531,68.400000000000389,-13.627724762288851,68.400000000000389,-17.627724762288896,{"$error":"#VALUE!"},{"$error":"#VALUE!"},{"$error":"#VALUE!"},{"$error":"#VALUE!"},{"$error":"#VALUE!"},{"$error":"#VALUE!"},{"$error":"#VALUE!"},{"$error":"#VALUE!"},{"$error":"#VALUE!"},{"$error":"#VALUE!"},{"$error":"#VALUE!"},{"$error":"#VALUE!"}]
[null,null,null,null,null,null,null,null,null,null,null,null,null,null,{"$f":"IF(Analyze!G691=\"\",\"\",Analyze!G691)","v":""},{"$f":"IF(Analyze!S691=\"\",\"\",Analyze!S691)","v":{"$error":"#VALUE!"}},null,null,null,null,null,null,null,"",{"$f":"IF(W692=\"\",\"\",W691+$H$4*COS(ATAN((X692-X691)/(W692-W691))))","v":""},{"$f":"IF(W692=\"\",\"\",X691-$H$4*SIN(ATAN((X692-X691)/(W692-W691))))","v":""},68.500000000000384,-35.464216367364862,68.500000000000384,-9.6545196815319656,68.500000000000384,-13.654519681531964,68.500000000000384,-17.654519681532008,{"$error":"#VALUE!"},{"$error":"#VALUE!"},{"$error":"#VALUE!"},{"$error":"#VALUE!"},{"$error":"#VALUE!"},{"$error":"#VALUE!"},{"$error":"#VALUE!"},{"$error":"#VALUE!"},{"$error":"#VALUE!"},{"$error":"#VALUE!"},{"$error":"#VALUE!"},{"$error":"#VALUE!"}]
[null,null,null,null,null,null,null,null,null,null,null,null,null,null,{"$f":"IF(Analyze!G692=\"\",\"\",Analyze!G692)","v":""},{"$f":"IF(Analyze!S692=\"\",\"\",Analyze!S692)","v":{"$error":"#VALUE!"}},null,null,null,null,null,null,null,"","","",68.600000000000378,-35.534237121185832,68.600000000000378,-9.6813146007750781,68.600000000000378,-13.681314600775076,68.600000000000378,-17.681314600775121,{"$error":"#VALUE!"},{"$error":"#VALUE!"},{"$error":"#VALUE!"},{"$error":"#VALUE!"},{"$error":"#VALUE!"},{"$error":"#VALUE!"},{"$error":"#VALUE!"},{"$error":"#VALUE!"},{"$error":"#VALUE!"},{"$error":"#VALUE!"},{"$error":"#VALUE!"},{"$error":"#VALUE!"}]
[null,null,null,null,null,null,null,null,null,null,null,null,null,null,{"$f":"IF(Analyze!G693=\"\",\"\",Analyze!G693)","v":""},{"$f":"IF(Analyze!S693=\"\",\"\",Analyze!S693)","v":{"$error":"#VALUE!"}},null,null,null,null,null,null,null,"","","",68.700000000000372,-35.604257875006802,68.700000000000372,-9.7081095200181906,68.700000000000372,-13.708109520018189,68.700000000000372,-17.708109520018233,{"$error":"#VALUE!"},{"$error":"#VALUE!"},{"$error":"#VALUE!"},{"$error":"#VALUE!"},{"$error":"#VALUE!"},{"$error":"#VALUE!"},{"$error":"#VALUE!"},{"$error":"#VALUE!"},{"$error":"#VALUE!"},{"$error":"#VALUE!"},{"$error":"#VALUE!"},{"$error":"#VALUE!"}]
[null,null,null,null,null,null,null,null,null,null,null,null,null,null,{"$f":"IF(Analyze!G694=\"\",\"\",Analyze!G694)","v":""},{"$f":"IF(Analyze!S694=\"\",\"\",Analyze!S694)","v":{"$error":"#VALUE!"}},null,null,null,null,null,null,null,"","","",68.800000000000367,-35.674278628827771,68.800000000000367,-9.7349044392613031,68.800000000000367,-13.734904439261301,68.800000000000367,-17.734904439261346,{"$error":"#VALUE!"},{"$error":"#VALUE!"},{"$error":"#VALUE!"},{"$error":"#VALUE!"},{"$error":"#VALUE!"},{"$error":"#VALUE!"},{"$error":"#VALUE!"},{"$error":"#VALUE!"},{"$error":"#VALUE!"},{"$error":"#VALUE!"},{"$error":"#VALUE!"},{"$error":"#VALUE!"}]
[null,null,null,null,null,null,null,null,null,null,null,null,null,null,{"$f":"IF(Analyze!G695=\"\",\"\",Analyze!G695)","v":""},{"$f":"IF(Analyze!S695=\"\",\"\",Analyze!S695)","v":{"$error":"#VALUE!"}},null,null,null,null,null,null,null,"","","",68.900000000000361,-35.744299382648741,68.900000000000361,-9.7616993585044156,68.900000000000361,-13.761699358504414,68.900000000000361,-17.761699358504458,{"$error":"#VALUE!"},{"$error":"#VALUE!"},{"$error":"#VALUE!"},{"$error":"#VALUE!"},{"$error":"#VALUE!"},{"$error":"#VALUE!"},{"$error":"#VALUE!"},{"$error":"#VALUE!"},{"$error":"#VALUE!"},{"$error":"#VALUE!"},{"$error":"#VALUE!"},{"$error":"#VALUE!"}]
[null,null,null,null,null,null,null,null,null,null,null,null,null,null,{"$f":"IF(Analyze!G696=\"\",\"\",Analyze!G696)","v":""},{"$f":"IF(Analyze!S696=\"\",\"\",Analyze!S696)","v":{"$error":"#VALUE!"}},null,null,null,null,null,null,null,"","","",69.000000000000355,-35.814320136469711,69.000000000000355,-9.7884942777475281,69.000000000000355,-13.788494277747526,69.000000000000355,-17.788494277747571,{"$error":"#VALUE!"},{"$error":"#VALUE!"},{"$error":"#VALUE!"},{"$error":"#VALUE!"},{"$error":"#VALUE!"},{"$error":"#VALUE!"},{"$error":"#VALUE!"},{"$error":"#VALUE!"},{"$error":"#VALUE!"},{"$error":"#VALUE!"},{"$error":"#VALUE!"},{"$error":"#VALUE!"}]
[null,null,null,null,null,null,null,null,null,null,null,null,null,null,{"$f":"IF(Analyze!G697=\"\",\"\",Analyze!G697)","v":""},{"$f":"IF(Analyze!S697=\"\",\"\",Analyze!S697)","v":{"$error":"#VALUE!"}},null,null,null,null,null,null,null,"","","",69.10000000000035,-35.88434089029068,69.10000000000035,-9.8152891969906406,69.10000000000035,-13.815289196990639,69.10000000000035,-17.815289196990683,{"$error":"#VALUE!"},{"$error":"#VALUE!"},{"$error":"#VALUE!"},{"$error":"#VALUE!"},{"$error":"#VALUE!"},{"$error":"#VALUE!"},{"$error":"#VALUE!"},{"$error":"#VALUE!"},{"$error":"#VALUE!"},{"$error":"#VALUE!"},{"$error":"#VALUE!"},{"$error":"#VALUE!"}]
[null,null,null,null,null,null,null,null,null,null,null,null,null,null,{"$f":"IF(Analyze!G698=\"\",\"\",Analyze!G698)","v":""},{"$f":"IF(Analyze!S698=\"\",\"\",Analyze!S698)","v":{"$error":"#VALUE!"}},null,null,null,null,null,null,null,"","","",69.200000000000344,-35.95436164411165,69.200000000000344,-9.8420841162337531,69.200000000000344,-13.842084116233751,69.200000000000344,-17.842084116233796,{"$error":"#VALUE!"},{"$error":"#VALUE!"},{"$error":"#VALUE!"},{"$error":"#VALUE!"},{"$error":"#VALUE!"},{"$error":"#VALUE!"},{"$error":"#VALUE!"},{"$error":"#VALUE!"},{"$error":"#VALUE!"},{"$error":"#VALUE!"},{"$error":"#VALUE!"},{"$error":"#VALUE!"}]
[null,null,null,null,null,null,null,null,null,null,null,null,null,null,{"$f":"IF(Analyze!G699=\"\",\"\",Analyze!G699)","v":""},{"$f":"IF(Analyze!S699=\"\",\"\",Analyze!S699)","v":{"$error":"#VALUE!"}},null,null,null,null,null,null,null,"","","",69.300000000000338,-36.024382397932619,69.300000000000338,-9.8688790354768656,69.300000000000338,-13.868879035476864,69.300000000000338,-17.868879035476908,{"$error":"#VALUE!"},{"$error":"#VALUE!"},{"$error":"#VALUE!"},{"$error":"#VALUE!"},{"$error":"#VALUE!"},{"$error":"#VALUE!"},{"$error":"#VALUE!"},{"$error":"#VALUE!"},{"$error":"#VALUE!"},{"$error":"#VALUE!"},{"$error":"#VALUE!"},{"$error":"#VALUE!"}]
[null,null,null,null,null,null,null,null,null,null,null,null,null,null,{"$f":"IF(Analyze!G700=\"\",\"\",Analyze!G700)","v":""},{"$f":"IF(Analyze!S700=\"\",\"\",Analyze!S700)","v":{"$error":"#VALUE!"}},null,null,null,null,null,null,null,"","","",69.400000000000333,-36.094403151753589,69.400000000000333,-9.8956739547199781,69.400000000000333,-13.895673954719976,69.400000000000333,-17.895673954720021,{"$error":"#VALUE!"},{"$error":"#VALUE!"},{"$error":"#VALUE!"},{"$error":"#VALUE!"},{"$error":"#VALUE!"},{"$error":"#VALUE!"},{"$error":"#VALUE!"},{"$error":"#VALUE!"},{"$error":"#VALUE!"},{"$error":"#VALUE!"},{"$error":"#VALUE!"},{"$error":"#VALUE!"}]
[null,null,null,null,null,null,null,null,null,null,null,null,null,null,{"$f":"IF(Analyze!G701=\"\",\"\",Analyze!G701)","v":""},{"$f":"IF(Analyze!S701=\"\",\"\",Analyze!S701)","v":{"$error":"#VALUE!"}},null,null,null,null,null,null,null,"","","",69.500000000000327,-36.164423905574559,69.500000000000327,-9.9224688739630906,69.500000000000327,-13.922468873963089,69.500000000000327,-17.922468873963133,{"$error":"#VALUE!"},{"$error":"#VALUE!"},{"$error":"#VALUE!"},{"$error":"#VALUE!"},{"$error":"#VALUE!"},{"$error":"#VALUE!"},{"$error":"#VALUE!"},{"$error":"#VALUE!"},{"$error":"#VALUE!"},{"$error":"#VALUE!"},{"$error":"#VALUE!"},{"$error":"#VALUE!"}]
[null,null,null,null,null,null,null,null,null,null,null,null,null,null,{"$f":"IF(Analyze!G702=\"\",\"\",Analyze!G702)","v":""},{"$f":"IF(Analyze!S702=\"\",\"\",Analyze!S702)","v":{"$error":"#VALUE!"}},null,null,null,null,null,null,null,"","","",69.600000000000321,-36.234444659395528,69.600000000000321,-9.9492637932062031,69.600000000000321,-13.949263793206201,69.600000000000321,-17.949263793206246,{"$error":"#VALUE!"},{"$error":"#VALUE!"},{"$error":"#VALUE!"},{"$error":"#VALUE!"},{"$error":"#VALUE!"},{"$error":"#VALUE!"},{"$error":"#VALUE!"},{"$error":"#VALUE!"},{"$error":"#VALUE!"},{"$error":"#VALUE!"},{"$error":"#VALUE!"},{"$error":"#VALUE!"}]
[null,null,null,null,null,null,null,null,null,null,null,null,null,null,{"$f":"IF(Analyze!G703=\"\",\"\",Analyze!G703)","v":""},{"$f":"IF(Analyze!S703=\"\",\"\",Analyze!S703)","v":{"$error":"#VALUE!"}},null,null,null,null,null,null,null,"","","",69.700000000000315,-36.304465413216498,69.700000000000315,-9.9760587124493156,69.700000000000315,-13.976058712449314,69.700000000000315,-17.976058712449358,{"$error":"#VALUE!"},{"$error":"#VALUE!"},{"$error":"#VALUE!"},{"$error":"#VALUE!"},{"$error":"#VALUE!"},{"$error":"#VALUE!"},{"$error":"#VALUE!"},{"$error":"#VALUE!"},{"$error":"#VALUE!"},{"$error":"#VALUE!"},{"$error":"#VALUE!"},{"$error":"#VALUE!"}]
[null,null,null,null,null,null,null,null,null,null,null,null,null,null,{"$f":"IF(Analyze!G704=\"\",\"\",Analyze!G704)","v":""},{"$f":"IF(Analyze!S704=\"\",\"\",Analyze!S704)","v":{"$error":"#VALUE!"}},null,null,null,null,null,null,null,"","","",69.80000000000031,-36.374486167037468,69.80000000000031,-10.002853631692428,69.80000000000031,-14.002853631692426,69.80000000000031,-18.002853631692471,{"$error":"#VALUE!"},{"$error":"#VALUE!"},{"$error":"#VALUE!"},{"$error":"#VALUE!"},{"$error":"#VALUE!"},{"$error":"#VALUE!"},{"$error":"#VALUE!"},{"$error":"#VALUE!"},{"$error":"#VALUE!"},{"$error":"#VALUE!"},{"$error":"#VALUE!"},{"$error":"#VALUE!"}]
[null,null,null,null,null,null,null,null,null,null,null,null,null,null,{"$f":"IF(Analyze!G705=\"\",\"\",Analyze!G705)","v":""},{"$f":"IF(Analyze!S705=\"\",\"\",Analyze!S705)","v":{"$error":"#VALUE!"}},null,null,null,null,null,null,null,"","","",69.900000000000304,-36.444506920858437,69.900000000000304,-10.029648550935541,69.900000000000304,-14.029648550935539,69.900000000000304,-18.029648550935583,{"$error":"#VALUE!"},{"$error":"#VALUE!"},{"$error":"#VALUE!"},{"$error":"#VALUE!"},{"$error":"#VALUE!"},{"$error":"#VALUE!"},{"$error":"#VALUE!"},{"$error":"#VALUE!"},{"$error":"#VALUE!"},{"$error":"#VALUE!"},{"$error":"#VALUE!"},{"$error":"#VALUE!"}]
[null,null,null,null,null,null,null,null,null,null,null,null,null,null,{"$f":"IF(Analyze!G706=\"\",\"\",Analyze!G706)","v":""},{"$f":"IF(Analyze!S706=\"\",\"\",Analyze!S706)","v":{"$error":"#VALUE!"}},null,null,null,null,null,null,null,"","","",70.000000000000298,-36.514527674679407,70.000000000000298,-10.056443470178653,70.000000000000298,-14.056443470178651,70.000000000000298,-18.056443470178696,{"$error":"#VALUE!"},{"$error":"#VALUE!"},{"$error":"#VALUE!"},{"$error":"#VALUE!"},{"$error":"#VALUE!"},{"$error":"#VALUE!"},{"$error":"#VALUE!"},{"$error":"#VALUE!"},{"$error":"#VALUE!"},{"$error":"#VALUE!"},{"$error":"#VALUE!"},{"$error":"#VALUE!"}]
[null,null,null,null,null,null,null,null,null,null,null,null,null,null,{"$f":"IF(Analyze!G707=\"\",\"\",Analyze!G707)","v":""},{"$f":"IF(Analyze!S707=\"\",\"\",Analyze!S707)","v":{"$error":"#VALUE!"}},null,null,null,null,null,null,null,"","","",70.100000000000293,-36.584548428500376,70.100000000000293,-10.083238389421766,70.100000000000293,-14.083238389421764,70.100000000000293,-18.083238389421808,{"$error":"#VALUE!"},{"$error":"#VALUE!"},{"$error":"#VALUE!"},{"$error":"#VALUE!"},{"$error":"#VALUE!"},{"$error":"#VALUE!"},{"$error":"#VALUE!"},{"$error":"#VALUE!"},{"$error":"#VALUE!"},{"$error":"#VALUE!"},{"$error":"#VALUE!"},{"$error":"#VALUE!"}]
[null,null,null,null,null,null,null,null,null,null,null,null,null,null,{"$f":"IF(Analyze!G708=\"\",\"\",Analyze!G708)","v":""},{"$f":"IF(Analyze!S708=\"\",\"\",Analyze!S708)","v":{"$error":"#VALUE!"}},null,null,null,null,null,null,null,"","","",70.200000000000287,-36.654569182321346,70.200000000000287,-10.110033308664878,70.200000000000287,-14.110033308664876,70.200000000000287,-18.110033308664921,{"$error":"#VALUE!"},{"$error":"#VALUE!"},{"$error":"#VALUE!"},{"$error":"#VALUE!"},{"$error":"#VALUE!"},{"$error":"#VALUE!"},{"$error":"#VALUE!"},{"$error":"#VALUE!"},{"$error":"#VALUE!"},{"$error":"#VALUE!"},{"$error":"#VALUE!"},{"$error":"#VALUE!"}]
[null,null,null,null,null,null,null,null,null,null,null,null,null,null,{"$f":"IF(Analyze!G709=\"\",\"\",Analyze!G709)","v":""},{"$f":"IF(Analyze!S709=\"\",\"\",Analyze!S709)","v":{"$error":"#VALUE!"}},null,null,null,null,null,null,null,"","","",70.300000000000281,-36.724589936142316,70.300000000000281,-10.136828227907991,70.300000000000281,-14.136828227907989,70.300000000000281,-18.136828227908033,{"$error":"#VALUE!"},{"$error":"#VALUE!"},{"$error":"#VALUE!"},{"$error":"#VALUE!"},{"$error":"#VALUE!"},{"$error":"#VALUE!"},{"$error":"#VALUE!"},{"$error":"#VALUE!"},{"$error":"#VALUE!"},{"$error":"#VALUE!"},{"$error":"#VALUE!"},{"$error":"#VALUE!"}]
[null,null,null,null,null,null,null,null,null,null,null,null,null,null,{"$f":"IF(Analyze!G710=\"\",\"\",Analyze!G710)","v":""},{"$f":"IF(Analyze!S710=\"\",\"\",Analyze!S710)","v":{"$error":"#VALUE!"}},null,null,null,null,null,null,null,{"$f":"IF(O710=\"\",\"\",IF(O710>h+$H$2,(\"\"),(h-O710)))","v":""},"","",70.400000000000276,-36.794610689963285,70.400000000000276,-10.163623147151103,70.400000000000276,-14.163623147151101,70.400000000000276,-18.163623147151146,{"$error":"#VALUE!"},{"$error":"#VALUE!"},{"$error":"#VALUE!"},{"$error":"#VALUE!"},{"$error":"#VALUE!"},{"$error":"#VALUE!"},{"$error":"#VALUE!"},{"$error":"#VALUE!"},{"$error":"#VALUE!"},{"$error":"#VALUE!"},{"$error":"#VALUE!"},{"$error":"#VALUE!"}]
[null,null,null,null,null,null,null,null,null,null,null,null,null,null,{"$f":"IF(Analyze!G711=\"\",\"\",Analyze!G711)","v":""},{"$f":"IF(Analyze!S711=\"\",\"\",Analyze!S711)","v":{"$error":"#VALUE!"}},null,null,null,null,null,null,null,"","","",70.50000000000027,-36.864631443784255,70.50000000000027,-10.190418066394216,70.50000000000027,-14.190418066394214,70.50000000000027,-18.190418066394258,{"$error":"#VALUE!"},{"$error":"#VALUE!"},{"$error":"#VALUE!"},{"$error":"#VALUE!"},{"$error":"#VALUE!"},{"$error":"#VALUE!"},{"$error":"#VALUE!"},{"$error":"#VALUE!"},{"$error":"#VALUE!"},{"$error":"#VALUE!"},{"$error":"#VALUE!"},{"$error":"#VALUE!"}]
[null,null,null,null,null,null,null,null,null,null,null,null,null,null,{"$f":"IF(Analyze!G712=\"\",\"\",Analyze!G712)","v":""},{"$f":"IF(Analyze!S712=\"\",\"\",Analyze!S712)","v":{"$error":"#VALUE!"}},null,null,null,null,null,null,null,"","","",{"$f":"AA711+0.1","v":70.600000000000264},{"$f":"AB711-0.1*TAN(RADIANS($F$7))","v":-36.934652197605224},{"$f":"AC711+0.1","v":70.600000000000264},{"$f":"AD711-0.1*TAN(RADIANS($F$8))","v":-10.217212985637328},{"$f":"AE711+0.1","v":70.600000000000264},{"$f":"AF711-0.1*TAN(RADIANS($F$9))","v":-14.217212985637326},{"$f":"AG711+0.1","v":70.600000000000264},{"$f":"AH711-0.1*TAN(RADIANS($F$10))","v":-18.217212985637371},{"$f":"AI711+0.1","v":{"$error":"#VALUE!"}},{"$f":"AJ711-0.1*TAN(RADIANS($F$11))","v":{"$error":"#VALUE!"}},{"$f":"AK711+0.1","v":{"$error":"#VALUE!"}},{"$f":"AL711-0.1*TAN(RADIANS($F$12))","v":{"$error":"#VALUE!"}},{"$f":"AM711+0.1","v":{"$error":"#VALUE!"}},{"$f":"AN711-0.1*TAN(RADIANS($F$13))","v":{"$error":"#VALUE!"}},{"$f":"AO711+0.1","v":{"$error":"#VALUE!"}},{"$f":"AP711-0.1*TAN(RADIANS($F$14))","v":{"$error":"#VALUE!"}},{"$f":"AQ711+0.1","v":{"$error":"#VALUE!"}},{"$f":"AR711-0.1*TAN(RADIANS($F$15))","v":{"$error":"#VALUE!"}},{"$f":"AS711+0.1","v":{"$error":"#VALUE!"}},{"$f":"AT711-0.1*TAN(RADIANS($F$16))","v":{"$error":"#VALUE!"}}]
[null,null,null,null,null,null,null,null,null,null,null,null,null,null,{"$f":"IF(Analyze!G713=\"\",\"\",Analyze!G713)","v":""},{"$f":"IF(Analyze!S713=\"\",\"\",Analyze!S713)","v":{"$error":"#VALUE!"}},null,null,null,null,null,null,null,"","","",70.700000000000259,-37.004672951426194,70.700000000000259,-10.244007904880441,70.700000000000259,-14.244007904880439,70.700000000000259,-18.244007904880483,{"$error":"#VALUE!"},{"$error":"#VALUE!"},{"$error":"#VALUE!"},{"$error":"#VALUE!"},{"$error":"#VALUE!"},{"$error":"#VALUE!"},{"$error":"#VALUE!"},{"$error":"#VALUE!"},{"$error":"#VALUE!"},{"$error":"#VALUE!"},{"$error":"#VALUE!"},{"$error":"#VALUE!"}]
[null,null,null,null,null,null,null,null,null,null,null,null,null,null,{"$f":"IF(Analyze!G714=\"\",\"\",Analyze!G714)","v":""},{"$f":"IF(Analyze!S714=\"\",\"\",Analyze!S714)","v":{"$error":"#VALUE!"}},null,null,null,null,null,null,null,"","","",70.800000000000253,-37.074693705247164,70.800000000000253,-10.270802824123553,70.800000000000253,-14.270802824123551,70.800000000000253,-18.270802824123596,{"$error":"#VALUE!"},{"$error":"#VALUE!"},{"$error":"#VALUE!"},{"$error":"#VALUE!"},{"$error":"#VALUE!"},{"$error":"#VALUE!"},{"$error":"#VALUE!"},{"$error":"#VALUE!"},{"$error":"#VALUE!"},{"$error":"#VALUE!"},{"$error":"#VALUE!"},{"$error":"#VALUE!"}]
[null,null,null,null,null,null,null,null,null,null,null,null,null,null,{"$f":"IF(Analyze!G715=\"\",\"\",Analyze!G715)","v":""},{"$f":"IF(Analyze!S715=\"\",\"\",Analyze!S715)","v":{"$error":"#VALUE!"}},null,null,null,null,null,null,null,"","","",70.900000000000247,-37.144714459068133,70.900000000000247,-10.297597743366666,70.900000000000247,-14.297597743366664,70.900000000000247,-18.297597743366708,{"$error":"#VALUE!"},{"$error":"#VALUE!"},{"$error":"#VALUE!"},{"$error":"#VALUE!"},{"$error":"#VALUE!"},{"$error":"#VALUE!"},{"$error":"#VALUE!"},{"$error":"#VALUE!"},{"$error":"#VALUE!"},{"$error":"#VALUE!"},{"$error":"#VALUE!"},{"$error":"#VALUE!"}]
[null,null,null,null,null,null,null,null,null,null,null,null,null,null,{"$f":"IF(Analyze!G716=\"\",\"\",Analyze!G716)","v":""},{"$f":"IF(Analyze!S716=\"\",\"\",Analyze!S716)","v":{"$error":"#VALUE!"}},null,null,null,null,null,null,null,"","","",71.000000000000242,-37.214735212889103,71.000000000000242,-10.324392662609778,71.000000000000242,-14.324392662609776,71.000000000000242,-18.324392662609821,{"$error":"#VALUE!"},{"$error":"#VALUE!"},{"$error":"#VALUE!"},{"$error":"#VALUE!"},{"$error":"#VALUE!"},{"$error":"#VALUE!"},{"$error":"#VALUE!"},{"$error":"#VALUE!"},{"$error":"#VALUE!"},{"$error":"#VALUE!"},{"$error":"#VALUE!"},{"$error":"#VALUE!"}]
[null,null,null,null,null,null,null,null,null,null,null,null,null,null,{"$f":"IF(Analyze!G717=\"\",\"\",Analyze!G717)","v":""},{"$f":"IF(Analyze!S717=\"\",\"\",Analyze!S717)","v":{"$error":"#VALUE!"}},null,null,null,null,null,null,null,"","","",71.100000000000236,-37.284755966710073,71.100000000000236,-10.351187581852891,71.100000000000236,-14.351187581852889,71.100000000000236,-18.351187581852933,{"$error":"#VALUE!"},{"$error":"#VALUE!"},{"$error":"#VALUE!"},{"$error":"#VALUE!"},{"$error":"#VALUE!"},{"$error":"#VALUE!"},{"$error":"#VALUE!"},{"$error":"#VALUE!"},{"$error":"#VALUE!"},{"$error":"#VALUE!"},{"$error":"#VALUE!"},{"$error":"#VALUE!"}]
[null,null,null,null,null,null,null,null,null,null,null,null,null,null,{"$f":"IF(Analyze!G718=\"\",\"\",Analyze!G718)","v":""},{"$f":"IF(Analyze!S718=\"\",\"\",Analyze!S718)","v":{"$error":"#VALUE!"}},null,null,null,null,null,null,null,"","","",71.20000000000023,-37.354776720531042,71.20000000000023,-10.377982501096003,71.20000000000023,-14.377982501096001,71.20000000000023,-18.377982501096046,{"$error":"#VALUE!"},{"$error":"#VALUE!"},{"$error":"#VALUE!"},{"$error":"#VALUE!"},{"$error":"#VALUE!"},{"$error":"#VALUE!"},{"$error":"#VALUE!"},{"$error":"#VALUE!"},{"$error":"#VALUE!"},{"$error":"#VALUE!"},{"$error":"#VALUE!"},{"$error":"#VALUE!"}]
[null,null,null,null,null,null,null,null,null,null,null,null,null,null,{"$f":"IF(Analyze!G719=\"\",\"\",Analyze!G719)","v":""},{"$f":"IF(Analyze!S719=\"\",\"\",Analyze!S719)","v":{"$error":"#VALUE!"}},null,null,null,null,null,null,null,"","","",71.300000000000225,-37.424797474352012,71.300000000000225,-10.404777420339116,71.300000000000225,-14.404777420339114,71.300000000000225,-18.404777420339158,{"$error":"#VALUE!"},{"$error":"#VALUE!"},{"$error":"#VALUE!"},{"$error":"#VALUE!"},{"$error":"#VALUE!"},{"$error":"#VALUE!"},{"$error":"#VALUE!"},{"$error":"#VALUE!"},{"$error":"#VALUE!"},{"$error":"#VALUE!"},{"$error":"#VALUE!"},{"$error":"#VALUE!"}]
[null,null,null,null,null,null,null,null,null,null,null,null,null,null,{"$f":"IF(Analyze!G720=\"\",\"\",Analyze!G720)","v":""},{"$f":"IF(Analyze!S720=\"\",\"\",Analyze!S720)","v":{"$error":"#VALUE!"}},null,null,null,null,null,null,null,"","","",71.400000000000219,-37.494818228172981,71.400000000000219,-10.431572339582228,71.400000000000219,-14.431572339582226,71.400000000000219,-18.431572339582271,{"$error":"#VALUE!"},{"$error":"#VALUE!"},{"$error":"#VALUE!"},{"$error":"#VALUE!"},{"$error":"#VALUE!"},{"$error":"#VALUE!"},{"$error":"#VALUE!"},{"$error":"#VALUE!"},{"$error":"#VALUE!"},{"$error":"#VALUE!"},{"$error":"#VALUE!"},{"$error":"#VALUE!"}]
[null,null,null,null,null,null,null,null,null,null,null,null,null,null,{"$f":"IF(Analyze!G721=\"\",\"\",Analyze!G721)","v":""},{"$f":"IF(Analyze!S721=\"\",\"\",Analyze!S721)","v":{"$error":"#VALUE!"}},null,null,null,null,null,null,null,"","","",71.500000000000213,-37.564838981993951,71.500000000000213,-10.458367258825341,71.500000000000213,-14.458367258825339,71.500000000000213,-18.458367258825383,{"$error":"#VALUE!"},{"$error":"#VALUE!"},{"$error":"#VALUE!"},{"$error":"#VALUE!"},{"$error":"#VALUE!"},{"$error":"#VALUE!"},{"$error":"#VALUE!"},{"$error":"#VALUE!"},{"$error":"#VALUE!"},{"$error":"#VALUE!"},{"$error":"#VALUE!"},{"$error":"#VALUE!"}]
[null,null,null,null,null,null,null,null,null,null,null,null,null,null,{"$f":"IF(Analyze!G722=\"\",\"\",Analyze!G722)","v":""},{"$f":"IF(Analyze!S722=\"\",\"\",Analyze!S722)","v":{"$error":"#VALUE!"}},null,null,null,null,null,null,null,"","","",71.600000000000207,-37.634859735814921,71.600000000000207,-10.485162178068453,71.600000000000207,-14.485162178068451,71.600000000000207,-18.485162178068496,{"$error":"#VALUE!"},{"$error":"#VALUE!"},{"$error":"#VALUE!"},{"$error":"#VALUE!"},{"$error":"#VALUE!"},{"$error":"#VALUE!"},{"$error":"#VALUE!"},{"$error":"#VALUE!"},{"$error":"#VALUE!"},{"$error":"#VALUE!"},{"$error":"#VALUE!"},{"$error":"#VALUE!"}]
[null,null,null,null,null,null,null,null,null,null,null,null,null,null,{"$f":"IF(Analyze!G723=\"\",\"\",Analyze!G723)","v":""},{"$f":"IF(Analyze!S723=\"\",\"\",Analyze!S723)","v":{"$error":"#VALUE!"}},null,null,null,null,null,null,null,"","","",71.700000000000202,-37.70488048963589,71.700000000000202,-10.511957097311566,71.700000000000202,-14.511957097311564,71.700000000000202,-18.511957097311608,{"$error":"#VALUE!"},{"$error":"#VALUE!"},{"$error":"#VALUE!"},{"$error":"#VALUE!"},{"$error":"#VALUE!"},{"$error":"#VALUE!"},{"$error":"#VALUE!"},{"$error":"#VALUE!"},{"$error":"#VALUE!"},{"$error":"#VALUE!"},{"$error":"#VALUE!"},{"$error":"#VALUE!"}]
[null,null,null,null,null,null,null,null,null,null,null,null,null,null,{"$f":"IF(Analyze!G724=\"\",\"\",Analyze!G724)","v":""},{"$f":"IF(Analyze!S724=\"\",\"\",Analyze!S724)","v":{"$error":"#VALUE!"}},null,null,null,null,null,null,null,"","","",71.800000000000196,-37.77490124345686,71.800000000000196,-10.538752016554678,71.800000000000196,-14.538752016554676,71.800000000000196,-18.538752016554721,{"$error":"#VALUE!"},{"$error":"#VALUE!"},{"$error":"#VALUE!"},{"$error":"#VALUE!"},{"$error":"#VALUE!"},{"$error":"#VALUE!"},{"$error":"#VALUE!"},{"$error":"#VALUE!"},{"$error":"#VALUE!"},{"$error":"#VALUE!"},{"$error":"#VALUE!"},{"$error":"#VALUE!"}]
[null,null,null,null,null,null,null,null,null,null,null,null,null,null,{"$f":"IF(Analyze!G725=\"\",\"\",Analyze!G725)","v":""},{"$f":"IF(Analyze!S725=\"\",\"\",Analyze!S725)","v":{"$error":"#VALUE!"}},null,null,null,null,null,null,null,"","","",71.90000000000019,-37.844921997277829,71.90000000000019,-10.565546935797791,71.90000000000019,-14.565546935797789,71.90000000000019,-18.565546935797833,{"$error":"#VALUE!"},{"$error":"#VALUE!"},{"$error":"#VALUE!"},{"$error":"#VALUE!"},{"$error":"#VALUE!"},{"$error":"#VALUE!"},{"$error":"#VALUE!"},{"$error":"#VALUE!"},{"$error":"#VALUE!"},{"$error":"#VALUE!"},{"$error":"#VALUE!"},{"$error":"#VALUE!"}]
[null,null,null,null,null,null,null,null,null,null,null,null,null,null,{"$f":"IF(Analyze!G726=\"\",\"\",Analyze!G726)","v":""},{"$f":"IF(Analyze!S726=\"\",\"\",Analyze!S726)","v":{"$error":"#VALUE!"}},null,null,null,null,null,null,null,"","","",72.000000000000185,-37.914942751098799,72.000000000000185,-10.592341855040903,72.000000000000185,-14.592341855040901,72.000000000000185,-18.592341855040946,{"$error":"#VALUE!"},{"$error":"#VALUE!"},{"$error":"#VALUE!"},{"$error":"#VALUE!"},{"$error":"#VALUE!"},{"$error":"#VALUE!"},{"$error":"#VALUE!"},{"$error":"#VALUE!"},{"$error":"#VALUE!"},{"$error":"#VALUE!"},{"$error":"#VALUE!"},{"$error":"#VALUE!"}]
[null,null,null,null,null,null,null,null,null,null,null,null,null,null,{"$f":"IF(Analyze!G727=\"\",\"\",Analyze!G727)","v":""},{"$f":"IF(Analyze!S727=\"\",\"\",Analyze!S727)","v":{"$error":"#VALUE!"}},null,null,null,null,null,null,null,"","","",72.100000000000179,-37.984963504919769,72.100000000000179,-10.619136774284016,72.100000000000179,-14.619136774284014,72.100000000000179,-18.619136774284058,{"$error":"#VALUE!"},{"$error":"#VALUE!"},{"$error":"#VALUE!"},{"$error":"#VALUE!"},{"$error":"#VALUE!"},{"$error":"#VALUE!"},{"$error":"#VALUE!"},{"$error":"#VALUE!"},{"$error":"#VALUE!"},{"$error":"#VALUE!"},{"$error":"#VALUE!"},{"$error":"#VALUE!"}]
[null,null,null,null,null,null,null,null,null,null,null,null,null,null,{"$f":"IF(Analyze!G728=\"\",\"\",Analyze!G728)","v":""},{"$f":"IF(Analyze!S728=\"\",\"\",Analyze!S728)","v":{"$error":"#VALUE!"}},null,null,null,null,null,null,null,"","","",72.200000000000173,-38.054984258740738,72.200000000000173,-10.645931693527128,72.200000000000173,-14.645931693527126,72.200000000000173,-18.645931693527171,{"$error":"#VALUE!"},{"$error":"#VALUE!"},{"$error":"#VALUE!"},{"$error":"#VALUE!"},{"$error":"#VALUE!"},{"$error":"#VALUE!"},{"$error":"#VALUE!"},{"$error":"#VALUE!"},{"$error":"#VALUE!"},{"$error":"#VALUE!"},{"$error":"#VALUE!"},{"$error":"#VALUE!"}]
[null,null,null,null,null,null,null,null,null,null,null,null,null,null,{"$f":"IF(Analyze!G729=\"\",\"\",Analyze!G729)","v":""},{"$f":"IF(Analyze!S729=\"\",\"\",Analyze!S729)","v":{"$error":"#VALUE!"}},null,null,null,null,null,null,null,"","","",72.300000000000168,-38.125005012561708,72.300000000000168,-10.672726612770241,72.300000000000168,-14.672726612770239,72.300000000000168,-18.672726612770283,{"$error":"#VALUE!"},{"$error":"#VALUE!"},{"$error":"#VALUE!"},{"$error":"#VALUE!"},{"$error":"#VALUE!"},{"$error":"#VALUE!"},{"$error":"#VALUE!"},{"$error":"#VALUE!"},{"$error":"#VALUE!"},{"$error":"#VALUE!"},{"$error":"#VALUE!"},{"$error":"#VALUE!"}]
[null,null,null,null,null,null,null,null,null,null,null,null,null,null,{"$f":"IF(Analyze!G730=\"\",\"\",Analyze!G730)","v":""},{"$f":"IF(Analyze!S730=\"\",\"\",Analyze!S730)","v":{"$error":"#VALUE!"}},null,null,null,null,null,null,null,"","","",72.400000000000162,-38.195025766382678,72.400000000000162,-10.699521532013353,72.400000000000162,-14.699521532013351,72.400000000000162,-18.699521532013396,{"$error":"#VALUE!"},{"$error":"#VALUE!"},{"$error":"#VALUE!"},{"$error":"#VALUE!"},{"$error":"#VALUE!"},{"$error":"#VALUE!"},{"$error":"#VALUE!"},{"$error":"#VALUE!"},{"$error":"#VALUE!"},{"$error":"#VALUE!"},{"$error":"#VALUE!"},{"$error":"#VALUE!"}]
[null,null,null,null,null,null,null,null,null,null,null,null,null,null,{"$f":"IF(Analyze!G731=\"\",\"\",Analyze!G731)","v":""},{"$f":"IF(Analyze!S731=\"\",\"\",Analyze!S731)","v":{"$error":"#VALUE!"}},null,null,null,null,null,null,null,"","","",72.500000000000156,-38.265046520203647,72.500000000000156,-10.726316451256466,72.500000000000156,-14.726316451256464,72.500000000000156,-18.726316451256508,{"$error":"#VALUE!"},{"$error":"#VALUE!"},{"$error":"#VALUE!"},{"$error":"#VALUE!"},{"$error":"#VALUE!"},{"$error":"#VALUE!"},{"$error":"#VALUE!"},{"$error":"#VALUE!"},{"$error":"#VALUE!"},{"$error":"#VALUE!"},{"$error":"#VALUE!"},{"$error":"#VALUE!"}]
[null,null,null,null,null,null,null,null,null,null,null,null,null,null,{"$f":"IF(Analyze!G732=\"\",\"\",Analyze!G732)","v":""},{"$f":"IF(Analyze!S732=\"\",\"\",Analyze!S732)","v":{"$error":"#VALUE!"}},null,null,null,null,null,null,null,"","","",72.600000000000151,-38.335067274024617,72.600000000000151,-10.753111370499578,72.600000000000151,-14.753111370499576,72.600000000000151,-18.753111370499621,{"$error":"#VALUE!"},{"$error":"#VALUE!"},{"$error":"#VALUE!"},{"$error":"#VALUE!"},{"$error":"#VALUE!"},{"$error":"#VALUE!"},{"$error":"#VALUE!"},{"$error":"#VALUE!"},{"$error":"#VALUE!"},{"$error":"#VALUE!"},{"$error":"#VALUE!"},{"$error":"#VALUE!"}]
[null,null,null,null,null,null,null,null,null,null,null,null,null,null,{"$f":"IF(Analyze!G733=\"\",\"\",Analyze!G733)","v":""},{"$f":"IF(Analyze!S733=\"\",\"\",Analyze!S733)","v":{"$error":"#VALUE!"}},null,null,null,null,null,null,null,"","","",72.700000000000145,-38.405088027845586,72.700000000000145,-10.779906289742691,72.700000000000145,-14.779906289742689,72.700000000000145,-18.779906289742733,{"$error":"#VALUE!"},{"$error":"#VALUE!"},{"$error":"#VALUE!"},{"$error":"#VALUE!"},{"$error":"#VALUE!"},{"$error":"#VALUE!"},{"$error":"#VALUE!"},{"$error":"#VALUE!"},{"$error":"#VALUE!"},{"$error":"#VALUE!"},{"$error":"#VALUE!"},{"$error":"#VALUE!"}]
[null,null,null,null,null,null,null,null,null,null,null,null,null,null,{"$f":"IF(Analyze!G734=\"\",\"\",Analyze!G734)","v":""},{"$f":"IF(Analyze!S734=\"\",\"\",Analyze!S734)","v":{"$error":"#VALUE!"}},null,null,null,null,null,null,null,"","","",72.800000000000139,-38.475108781666556,72.800000000000139,-10.806701208985803,72.800000000000139,-14.806701208985801,72.800000000000139,-18.806701208985846,{"$error":"#VALUE!"},{"$error":"#VALUE!"},{"$error":"#VALUE!"},{"$error":"#VALUE!"},{"$error":"#VALUE!"},{"$error":"#VALUE!"},{"$error":"#VALUE!"},{"$error":"#VALUE!"},{"$error":"#VALUE!"},{"$error":"#VALUE!"},{"$error":"#VALUE!"},{"$error":"#VALUE!"}]
[null,null,null,null,null,null,null,null,null,null,null,null,null,null,{"$f":"IF(Analyze!G735=\"\",\"\",Analyze!G735)","v":""},{"$f":"IF(Analyze!S735=\"\",\"\",Analyze!S735)","v":{"$error":"#VALUE!"}},null,null,null,null,null,null,null,"","","",72.900000000000134,-38.545129535487526,72.900000000000134,-10.833496128228916,72.900000000000134,-14.833496128228914,72.900000000000134,-18.833496128228958,{"$error":"#VALUE!"},{"$error":"#VALUE!"},{"$error":"#VALUE!"},{"$error":"#VALUE!"},{"$error":"#VALUE!"},{"$error":"#VALUE!"},{"$error":"#VALUE!"},{"$error":"#VALUE!"},{"$error":"#VALUE!"},{"$error":"#VALUE!"},{"$error":"#VALUE!"},{"$error":"#VALUE!"}]
[null,null,null,null,null,null,null,null,null,null,null,null,null,null,{"$f":"IF(Analyze!G736=\"\",\"\",Analyze!G736)","v":""},{"$f":"IF(Analyze!S736=\"\",\"\",Analyze!S736)","v":{"$error":"#VALUE!"}},null,null,null,null,null,null,null,"","","",73.000000000000128,-38.615150289308495,73.000000000000128,-10.860291047472028,73.000000000000128,-14.860291047472026,73.000000000000128,-18.860291047472071,{"$error":"#VALUE!"},{"$error":"#VALUE!"},{"$error":"#VALUE!"},{"$error":"#VALUE!"},{"$error":"#VALUE!"},{"$error":"#VALUE!"},{"$error":"#VALUE!"},{"$error":"#VALUE!"},{"$error":"#VALUE!"},{"$error":"#VALUE!"},{"$error":"#VALUE!"},{"$error":"#VALUE!"}]
[null,null,null,null,null,null,null,null,null,null,null,null,null,null,{"$f":"IF(Analyze!G737=\"\",\"\",Analyze!G737)","v":""},{"$f":"IF(Analyze!S737=\"\",\"\",Analyze!S737)","v":{"$error":"#VALUE!"}},null,null,null,null,null,null,null,"","","",73.100000000000122,-38.685171043129465,73.100000000000122,-10.887085966715141,73.100000000000122,-14.887085966715139,73.100000000000122,-18.887085966715183,{"$error":"#VALUE!"},{"$error":"#VALUE!"},{"$error":"#VALUE!"},{"$error":"#VALUE!"},{"$error":"#VALUE!"},{"$error":"#VALUE!"},{"$error":"#VALUE!"},{"$error":"#VALUE!"},{"$error":"#VALUE!"},{"$error":"#VALUE!"},{"$error":"#VALUE!"},{"$error":"#VALUE!"}]
[null,null,null,null,null,null,null,null,null,null,null,null,null,null,{"$f":"IF(Analyze!G738=\"\",\"\",Analyze!G738)","v":""},{"$f":"IF(Analyze!S738=\"\",\"\",Analyze!S738)","v":{"$error":"#VALUE!"}},null,null,null,null,null,null,null,"","","",73.200000000000117,-38.755191796950434,73.200000000000117,-10.913880885958253,73.200000000000117,-14.913880885958251,73.200000000000117,-18.913880885958296,{"$error":"#VALUE!"},{"$error":"#VALUE!"},{"$error":"#VALUE!"},{"$error":"#VALUE!"},{"$error":"#VALUE!"},{"$error":"#VALUE!"},{"$error":"#VALUE!"},{"$error":"#VALUE!"},{"$error":"#VALUE!"},{"$error":"#VALUE!"},{"$error":"#VALUE!"},{"$error":"#VALUE!"}]
[null,null,null,null,null,null,null,null,null,null,null,null,null,null,{"$f":"IF(Analyze!G739=\"\",\"\",Analyze!G739)","v":""},{"$f":"IF(Analyze!S739=\"\",\"\",Analyze!S739)","v":{"$error":"#VALUE!"}},null,null,null,null,null,null,null,"","","",73.300000000000111,-38.825212550771404,73.300000000000111,-10.940675805201366,73.300000000000111,-14.940675805201364,73.300000000000111,-18.940675805201408,{"$error":"#VALUE!"},{"$error":"#VALUE!"},{"$error":"#VALUE!"},{"$error":"#VALUE!"},{"$error":"#VALUE!"},{"$error":"#VALUE!"},{"$error":"#VALUE!"},{"$error":"#VALUE!"},{"$error":"#VALUE!"},{"$error":"#VALUE!"},{"$error":"#VALUE!"},{"$error":"#VALUE!"}]
[null,null,null,null,null,null,null,null,null,null,null,null,null,null,{"$f":"IF(Analyze!G740=\"\",\"\",Analyze!G740)","v":""},{"$f":"IF(Analyze!S740=\"\",\"\",Analyze!S740)","v":{"$error":"#VALUE!"}},null,null,null,null,null,null,null,"","","",73.400000000000105,-38.895233304592374,73.400000000000105,-10.967470724444478,73.400000000000105,-14.967470724444476,73.400000000000105,-18.967470724444521,{"$error":"#VALUE!"},{"$error":"#VALUE!"},{"$error":"#VALUE!"},{"$error":"#VALUE!"},{"$error":"#VALUE!"},{"$error":"#VALUE!"},{"$error":"#VALUE!"},{"$error":"#VALUE!"},{"$error":"#VALUE!"},{"$error":"#VALUE!"},{"$error":"#VALUE!"},{"$error":"#VALUE!"}]
[null,null,null,null,null,null,null,null,null,null,null,null,null,null,{"$f":"IF(Analyze!G741=\"\",\"\",Analyze!G741)","v":""},{"$f":"IF(Analyze!S741=\"\",\"\",Analyze!S741)","v":{"$error":"#VALUE!"}},null,null,null,null,null,null,null,"","","",73.500000000000099,-38.965254058413343,73.500000000000099,-10.994265643687591,73.500000000000099,-14.994265643687589,73.500000000000099,-18.994265643687633,{"$error":"#VALUE!"},{"$error":"#VALUE!"},{"$error":"#VALUE!"},{"$error":"#VALUE!"},{"$error":"#VALUE!"},{"$error":"#VALUE!"},{"$error":"#VALUE!"},{"$error":"#VALUE!"},{"$error":"#VALUE!"},{"$error":"#VALUE!"},{"$error":"#VALUE!"},{"$error":"#VALUE!"}]
[null,null,null,null,null,null,null,null,null,null,null,null,null,null,{"$f":"IF(Analyze!G742=\"\",\"\",Analyze!G742)","v":""},{"$f":"IF(Analyze!S742=\"\",\"\",Analyze!S742)","v":{"$error":"#VALUE!"}},null,null,null,null,null,null,null,"","","",73.600000000000094,-39.035274812234313,73.600000000000094,-11.021060562930703,73.600000000000094,-15.021060562930701,73.600000000000094,-19.021060562930746,{"$error":"#VALUE!"},{"$error":"#VALUE!"},{"$error":"#VALUE!"},{"$error":"#VALUE!"},{"$error":"#VALUE!"},{"$error":"#VALUE!"},{"$error":"#VALUE!"},{"$error":"#VALUE!"},{"$error":"#VALUE!"},{"$error":"#VALUE!"},{"$error":"#VALUE!"},{"$error":"#VALUE!"}]
[null,null,null,null,null,null,null,null,null,null,null,null,null,null,{"$f":"IF(Analyze!G743=\"\",\"\",Analyze!G743)","v":""},{"$f":"IF(Analyze!S743=\"\",\"\",Analyze!S743)","v":{"$error":"#VALUE!"}},null,null,null,null,null,null,null,"","","",73.700000000000088,-39.105295566055283,73.700000000000088,-11.047855482173816,73.700000000000088,-15.047855482173814,73.700000000000088,-19.047855482173858,{"$error":"#VALUE!"},{"$error":"#VALUE!"},{"$error":"#VALUE!"},{"$error":"#VALUE!"},{"$error":"#VALUE!"},{"$error":"#VALUE!"},{"$error":"#VALUE!"},{"$error":"#VALUE!"},{"$error":"#VALUE!"},{"$error":"#VALUE!"},{"$error":"#VALUE!"},{"$error":"#VALUE!"}]
[null,null,null,null,null,null,null,null,null,null,null,null,null,null,{"$f":"IF(Analyze!G744=\"\",\"\",Analyze!G744)","v":""},{"$f":"IF(Analyze!S744=\"\",\"\",Analyze!S744)","v":{"$error":"#VALUE!"}},null,null,null,null,null,null,null,"","","",73.800000000000082,-39.175316319876252,73.800000000000082,-11.074650401416928,73.800000000000082,-15.074650401416926,73.800000000000082,-19.074650401416971,{"$error":"#VALUE!"},{"$error":"#VALUE!"},{"$error":"#VALUE!"},{"$error":"#VALUE!"},{"$error":"#VALUE!"},{"$error":"#VALUE!"},{"$error":"#VALUE!"},{"$error":"#VALUE!"},{"$error":"#VALUE!"},{"$error":"#VALUE!"},{"$error":"#VALUE!"},{"$error":"#VALUE!"}]
[null,null,null,null,null,null,null,null,null,null,null,null,null,null,{"$f":"IF(Analyze!G745=\"\",\"\",Analyze!G745)","v":""},{"$f":"IF(Analyze!S745=\"\",\"\",Analyze!S745)","v":{"$error":"#VALUE!"}},null,null,null,null,null,null,null,"","","",73.900000000000077,-39.245337073697222,73.900000000000077,-11.101445320660041,73.900000000000077,-15.101445320660039,73.900000000000077,-19.101445320660083,{"$error":"#VALUE!"},{"$error":"#VALUE!"},{"$error":"#VALUE!"},{"$error":"#VALUE!"},{"$error":"#VALUE!"},{"$error":"#VALUE!"},{"$error":"#VALUE!"},{"$error":"#VALUE!"},{"$error":"#VALUE!"},{"$error":"#VALUE!"},{"$error":"#VALUE!"},{"$error":"#VALUE!"}]
[null,null,null,null,null,null,null,null,null,null,null,null,null,null,{"$f":"IF(Analyze!G746=\"\",\"\",Analyze!G746)","v":""},{"$f":"IF(Analyze!S746=\"\",\"\",Analyze!S746)","v":{"$error":"#VALUE!"}},null,null,null,null,null,null,null,"","","",74.000000000000071,-39.315357827518191,74.000000000000071,-11.128240239903153,74.000000000000071,-15.128240239903151,74.000000000000071,-19.128240239903196,{"$error":"#VALUE!"},{"$error":"#VALUE!"},{"$error":"#VALUE!"},{"$error":"#VALUE!"},{"$error":"#VALUE!"},{"$error":"#VALUE!"},{"$error":"#VALUE!"},{"$error":"#VALUE!"},{"$error":"#VALUE!"},{"$error":"#VALUE!"},{"$error":"#VALUE!"},{"$error":"#VALUE!"}]
[null,null,null,null,null,null,null,null,null,null,null,null,null,null,{"$f":"IF(Analyze!G747=\"\",\"\",Analyze!G747)","v":""},{"$f":"IF(Analyze!S747=\"\",\"\",Analyze!S747)","v":{"$error":"#VALUE!"}},null,null,null,null,null,null,null,"","","",74.100000000000065,-39.385378581339161,74.100000000000065,-11.155035159146266,74.100000000000065,-15.155035159146264,74.100000000000065,-19.155035159146308,{"$error":"#VALUE!"},{"$error":"#VALUE!"},{"$error":"#VALUE!"},{"$error":"#VALUE!"},{"$error":"#VALUE!"},{"$error":"#VALUE!"},{"$error":"#VALUE!"},{"$error":"#VALUE!"},{"$error":"#VALUE!"},{"$error":"#VALUE!"},{"$error":"#VALUE!"},{"$error":"#VALUE!"}]
[null,null,null,null,null,null,null,null,null,null,null,null,null,null,{"$f":"IF(Analyze!G748=\"\",\"\",Analyze!G748)","v":""},{"$f":"IF(Analyze!S748=\"\",\"\",Analyze!S748)","v":{"$error":"#VALUE!"}},null,null,null,null,null,null,null,"","","",74.20000000000006,-39.455399335160131,74.20000000000006,-11.181830078389378,74.20000000000006,-15.181830078389376,74.20000000000006,-19.181830078389421,{"$error":"#VALUE!"},{"$error":"#VALUE!"},{"$error":"#VALUE!"},{"$error":"#VALUE!"},{"$error":"#VALUE!"},{"$error":"#VALUE!"},{"$error":"#VALUE!"},{"$error":"#VALUE!"},{"$error":"#VALUE!"},{"$error":"#VALUE!"},{"$error":"#VALUE!"},{"$error":"#VALUE!"}]
[null,null,null,null,null,null,null,null,null,null,null,null,null,null,{"$f":"IF(Analyze!G749=\"\",\"\",Analyze!G749)","v":""},{"$f":"IF(Analyze!S749=\"\",\"\",Analyze!S749)","v":{"$error":"#VALUE!"}},null,null,null,null,null,null,null,"","","",74.300000000000054,-39.5254200889811,74.300000000000054,-11.208624997632491,74.300000000000054,-15.208624997632489,74.300000000000054,-19.208624997632533,{"$error":"#VALUE!"},{"$error":"#VALUE!"},{"$error":"#VALUE!"},{"$error":"#VALUE!"},{"$error":"#VALUE!"},{"$error":"#VALUE!"},{"$error":"#VALUE!"},{"$error":"#VALUE!"},{"$error":"#VALUE!"},{"$error":"#VALUE!"},{"$error":"#VALUE!"},{"$error":"#VALUE!"}]
[null,null,null,null,null,null,null,null,null,null,null,null,null,null,{"$f":"IF(Analyze!G750=\"\",\"\",Analyze!G750)","v":""},{"$f":"IF(Analyze!S750=\"\",\"\",Analyze!S750)","v":{"$error":"#VALUE!"}},null,null,null,null,null,null,null,"","","",74.400000000000048,-39.59544084280207,74.400000000000048,-11.235419916875603,74.400000000000048,-15.235419916875601,74.400000000000048,-19.235419916875646,{"$error":"#VALUE!"},{"$error":"#VALUE!"},{"$error":"#VALUE!"},{"$error":"#VALUE!"},{"$error":"#VALUE!"},{"$error":"#VALUE!"},{"$error":"#VALUE!"},{"$error":"#VALUE!"},{"$error":"#VALUE!"},{"$error":"#VALUE!"},{"$error":"#VALUE!"},{"$error":"#VALUE!"}]
[null,null,null,null,null,null,null,null,null,null,null,null,null,null,{"$f":"IF(Analyze!G751=\"\",\"\",Analyze!G751)","v":""},{"$f":"IF(Analyze!S751=\"\",\"\",Analyze!S751)","v":{"$error":"#VALUE!"}},null,null,null,null,null,null,null,"","","",74.500000000000043,-39.665461596623039,74.500000000000043,-11.262214836118716,74.500000000000043,-15.262214836118714,74.500000000000043,-19.262214836118758,{"$error":"#VALUE!"},{"$error":"#VALUE!"},{"$error":"#VALUE!"},{"$error":"#VALUE!"},{"$error":"#VALUE!"},{"$error":"#VALUE!"},{"$error":"#VALUE!"},{"$error":"#VALUE!"},{"$error":"#VALUE!"},{"$error":"#VALUE!"},{"$error":"#VALUE!"},{"$error":"#VALUE!"}]
[null,null,null,null,null,null,null,null,null,null,null,null,null,null,{"$f":"IF(Analyze!G752=\"\",\"\",Analyze!G752)","v":""},{"$f":"IF(Analyze!S752=\"\",\"\",Analyze!S752)","v":{"$error":"#VALUE!"}},null,null,null,null,null,null,null,"","","",74.600000000000037,-39.735482350444009,74.600000000000037,-11.289009755361828,74.600000000000037,-15.289009755361826,74.600000000000037,-19.289009755361871,{"$error":"#VALUE!"},{"$error":"#VALUE!"},{"$error":"#VALUE!"},{"$error":"#VALUE!"},{"$error":"#VALUE!"},{"$error":"#VALUE!"},{"$error":"#VALUE!"},{"$error":"#VALUE!"},{"$error":"#VALUE!"},{"$error":"#VALUE!"},{"$error":"#VALUE!"},{"$error":"#VALUE!"}]
[null,null,null,null,null,null,null,null,null,null,null,null,null,null,{"$f":"IF(Analyze!G753=\"\",\"\",Analyze!G753)","v":""},{"$f":"IF(Analyze!S753=\"\",\"\",Analyze!S753)","v":{"$error":"#VALUE!"}},null,null,null,null,null,null,null,"","","",74.700000000000031,-39.805503104264979,74.700000000000031,-11.315804674604941,74.700000000000031,-15.315804674604939,74.700000000000031,-19.315804674604983,{"$error":"#VALUE!"},{"$error":"#VALUE!"},{"$error":"#VALUE!"},{"$error":"#VALUE!"},{"$error":"#VALUE!"},{"$error":"#VALUE!"},{"$error":"#VALUE!"},{"$error":"#VALUE!"},{"$error":"#VALUE!"},{"$error":"#VALUE!"},{"$error":"#VALUE!"},{"$error":"#VALUE!"}]
[null,null,null,null,null,null,null,null,null,null,null,null,null,null,{"$f":"IF(Analyze!G754=\"\",\"\",Analyze!G754)","v":""},{"$f":"IF(Analyze!S754=\"\",\"\",Analyze!S754)","v":{"$error":"#VALUE!"}},null,null,null,null,null,null,null,"","","",74.800000000000026,-39.875523858085948,74.800000000000026,-11.342599593848053,74.800000000000026,-15.342599593848051,74.800000000000026,-19.342599593848096,{"$error":"#VALUE!"},{"$error":"#VALUE!"},{"$error":"#VALUE!"},{"$error":"#VALUE!"},{"$error":"#VALUE!"},{"$error":"#VALUE!"},{"$error":"#VALUE!"},{"$error":"#VALUE!"},{"$error":"#VALUE!"},{"$error":"#VALUE!"},{"$error":"#VALUE!"},{"$error":"#VALUE!"}]
[null,null,null,null,null,null,null,null,null,null,null,null,null,null,{"$f":"IF(Analyze!G755=\"\",\"\",Analyze!G755)","v":""},{"$f":"IF(Analyze!S755=\"\",\"\",Analyze!S755)","v":{"$error":"#VALUE!"}},null,null,null,null,null,null,null,"",{"$f":"IF(W756=\"\",\"\",W755+$H$4*COS(ATAN((X756-X755)/(W756-W755))))","v":""},{"$f":"IF(W756=\"\",\"\",X755-$H$4*SIN(ATAN((X756-X755)/(W756-W755))))","v":""},74.90000000000002,-39.945544611906918,74.90000000000002,-11.369394513091166,74.90000000000002,-15.369394513091164,74.90000000000002,-19.369394513091208,{"$error":"#VALUE!"},{"$error":"#VALUE!"},{"$error":"#VALUE!"},{"$error":"#VALUE!"},{"$error":"#VALUE!"},{"$error":"#VALUE!"},{"$error":"#VALUE!"},{"$error":"#VALUE!"},{"$error":"#VALUE!"},{"$error":"#VALUE!"},{"$error":"#VALUE!"},{"$error":"#VALUE!"}]
[null,null,null,null,null,null,null,null,null,null,null,null,null,null,{"$f":"IF(Analyze!G756=\"\",\"\",Analyze!G756)","v":""},{"$f":"IF(Analyze!S756=\"\",\"\",Analyze!S756)","v":{"$error":"#VALUE!"}},null,null,null,null,null,null,null,"","","",75.000000000000014,-40.015565365727888,75.000000000000014,-11.396189432334278,75.000000000000014,-15.396189432334277,75.000000000000014,-19.396189432334321,{"$error":"#VALUE!"},{"$error":"#VALUE!"},{"$error":"#VALUE!"},{"$error":"#VALUE!"},{"$error":"#VALUE!"},{"$error":"#VALUE!"},{"$error":"#VALUE!"},{"$error":"#VALUE!"},{"$error":"#VALUE!"},{"$error":"#VALUE!"},{"$error":"#VALUE!"},{"$error":"#VALUE!"}]
[null,null,null,null,null,null,null,null,null,null,null,null,null,null,{"$f":"IF(Analyze!G757=\"\",\"\",Analyze!G757)","v":""},{"$f":"IF(Analyze!S757=\"\",\"\",Analyze!S757)","v":{"$error":"#VALUE!"}},null,null,null,null,null,null,null,"","","",75.100000000000009,-40.085586119548857,75.100000000000009,-11.422984351577391,75.100000000000009,-15.422984351577389,75.100000000000009,-19.422984351577433,{"$error":"#VALUE!"},{"$error":"#VALUE!"},{"$error":"#VALUE!"},{"$error":"#VALUE!"},{"$error":"#VALUE!"},{"$error":"#VALUE!"},{"$error":"#VALUE!"},{"$error":"#VALUE!"},{"$error":"#VALUE!"},{"$error":"#VALUE!"},{"$error":"#VALUE!"},{"$error":"#VALUE!"}]
[null,null,null,null,null,null,null,null,null,null,null,null,null,null,{"$f":"IF(Analyze!G758=\"\",\"\",Analyze!G758)","v":""},{"$f":"IF(Analyze!S758=\"\",\"\",Analyze!S758)","v":{"$error":"#VALUE!"}},null,null,null,null,null,null,null,"","","",75.2,-40.155606873369827,75.2,-11.449779270820503,75.2,-15.449779270820502,75.2,-19.449779270820546,{"$error":"#VALUE!"},{"$error":"#VALUE!"},{"$error":"#VALUE!"},{"$error":"#VALUE!"},{"$error":"#VALUE!"},{"$error":"#VALUE!"},{"$error":"#VALUE!"},{"$error":"#VALUE!"},{"$error":"#VALUE!"},{"$error":"#VALUE!"},{"$error":"#VALUE!"},{"$error":"#VALUE!"}]
[null,null,null,null,null,null,null,null,null,null,null,null,null,null,{"$f":"IF(Analyze!G759=\"\",\"\",Analyze!G759)","v":""},{"$f":"IF(Analyze!S759=\"\",\"\",Analyze!S759)","v":{"$error":"#VALUE!"}},null,null,null,null,null,null,null,"","","",75.3,-40.225627627190796,75.3,-11.476574190063616,75.3,-15.476574190063614,75.3,-19.476574190063658,{"$error":"#VALUE!"},{"$error":"#VALUE!"},{"$error":"#VALUE!"},{"$error":"#VALUE!"},{"$error":"#VALUE!"},{"$error":"#VALUE!"},{"$error":"#VALUE!"},{"$error":"#VALUE!"},{"$error":"#VALUE!"},{"$error":"#VALUE!"},{"$error":"#VALUE!"},{"$error":"#VALUE!"}]
[null,null,null,null,null,null,null,null,null,null,null,null,null,null,{"$f":"IF(Analyze!G760=\"\",\"\",Analyze!G760)","v":""},{"$f":"IF(Analyze!S760=\"\",\"\",Analyze!S760)","v":{"$error":"#VALUE!"}},null,null,null,null,null,null,null,"","","",75.399999999999991,-40.295648381011766,75.399999999999991,-11.503369109306728,75.399999999999991,-15.503369109306727,75.399999999999991,-19.503369109306771,{"$error":"#VALUE!"},{"$error":"#VALUE!"},{"$error":"#VALUE!"},{"$error":"#VALUE!"},{"$error":"#VALUE!"},{"$error":"#VALUE!"},{"$error":"#VALUE!"},{"$error":"#VALUE!"},{"$error":"#VALUE!"},{"$error":"#VALUE!"},{"$error":"#VALUE!"},{"$error":"#VALUE!"}]
[null,null,null,null,null,null,null,null,null,null,null,null,null,null,{"$f":"IF(Analyze!G761=\"\",\"\",Analyze!G761)","v":""},{"$f":"IF(Analyze!S761=\"\",\"\",Analyze!S761)","v":{"$error":"#VALUE!"}},null,null,null,null,null,null,null,"","","",75.499999999999986,-40.365669134832736,75.499999999999986,-11.530164028549841,75.499999999999986,-15.530164028549839,75.499999999999986,-19.530164028549883,{"$error":"#VALUE!"},{"$error":"#VALUE!"},{"$error":"#VALUE!"},{"$error":"#VALUE!"},{"$error":"#VALUE!"},{"$error":"#VALUE!"},{"$error":"#VALUE!"},{"$error":"#VALUE!"},{"$error":"#VALUE!"},{"$error":"#VALUE!"},{"$error":"#VALUE!"},{"$error":"#VALUE!"}]
[null,null,null,null,null,null,null,null,null,null,null,null,null,null,{"$f":"IF(Analyze!G762=\"\",\"\",Analyze!G762)","v":""},{"$f":"IF(Analyze!S762=\"\",\"\",Analyze!S762)","v":{"$error":"#VALUE!"}},null,null,null,null,null,null,null,"","","",75.59999999999998,-40.435689888653705,75.59999999999998,-11.556958947792953,75.59999999999998,-15.556958947792952,75.59999999999998,-19.556958947792996,{"$error":"#VALUE!"},{"$error":"#VALUE!"},{"$error":"#VALUE!"},{"$error":"#VALUE!"},{"$error":"#VALUE!"},{"$error":"#VALUE!"},{"$error":"#VALUE!"},{"$error":"#VALUE!"},{"$error":"#VALUE!"},{"$error":"#VALUE!"},{"$error":"#VALUE!"},{"$error":"#VALUE!"}]
[null,null,null,null,null,null,null,null,null,null,null,null,null,null,{"$f":"IF(Analyze!G763=\"\",\"\",Analyze!G763)","v":""},{"$f":"IF(Analyze!S763=\"\",\"\",Analyze!S763)","v":{"$error":"#VALUE!"}},null,null,null,null,null,null,null,"","","",75.699999999999974,-40.505710642474675,75.699999999999974,-11.583753867036066,75.699999999999974,-15.583753867036064,75.699999999999974,-19.583753867036108,{"$error":"#VALUE!"},{"$error":"#VALUE!"},{"$error":"#VALUE!"},{"$error":"#VALUE!"},{"$error":"#VALUE!"},{"$error":"#VALUE!"},{"$error":"#VALUE!"},{"$error":"#VALUE!"},{"$error":"#VALUE!"},{"$error":"#VALUE!"},{"$error":"#VALUE!"},{"$error":"#VALUE!"}]
[null,null,null,null,null,null,null,null,null,null,null,null,null,null,{"$f":"IF(Analyze!G764=\"\",\"\",Analyze!G764)","v":""},{"$f":"IF(Analyze!S764=\"\",\"\",Analyze!S764)","v":{"$error":"#VALUE!"}},null,null,null,null,null,null,null,"","","",75.799999999999969,-40.575731396295645,75.799999999999969,-11.610548786279178,75.799999999999969,-15.610548786279177,75.799999999999969,-19.610548786279221,{"$error":"#VALUE!"},{"$error":"#VALUE!"},{"$error":"#VALUE!"},{"$error":"#VALUE!"},{"$error":"#VALUE!"},{"$error":"#VALUE!"},{"$error":"#VALUE!"},{"$error":"#VALUE!"},{"$error":"#VALUE!"},{"$error":"#VALUE!"},{"$error":"#VALUE!"},{"$error":"#VALUE!"}]
[null,null,null,null,null,null,null,null,null,null,null,null,null,null,{"$f":"IF(Analyze!G765=\"\",\"\",Analyze!G765)","v":""},{"$f":"IF(Analyze!S765=\"\",\"\",Analyze!S765)","v":{"$error":"#VALUE!"}},null,null,null,null,null,null,null,"","","",75.899999999999963,-40.645752150116614,75.899999999999963,-11.637343705522291,75.899999999999963,-15.637343705522289,75.899999999999963,-19.637343705522333,{"$error":"#VALUE!"},{"$error":"#VALUE!"},{"$error":"#VALUE!"},{"$error":"#VALUE!"},{"$error":"#VALUE!"},{"$error":"#VALUE!"},{"$error":"#VALUE!"},{"$error":"#VALUE!"},{"$error":"#VALUE!"},{"$error":"#VALUE!"},{"$error":"#VALUE!"},{"$error":"#VALUE!"}]
[null,null,null,null,null,null,null,null,null,null,null,null,null,null,{"$f":"IF(Analyze!G766=\"\",\"\",Analyze!G766)","v":""},{"$f":"IF(Analyze!S766=\"\",\"\",Analyze!S766)","v":{"$error":"#VALUE!"}},null,null,null,null,null,null,null,"","","",75.999999999999957,-40.715772903937584,75.999999999999957,-11.664138624765403,75.999999999999957,-15.664138624765402,75.999999999999957,-19.664138624765446,{"$error":"#VALUE!"},{"$error":"#VALUE!"},{"$error":"#VALUE!"},{"$error":"#VALUE!"},{"$error":"#VALUE!"},{"$error":"#VALUE!"},{"$error":"#VALUE!"},{"$error":"#VALUE!"},{"$error":"#VALUE!"},{"$error":"#VALUE!"},{"$error":"#VALUE!"},{"$error":"#VALUE!"}]
[null,null,null,null,null,null,null,null,null,null,null,null,null,null,{"$f":"IF(Analyze!G767=\"\",\"\",Analyze!G767)","v":""},{"$f":"IF(Analyze!S767=\"\",\"\",Analyze!S767)","v":{"$error":"#VALUE!"}},null,null,null,null,null,null,null,"","","",76.099999999999952,-40.785793657758553,76.099999999999952,-11.690933544008516,76.099999999999952,-15.690933544008514,76.099999999999952,-19.690933544008558,{"$error":"#VALUE!"},{"$error":"#VALUE!"},{"$error":"#VALUE!"},{"$error":"#VALUE!"},{"$error":"#VALUE!"},{"$error":"#VALUE!"},{"$error":"#VALUE!"},{"$error":"#VALUE!"},{"$error":"#VALUE!"},{"$error":"#VALUE!"},{"$error":"#VALUE!"},{"$error":"#VALUE!"}]
[null,null,null,null,null,null,null,null,null,null,null,null,null,null,{"$f":"IF(Analyze!G768=\"\",\"\",Analyze!G768)","v":""},{"$f":"IF(Analyze!S768=\"\",\"\",Analyze!S768)","v":{"$error":"#VALUE!"}},null,null,null,null,null,null,null,"","","",76.199999999999946,-40.855814411579523,76.199999999999946,-11.717728463251628,76.199999999999946,-15.717728463251627,76.199999999999946,-19.717728463251671,{"$error":"#VALUE!"},{"$error":"#VALUE!"},{"$error":"#VALUE!"},{"$error":"#VALUE!"},{"$error":"#VALUE!"},{"$error":"#VALUE!"},{"$error":"#VALUE!"},{"$error":"#VALUE!"},{"$error":"#VALUE!"},{"$error":"#VALUE!"},{"$error":"#VALUE!"},{"$error":"#VALUE!"}]
[null,null,null,null,null,null,null,null,null,null,null,null,null,null,{"$f":"IF(Analyze!G769=\"\",\"\",Analyze!G769)","v":""},{"$f":"IF(Analyze!S769=\"\",\"\",Analyze!S769)","v":{"$error":"#VALUE!"}},null,null,null,null,null,null,null,"","","",76.29999999999994,-40.925835165400493,76.29999999999994,-11.744523382494741,76.29999999999994,-15.744523382494739,76.29999999999994,-19.744523382494783,{"$error":"#VALUE!"},{"$error":"#VALUE!"},{"$error":"#VALUE!"},{"$error":"#VALUE!"},{"$error":"#VALUE!"},{"$error":"#VALUE!"},{"$error":"#VALUE!"},{"$error":"#VALUE!"},{"$error":"#VALUE!"},{"$error":"#VALUE!"},{"$error":"#VALUE!"},{"$error":"#VALUE!"}]
[null,null,null,null,null,null,null,null,null,null,null,null,null,null,{"$f":"IF(Analyze!G770=\"\",\"\",Analyze!G770)","v":""},{"$f":"IF(Analyze!S770=\"\",\"\",Analyze!S770)","v":{"$error":"#VALUE!"}},null,null,null,null,null,null,null,"","","",76.399999999999935,-40.995855919221462,76.399999999999935,-11.771318301737853,76.399999999999935,-15.771318301737852,76.399999999999935,-19.771318301737896,{"$error":"#VALUE!"},{"$error":"#VALUE!"},{"$error":"#VALUE!"},{"$error":"#VALUE!"},{"$error":"#VALUE!"},{"$error":"#VALUE!"},{"$error":"#VALUE!"},{"$error":"#VALUE!"},{"$error":"#VALUE!"},{"$error":"#VALUE!"},{"$error":"#VALUE!"},{"$error":"#VALUE!"}]
[null,null,null,null,null,null,null,null,null,null,null,null,null,null,{"$f":"IF(Analyze!G771=\"\",\"\",Analyze!G771)","v":""},{"$f":"IF(Analyze!S771=\"\",\"\",Analyze!S771)","v":{"$error":"#VALUE!"}},null,null,null,null,null,null,null,"","","",76.499999999999929,-41.065876673042432,76.499999999999929,-11.798113220980966,76.499999999999929,-15.798113220980964,76.499999999999929,-19.798113220981008,{"$error":"#VALUE!"},{"$error":"#VALUE!"},{"$error":"#VALUE!"},{"$error":"#VALUE!"},{"$error":"#VALUE!"},{"$error":"#VALUE!"},{"$error":"#VALUE!"},{"$error":"#VALUE!"},{"$error":"#VALUE!"},{"$error":"#VALUE!"},{"$error":"#VALUE!"},{"$error":"#VALUE!"}]
[null,null,null,null,null,null,null,null,null,null,null,null,null,null,{"$f":"IF(Analyze!G772=\"\",\"\",Analyze!G772)","v":""},{"$f":"IF(Analyze!S772=\"\",\"\",Analyze!S772)","v":{"$error":"#VALUE!"}},null,null,null,null,null,null,null,"","","",76.599999999999923,-41.135897426863401,76.599999999999923,-11.824908140224078,76.599999999999923,-15.824908140224077,76.599999999999923,-19.824908140224121,{"$error":"#VALUE!"},{"$error":"#VALUE!"},{"$error":"#VALUE!"},{"$error":"#VALUE!"},{"$error":"#VALUE!"},{"$error":"#VALUE!"},{"$error":"#VALUE!"},{"$error":"#VALUE!"},{"$error":"#VALUE!"},{"$error":"#VALUE!"},{"$error":"#VALUE!"},{"$error":"#VALUE!"}]
[null,null,null,null,null,null,null,null,null,null,null,null,null,null,{"$f":"IF(Analyze!G773=\"\",\"\",Analyze!G773)","v":""},{"$f":"IF(Analyze!S773=\"\",\"\",Analyze!S773)","v":{"$error":"#VALUE!"}},null,null,null,null,null,null,null,"","","",76.699999999999918,-41.205918180684371,76.699999999999918,-11.851703059467191,76.699999999999918,-15.851703059467189,76.699999999999918,-19.851703059467233,{"$error":"#VALUE!"},{"$error":"#VALUE!"},{"$error":"#VALUE!"},{"$error":"#VALUE!"},{"$error":"#VALUE!"},{"$error":"#VALUE!"},{"$error":"#VALUE!"},{"$error":"#VALUE!"},{"$error":"#VALUE!"},{"$error":"#VALUE!"},{"$error":"#VALUE!"},{"$error":"#VALUE!"}]
[null,null,null,null,null,null,null,null,null,null,null,null,null,null,{"$f":"IF(Analyze!G774=\"\",\"\",Analyze!G774)","v":""},{"$f":"IF(Analyze!S774=\"\",\"\",Analyze!S774)","v":{"$error":"#VALUE!"}},null,null,null,null,null,null,null,{"$f":"IF(O774=\"\",\"\",IF(O774>h+$H$2,(\"\"),(h-O774)))","v":""},"","",76.799999999999912,-41.275938934505341,76.799999999999912,-11.878497978710303,76.799999999999912,-15.878497978710302,76.799999999999912,-19.878497978710346,{"$error":"#VALUE!"},{"$error":"#VALUE!"},{"$error":"#VALUE!"},{"$error":"#VALUE!"},{"$error":"#VALUE!"},{"$error":"#VALUE!"},{"$error":"#VALUE!"},{"$error":"#VALUE!"},{"$error":"#VALUE!"},{"$error":"#VALUE!"},{"$error":"#VALUE!"},{"$error":"#VALUE!"}]
[null,null,null,null,null,null,null,null,null,null,null,null,null,null,{"$f":"IF(Analyze!G775=\"\",\"\",Analyze!G775)","v":""},{"$f":"IF(Analyze!S775=\"\",\"\",Analyze!S775)","v":{"$error":"#VALUE!"}},null,null,null,null,null,null,null,"","","",76.899999999999906,-41.34595968832631,76.899999999999906,-11.905292897953416,76.899999999999906,-15.905292897953414,76.899999999999906,-19.905292897953458,{"$error":"#VALUE!"},{"$error":"#VALUE!"},{"$error":"#VALUE!"},{"$error":"#VALUE!"},{"$error":"#VALUE!"},{"$error":"#VALUE!"},{"$error":"#VALUE!"},{"$error":"#VALUE!"},{"$error":"#VALUE!"},{"$error":"#VALUE!"},{"$error":"#VALUE!"},{"$error":"#VALUE!"}]
[null,null,null,null,null,null,null,null,null,null,null,null,null,null,{"$f":"IF(Analyze!G776=\"\",\"\",Analyze!G776)","v":""},{"$f":"IF(Analyze!S776=\"\",\"\",Analyze!S776)","v":{"$error":"#VALUE!"}},null,null,null,null,null,null,null,"","","",{"$f":"AA775+0.1","v":76.999999999999901},{"$f":"AB775-0.1*TAN(RADIANS($F$7))","v":-41.41598044214728},{"$f":"AC775+0.1","v":76.999999999999901},{"$f":"AD775-0.1*TAN(RADIANS($F$8))","v":-11.932087817196528},{"$f":"AE775+0.1","v":76.999999999999901},{"$f":"AF775-0.1*TAN(RADIANS($F$9))","v":-15.932087817196527},{"$f":"AG775+0.1","v":76.999999999999901},{"$f":"AH775-0.1*TAN(RADIANS($F$10))","v":-19.932087817196571},{"$f":"AI775+0.1","v":{"$error":"#VALUE!"}},{"$f":"AJ775-0.1*TAN(RADIANS($F$11))","v":{"$error":"#VALUE!"}},{"$f":"AK775+0.1","v":{"$error":"#VALUE!"}},{"$f":"AL775-0.1*TAN(RADIANS($F$12))","v":{"$error":"#VALUE!"}},{"$f":"AM775+0.1","v":{"$error":"#VALUE!"}},{"$f":"AN775-0.1*TAN(RADIANS($F$13))","v":{"$error":"#VALUE!"}},{"$f":"AO775+0.1","v":{"$error":"#VALUE!"}},{"$f":"AP775-0.1*TAN(RADIANS($F$14))","v":{"$error":"#VALUE!"}},{"$f":"AQ775+0.1","v":{"$error":"#VALUE!"}},{"$f":"AR775-0.1*TAN(RADIANS($F$15))","v":{"$error":"#VALUE!"}},{"$f":"AS775+0.1","v":{"$error":"#VALUE!"}},{"$f":"AT775-0.1*TAN(RADIANS($F$16))","v":{"$error":"#VALUE!"}}]
[null,null,null,null,null,null,null,null,null,null,null,null,null,null,{"$f":"IF(Analyze!G777=\"\",\"\",Analyze!G777)","v":""},{"$f":"IF(Analyze!S777=\"\",\"\",Analyze!S777)","v":{"$error":"#VALUE!"}},null,null,null,null,null,null,null,"","","",77.099999999999895,-41.48600119596825,77.099999999999895,-11.958882736439641,77.099999999999895,-15.958882736439639,77.099999999999895,-19.958882736439683,{"$error":"#VALUE!"},{"$error":"#VALUE!"},{"$error":"#VALUE!"},{"$error":"#VALUE!"},{"$error":"#VALUE!"},{"$error":"#VALUE!"},{"$error":"#VALUE!"},{"$error":"#VALUE!"},{"$error":"#VALUE!"},{"$error":"#VALUE!"},{"$error":"#VALUE!"},{"$error":"#VALUE!"}]
[null,null,null,null,null,null,null,null,null,null,null,null,null,null,{"$f":"IF(Analyze!G778=\"\",\"\",Analyze!G778)","v":""},{"$f":"IF(Analyze!S778=\"\",\"\",Analyze!S778)","v":{"$error":"#VALUE!"}},null,null,null,null,null,null,null,"","","",77.199999999999889,-41.556021949789219,77.199999999999889,-11.985677655682753,77.199999999999889,-15.985677655682752,77.199999999999889,-19.985677655682796,{"$error":"#VALUE!"},{"$error":"#VALUE!"},{"$error":"#VALUE!"},{"$error":"#VALUE!"},{"$error":"#VALUE!"},{"$error":"#VALUE!"},{"$error":"#VALUE!"},{"$error":"#VALUE!"},{"$error":"#VALUE!"},{"$error":"#VALUE!"},{"$error":"#VALUE!"},{"$error":"#VALUE!"}]
[null,null,null,null,null,null,null,null,null,null,null,null,null,null,{"$f":"IF(Analyze!G779=\"\",\"\",Analyze!G779)","v":""},{"$f":"IF(Analyze!S779=\"\",\"\",Analyze!S779)","v":{"$error":"#VALUE!"}},null,null,null,null,null,null,null,"","","",77.299999999999883,-41.626042703610189,77.299999999999883,-12.012472574925866,77.299999999999883,-16.012472574925862,77.299999999999883,-20.012472574925908,{"$error":"#VALUE!"},{"$error":"#VALUE!"},{"$error":"#VALUE!"},{"$error":"#VALUE!"},{"$error":"#VALUE!"},{"$error":"#VALUE!"},{"$error":"#VALUE!"},{"$error":"#VALUE!"},{"$error":"#VALUE!"},{"$error":"#VALUE!"},{"$error":"#VALUE!"},{"$error":"#VALUE!"}]
[null,null,null,null,null,null,null,null,null,null,null,null,null,null,{"$f":"IF(Analyze!G780=\"\",\"\",Analyze!G780)","v":""},{"$f":"IF(Analyze!S780=\"\",\"\",Analyze!S780)","v":{"$error":"#VALUE!"}},null,null,null,null,null,null,null,"","","",77.399999999999878,-41.696063457431158,77.399999999999878,-12.039267494168978,77.399999999999878,-16.039267494168975,77.399999999999878,-20.039267494169021,{"$error":"#VALUE!"},{"$error":"#VALUE!"},{"$error":"#VALUE!"},{"$error":"#VALUE!"},{"$error":"#VALUE!"},{"$error":"#VALUE!"},{"$error":"#VALUE!"},{"$error":"#VALUE!"},{"$error":"#VALUE!"},{"$error":"#VALUE!"},{"$error":"#VALUE!"},{"$error":"#VALUE!"}]
[null,null,null,null,null,null,null,null,null,null,null,null,null,null,{"$f":"IF(Analyze!G781=\"\",\"\",Analyze!G781)","v":""},{"$f":"IF(Analyze!S781=\"\",\"\",Analyze!S781)","v":{"$error":"#VALUE!"}},null,null,null,null,null,null,null,"","","",77.499999999999872,-41.766084211252128,77.499999999999872,-12.066062413412091,77.499999999999872,-16.066062413412087,77.499999999999872,-20.066062413412133,{"$error":"#VALUE!"},{"$error":"#VALUE!"},{"$error":"#VALUE!"},{"$error":"#VALUE!"},{"$error":"#VALUE!"},{"$error":"#VALUE!"},{"$error":"#VALUE!"},{"$error":"#VALUE!"},{"$error":"#VALUE!"},{"$error":"#VALUE!"},{"$error":"#VALUE!"},{"$error":"#VALUE!"}]
[null,null,null,null,null,null,null,null,null,null,null,null,null,null,{"$f":"IF(Analyze!G782=\"\",\"\",Analyze!G782)","v":""},{"$f":"IF(Analyze!S782=\"\",\"\",Analyze!S782)","v":{"$error":"#VALUE!"}},null,null,null,null,null,null,null,"","","",77.599999999999866,-41.836104965073098,77.599999999999866,-12.092857332655203,77.599999999999866,-16.0928573326552,77.599999999999866,-20.092857332655246,{"$error":"#VALUE!"},{"$error":"#VALUE!"},{"$error":"#VALUE!"},{"$error":"#VALUE!"},{"$error":"#VALUE!"},{"$error":"#VALUE!"},{"$error":"#VALUE!"},{"$error":"#VALUE!"},{"$error":"#VALUE!"},{"$error":"#VALUE!"},{"$error":"#VALUE!"},{"$error":"#VALUE!"}]
[null,null,null,null,null,null,null,null,null,null,null,null,null,null,{"$f":"IF(Analyze!G783=\"\",\"\",Analyze!G783)","v":""},{"$f":"IF(Analyze!S783=\"\",\"\",Analyze!S783)","v":{"$error":"#VALUE!"}},null,null,null,null,null,null,null,"","","",77.699999999999861,-41.906125718894067,77.699999999999861,-12.119652251898316,77.699999999999861,-16.119652251898312,77.699999999999861,-20.119652251898358,{"$error":"#VALUE!"},{"$error":"#VALUE!"},{"$error":"#VALUE!"},{"$error":"#VALUE!"},{"$error":"#VALUE!"},{"$error":"#VALUE!"},{"$error":"#VALUE!"},{"$error":"#VALUE!"},{"$error":"#VALUE!"},{"$error":"#VALUE!"},{"$error":"#VALUE!"},{"$error":"#VALUE!"}]
[null,null,null,null,null,null,null,null,null,null,null,null,null,null,{"$f":"IF(Analyze!G784=\"\",\"\",Analyze!G784)","v":""},{"$f":"IF(Analyze!S784=\"\",\"\",Analyze!S784)","v":{"$error":"#VALUE!"}},null,null,null,null,null,null,null,"","","",77.799999999999855,-41.976146472715037,77.799999999999855,-12.146447171141428,77.799999999999855,-16.146447171141425,77.799999999999855,-20.146447171141471,{"$error":"#VALUE!"},{"$error":"#VALUE!"},{"$error":"#VALUE!"},{"$error":"#VALUE!"},{"$error":"#VALUE!"},{"$error":"#VALUE!"},{"$error":"#VALUE!"},{"$error":"#VALUE!"},{"$error":"#VALUE!"},{"$error":"#VALUE!"},{"$error":"#VALUE!"},{"$error":"#VALUE!"}]
[null,null,null,null,null,null,null,null,null,null,null,null,null,null,{"$f":"IF(Analyze!G785=\"\",\"\",Analyze!G785)","v":""},{"$f":"IF(Analyze!S785=\"\",\"\",Analyze!S785)","v":{"$error":"#VALUE!"}},null,null,null,null,null,null,null,"","","",77.899999999999849,-42.046167226536006,77.899999999999849,-12.173242090384541,77.899999999999849,-16.173242090384537,77.899999999999849,-20.173242090384583,{"$error":"#VALUE!"},{"$error":"#VALUE!"},{"$error":"#VALUE!"},{"$error":"#VALUE!"},{"$error":"#VALUE!"},{"$error":"#VALUE!"},{"$error":"#VALUE!"},{"$error":"#VALUE!"},{"$error":"#VALUE!"},{"$error":"#VALUE!"},{"$error":"#VALUE!"},{"$error":"#VALUE!"}]
[null,null,null,null,null,null,null,null,null,null,null,null,null,null,{"$f":"IF(Analyze!G786=\"\",\"\",Analyze!G786)","v":""},{"$f":"IF(Analyze!S786=\"\",\"\",Analyze!S786)","v":{"$error":"#VALUE!"}},null,null,null,null,null,null,null,"","","",77.999999999999844,-42.116187980356976,77.999999999999844,-12.200037009627653,77.999999999999844,-16.20003700962765,77.999999999999844,-20.200037009627696,{"$error":"#VALUE!"},{"$error":"#VALUE!"},{"$error":"#VALUE!"},{"$error":"#VALUE!"},{"$error":"#VALUE!"},{"$error":"#VALUE!"},{"$error":"#VALUE!"},{"$error":"#VALUE!"},{"$error":"#VALUE!"},{"$error":"#VALUE!"},{"$error":"#VALUE!"},{"$error":"#VALUE!"}]
[null,null,null,null,null,null,null,null,null,null,null,null,null,null,{"$f":"IF(Analyze!G787=\"\",\"\",Analyze!G787)","v":""},{"$f":"IF(Analyze!S787=\"\",\"\",Analyze!S787)","v":{"$error":"#VALUE!"}},null,null,null,null,null,null,null,"","","",78.099999999999838,-42.186208734177946,78.099999999999838,-12.226831928870766,78.099999999999838,-16.226831928870762,78.099999999999838,-20.226831928870808,{"$error":"#VALUE!"},{"$error":"#VALUE!"},{"$error":"#VALUE!"},{"$error":"#VALUE!"},{"$error":"#VALUE!"},{"$error":"#VALUE!"},{"$error":"#VALUE!"},{"$error":"#VALUE!"},{"$error":"#VALUE!"},{"$error":"#VALUE!"},{"$error":"#VALUE!"},{"$error":"#VALUE!"}]
[null,null,null,null,null,null,null,null,null,null,null,null,null,null,{"$f":"IF(Analyze!G788=\"\",\"\",Analyze!G788)","v":""},{"$f":"IF(Analyze!S788=\"\",\"\",Analyze!S788)","v":{"$error":"#VALUE!"}},null,null,null,null,null,null,null,"","","",78.199999999999832,-42.256229487998915,78.199999999999832,-12.253626848113878,78.199999999999832,-16.253626848113875,78.199999999999832,-20.253626848113921,{"$error":"#VALUE!"},{"$error":"#VALUE!"},{"$error":"#VALUE!"},{"$error":"#VALUE!"},{"$error":"#VALUE!"},{"$error":"#VALUE!"},{"$error":"#VALUE!"},{"$error":"#VALUE!"},{"$error":"#VALUE!"},{"$error":"#VALUE!"},{"$error":"#VALUE!"},{"$error":"#VALUE!"}]
[null,null,null,null,null,null,null,null,null,null,null,null,null,null,{"$f":"IF(Analyze!G789=\"\",\"\",Analyze!G789)","v":""},{"$f":"IF(Analyze!S789=\"\",\"\",Analyze!S789)","v":{"$error":"#VALUE!"}},null,null,null,null,null,null,null,"","","",78.299999999999827,-42.326250241819885,78.299999999999827,-12.280421767356991,78.299999999999827,-16.280421767356987,78.299999999999827,-20.280421767357034,{"$error":"#VALUE!"},{"$error":"#VALUE!"},{"$error":"#VALUE!"},{"$error":"#VALUE!"},{"$error":"#VALUE!"},{"$error":"#VALUE!"},{"$error":"#VALUE!"},{"$error":"#VALUE!"},{"$error":"#VALUE!"},{"$error":"#VALUE!"},{"$error":"#VALUE!"},{"$error":"#VALUE!"}]
[null,null,null,null,null,null,null,null,null,null,null,null,null,null,{"$f":"IF(Analyze!G790=\"\",\"\",Analyze!G790)","v":""},{"$f":"IF(Analyze!S790=\"\",\"\",Analyze!S790)","v":{"$error":"#VALUE!"}},null,null,null,null,null,null,null,"","","",78.399999999999821,-42.396270995640855,78.399999999999821,-12.307216686600103,78.399999999999821,-16.3072166866001,78.399999999999821,-20.307216686600146,{"$error":"#VALUE!"},{"$error":"#VALUE!"},{"$error":"#VALUE!"},{"$error":"#VALUE!"},{"$error":"#VALUE!"},{"$error":"#VALUE!"},{"$error":"#VALUE!"},{"$error":"#VALUE!"},{"$error":"#VALUE!"},{"$error":"#VALUE!"},{"$error":"#VALUE!"},{"$error":"#VALUE!"}]
[null,null,null,null,null,null,null,null,null,null,null,null,null,null,{"$f":"IF(Analyze!G791=\"\",\"\",Analyze!G791)","v":""},{"$f":"IF(Analyze!S791=\"\",\"\",Analyze!S791)","v":{"$error":"#VALUE!"}},null,null,null,null,null,null,null,"","","",78.499999999999815,-42.466291749461824,78.499999999999815,-12.334011605843216,78.499999999999815,-16.334011605843212,78.499999999999815,-20.334011605843259,{"$error":"#VALUE!"},{"$error":"#VALUE!"},{"$error":"#VALUE!"},{"$error":"#VALUE!"},{"$error":"#VALUE!"},{"$error":"#VALUE!"},{"$error":"#VALUE!"},{"$error":"#VALUE!"},{"$error":"#VALUE!"},{"$error":"#VALUE!"},{"$error":"#VALUE!"},{"$error":"#VALUE!"}]
[null,null,null,null,null,null,null,null,null,null,null,null,null,null,{"$f":"IF(Analyze!G792=\"\",\"\",Analyze!G792)","v":""},{"$f":"IF(Analyze!S792=\"\",\"\",Analyze!S792)","v":{"$error":"#VALUE!"}},null,null,null,null,null,null,null,"","","",78.59999999999981,-42.536312503282794,78.59999999999981,-12.360806525086328,78.59999999999981,-16.360806525086325,78.59999999999981,-20.360806525086371,{"$error":"#VALUE!"},{"$error":"#VALUE!"},{"$error":"#VALUE!"},{"$error":"#VALUE!"},{"$error":"#VALUE!"},{"$error":"#VALUE!"},{"$error":"#VALUE!"},{"$error":"#VALUE!"},{"$error":"#VALUE!"},{"$error":"#VALUE!"},{"$error":"#VALUE!"},{"$error":"#VALUE!"}]
[null,null,null,null,null,null,null,null,null,null,null,null,null,null,{"$f":"IF(Analyze!G793=\"\",\"\",Analyze!G793)","v":""},{"$f":"IF(Analyze!S793=\"\",\"\",Analyze!S793)","v":{"$error":"#VALUE!"}},null,null,null,null,null,null,null,"","","",78.699999999999804,-42.606333257103763,78.699999999999804,-12.387601444329441,78.699999999999804,-16.387601444329437,78.699999999999804,-20.387601444329484,{"$error":"#VALUE!"},{"$error":"#VALUE!"},{"$error":"#VALUE!"},{"$error":"#VALUE!"},{"$error":"#VALUE!"},{"$error":"#VALUE!"},{"$error":"#VALUE!"},{"$error":"#VALUE!"},{"$error":"#VALUE!"},{"$error":"#VALUE!"},{"$error":"#VALUE!"},{"$error":"#VALUE!"}]
[null,null,null,null,null,null,null,null,null,null,null,null,null,null,{"$f":"IF(Analyze!G794=\"\",\"\",Analyze!G794)","v":""},{"$f":"IF(Analyze!S794=\"\",\"\",Analyze!S794)","v":{"$error":"#VALUE!"}},null,null,null,null,null,null,null,"","","",78.799999999999798,-42.676354010924733,78.799999999999798,-12.414396363572553,78.799999999999798,-16.41439636357255,78.799999999999798,-20.414396363572596,{"$error":"#VALUE!"},{"$error":"#VALUE!"},{"$error":"#VALUE!"},{"$error":"#VALUE!"},{"$error":"#VALUE!"},{"$error":"#VALUE!"},{"$error":"#VALUE!"},{"$error":"#VALUE!"},{"$error":"#VALUE!"},{"$error":"#VALUE!"},{"$error":"#VALUE!"},{"$error":"#VALUE!"}]
[null,null,null,null,null,null,null,null,null,null,null,null,null,null,{"$f":"IF(Analyze!G795=\"\",\"\",Analyze!G795)","v":""},{"$f":"IF(Analyze!S795=\"\",\"\",Analyze!S795)","v":{"$error":"#VALUE!"}},null,null,null,null,null,null,null,"","","",78.899999999999793,-42.746374764745703,78.899999999999793,-12.441191282815666,78.899999999999793,-16.441191282815662,78.899999999999793,-20.441191282815709,{"$error":"#VALUE!"},{"$error":"#VALUE!"},{"$error":"#VALUE!"},{"$error":"#VALUE!"},{"$error":"#VALUE!"},{"$error":"#VALUE!"},{"$error":"#VALUE!"},{"$error":"#VALUE!"},{"$error":"#VALUE!"},{"$error":"#VALUE!"},{"$error":"#VALUE!"},{"$error":"#VALUE!"}]
[null,null,null,null,null,null,null,null,null,null,null,null,null,null,{"$f":"IF(Analyze!G796=\"\",\"\",Analyze!G796)","v":""},{"$f":"IF(Analyze!S796=\"\",\"\",Analyze!S796)","v":{"$error":"#VALUE!"}},null,null,null,null,null,null,null,"","","",78.999999999999787,-42.816395518566672,78.999999999999787,-12.467986202058778,78.999999999999787,-16.467986202058775,78.999999999999787,-20.467986202058821,{"$error":"#VALUE!"},{"$error":"#VALUE!"},{"$error":"#VALUE!"},{"$error":"#VALUE!"},{"$error":"#VALUE!"},{"$error":"#VALUE!"},{"$error":"#VALUE!"},{"$error":"#VALUE!"},{"$error":"#VALUE!"},{"$error":"#VALUE!"},{"$error":"#VALUE!"},{"$error":"#VALUE!"}]
[null,null,null,null,null,null,null,null,null,null,null,null,null,null,{"$f":"IF(Analyze!G797=\"\",\"\",Analyze!G797)","v":""},{"$f":"IF(Analyze!S797=\"\",\"\",Analyze!S797)","v":{"$error":"#VALUE!"}},null,null,null,null,null,null,null,"","","",79.099999999999781,-42.886416272387642,79.099999999999781,-12.494781121301891,79.099999999999781,-16.494781121301887,79.099999999999781,-20.494781121301934,{"$error":"#VALUE!"},{"$error":"#VALUE!"},{"$error":"#VALUE!"},{"$error":"#VALUE!"},{"$error":"#VALUE!"},{"$error":"#VALUE!"},{"$error":"#VALUE!"},{"$error":"#VALUE!"},{"$error":"#VALUE!"},{"$error":"#VALUE!"},{"$error":"#VALUE!"},{"$error":"#VALUE!"}]
[null,null,null,null,null,null,null,null,null,null,null,null,null,null,{"$f":"IF(Analyze!G798=\"\",\"\",Analyze!G798)","v":""},{"$f":"IF(Analyze!S798=\"\",\"\",Analyze!S798)","v":{"$error":"#VALUE!"}},null,null,null,null,null,null,null,"","","",79.199999999999775,-42.956437026208611,79.199999999999775,-12.521576040545003,79.199999999999775,-16.521576040545,79.199999999999775,-20.521576040545046,{"$error":"#VALUE!"},{"$error":"#VALUE!"},{"$error":"#VALUE!"},{"$error":"#VALUE!"},{"$error":"#VALUE!"},{"$error":"#VALUE!"},{"$error":"#VALUE!"},{"$error":"#VALUE!"},{"$error":"#VALUE!"},{"$error":"#VALUE!"},{"$error":"#VALUE!"},{"$error":"#VALUE!"}]
[null,null,null,null,null,null,null,null,null,null,null,null,null,null,{"$f":"IF(Analyze!G799=\"\",\"\",Analyze!G799)","v":""},{"$f":"IF(Analyze!S799=\"\",\"\",Analyze!S799)","v":{"$error":"#VALUE!"}},null,null,null,null,null,null,null,"","","",79.29999999999977,-43.026457780029581,79.29999999999977,-12.548370959788116,79.29999999999977,-16.548370959788112,79.29999999999977,-20.548370959788159,{"$error":"#VALUE!"},{"$error":"#VALUE!"},{"$error":"#VALUE!"},{"$error":"#VALUE!"},{"$error":"#VALUE!"},{"$error":"#VALUE!"},{"$error":"#VALUE!"},{"$error":"#VALUE!"},{"$error":"#VALUE!"},{"$error":"#VALUE!"},{"$error":"#VALUE!"},{"$error":"#VALUE!"}]
[null,null,null,null,null,null,null,null,null,null,null,null,null,null,{"$f":"IF(Analyze!G800=\"\",\"\",Analyze!G800)","v":""},{"$f":"IF(Analyze!S800=\"\",\"\",Analyze!S800)","v":{"$error":"#VALUE!"}},null,null,null,null,null,null,null,"","","",79.399999999999764,-43.096478533850551,79.399999999999764,-12.575165879031228,79.399999999999764,-16.575165879031225,79.399999999999764,-20.575165879031271,{"$error":"#VALUE!"},{"$error":"#VALUE!"},{"$error":"#VALUE!"},{"$error":"#VALUE!"},{"$error":"#VALUE!"},{"$error":"#VALUE!"},{"$error":"#VALUE!"},{"$error":"#VALUE!"},{"$error":"#VALUE!"},{"$error":"#VALUE!"},{"$error":"#VALUE!"},{"$error":"#VALUE!"}]
[null,null,null,null,null,null,null,null,null,null,null,null,null,null,{"$f":"IF(Analyze!G801=\"\",\"\",Analyze!G801)","v":""},{"$f":"IF(Analyze!S801=\"\",\"\",Analyze!S801)","v":{"$error":"#VALUE!"}},null,null,null,null,null,null,null,"","","",79.499999999999758,-43.16649928767152,79.499999999999758,-12.601960798274341,79.499999999999758,-16.601960798274337,79.499999999999758,-20.601960798274384,{"$error":"#VALUE!"},{"$error":"#VALUE!"},{"$error":"#VALUE!"},{"$error":"#VALUE!"},{"$error":"#VALUE!"},{"$error":"#VALUE!"},{"$error":"#VALUE!"},{"$error":"#VALUE!"},{"$error":"#VALUE!"},{"$error":"#VALUE!"},{"$error":"#VALUE!"},{"$error":"#VALUE!"}]
[null,null,null,null,null,null,null,null,null,null,null,null,null,null,{"$f":"IF(Analyze!G802=\"\",\"\",Analyze!G802)","v":""},{"$f":"IF(Analyze!S802=\"\",\"\",Analyze!S802)","v":{"$error":"#VALUE!"}},null,null,null,null,null,null,null,"","","",79.599999999999753,-43.23652004149249,79.599999999999753,-12.628755717517453,79.599999999999753,-16.62875571751745,79.599999999999753,-20.628755717517496,{"$error":"#VALUE!"},{"$error":"#VALUE!"},{"$error":"#VALUE!"},{"$error":"#VALUE!"},{"$error":"#VALUE!"},{"$error":"#VALUE!"},{"$error":"#VALUE!"},{"$error":"#VALUE!"},{"$error":"#VALUE!"},{"$error":"#VALUE!"},{"$error":"#VALUE!"},{"$error":"#VALUE!"}]
[null,null,null,null,null,null,null,null,null,null,null,null,null,null,{"$f":"IF(Analyze!G803=\"\",\"\",Analyze!G803)","v":""},{"$f":"IF(Analyze!S803=\"\",\"\",Analyze!S803)","v":{"$error":"#VALUE!"}},null,null,null,null,null,null,null,"","","",79.699999999999747,-43.30654079531346,79.699999999999747,-12.655550636760566,79.699999999999747,-16.655550636760562,79.699999999999747,-20.655550636760609,{"$error":"#VALUE!"},{"$error":"#VALUE!"},{"$error":"#VALUE!"},{"$error":"#VALUE!"},{"$error":"#VALUE!"},{"$error":"#VALUE!"},{"$error":"#VALUE!"},{"$error":"#VALUE!"},{"$error":"#VALUE!"},{"$error":"#VALUE!"},{"$error":"#VALUE!"},{"$error":"#VALUE!"}]
[null,null,null,null,null,null,null,null,null,null,null,null,null,null,{"$f":"IF(Analyze!G804=\"\",\"\",Analyze!G804)","v":""},{"$f":"IF(Analyze!S804=\"\",\"\",Analyze!S804)","v":{"$error":"#VALUE!"}},null,null,null,null,null,null,null,"","","",79.799999999999741,-43.376561549134429,79.799999999999741,-12.682345556003678,79.799999999999741,-16.682345556003675,79.799999999999741,-20.682345556003721,{"$error":"#VALUE!"},{"$error":"#VALUE!"},{"$error":"#VALUE!"},{"$error":"#VALUE!"},{"$error":"#VALUE!"},{"$error":"#VALUE!"},{"$error":"#VALUE!"},{"$error":"#VALUE!"},{"$error":"#VALUE!"},{"$error":"#VALUE!"},{"$error":"#VALUE!"},{"$error":"#VALUE!"}]
[null,null,null,null,null,null,null,null,null,null,null,null,null,null,{"$f":"IF(Analyze!G805=\"\",\"\",Analyze!G805)","v":""},{"$f":"IF(Analyze!S805=\"\",\"\",Analyze!S805)","v":{"$error":"#VALUE!"}},null,null,null,null,null,null,null,"","","",79.899999999999736,-43.446582302955399,79.899999999999736,-12.709140475246791,79.899999999999736,-16.709140475246787,79.899999999999736,-20.709140475246834,{"$error":"#VALUE!"},{"$error":"#VALUE!"},{"$error":"#VALUE!"},{"$error":"#VALUE!"},{"$error":"#VALUE!"},{"$error":"#VALUE!"},{"$error":"#VALUE!"},{"$error":"#VALUE!"},{"$error":"#VALUE!"},{"$error":"#VALUE!"},{"$error":"#VALUE!"},{"$error":"#VALUE!"}]
[null,null,null,null,null,null,null,null,null,null,null,null,null,null,{"$f":"IF(Analyze!G806=\"\",\"\",Analyze!G806)","v":""},{"$f":"IF(Analyze!S806=\"\",\"\",Analyze!S806)","v":{"$error":"#VALUE!"}},null,null,null,null,null,null,null,"","","",79.99999999999973,-43.516603056776368,79.99999999999973,-12.735935394489903,79.99999999999973,-16.7359353944899,79.99999999999973,-20.735935394489946,{"$error":"#VALUE!"},{"$error":"#VALUE!"},{"$error":"#VALUE!"},{"$error":"#VALUE!"},{"$error":"#VALUE!"},{"$error":"#VALUE!"},{"$error":"#VALUE!"},{"$error":"#VALUE!"},{"$error":"#VALUE!"},{"$error":"#VALUE!"},{"$error":"#VALUE!"},{"$error":"#VALUE!"}]
[null,null,null,null,null,null,null,null,null,null,null,null,null,null,{"$f":"IF(Analyze!G807=\"\",\"\",Analyze!G807)","v":""},{"$f":"IF(Analyze!S807=\"\",\"\",Analyze!S807)","v":{"$error":"#VALUE!"}},null,null,null,null,null,null,null,"","","",80.099999999999724,-43.586623810597338,80.099999999999724,-12.762730313733016,80.099999999999724,-16.762730313733012,80.099999999999724,-20.762730313733059,{"$error":"#VALUE!"},{"$error":"#VALUE!"},{"$error":"#VALUE!"},{"$error":"#VALUE!"},{"$error":"#VALUE!"},{"$error":"#VALUE!"},{"$error":"#VALUE!"},{"$error":"#VALUE!"},{"$error":"#VALUE!"},{"$error":"#VALUE!"},{"$error":"#VALUE!"},{"$error":"#VALUE!"}]
[null,null,null,null,null,null,null,null,null,null,null,null,null,null,{"$f":"IF(Analyze!G808=\"\",\"\",Analyze!G808)","v":""},{"$f":"IF(Analyze!S808=\"\",\"\",Analyze!S808)","v":{"$error":"#VALUE!"}},null,null,null,null,null,null,null,"","","",80.199999999999719,-43.656644564418308,80.199999999999719,-12.789525232976128,80.199999999999719,-16.789525232976125,80.199999999999719,-20.789525232976171,{"$error":"#VALUE!"},{"$error":"#VALUE!"},{"$error":"#VALUE!"},{"$error":"#VALUE!"},{"$error":"#VALUE!"},{"$error":"#VALUE!"},{"$error":"#VALUE!"},{"$error":"#VALUE!"},{"$error":"#VALUE!"},{"$error":"#VALUE!"},{"$error":"#VALUE!"},{"$error":"#VALUE!"}]
[null,null,null,null,null,null,null,null,null,null,null,null,null,null,{"$f":"IF(Analyze!G809=\"\",\"\",Analyze!G809)","v":""},{"$f":"IF(Analyze!S809=\"\",\"\",Analyze!S809)","v":{"$error":"#VALUE!"}},null,null,null,null,null,null,null,"","","",80.299999999999713,-43.726665318239277,80.299999999999713,-12.816320152219241,80.299999999999713,-16.816320152219237,80.299999999999713,-20.816320152219284,{"$error":"#VALUE!"},{"$error":"#VALUE!"},{"$error":"#VALUE!"},{"$error":"#VALUE!"},{"$error":"#VALUE!"},{"$error":"#VALUE!"},{"$error":"#VALUE!"},{"$error":"#VALUE!"},{"$error":"#VALUE!"},{"$error":"#VALUE!"},{"$error":"#VALUE!"},{"$error":"#VALUE!"}]
[null,null,null,null,null,null,null,null,null,null,null,null,null,null,{"$f":"IF(Analyze!G810=\"\",\"\",Analyze!G810)","v":""},{"$f":"IF(Analyze!S810=\"\",\"\",Analyze!S810)","v":{"$error":"#VALUE!"}},null,null,null,null,null,null,null,"","","",80.399999999999707,-43.796686072060247,80.399999999999707,-12.843115071462353,80.399999999999707,-16.84311507146235,80.399999999999707,-20.843115071462396,{"$error":"#VALUE!"},{"$error":"#VALUE!"},{"$error":"#VALUE!"},{"$error":"#VALUE!"},{"$error":"#VALUE!"},{"$error":"#VALUE!"},{"$error":"#VALUE!"},{"$error":"#VALUE!"},{"$error":"#VALUE!"},{"$error":"#VALUE!"},{"$error":"#VALUE!"},{"$error":"#VALUE!"}]
[null,null,null,null,null,null,null,null,null,null,null,null,null,null,{"$f":"IF(Analyze!G811=\"\",\"\",Analyze!G811)","v":""},{"$f":"IF(Analyze!S811=\"\",\"\",Analyze!S811)","v":{"$error":"#VALUE!"}},null,null,null,null,null,null,null,"","","",80.499999999999702,-43.866706825881217,80.499999999999702,-12.869909990705466,80.499999999999702,-16.869909990705462,80.499999999999702,-20.869909990705509,{"$error":"#VALUE!"},{"$error":"#VALUE!"},{"$error":"#VALUE!"},{"$error":"#VALUE!"},{"$error":"#VALUE!"},{"$error":"#VALUE!"},{"$error":"#VALUE!"},{"$error":"#VALUE!"},{"$error":"#VALUE!"},{"$error":"#VALUE!"},{"$error":"#VALUE!"},{"$error":"#VALUE!"}]
[null,null,null,null,null,null,null,null,null,null,null,null,null,null,{"$f":"IF(Analyze!G812=\"\",\"\",Analyze!G812)","v":""},{"$f":"IF(Analyze!S812=\"\",\"\",Analyze!S812)","v":{"$error":"#VALUE!"}},null,null,null,null,null,null,null,"","","",80.599999999999696,-43.936727579702186,80.599999999999696,-12.896704909948578,80.599999999999696,-16.896704909948575,80.599999999999696,-20.896704909948621,{"$error":"#VALUE!"},{"$error":"#VALUE!"},{"$error":"#VALUE!"},{"$error":"#VALUE!"},{"$error":"#VALUE!"},{"$error":"#VALUE!"},{"$error":"#VALUE!"},{"$error":"#VALUE!"},{"$error":"#VALUE!"},{"$error":"#VALUE!"},{"$error":"#VALUE!"},{"$error":"#VALUE!"}]
[null,null,null,null,null,null,null,null,null,null,null,null,null,null,{"$f":"IF(Analyze!G813=\"\",\"\",Analyze!G813)","v":""},{"$f":"IF(Analyze!S813=\"\",\"\",Analyze!S813)","v":{"$error":"#VALUE!"}},null,null,null,null,null,null,null,"","","",80.69999999999969,-44.006748333523156,80.69999999999969,-12.923499829191691,80.69999999999969,-16.923499829191687,80.69999999999969,-20.923499829191734,{"$error":"#VALUE!"},{"$error":"#VALUE!"},{"$error":"#VALUE!"},{"$error":"#VALUE!"},{"$error":"#VALUE!"},{"$error":"#VALUE!"},{"$error":"#VALUE!"},{"$error":"#VALUE!"},{"$error":"#VALUE!"},{"$error":"#VALUE!"},{"$error":"#VALUE!"},{"$error":"#VALUE!"}]
[null,null,null,null,null,null,null,null,null,null,null,null,null,null,{"$f":"IF(Analyze!G814=\"\",\"\",Analyze!G814)","v":""},{"$f":"IF(Analyze!S814=\"\",\"\",Analyze!S814)","v":{"$error":"#VALUE!"}},null,null,null,null,null,null,null,"","","",80.799999999999685,-44.076769087344125,80.799999999999685,-12.950294748434803,80.799999999999685,-16.9502947484348,80.799999999999685,-20.950294748434846,{"$error":"#VALUE!"},{"$error":"#VALUE!"},{"$error":"#VALUE!"},{"$error":"#VALUE!"},{"$error":"#VALUE!"},{"$error":"#VALUE!"},{"$error":"#VALUE!"},{"$error":"#VALUE!"},{"$error":"#VALUE!"},{"$error":"#VALUE!"},{"$error":"#VALUE!"},{"$error":"#VALUE!"}]
[null,null,null,null,null,null,null,null,null,null,null,null,null,null,{"$f":"IF(Analyze!G815=\"\",\"\",Analyze!G815)","v":""},{"$f":"IF(Analyze!S815=\"\",\"\",Analyze!S815)","v":{"$error":"#VALUE!"}},null,null,null,null,null,null,null,"","","",80.899999999999679,-44.146789841165095,80.899999999999679,-12.977089667677916,80.899999999999679,-16.977089667677912,80.899999999999679,-20.977089667677959,{"$error":"#VALUE!"},{"$error":"#VALUE!"},{"$error":"#VALUE!"},{"$error":"#VALUE!"},{"$error":"#VALUE!"},{"$error":"#VALUE!"},{"$error":"#VALUE!"},{"$error":"#VALUE!"},{"$error":"#VALUE!"},{"$error":"#VALUE!"},{"$error":"#VALUE!"},{"$error":"#VALUE!"}]
[null,null,null,null,null,null,null,null,null,null,null,null,null,null,{"$f":"IF(Analyze!G816=\"\",\"\",Analyze!G816)","v":""},{"$f":"IF(Analyze!S816=\"\",\"\",Analyze!S816)","v":{"$error":"#VALUE!"}},null,null,null,null,null,null,null,"","","",80.999999999999673,-44.216810594986065,80.999999999999673,-13.003884586921028,80.999999999999673,-17.003884586921025,80.999999999999673,-21.003884586921071,{"$error":"#VALUE!"},{"$error":"#VALUE!"},{"$error":"#VALUE!"},{"$error":"#VALUE!"},{"$error":"#VALUE!"},{"$error":"#VALUE!"},{"$error":"#VALUE!"},{"$error":"#VALUE!"},{"$error":"#VALUE!"},{"$error":"#VALUE!"},{"$error":"#VALUE!"},{"$error":"#VALUE!"}]
[null,null,null,null,null,null,null,null,null,null,null,null,null,null,{"$f":"IF(Analyze!G817=\"\",\"\",Analyze!G817)","v":""},{"$f":"IF(Analyze!S817=\"\",\"\",Analyze!S817)","v":{"$error":"#VALUE!"}},null,null,null,null,null,null,null,"","","",81.099999999999667,-44.286831348807034,81.099999999999667,-13.030679506164141,81.099999999999667,-17.030679506164137,81.099999999999667,-21.030679506164184,{"$error":"#VALUE!"},{"$error":"#VALUE!"},{"$error":"#VALUE!"},{"$error":"#VALUE!"},{"$error":"#VALUE!"},{"$error":"#VALUE!"},{"$error":"#VALUE!"},{"$error":"#VALUE!"},{"$error":"#VALUE!"},{"$error":"#VALUE!"},{"$error":"#VALUE!"},{"$error":"#VALUE!"}]
[null,null,null,null,null,null,null,null,null,null,null,null,null,null,{"$f":"IF(Analyze!G818=\"\",\"\",Analyze!G818)","v":""},{"$f":"IF(Analyze!S818=\"\",\"\",Analyze!S818)","v":{"$error":"#VALUE!"}},null,null,null,null,null,null,null,"","","",81.199999999999662,-44.356852102628004,81.199999999999662,-13.057474425407253,81.199999999999662,-17.05747442540725,81.199999999999662,-21.057474425407296,{"$error":"#VALUE!"},{"$error":"#VALUE!"},{"$error":"#VALUE!"},{"$error":"#VALUE!"},{"$error":"#VALUE!"},{"$error":"#VALUE!"},{"$error":"#VALUE!"},{"$error":"#VALUE!"},{"$error":"#VALUE!"},{"$error":"#VALUE!"},{"$error":"#VALUE!"},{"$error":"#VALUE!"}]
[null,null,null,null,null,null,null,null,null,null,null,null,null,null,{"$f":"IF(Analyze!G819=\"\",\"\",Analyze!G819)","v":""},{"$f":"IF(Analyze!S819=\"\",\"\",Analyze!S819)","v":{"$error":"#VALUE!"}},null,null,null,null,null,null,null,"",{"$f":"IF(W820=\"\",\"\",W819+$H$4*COS(ATAN((X820-X819)/(W820-W819))))","v":""},{"$f":"IF(W820=\"\",\"\",X819-$H$4*SIN(ATAN((X820-X819)/(W820-W819))))","v":""},81.299999999999656,-44.426872856448973,81.299999999999656,-13.084269344650366,81.299999999999656,-17.084269344650362,81.299999999999656,-21.084269344650409,{"$error":"#VALUE!"},{"$error":"#VALUE!"},{"$error":"#VALUE!"},{"$error":"#VALUE!"},{"$error":"#VALUE!"},{"$error":"#VALUE!"},{"$error":"#VALUE!"},{"$error":"#VALUE!"},{"$error":"#VALUE!"},{"$error":"#VALUE!"},{"$error":"#VALUE!"},{"$error":"#VALUE!"}]
[null,null,null,null,null,null,null,null,null,null,null,null,null,null,{"$f":"IF(Analyze!G820=\"\",\"\",Analyze!G820)","v":""},{"$f":"IF(Analyze!S820=\"\",\"\",Analyze!S820)","v":{"$error":"#VALUE!"}},null,null,null,null,null,null,null,"","","",81.39999999999965,-44.496893610269943,81.39999999999965,-13.111064263893478,81.39999999999965,-17.111064263893475,81.39999999999965,-21.111064263893521,{"$error":"#VALUE!"},{"$error":"#VALUE!"},{"$error":"#VALUE!"},{"$error":"#VALUE!"},{"$error":"#VALUE!"},{"$error":"#VALUE!"},{"$error":"#VALUE!"},{"$error":"#VALUE!"},{"$error":"#VALUE!"},{"$error":"#VALUE!"},{"$error":"#VALUE!"},{"$error":"#VALUE!"}]
[null,null,null,null,null,null,null,null,null,null,null,null,null,null,{"$f":"IF(Analyze!G821=\"\",\"\",Analyze!G821)","v":""},{"$f":"IF(Analyze!S821=\"\",\"\",Analyze!S821)","v":{"$error":"#VALUE!"}},null,null,null,null,null,null,null,"","","",81.499999999999645,-44.566914364090913,81.499999999999645,-13.137859183136591,81.499999999999645,-17.137859183136587,81.499999999999645,-21.137859183136634,{"$error":"#VALUE!"},{"$error":"#VALUE!"},{"$error":"#VALUE!"},{"$error":"#VALUE!"},{"$error":"#VALUE!"},{"$error":"#VALUE!"},{"$error":"#VALUE!"},{"$error":"#VALUE!"},{"$error":"#VALUE!"},{"$error":"#VALUE!"},{"$error":"#VALUE!"},{"$error":"#VALUE!"}]
[null,null,null,null,null,null,null,null,null,null,null,null,null,null,{"$f":"IF(Analyze!G822=\"\",\"\",Analyze!G822)","v":""},{"$f":"IF(Analyze!S822=\"\",\"\",Analyze!S822)","v":{"$error":"#VALUE!"}},null,null,null,null,null,null,null,"","","",81.599999999999639,-44.636935117911882,81.599999999999639,-13.164654102379703,81.599999999999639,-17.1646541023797,81.599999999999639,-21.164654102379746,{"$error":"#VALUE!"},{"$error":"#VALUE!"},{"$error":"#VALUE!"},{"$error":"#VALUE!"},{"$error":"#VALUE!"},{"$error":"#VALUE!"},{"$error":"#VALUE!"},{"$error":"#VALUE!"},{"$error":"#VALUE!"},{"$error":"#VALUE!"},{"$error":"#VALUE!"},{"$error":"#VALUE!"}]
[null,null,null,null,null,null,null,null,null,null,null,null,null,null,{"$f":"IF(Analyze!G823=\"\",\"\",Analyze!G823)","v":""},{"$f":"IF(Analyze!S823=\"\",\"\",Analyze!S823)","v":{"$error":"#VALUE!"}},null,null,null,null,null,null,null,"","","",81.699999999999633,-44.706955871732852,81.699999999999633,-13.191449021622816,81.699999999999633,-17.191449021622812,81.699999999999633,-21.191449021622859,{"$error":"#VALUE!"},{"$error":"#VALUE!"},{"$error":"#VALUE!"},{"$error":"#VALUE!"},{"$error":"#VALUE!"},{"$error":"#VALUE!"},{"$error":"#VALUE!"},{"$error":"#VALUE!"},{"$error":"#VALUE!"},{"$error":"#VALUE!"},{"$error":"#VALUE!"},{"$error":"#VALUE!"}]
[null,null,null,null,null,null,null,null,null,null,null,null,null,null,{"$f":"IF(Analyze!G824=\"\",\"\",Analyze!G824)","v":""},{"$f":"IF(Analyze!S824=\"\",\"\",Analyze!S824)","v":{"$error":"#VALUE!"}},null,null,null,null,null,null,null,"","","",81.799999999999628,-44.776976625553822,81.799999999999628,-13.218243940865928,81.799999999999628,-17.218243940865925,81.799999999999628,-21.218243940865971,{"$error":"#VALUE!"},{"$error":"#VALUE!"},{"$error":"#VALUE!"},{"$error":"#VALUE!"},{"$error":"#VALUE!"},{"$error":"#VALUE!"},{"$error":"#VALUE!"},{"$error":"#VALUE!"},{"$error":"#VALUE!"},{"$error":"#VALUE!"},{"$error":"#VALUE!"},{"$error":"#VALUE!"}]
[null,null,null,null,null,null,null,null,null,null,null,null,null,null,{"$f":"IF(Analyze!G825=\"\",\"\",Analyze!G825)","v":""},{"$f":"IF(Analyze!S825=\"\",\"\",Analyze!S825)","v":{"$error":"#VALUE!"}},null,null,null,null,null,null,null,"","","",81.899999999999622,-44.846997379374791,81.899999999999622,-13.245038860109041,81.899999999999622,-17.245038860109037,81.899999999999622,-21.245038860109084,{"$error":"#VALUE!"},{"$error":"#VALUE!"},{"$error":"#VALUE!"},{"$error":"#VALUE!"},{"$error":"#VALUE!"},{"$error":"#VALUE!"},{"$error":"#VALUE!"},{"$error":"#VALUE!"},{"$error":"#VALUE!"},{"$error":"#VALUE!"},{"$error":"#VALUE!"},{"$error":"#VALUE!"}]
[null,null,null,null,null,null,null,null,null,null,null,null,null,null,{"$f":"IF(Analyze!G826=\"\",\"\",Analyze!G826)","v":""},{"$f":"IF(Analyze!S826=\"\",\"\",Analyze!S826)","v":{"$error":"#VALUE!"}},null,null,null,null,null,null,null,"","","",81.999999999999616,-44.917018133195761,81.999999999999616,-13.271833779352153,81.999999999999616,-17.27183377935215,81.999999999999616,-21.271833779352196,{"$error":"#VALUE!"},{"$error":"#VALUE!"},{"$error":"#VALUE!"},{"$error":"#VALUE!"},{"$error":"#VALUE!"},{"$error":"#VALUE!"},{"$error":"#VALUE!"},{"$error":"#VALUE!"},{"$error":"#VALUE!"},{"$error":"#VALUE!"},{"$error":"#VALUE!"},{"$error":"#VALUE!"}]
[null,null,null,null,null,null,null,null,null,null,null,null,null,null,{"$f":"IF(Analyze!G827=\"\",\"\",Analyze!G827)","v":""},{"$f":"IF(Analyze!S827=\"\",\"\",Analyze!S827)","v":{"$error":"#VALUE!"}},null,null,null,null,null,null,null,"","","",82.099999999999611,-44.98703888701673,82.099999999999611,-13.298628698595266,82.099999999999611,-17.298628698595262,82.099999999999611,-21.298628698595309,{"$error":"#VALUE!"},{"$error":"#VALUE!"},{"$error":"#VALUE!"},{"$error":"#VALUE!"},{"$error":"#VALUE!"},{"$error":"#VALUE!"},{"$error":"#VALUE!"},{"$error":"#VALUE!"},{"$error":"#VALUE!"},{"$error":"#VALUE!"},{"$error":"#VALUE!"},{"$error":"#VALUE!"}]
[null,null,null,null,null,null,null,null,null,null,null,null,null,null,{"$f":"IF(Analyze!G828=\"\",\"\",Analyze!G828)","v":""},{"$f":"IF(Analyze!S828=\"\",\"\",Analyze!S828)","v":{"$error":"#VALUE!"}},null,null,null,null,null,null,null,"","","",82.199999999999605,-45.0570596408377,82.199999999999605,-13.325423617838378,82.199999999999605,-17.325423617838375,82.199999999999605,-21.325423617838421,{"$error":"#VALUE!"},{"$error":"#VALUE!"},{"$error":"#VALUE!"},{"$error":"#VALUE!"},{"$error":"#VALUE!"},{"$error":"#VALUE!"},{"$error":"#VALUE!"},{"$error":"#VALUE!"},{"$error":"#VALUE!"},{"$error":"#VALUE!"},{"$error":"#VALUE!"},{"$error":"#VALUE!"}]
[null,null,null,null,null,null,null,null,null,null,null,null,null,null,{"$f":"IF(Analyze!G829=\"\",\"\",Analyze!G829)","v":""},{"$f":"IF(Analyze!S829=\"\",\"\",Analyze!S829)","v":{"$error":"#VALUE!"}},null,null,null,null,null,null,null,"","","",82.299999999999599,-45.12708039465867,82.299999999999599,-13.352218537081491,82.299999999999599,-17.352218537081487,82.299999999999599,-21.352218537081534,{"$error":"#VALUE!"},{"$error":"#VALUE!"},{"$error":"#VALUE!"},{"$error":"#VALUE!"},{"$error":"#VALUE!"},{"$error":"#VALUE!"},{"$error":"#VALUE!"},{"$error":"#VALUE!"},{"$error":"#VALUE!"},{"$error":"#VALUE!"},{"$error":"#VALUE!"},{"$error":"#VALUE!"}]
[null,null,null,null,null,null,null,null,null,null,null,null,null,null,{"$f":"IF(Analyze!G830=\"\",\"\",Analyze!G830)","v":""},{"$f":"IF(Analyze!S830=\"\",\"\",Analyze!S830)","v":{"$error":"#VALUE!"}},null,null,null,null,null,null,null,"","","",82.399999999999594,-45.197101148479639,82.399999999999594,-13.379013456324603,82.399999999999594,-17.3790134563246,82.399999999999594,-21.379013456324646,{"$error":"#VALUE!"},{"$error":"#VALUE!"},{"$error":"#VALUE!"},{"$error":"#VALUE!"},{"$error":"#VALUE!"},{"$error":"#VALUE!"},{"$error":"#VALUE!"},{"$error":"#VALUE!"},{"$error":"#VALUE!"},{"$error":"#VALUE!"},{"$error":"#VALUE!"},{"$error":"#VALUE!"}]
[null,null,null,null,null,null,null,null,null,null,null,null,null,null,{"$f":"IF(Analyze!G831=\"\",\"\",Analyze!G831)","v":""},{"$f":"IF(Analyze!S831=\"\",\"\",Analyze!S831)","v":{"$error":"#VALUE!"}},null,null,null,null,null,null,null,"","","",82.499999999999588,-45.267121902300609,82.499999999999588,-13.405808375567716,82.499999999999588,-17.405808375567712,82.499999999999588,-21.405808375567759,{"$error":"#VALUE!"},{"$error":"#VALUE!"},{"$error":"#VALUE!"},{"$error":"#VALUE!"},{"$error":"#VALUE!"},{"$error":"#VALUE!"},{"$error":"#VALUE!"},{"$error":"#VALUE!"},{"$error":"#VALUE!"},{"$error":"#VALUE!"},{"$error":"#VALUE!"},{"$error":"#VALUE!"}]
[null,null,null,null,null,null,null,null,null,null,null,null,null,null,{"$f":"IF(Analyze!G832=\"\",\"\",Analyze!G832)","v":""},{"$f":"IF(Analyze!S832=\"\",\"\",Analyze!S832)","v":{"$error":"#VALUE!"}},null,null,null,null,null,null,null,"","","",82.599999999999582,-45.337142656121578,82.599999999999582,-13.432603294810828,82.599999999999582,-17.432603294810825,82.599999999999582,-21.432603294810871,{"$error":"#VALUE!"},{"$error":"#VALUE!"},{"$error":"#VALUE!"},{"$error":"#VALUE!"},{"$error":"#VALUE!"},{"$error":"#VALUE!"},{"$error":"#VALUE!"},{"$error":"#VALUE!"},{"$error":"#VALUE!"},{"$error":"#VALUE!"},{"$error":"#VALUE!"},{"$error":"#VALUE!"}]
[null,null,null,null,null,null,null,null,null,null,null,null,null,null,{"$f":"IF(Analyze!G833=\"\",\"\",Analyze!G833)","v":""},{"$f":"IF(Analyze!S833=\"\",\"\",Analyze!S833)","v":{"$error":"#VALUE!"}},null,null,null,null,null,null,null,"","","",82.699999999999577,-45.407163409942548,82.699999999999577,-13.459398214053941,82.699999999999577,-17.459398214053937,82.699999999999577,-21.459398214053984,{"$error":"#VALUE!"},{"$error":"#VALUE!"},{"$error":"#VALUE!"},{"$error":"#VALUE!"},{"$error":"#VALUE!"},{"$error":"#VALUE!"},{"$error":"#VALUE!"},{"$error":"#VALUE!"},{"$error":"#VALUE!"},{"$error":"#VALUE!"},{"$error":"#VALUE!"},{"$error":"#VALUE!"}]
[null,null,null,null,null,null,null,null,null,null,null,null,null,null,{"$f":"IF(Analyze!G834=\"\",\"\",Analyze!G834)","v":""},{"$f":"IF(Analyze!S834=\"\",\"\",Analyze!S834)","v":{"$error":"#VALUE!"}},null,null,null,null,null,null,null,"","","",82.799999999999571,-45.477184163763518,82.799999999999571,-13.486193133297053,82.799999999999571,-17.48619313329705,82.799999999999571,-21.486193133297096,{"$error":"#VALUE!"},{"$error":"#VALUE!"},{"$error":"#VALUE!"},{"$error":"#VALUE!"},{"$error":"#VALUE!"},{"$error":"#VALUE!"},{"$error":"#VALUE!"},{"$error":"#VALUE!"},{"$error":"#VALUE!"},{"$error":"#VALUE!"},{"$error":"#VALUE!"},{"$error":"#VALUE!"}]
[null,null,null,null,null,null,null,null,null,null,null,null,null,null,{"$f":"IF(Analyze!G835=\"\",\"\",Analyze!G835)","v":""},{"$f":"IF(Analyze!S835=\"\",\"\",Analyze!S835)","v":{"$error":"#VALUE!"}},null,null,null,null,null,null,null,"","","",82.899999999999565,-45.547204917584487,82.899999999999565,-13.512988052540166,82.899999999999565,-17.512988052540162,82.899999999999565,-21.512988052540209,{"$error":"#VALUE!"},{"$error":"#VALUE!"},{"$error":"#VALUE!"},{"$error":"#VALUE!"},{"$error":"#VALUE!"},{"$error":"#VALUE!"},{"$error":"#VALUE!"},{"$error":"#VALUE!"},{"$error":"#VALUE!"},{"$error":"#VALUE!"},{"$error":"#VALUE!"},{"$error":"#VALUE!"}]
[null,null,null,null,null,null,null,null,null,null,null,null,null,null,{"$f":"IF(Analyze!G836=\"\",\"\",Analyze!G836)","v":""},{"$f":"IF(Analyze!S836=\"\",\"\",Analyze!S836)","v":{"$error":"#VALUE!"}},null,null,null,null,null,null,null,"","","",82.999999999999559,-45.617225671405457,82.999999999999559,-13.539782971783278,82.999999999999559,-17.539782971783275,82.999999999999559,-21.539782971783321,{"$error":"#VALUE!"},{"$error":"#VALUE!"},{"$error":"#VALUE!"},{"$error":"#VALUE!"},{"$error":"#VALUE!"},{"$error":"#VALUE!"},{"$error":"#VALUE!"},{"$error":"#VALUE!"},{"$error":"#VALUE!"},{"$error":"#VALUE!"},{"$error":"#VALUE!"},{"$error":"#VALUE!"}]
[null,null,null,null,null,null,null,null,null,null,null,null,null,null,{"$f":"IF(Analyze!G837=\"\",\"\",Analyze!G837)","v":""},{"$f":"IF(Analyze!S837=\"\",\"\",Analyze!S837)","v":{"$error":"#VALUE!"}},null,null,null,null,null,null,null,"","","",83.099999999999554,-45.687246425226427,83.099999999999554,-13.566577891026391,83.099999999999554,-17.566577891026387,83.099999999999554,-21.566577891026434,{"$error":"#VALUE!"},{"$error":"#VALUE!"},{"$error":"#VALUE!"},{"$error":"#VALUE!"},{"$error":"#VALUE!"},{"$error":"#VALUE!"},{"$error":"#VALUE!"},{"$error":"#VALUE!"},{"$error":"#VALUE!"},{"$error":"#VALUE!"},{"$error":"#VALUE!"},{"$error":"#VALUE!"}]
[null,null,null,null,null,null,null,null,null,null,null,null,null,null,{"$f":"IF(Analyze!G838=\"\",\"\",Analyze!G838)","v":""},{"$f":"IF(Analyze!S838=\"\",\"\",Analyze!S838)","v":{"$error":"#VALUE!"}},null,null,null,null,null,null,null,{"$f":"IF(O838=\"\",\"\",IF(O838>h+$H$2,(\"\"),(h-O838)))","v":""},"","",83.199999999999548,-45.757267179047396,83.199999999999548,-13.593372810269504,83.199999999999548,-17.5933728102695,83.199999999999548,-21.593372810269546,{"$error":"#VALUE!"},{"$error":"#VALUE!"},{"$error":"#VALUE!"},{"$error":"#VALUE!"},{"$error":"#VALUE!"},{"$error":"#VALUE!"},{"$error":"#VALUE!"},{"$error":"#VALUE!"},{"$error":"#VALUE!"},{"$error":"#VALUE!"},{"$error":"#VALUE!"},{"$error":"#VALUE!"}]
[null,null,null,null,null,null,null,null,null,null,null,null,null,null,{"$f":"IF(Analyze!G839=\"\",\"\",Analyze!G839)","v":""},{"$f":"IF(Analyze!S839=\"\",\"\",Analyze!S839)","v":{"$error":"#VALUE!"}},null,null,null,null,null,null,null,"","","",83.299999999999542,-45.827287932868366,83.299999999999542,-13.620167729512616,83.299999999999542,-17.620167729512612,83.299999999999542,-21.620167729512659,{"$error":"#VALUE!"},{"$error":"#VALUE!"},{"$error":"#VALUE!"},{"$error":"#VALUE!"},{"$error":"#VALUE!"},{"$error":"#VALUE!"},{"$error":"#VALUE!"},{"$error":"#VALUE!"},{"$error":"#VALUE!"},{"$error":"#VALUE!"},{"$error":"#VALUE!"},{"$error":"#VALUE!"}]
[null,null,null,null,null,null,null,null,null,null,null,null,null,null,{"$f":"IF(Analyze!G840=\"\",\"\",Analyze!G840)","v":""},{"$f":"IF(Analyze!S840=\"\",\"\",Analyze!S840)","v":{"$error":"#VALUE!"}},null,null,null,null,null,null,null,"","","",{"$f":"AA839+0.1","v":83.399999999999537},{"$f":"AB839-0.1*TAN(RADIANS($F$7))","v":-45.897308686689335},{"$f":"AC839+0.1","v":83.399999999999537},{"$f":"AD839-0.1*TAN(RADIANS($F$8))","v":-13.646962648755729},{"$f":"AE839+0.1","v":83.399999999999537},{"$f":"AF839-0.1*TAN(RADIANS($F$9))","v":-17.646962648755725},{"$f":"AG839+0.1","v":83.399999999999537},{"$f":"AH839-0.1*TAN(RADIANS($F$10))","v":-21.646962648755771},{"$f":"AI839+0.1","v":{"$error":"#VALUE!"}},{"$f":"AJ839-0.1*TAN(RADIANS($F$11))","v":{"$error":"#VALUE!"}},{"$f":"AK839+0.1","v":{"$error":"#VALUE!"}},{"$f":"AL839-0.1*TAN(RADIANS($F$12))","v":{"$error":"#VALUE!"}},{"$f":"AM839+0.1","v":{"$error":"#VALUE!"}},{"$f":"AN839-0.1*TAN(RADIANS($F$13))","v":{"$error":"#VALUE!"}},{"$f":"AO839+0.1","v":{"$error":"#VALUE!"}},{"$f":"AP839-0.1*TAN(RADIANS($F$14))","v":{"$error":"#VALUE!"}},{"$f":"AQ839+0.1","v":{"$error":"#VALUE!"}},{"$f":"AR839-0.1*TAN(RADIANS($F$15))","v":{"$error":"#VALUE!"}},{"$f":"AS839+0.1","v":{"$error":"#VALUE!"}},{"$f":"AT839-0.1*TAN(RADIANS($F$16))","v":{"$error":"#VALUE!"}}]
[null,null,null,null,null,null,null,null,null,null,null,null,null,null,{"$f":"IF(Analyze!G841=\"\",\"\",Analyze!G841)","v":""},{"$f":"IF(Analyze!S841=\"\",\"\",Analyze!S841)","v":{"$error":"#VALUE!"}},null,null,null,null,null,null,null,"","","",83.499999999999531,-45.967329440510305,83.499999999999531,-13.673757567998841,83.499999999999531,-17.673757567998837,83.499999999999531,-21.673757567998884,{"$error":"#VALUE!"},{"$error":"#VALUE!"},{"$error":"#VALUE!"},{"$error":"#VALUE!"},{"$error":"#VALUE!"},{"$error":"#VALUE!"},{"$error":"#VALUE!"},{"$error":"#VALUE!"},{"$error":"#VALUE!"},{"$error":"#VALUE!"},{"$error":"#VALUE!"},{"$error":"#VALUE!"}]
[null,null,null,null,null,null,null,null,null,null,null,null,null,null,{"$f":"IF(Analyze!G842=\"\",\"\",Analyze!G842)","v":""},{"$f":"IF(Analyze!S842=\"\",\"\",Analyze!S842)","v":{"$error":"#VALUE!"}},null,null,null,null,null,null,null,"","","",83.599999999999525,-46.037350194331275,83.599999999999525,-13.700552487241954,83.599999999999525,-17.70055248724195,83.599999999999525,-21.700552487241996,{"$error":"#VALUE!"},{"$error":"#VALUE!"},{"$error":"#VALUE!"},{"$error":"#VALUE!"},{"$error":"#VALUE!"},{"$error":"#VALUE!"},{"$error":"#VALUE!"},{"$error":"#VALUE!"},{"$error":"#VALUE!"},{"$error":"#VALUE!"},{"$error":"#VALUE!"},{"$error":"#VALUE!"}]
[null,null,null,null,null,null,null,null,null,null,null,null,null,null,{"$f":"IF(Analyze!G843=\"\",\"\",Analyze!G843)","v":""},{"$f":"IF(Analyze!S843=\"\",\"\",Analyze!S843)","v":{"$error":"#VALUE!"}},null,null,null,null,null,null,null,"","","",83.69999999999952,-46.107370948152244,83.69999999999952,-13.727347406485066,83.69999999999952,-17.727347406485062,83.69999999999952,-21.727347406485109,{"$error":"#VALUE!"},{"$error":"#VALUE!"},{"$error":"#VALUE!"},{"$error":"#VALUE!"},{"$error":"#VALUE!"},{"$error":"#VALUE!"},{"$error":"#VALUE!"},{"$error":"#VALUE!"},{"$error":"#VALUE!"},{"$error":"#VALUE!"},{"$error":"#VALUE!"},{"$error":"#VALUE!"}]
[null,null,null,null,null,null,null,null,null,null,null,null,null,null,{"$f":"IF(Analyze!G844=\"\",\"\",Analyze!G844)","v":""},{"$f":"IF(Analyze!S844=\"\",\"\",Analyze!S844)","v":{"$error":"#VALUE!"}},null,null,null,null,null,null,null,"","","",83.799999999999514,-46.177391701973214,83.799999999999514,-13.754142325728179,83.799999999999514,-17.754142325728175,83.799999999999514,-21.754142325728221,{"$error":"#VALUE!"},{"$error":"#VALUE!"},{"$error":"#VALUE!"},{"$error":"#VALUE!"},{"$error":"#VALUE!"},{"$error":"#VALUE!"},{"$error":"#VALUE!"},{"$error":"#VALUE!"},{"$error":"#VALUE!"},{"$error":"#VALUE!"},{"$error":"#VALUE!"},{"$error":"#VALUE!"}]
[null,null,null,null,null,null,null,null,null,null,null,null,null,null,{"$f":"IF(Analyze!G845=\"\",\"\",Analyze!G845)","v":""},{"$f":"IF(Analyze!S845=\"\",\"\",Analyze!S845)","v":{"$error":"#VALUE!"}},null,null,null,null,null,null,null,"","","",83.899999999999508,-46.247412455794183,83.899999999999508,-13.780937244971291,83.899999999999508,-17.780937244971287,83.899999999999508,-21.780937244971334,{"$error":"#VALUE!"},{"$error":"#VALUE!"},{"$error":"#VALUE!"},{"$error":"#VALUE!"},{"$error":"#VALUE!"},{"$error":"#VALUE!"},{"$error":"#VALUE!"},{"$error":"#VALUE!"},{"$error":"#VALUE!"},{"$error":"#VALUE!"},{"$error":"#VALUE!"},{"$error":"#VALUE!"}]
[null,null,null,null,null,null,null,null,null,null,null,null,null,null,{"$f":"IF(Analyze!G846=\"\",\"\",Analyze!G846)","v":""},{"$f":"IF(Analyze!S846=\"\",\"\",Analyze!S846)","v":{"$error":"#VALUE!"}},null,null,null,null,null,null,null,"","","",83.999999999999503,-46.317433209615153,83.999999999999503,-13.807732164214404,83.999999999999503,-17.8077321642144,83.999999999999503,-21.807732164214446,{"$error":"#VALUE!"},{"$error":"#VALUE!"},{"$error":"#VALUE!"},{"$error":"#VALUE!"},{"$error":"#VALUE!"},{"$error":"#VALUE!"},{"$error":"#VALUE!"},{"$error":"#VALUE!"},{"$error":"#VALUE!"},{"$error":"#VALUE!"},{"$error":"#VALUE!"},{"$error":"#VALUE!"}]
[null,null,null,null,null,null,null,null,null,null,null,null,null,null,{"$f":"IF(Analyze!G847=\"\",\"\",Analyze!G847)","v":""},{"$f":"IF(Analyze!S847=\"\",\"\",Analyze!S847)","v":{"$error":"#VALUE!"}},null,null,null,null,null,null,null,"","","",84.099999999999497,-46.387453963436123,84.099999999999497,-13.834527083457516,84.099999999999497,-17.834527083457512,84.099999999999497,-21.834527083457559,{"$error":"#VALUE!"},{"$error":"#VALUE!"},{"$error":"#VALUE!"},{"$error":"#VALUE!"},{"$error":"#VALUE!"},{"$error":"#VALUE!"},{"$error":"#VALUE!"},{"$error":"#VALUE!"},{"$error":"#VALUE!"},{"$error":"#VALUE!"},{"$error":"#VALUE!"},{"$error":"#VALUE!"}]
[null,null,null,null,null,null,null,null,null,null,null,null,null,null,{"$f":"IF(Analyze!G848=\"\",\"\",Analyze!G848)","v":""},{"$f":"IF(Analyze!S848=\"\",\"\",Analyze!S848)","v":{"$error":"#VALUE!"}},null,null,null,null,null,null,null,"","","",84.199999999999491,-46.457474717257092,84.199999999999491,-13.861322002700629,84.199999999999491,-17.861322002700625,84.199999999999491,-21.861322002700671,{"$error":"#VALUE!"},{"$error":"#VALUE!"},{"$error":"#VALUE!"},{"$error":"#VALUE!"},{"$error":"#VALUE!"},{"$error":"#VALUE!"},{"$error":"#VALUE!"},{"$error":"#VALUE!"},{"$error":"#VALUE!"},{"$error":"#VALUE!"},{"$error":"#VALUE!"},{"$error":"#VALUE!"}]
[null,null,null,null,null,null,null,null,null,null,null,null,null,null,{"$f":"IF(Analyze!G849=\"\",\"\",Analyze!G849)","v":""},{"$f":"IF(Analyze!S849=\"\",\"\",Analyze!S849)","v":{"$error":"#VALUE!"}},null,null,null,null,null,null,null,"","","",84.299999999999486,-46.527495471078062,84.299999999999486,-13.888116921943741,84.299999999999486,-17.888116921943737,84.299999999999486,-21.888116921943784,{"$error":"#VALUE!"},{"$error":"#VALUE!"},{"$error":"#VALUE!"},{"$error":"#VALUE!"},{"$error":"#VALUE!"},{"$error":"#VALUE!"},{"$error":"#VALUE!"},{"$error":"#VALUE!"},{"$error":"#VALUE!"},{"$error":"#VALUE!"},{"$error":"#VALUE!"},{"$error":"#VALUE!"}]
[null,null,null,null,null,null,null,null,null,null,null,null,null,null,{"$f":"IF(Analyze!G850=\"\",\"\",Analyze!G850)","v":""},{"$f":"IF(Analyze!S850=\"\",\"\",Analyze!S850)","v":{"$error":"#VALUE!"}},null,null,null,null,null,null,null,"","","",84.39999999999948,-46.597516224899032,84.39999999999948,-13.914911841186854,84.39999999999948,-17.91491184118685,84.39999999999948,-21.914911841186896,{"$error":"#VALUE!"},{"$error":"#VALUE!"},{"$error":"#VALUE!"},{"$error":"#VALUE!"},{"$error":"#VALUE!"},{"$error":"#VALUE!"},{"$error":"#VALUE!"},{"$error":"#VALUE!"},{"$error":"#VALUE!"},{"$error":"#VALUE!"},{"$error":"#VALUE!"},{"$error":"#VALUE!"}]
[null,null,null,null,null,null,null,null,null,null,null,null,null,null,{"$f":"IF(Analyze!G851=\"\",\"\",Analyze!G851)","v":""},{"$f":"IF(Analyze!S851=\"\",\"\",Analyze!S851)","v":{"$error":"#VALUE!"}},null,null,null,null,null,null,null,"","","",84.499999999999474,-46.667536978720001,84.499999999999474,-13.941706760429966,84.499999999999474,-17.941706760429962,84.499999999999474,-21.941706760430009,{"$error":"#VALUE!"},{"$error":"#VALUE!"},{"$error":"#VALUE!"},{"$error":"#VALUE!"},{"$error":"#VALUE!"},{"$error":"#VALUE!"},{"$error":"#VALUE!"},{"$error":"#VALUE!"},{"$error":"#VALUE!"},{"$error":"#VALUE!"},{"$error":"#VALUE!"},{"$error":"#VALUE!"}]
[null,null,null,null,null,null,null,null,null,null,null,null,null,null,{"$f":"IF(Analyze!G852=\"\",\"\",Analyze!G852)","v":""},{"$f":"IF(Analyze!S852=\"\",\"\",Analyze!S852)","v":{"$error":"#VALUE!"}},null,null,null,null,null,null,null,"","","",84.599999999999469,-46.737557732540971,84.599999999999469,-13.968501679673079,84.599999999999469,-17.968501679673075,84.599999999999469,-21.968501679673121,{"$error":"#VALUE!"},{"$error":"#VALUE!"},{"$error":"#VALUE!"},{"$error":"#VALUE!"},{"$error":"#VALUE!"},{"$error":"#VALUE!"},{"$error":"#VALUE!"},{"$error":"#VALUE!"},{"$error":"#VALUE!"},{"$error":"#VALUE!"},{"$error":"#VALUE!"},{"$error":"#VALUE!"}]
[null,null,null,null,null,null,null,null,null,null,null,null,null,null,{"$f":"IF(Analyze!G853=\"\",\"\",Analyze!G853)","v":""},{"$f":"IF(Analyze!S853=\"\",\"\",Analyze!S853)","v":{"$error":"#VALUE!"}},null,null,null,null,null,null,null,"","","",84.699999999999463,-46.80757848636194,84.699999999999463,-13.995296598916191,84.699999999999463,-17.995296598916187,84.699999999999463,-21.995296598916234,{"$error":"#VALUE!"},{"$error":"#VALUE!"},{"$error":"#VALUE!"},{"$error":"#VALUE!"},{"$error":"#VALUE!"},{"$error":"#VALUE!"},{"$error":"#VALUE!"},{"$error":"#VALUE!"},{"$error":"#VALUE!"},{"$error":"#VALUE!"},{"$error":"#VALUE!"},{"$error":"#VALUE!"}]
[null,null,null,null,null,null,null,null,null,null,null,null,null,null,{"$f":"IF(Analyze!G854=\"\",\"\",Analyze!G854)","v":""},{"$f":"IF(Analyze!S854=\"\",\"\",Analyze!S854)","v":{"$error":"#VALUE!"}},null,null,null,null,null,null,null,"","","",84.799999999999457,-46.87759924018291,84.799999999999457,-14.022091518159304,84.799999999999457,-18.0220915181593,84.799999999999457,-22.022091518159346,{"$error":"#VALUE!"},{"$error":"#VALUE!"},{"$error":"#VALUE!"},{"$error":"#VALUE!"},{"$error":"#VALUE!"},{"$error":"#VALUE!"},{"$error":"#VALUE!"},{"$error":"#VALUE!"},{"$error":"#VALUE!"},{"$error":"#VALUE!"},{"$error":"#VALUE!"},{"$error":"#VALUE!"}]
[null,null,null,null,null,null,null,null,null,null,null,null,null,null,{"$f":"IF(Analyze!G855=\"\",\"\",Analyze!G855)","v":""},{"$f":"IF(Analyze!S855=\"\",\"\",Analyze!S855)","v":{"$error":"#VALUE!"}},null,null,null,null,null,null,null,"","","",84.899999999999451,-46.94761999400388,84.899999999999451,-14.048886437402416,84.899999999999451,-18.048886437402412,84.899999999999451,-22.048886437402459,{"$error":"#VALUE!"},{"$error":"#VALUE!"},{"$error":"#VALUE!"},{"$error":"#VALUE!"},{"$error":"#VALUE!"},{"$error":"#VALUE!"},{"$error":"#VALUE!"},{"$error":"#VALUE!"},{"$error":"#VALUE!"},{"$error":"#VALUE!"},{"$error":"#VALUE!"},{"$error":"#VALUE!"}]
[null,null,null,null,null,null,null,null,null,null,null,null,null,null,{"$f":"IF(Analyze!G856=\"\",\"\",Analyze!G856)","v":""},{"$f":"IF(Analyze!S856=\"\",\"\",Analyze!S856)","v":{"$error":"#VALUE!"}},null,null,null,null,null,null,null,"","","",84.999999999999446,-47.017640747824849,84.999999999999446,-14.075681356645529,84.999999999999446,-18.075681356645525,84.999999999999446,-22.075681356645571,{"$error":"#VALUE!"},{"$error":"#VALUE!"},{"$error":"#VALUE!"},{"$error":"#VALUE!"},{"$error":"#VALUE!"},{"$error":"#VALUE!"},{"$error":"#VALUE!"},{"$error":"#VALUE!"},{"$error":"#VALUE!"},{"$error":"#VALUE!"},{"$error":"#VALUE!"},{"$error":"#VALUE!"}]
[null,null,null,null,null,null,null,null,null,null,null,null,null,null,{"$f":"IF(Analyze!G857=\"\",\"\",Analyze!G857)","v":""},{"$f":"IF(Analyze!S857=\"\",\"\",Analyze!S857)","v":{"$error":"#VALUE!"}},null,null,null,null,null,null,null,"","","",85.09999999999944,-47.087661501645819,85.09999999999944,-14.102476275888641,85.09999999999944,-18.102476275888638,85.09999999999944,-22.102476275888684,{"$error":"#VALUE!"},{"$error":"#VALUE!"},{"$error":"#VALUE!"},{"$error":"#VALUE!"},{"$error":"#VALUE!"},{"$error":"#VALUE!"},{"$error":"#VALUE!"},{"$error":"#VALUE!"},{"$error":"#VALUE!"},{"$error":"#VALUE!"},{"$error":"#VALUE!"},{"$error":"#VALUE!"}]
[null,null,null,null,null,null,null,null,null,null,null,null,null,null,{"$f":"IF(Analyze!G858=\"\",\"\",Analyze!G858)","v":""},{"$f":"IF(Analyze!S858=\"\",\"\",Analyze!S858)","v":{"$error":"#VALUE!"}},null,null,null,null,null,null,null,"","","",85.199999999999434,-47.157682255466788,85.199999999999434,-14.129271195131754,85.199999999999434,-18.12927119513175,85.199999999999434,-22.129271195131796,{"$error":"#VALUE!"},{"$error":"#VALUE!"},{"$error":"#VALUE!"},{"$error":"#VALUE!"},{"$error":"#VALUE!"},{"$error":"#VALUE!"},{"$error":"#VALUE!"},{"$error":"#VALUE!"},{"$error":"#VALUE!"},{"$error":"#VALUE!"},{"$error":"#VALUE!"},{"$error":"#VALUE!"}]
[null,null,null,null,null,null,null,null,null,null,null,null,null,null,{"$f":"IF(Analyze!G859=\"\",\"\",Analyze!G859)","v":""},{"$f":"IF(Analyze!S859=\"\",\"\",Analyze!S859)","v":{"$error":"#VALUE!"}},null,null,null,null,null,null,null,"","","",85.299999999999429,-47.227703009287758,85.299999999999429,-14.156066114374866,85.299999999999429,-18.156066114374863,85.299999999999429,-22.156066114374909,{"$error":"#VALUE!"},{"$error":"#VALUE!"},{"$error":"#VALUE!"},{"$error":"#VALUE!"},{"$error":"#VALUE!"},{"$error":"#VALUE!"},{"$error":"#VALUE!"},{"$error":"#VALUE!"},{"$error":"#VALUE!"},{"$error":"#VALUE!"},{"$error":"#VALUE!"},{"$error":"#VALUE!"}]
[null,null,null,null,null,null,null,null,null,null,null,null,null,null,{"$f":"IF(Analyze!G860=\"\",\"\",Analyze!G860)","v":""},{"$f":"IF(Analyze!S860=\"\",\"\",Analyze!S860)","v":{"$error":"#VALUE!"}},null,null,null,null,null,null,null,"","","",85.399999999999423,-47.297723763108728,85.399999999999423,-14.182861033617979,85.399999999999423,-18.182861033617975,85.399999999999423,-22.182861033618021,{"$error":"#VALUE!"},{"$error":"#VALUE!"},{"$error":"#VALUE!"},{"$error":"#VALUE!"},{"$error":"#VALUE!"},{"$error":"#VALUE!"},{"$error":"#VALUE!"},{"$error":"#VALUE!"},{"$error":"#VALUE!"},{"$error":"#VALUE!"},{"$error":"#VALUE!"},{"$error":"#VALUE!"}]
[null,null,null,null,null,null,null,null,null,null,null,null,null,null,{"$f":"IF(Analyze!G861=\"\",\"\",Analyze!G861)","v":""},{"$f":"IF(Analyze!S861=\"\",\"\",Analyze!S861)","v":{"$error":"#VALUE!"}},null,null,null,null,null,null,null,"","","",85.499999999999417,-47.367744516929697,85.499999999999417,-14.209655952861091,85.499999999999417,-18.209655952861088,85.499999999999417,-22.209655952861134,{"$error":"#VALUE!"},{"$error":"#VALUE!"},{"$error":"#VALUE!"},{"$error":"#VALUE!"},{"$error":"#VALUE!"},{"$error":"#VALUE!"},{"$error":"#VALUE!"},{"$error":"#VALUE!"},{"$error":"#VALUE!"},{"$error":"#VALUE!"},{"$error":"#VALUE!"},{"$error":"#VALUE!"}]
[null,null,null,null,null,null,null,null,null,null,null,null,null,null,{"$f":"IF(Analyze!G862=\"\",\"\",Analyze!G862)","v":""},{"$f":"IF(Analyze!S862=\"\",\"\",Analyze!S862)","v":{"$error":"#VALUE!"}},null,null,null,null,null,null,null,"","","",85.599999999999412,-47.437765270750667,85.599999999999412,-14.236450872104204,85.599999999999412,-18.2364508721042,85.599999999999412,-22.236450872104246,{"$error":"#VALUE!"},{"$error":"#VALUE!"},{"$error":"#VALUE!"},{"$error":"#VALUE!"},{"$error":"#VALUE!"},{"$error":"#VALUE!"},{"$error":"#VALUE!"},{"$error":"#VALUE!"},{"$error":"#VALUE!"},{"$error":"#VALUE!"},{"$error":"#VALUE!"},{"$error":"#VALUE!"}]
[null,null,null,null,null,null,null,null,null,null,null,null,null,null,{"$f":"IF(Analyze!G863=\"\",\"\",Analyze!G863)","v":""},{"$f":"IF(Analyze!S863=\"\",\"\",Analyze!S863)","v":{"$error":"#VALUE!"}},null,null,null,null,null,null,null,"","","",85.699999999999406,-47.507786024571637,85.699999999999406,-14.263245791347316,85.699999999999406,-18.263245791347313,85.699999999999406,-22.263245791347359,{"$error":"#VALUE!"},{"$error":"#VALUE!"},{"$error":"#VALUE!"},{"$error":"#VALUE!"},{"$error":"#VALUE!"},{"$error":"#VALUE!"},{"$error":"#VALUE!"},{"$error":"#VALUE!"},{"$error":"#VALUE!"},{"$error":"#VALUE!"},{"$error":"#VALUE!"},{"$error":"#VALUE!"}]
[null,null,null,null,null,null,null,null,null,null,null,null,null,null,{"$f":"IF(Analyze!G864=\"\",\"\",Analyze!G864)","v":""},{"$f":"IF(Analyze!S864=\"\",\"\",Analyze!S864)","v":{"$error":"#VALUE!"}},null,null,null,null,null,null,null,"","","",85.7999999999994,-47.577806778392606,85.7999999999994,-14.290040710590429,85.7999999999994,-18.290040710590425,85.7999999999994,-22.290040710590471,{"$error":"#VALUE!"},{"$error":"#VALUE!"},{"$error":"#VALUE!"},{"$error":"#VALUE!"},{"$error":"#VALUE!"},{"$error":"#VALUE!"},{"$error":"#VALUE!"},{"$error":"#VALUE!"},{"$error":"#VALUE!"},{"$error":"#VALUE!"},{"$error":"#VALUE!"},{"$error":"#VALUE!"}]
[null,null,null,null,null,null,null,null,null,null,null,null,null,null,{"$f":"IF(Analyze!G865=\"\",\"\",Analyze!G865)","v":""},{"$f":"IF(Analyze!S865=\"\",\"\",Analyze!S865)","v":{"$error":"#VALUE!"}},null,null,null,null,null,null,null,"","","",85.899999999999395,-47.647827532213576,85.899999999999395,-14.316835629833541,85.899999999999395,-18.316835629833538,85.899999999999395,-22.316835629833584,{"$error":"#VALUE!"},{"$error":"#VALUE!"},{"$error":"#VALUE!"},{"$error":"#VALUE!"},{"$error":"#VALUE!"},{"$error":"#VALUE!"},{"$error":"#VALUE!"},{"$error":"#VALUE!"},{"$error":"#VALUE!"},{"$error":"#VALUE!"},{"$error":"#VALUE!"},{"$error":"#VALUE!"}]
[null,null,null,null,null,null,null,null,null,null,null,null,null,null,{"$f":"IF(Analyze!G866=\"\",\"\",Analyze!G866)","v":""},{"$f":"IF(Analyze!S866=\"\",\"\",Analyze!S866)","v":{"$error":"#VALUE!"}},null,null,null,null,null,null,null,"","","",85.999999999999389,-47.717848286034545,85.999999999999389,-14.343630549076654,85.999999999999389,-18.34363054907665,85.999999999999389,-22.343630549076696,{"$error":"#VALUE!"},{"$error":"#VALUE!"},{"$error":"#VALUE!"},{"$error":"#VALUE!"},{"$error":"#VALUE!"},{"$error":"#VALUE!"},{"$error":"#VALUE!"},{"$error":"#VALUE!"},{"$error":"#VALUE!"},{"$error":"#VALUE!"},{"$error":"#VALUE!"},{"$error":"#VALUE!"}]
[null,null,null,null,null,null,null,null,null,null,null,null,null,null,{"$f":"IF(Analyze!G867=\"\",\"\",Analyze!G867)","v":""},{"$f":"IF(Analyze!S867=\"\",\"\",Analyze!S867)","v":{"$error":"#VALUE!"}},null,null,null,null,null,null,null,"","","",86.099999999999383,-47.787869039855515,86.099999999999383,-14.370425468319766,86.099999999999383,-18.370425468319763,86.099999999999383,-22.370425468319809,{"$error":"#VALUE!"},{"$error":"#VALUE!"},{"$error":"#VALUE!"},{"$error":"#VALUE!"},{"$error":"#VALUE!"},{"$error":"#VALUE!"},{"$error":"#VALUE!"},{"$error":"#VALUE!"},{"$error":"#VALUE!"},{"$error":"#VALUE!"},{"$error":"#VALUE!"},{"$error":"#VALUE!"}]
[null,null,null,null,null,null,null,null,null,null,null,null,null,null,{"$f":"IF(Analyze!G868=\"\",\"\",Analyze!G868)","v":""},{"$f":"IF(Analyze!S868=\"\",\"\",Analyze!S868)","v":{"$error":"#VALUE!"}},null,null,null,null,null,null,null,"","","",86.199999999999378,-47.857889793676485,86.199999999999378,-14.397220387562879,86.199999999999378,-18.397220387562875,86.199999999999378,-22.397220387562921,{"$error":"#VALUE!"},{"$error":"#VALUE!"},{"$error":"#VALUE!"},{"$error":"#VALUE!"},{"$error":"#VALUE!"},{"$error":"#VALUE!"},{"$error":"#VALUE!"},{"$error":"#VALUE!"},{"$error":"#VALUE!"},{"$error":"#VALUE!"},{"$error":"#VALUE!"},{"$error":"#VALUE!"}]
[null,null,null,null,null,null,null,null,null,null,null,null,null,null,{"$f":"IF(Analyze!G869=\"\",\"\",Analyze!G869)","v":""},{"$f":"IF(Analyze!S869=\"\",\"\",Analyze!S869)","v":{"$error":"#VALUE!"}},null,null,null,null,null,null,null,"","","",86.299999999999372,-47.927910547497454,86.299999999999372,-14.424015306805991,86.299999999999372,-18.424015306805988,86.299999999999372,-22.424015306806034,{"$error":"#VALUE!"},{"$error":"#VALUE!"},{"$error":"#VALUE!"},{"$error":"#VALUE!"},{"$error":"#VALUE!"},{"$error":"#VALUE!"},{"$error":"#VALUE!"},{"$error":"#VALUE!"},{"$error":"#VALUE!"},{"$error":"#VALUE!"},{"$error":"#VALUE!"},{"$error":"#VALUE!"}]
[null,null,null,null,null,null,null,null,null,null,null,null,null,null,{"$f":"IF(Analyze!G870=\"\",\"\",Analyze!G870)","v":""},{"$f":"IF(Analyze!S870=\"\",\"\",Analyze!S870)","v":{"$error":"#VALUE!"}},null,null,null,null,null,null,null,"","","",86.399999999999366,-47.997931301318424,86.399999999999366,-14.450810226049104,86.399999999999366,-18.4508102260491,86.399999999999366,-22.450810226049146,{"$error":"#VALUE!"},{"$error":"#VALUE!"},{"$error":"#VALUE!"},{"$error":"#VALUE!"},{"$error":"#VALUE!"},{"$error":"#VALUE!"},{"$error":"#VALUE!"},{"$error":"#VALUE!"},{"$error":"#VALUE!"},{"$error":"#VALUE!"},{"$error":"#VALUE!"},{"$error":"#VALUE!"}]
[null,null,null,null,null,null,null,null,null,null,null,null,null,null,{"$f":"IF(Analyze!G871=\"\",\"\",Analyze!G871)","v":""},{"$f":"IF(Analyze!S871=\"\",\"\",Analyze!S871)","v":{"$error":"#VALUE!"}},null,null,null,null,null,null,null,"","","",86.499999999999361,-48.067952055139394,86.499999999999361,-14.477605145292216,86.499999999999361,-18.477605145292213,86.499999999999361,-22.477605145292259,{"$error":"#VALUE!"},{"$error":"#VALUE!"},{"$error":"#VALUE!"},{"$error":"#VALUE!"},{"$error":"#VALUE!"},{"$error":"#VALUE!"},{"$error":"#VALUE!"},{"$error":"#VALUE!"},{"$error":"#VALUE!"},{"$error":"#VALUE!"},{"$error":"#VALUE!"},{"$error":"#VALUE!"}]
[null,null,null,null,null,null,null,null,null,null,null,null,null,null,{"$f":"IF(Analyze!G872=\"\",\"\",Analyze!G872)","v":""},{"$f":"IF(Analyze!S872=\"\",\"\",Analyze!S872)","v":{"$error":"#VALUE!"}},null,null,null,null,null,null,null,"","","",86.599999999999355,-48.137972808960363,86.599999999999355,-14.504400064535329,86.599999999999355,-18.504400064535325,86.599999999999355,-22.504400064535371,{"$error":"#VALUE!"},{"$error":"#VALUE!"},{"$error":"#VALUE!"},{"$error":"#VALUE!"},{"$error":"#VALUE!"},{"$error":"#VALUE!"},{"$error":"#VALUE!"},{"$error":"#VALUE!"},{"$error":"#VALUE!"},{"$error":"#VALUE!"},{"$error":"#VALUE!"},{"$error":"#VALUE!"}]
[null,null,null,null,null,null,null,null,null,null,null,null,null,null,{"$f":"IF(Analyze!G873=\"\",\"\",Analyze!G873)","v":""},{"$f":"IF(Analyze!S873=\"\",\"\",Analyze!S873)","v":{"$error":"#VALUE!"}},null,null,null,null,null,null,null,"","","",86.699999999999349,-48.207993562781333,86.699999999999349,-14.531194983778441,86.699999999999349,-18.531194983778438,86.699999999999349,-22.531194983778484,{"$error":"#VALUE!"},{"$error":"#VALUE!"},{"$error":"#VALUE!"},{"$error":"#VALUE!"},{"$error":"#VALUE!"},{"$error":"#VALUE!"},{"$error":"#VALUE!"},{"$error":"#VALUE!"},{"$error":"#VALUE!"},{"$error":"#VALUE!"},{"$error":"#VALUE!"},{"$error":"#VALUE!"}]
[null,null,null,null,null,null,null,null,null,null,null,null,null,null,{"$f":"IF(Analyze!G874=\"\",\"\",Analyze!G874)","v":""},{"$f":"IF(Analyze!S874=\"\",\"\",Analyze!S874)","v":{"$error":"#VALUE!"}},null,null,null,null,null,null,null,"","","",86.799999999999343,-48.278014316602302,86.799999999999343,-14.557989903021554,86.799999999999343,-18.55798990302155,86.799999999999343,-22.557989903021596,{"$error":"#VALUE!"},{"$error":"#VALUE!"},{"$error":"#VALUE!"},{"$error":"#VALUE!"},{"$error":"#VALUE!"},{"$error":"#VALUE!"},{"$error":"#VALUE!"},{"$error":"#VALUE!"},{"$error":"#VALUE!"},{"$error":"#VALUE!"},{"$error":"#VALUE!"},{"$error":"#VALUE!"}]
[null,null,null,null,null,null,null,null,null,null,null,null,null,null,{"$f":"IF(Analyze!G875=\"\",\"\",Analyze!G875)","v":""},{"$f":"IF(Analyze!S875=\"\",\"\",Analyze!S875)","v":{"$error":"#VALUE!"}},null,null,null,null,null,null,null,"","","",86.899999999999338,-48.348035070423272,86.899999999999338,-14.584784822264666,86.899999999999338,-18.584784822264663,86.899999999999338,-22.584784822264709,{"$error":"#VALUE!"},{"$error":"#VALUE!"},{"$error":"#VALUE!"},{"$error":"#VALUE!"},{"$error":"#VALUE!"},{"$error":"#VALUE!"},{"$error":"#VALUE!"},{"$error":"#VALUE!"},{"$error":"#VALUE!"},{"$error":"#VALUE!"},{"$error":"#VALUE!"},{"$error":"#VALUE!"}]
[null,null,null,null,null,null,null,null,null,null,null,null,null,null,{"$f":"IF(Analyze!G876=\"\",\"\",Analyze!G876)","v":""},{"$f":"IF(Analyze!S876=\"\",\"\",Analyze!S876)","v":{"$error":"#VALUE!"}},null,null,null,null,null,null,null,"","","",86.999999999999332,-48.418055824244242,86.999999999999332,-14.611579741507779,86.999999999999332,-18.611579741507775,86.999999999999332,-22.611579741507821,{"$error":"#VALUE!"},{"$error":"#VALUE!"},{"$error":"#VALUE!"},{"$error":"#VALUE!"},{"$error":"#VALUE!"},{"$error":"#VALUE!"},{"$error":"#VALUE!"},{"$error":"#VALUE!"},{"$error":"#VALUE!"},{"$error":"#VALUE!"},{"$error":"#VALUE!"},{"$error":"#VALUE!"}]
[null,null,null,null,null,null,null,null,null,null,null,null,null,null,{"$f":"IF(Analyze!G877=\"\",\"\",Analyze!G877)","v":""},{"$f":"IF(Analyze!S877=\"\",\"\",Analyze!S877)","v":{"$error":"#VALUE!"}},null,null,null,null,null,null,null,"","","",87.099999999999326,-48.488076578065211,87.099999999999326,-14.638374660750891,87.099999999999326,-18.638374660750888,87.099999999999326,-22.638374660750934,{"$error":"#VALUE!"},{"$error":"#VALUE!"},{"$error":"#VALUE!"},{"$error":"#VALUE!"},{"$error":"#VALUE!"},{"$error":"#VALUE!"},{"$error":"#VALUE!"},{"$error":"#VALUE!"},{"$error":"#VALUE!"},{"$error":"#VALUE!"},{"$error":"#VALUE!"},{"$error":"#VALUE!"}]
[null,null,null,null,null,null,null,null,null,null,null,null,null,null,{"$f":"IF(Analyze!G878=\"\",\"\",Analyze!G878)","v":""},{"$f":"IF(Analyze!S878=\"\",\"\",Analyze!S878)","v":{"$error":"#VALUE!"}},null,null,null,null,null,null,null,"","","",87.199999999999321,-48.558097331886181,87.199999999999321,-14.665169579994004,87.199999999999321,-18.665169579994,87.199999999999321,-22.665169579994046,{"$error":"#VALUE!"},{"$error":"#VALUE!"},{"$error":"#VALUE!"},{"$error":"#VALUE!"},{"$error":"#VALUE!"},{"$error":"#VALUE!"},{"$error":"#VALUE!"},{"$error":"#VALUE!"},{"$error":"#VALUE!"},{"$error":"#VALUE!"},{"$error":"#VALUE!"},{"$error":"#VALUE!"}]
[null,null,null,null,null,null,null,null,null,null,null,null,null,null,{"$f":"IF(Analyze!G879=\"\",\"\",Analyze!G879)","v":""},{"$f":"IF(Analyze!S879=\"\",\"\",Analyze!S879)","v":{"$error":"#VALUE!"}},null,null,null,null,null,null,null,"","","",87.299999999999315,-48.62811808570715,87.299999999999315,-14.691964499237116,87.299999999999315,-18.691964499237113,87.299999999999315,-22.691964499237159,{"$error":"#VALUE!"},{"$error":"#VALUE!"},{"$error":"#VALUE!"},{"$error":"#VALUE!"},{"$error":"#VALUE!"},{"$error":"#VALUE!"},{"$error":"#VALUE!"},{"$error":"#VALUE!"},{"$error":"#VALUE!"},{"$error":"#VALUE!"},{"$error":"#VALUE!"},{"$error":"#VALUE!"}]
[null,null,null,null,null,null,null,null,null,null,null,null,null,null,{"$f":"IF(Analyze!G880=\"\",\"\",Analyze!G880)","v":""},{"$f":"IF(Analyze!S880=\"\",\"\",Analyze!S880)","v":{"$error":"#VALUE!"}},null,null,null,null,null,null,null,"","","",87.399999999999309,-48.69813883952812,87.399999999999309,-14.718759418480229,87.399999999999309,-18.718759418480225,87.399999999999309,-22.718759418480271,{"$error":"#VALUE!"},{"$error":"#VALUE!"},{"$error":"#VALUE!"},{"$error":"#VALUE!"},{"$error":"#VALUE!"},{"$error":"#VALUE!"},{"$error":"#VALUE!"},{"$error":"#VALUE!"},{"$error":"#VALUE!"},{"$error":"#VALUE!"},{"$error":"#VALUE!"},{"$error":"#VALUE!"}]
[null,null,null,null,null,null,null,null,null,null,null,null,null,null,{"$f":"IF(Analyze!G881=\"\",\"\",Analyze!G881)","v":""},{"$f":"IF(Analyze!S881=\"\",\"\",Analyze!S881)","v":{"$error":"#VALUE!"}},null,null,null,null,null,null,null,"","","",87.499999999999304,-48.76815959334909,87.499999999999304,-14.745554337723341,87.499999999999304,-18.745554337723338,87.499999999999304,-22.745554337723384,{"$error":"#VALUE!"},{"$error":"#VALUE!"},{"$error":"#VALUE!"},{"$error":"#VALUE!"},{"$error":"#VALUE!"},{"$error":"#VALUE!"},{"$error":"#VALUE!"},{"$error":"#VALUE!"},{"$error":"#VALUE!"},{"$error":"#VALUE!"},{"$error":"#VALUE!"},{"$error":"#VALUE!"}]
[null,null,null,null,null,null,null,null,null,null,null,null,null,null,{"$f":"IF(Analyze!G882=\"\",\"\",Analyze!G882)","v":""},{"$f":"IF(Analyze!S882=\"\",\"\",Analyze!S882)","v":{"$error":"#VALUE!"}},null,null,null,null,null,null,null,"","","",87.599999999999298,-48.838180347170059,87.599999999999298,-14.772349256966454,87.599999999999298,-18.77234925696645,87.599999999999298,-22.772349256966496,{"$error":"#VALUE!"},{"$error":"#VALUE!"},{"$error":"#VALUE!"},{"$error":"#VALUE!"},{"$error":"#VALUE!"},{"$error":"#VALUE!"},{"$error":"#VALUE!"},{"$error":"#VALUE!"},{"$error":"#VALUE!"},{"$error":"#VALUE!"},{"$error":"#VALUE!"},{"$error":"#VALUE!"}]
[null,null,null,null,null,null,null,null,null,null,null,null,null,null,{"$f":"IF(Analyze!G883=\"\",\"\",Analyze!G883)","v":""},{"$f":"IF(Analyze!S883=\"\",\"\",Analyze!S883)","v":{"$error":"#VALUE!"}},null,null,null,null,null,null,null,"",{"$f":"IF(W884=\"\",\"\",W883+$H$4*COS(ATAN((X884-X883)/(W884-W883))))","v":""},{"$f":"IF(W884=\"\",\"\",X883-$H$4*SIN(ATAN((X884-X883)/(W884-W883))))","v":""},87.699999999999292,-48.908201100991029,87.699999999999292,-14.799144176209566,87.699999999999292,-18.799144176209563,87.699999999999292,-22.799144176209609,{"$error":"#VALUE!"},{"$error":"#VALUE!"},{"$error":"#VALUE!"},{"$error":"#VALUE!"},{"$error":"#VALUE!"},{"$error":"#VALUE!"},{"$error":"#VALUE!"},{"$error":"#VALUE!"},{"$error":"#VALUE!"},{"$error":"#VALUE!"},{"$error":"#VALUE!"},{"$error":"#VALUE!"}]
[null,null,null,null,null,null,null,null,null,null,null,null,null,null,{"$f":"IF(Analyze!G884=\"\",\"\",Analyze!G884)","v":""},{"$f":"IF(Analyze!S884=\"\",\"\",Analyze!S884)","v":{"$error":"#VALUE!"}},null,null,null,null,null,null,null,"","","",87.799999999999287,-48.978221854811999,87.799999999999287,-14.825939095452679,87.799999999999287,-18.825939095452675,87.799999999999287,-22.825939095452721,{"$error":"#VALUE!"},{"$error":"#VALUE!"},{"$error":"#VALUE!"},{"$error":"#VALUE!"},{"$error":"#VALUE!"},{"$error":"#VALUE!"},{"$error":"#VALUE!"},{"$error":"#VALUE!"},{"$error":"#VALUE!"},{"$error":"#VALUE!"},{"$error":"#VALUE!"},{"$error":"#VALUE!"}]
[null,null,null,null,null,null,null,null,null,null,null,null,null,null,{"$f":"IF(Analyze!G885=\"\",\"\",Analyze!G885)","v":""},{"$f":"IF(Analyze!S885=\"\",\"\",Analyze!S885)","v":{"$error":"#VALUE!"}},null,null,null,null,null,null,null,"","","",87.899999999999281,-49.048242608632968,87.899999999999281,-14.852734014695791,87.899999999999281,-18.852734014695788,87.899999999999281,-22.852734014695834,{"$error":"#VALUE!"},{"$error":"#VALUE!"},{"$error":"#VALUE!"},{"$error":"#VALUE!"},{"$error":"#VALUE!"},{"$error":"#VALUE!"},{"$error":"#VALUE!"},{"$error":"#VALUE!"},{"$error":"#VALUE!"},{"$error":"#VALUE!"},{"$error":"#VALUE!"},{"$error":"#VALUE!"}]
[null,null,null,null,null,null,null,null,null,null,null,null,null,null,{"$f":"IF(Analyze!G886=\"\",\"\",Analyze!G886)","v":""},{"$f":"IF(Analyze!S886=\"\",\"\",Analyze!S886)","v":{"$error":"#VALUE!"}},null,null,null,null,null,null,null,"","","",87.999999999999275,-49.118263362453938,87.999999999999275,-14.879528933938904,87.999999999999275,-18.8795289339389,87.999999999999275,-22.879528933938946,{"$error":"#VALUE!"},{"$error":"#VALUE!"},{"$error":"#VALUE!"},{"$error":"#VALUE!"},{"$error":"#VALUE!"},{"$error":"#VALUE!"},{"$error":"#VALUE!"},{"$error":"#VALUE!"},{"$error":"#VALUE!"},{"$error":"#VALUE!"},{"$error":"#VALUE!"},{"$error":"#VALUE!"}]
[null,null,null,null,null,null,null,null,null,null,null,null,null,null,{"$f":"IF(Analyze!G887=\"\",\"\",Analyze!G887)","v":""},{"$f":"IF(Analyze!S887=\"\",\"\",Analyze!S887)","v":{"$error":"#VALUE!"}},null,null,null,null,null,null,null,"","","",88.09999999999927,-49.188284116274907,88.09999999999927,-14.906323853182016,88.09999999999927,-18.906323853182013,88.09999999999927,-22.906323853182059,{"$error":"#VALUE!"},{"$error":"#VALUE!"},{"$error":"#VALUE!"},{"$error":"#VALUE!"},{"$error":"#VALUE!"},{"$error":"#VALUE!"},{"$error":"#VALUE!"},{"$error":"#VALUE!"},{"$error":"#VALUE!"},{"$error":"#VALUE!"},{"$error":"#VALUE!"},{"$error":"#VALUE!"}]
[null,null,null,null,null,null,null,null,null,null,null,null,null,null,{"$f":"IF(Analyze!G888=\"\",\"\",Analyze!G888)","v":""},{"$f":"IF(Analyze!S888=\"\",\"\",Analyze!S888)","v":{"$error":"#VALUE!"}},null,null,null,null,null,null,null,"","","",88.199999999999264,-49.258304870095877,88.199999999999264,-14.933118772425129,88.199999999999264,-18.933118772425125,88.199999999999264,-22.933118772425171,{"$error":"#VALUE!"},{"$error":"#VALUE!"},{"$error":"#VALUE!"},{"$error":"#VALUE!"},{"$error":"#VALUE!"},{"$error":"#VALUE!"},{"$error":"#VALUE!"},{"$error":"#VALUE!"},{"$error":"#VALUE!"},{"$error":"#VALUE!"},{"$error":"#VALUE!"},{"$error":"#VALUE!"}]
[null,null,null,null,null,null,null,null,null,null,null,null,null,null,{"$f":"IF(Analyze!G889=\"\",\"\",Analyze!G889)","v":""},{"$f":"IF(Analyze!S889=\"\",\"\",Analyze!S889)","v":{"$error":"#VALUE!"}},null,null,null,null,null,null,null,"","","",88.299999999999258,-49.328325623916847,88.299999999999258,-14.959913691668241,88.299999999999258,-18.959913691668238,88.299999999999258,-22.959913691668284,{"$error":"#VALUE!"},{"$error":"#VALUE!"},{"$error":"#VALUE!"},{"$error":"#VALUE!"},{"$error":"#VALUE!"},{"$error":"#VALUE!"},{"$error":"#VALUE!"},{"$error":"#VALUE!"},{"$error":"#VALUE!"},{"$error":"#VALUE!"},{"$error":"#VALUE!"},{"$error":"#VALUE!"}]
[null,null,null,null,null,null,null,null,null,null,null,null,null,null,{"$f":"IF(Analyze!G890=\"\",\"\",Analyze!G890)","v":""},{"$f":"IF(Analyze!S890=\"\",\"\",Analyze!S890)","v":{"$error":"#VALUE!"}},null,null,null,null,null,null,null,"","","",88.399999999999253,-49.398346377737816,88.399999999999253,-14.986708610911354,88.399999999999253,-18.98670861091135,88.399999999999253,-22.986708610911396,{"$error":"#VALUE!"},{"$error":"#VALUE!"},{"$error":"#VALUE!"},{"$error":"#VALUE!"},{"$error":"#VALUE!"},{"$error":"#VALUE!"},{"$error":"#VALUE!"},{"$error":"#VALUE!"},{"$error":"#VALUE!"},{"$error":"#VALUE!"},{"$error":"#VALUE!"},{"$error":"#VALUE!"}]
[null,null,null,null,null,null,null,null,null,null,null,null,null,null,{"$f":"IF(Analyze!G891=\"\",\"\",Analyze!G891)","v":""},{"$f":"IF(Analyze!S891=\"\",\"\",Analyze!S891)","v":{"$error":"#VALUE!"}},null,null,null,null,null,null,null,"","","",88.499999999999247,-49.468367131558786,88.499999999999247,-15.013503530154466,88.499999999999247,-19.013503530154463,88.499999999999247,-23.013503530154509,{"$error":"#VALUE!"},{"$error":"#VALUE!"},{"$error":"#VALUE!"},{"$error":"#VALUE!"},{"$error":"#VALUE!"},{"$error":"#VALUE!"},{"$error":"#VALUE!"},{"$error":"#VALUE!"},{"$error":"#VALUE!"},{"$error":"#VALUE!"},{"$error":"#VALUE!"},{"$error":"#VALUE!"}]
[null,null,null,null,null,null,null,null,null,null,null,null,null,null,{"$f":"IF(Analyze!G892=\"\",\"\",Analyze!G892)","v":""},{"$f":"IF(Analyze!S892=\"\",\"\",Analyze!S892)","v":{"$error":"#VALUE!"}},null,null,null,null,null,null,null,"","","",88.599999999999241,-49.538387885379755,88.599999999999241,-15.040298449397579,88.599999999999241,-19.040298449397575,88.599999999999241,-23.040298449397621,{"$error":"#VALUE!"},{"$error":"#VALUE!"},{"$error":"#VALUE!"},{"$error":"#VALUE!"},{"$error":"#VALUE!"},{"$error":"#VALUE!"},{"$error":"#VALUE!"},{"$error":"#VALUE!"},{"$error":"#VALUE!"},{"$error":"#VALUE!"},{"$error":"#VALUE!"},{"$error":"#VALUE!"}]
[null,null,null,null,null,null,null,null,null,null,null,null,null,null,{"$f":"IF(Analyze!G893=\"\",\"\",Analyze!G893)","v":""},{"$f":"IF(Analyze!S893=\"\",\"\",Analyze!S893)","v":{"$error":"#VALUE!"}},null,null,null,null,null,null,null,"","","",88.699999999999235,-49.608408639200725,88.699999999999235,-15.067093368640691,88.699999999999235,-19.067093368640688,88.699999999999235,-23.067093368640734,{"$error":"#VALUE!"},{"$error":"#VALUE!"},{"$error":"#VALUE!"},{"$error":"#VALUE!"},{"$error":"#VALUE!"},{"$error":"#VALUE!"},{"$error":"#VALUE!"},{"$error":"#VALUE!"},{"$error":"#VALUE!"},{"$error":"#VALUE!"},{"$error":"#VALUE!"},{"$error":"#VALUE!"}]
[null,null,null,null,null,null,null,null,null,null,null,null,null,null,{"$f":"IF(Analyze!G894=\"\",\"\",Analyze!G894)","v":""},{"$f":"IF(Analyze!S894=\"\",\"\",Analyze!S894)","v":{"$error":"#VALUE!"}},null,null,null,null,null,null,null,"","","",88.79999999999923,-49.678429393021695,88.79999999999923,-15.093888287883804,88.79999999999923,-19.0938882878838,88.79999999999923,-23.093888287883846,{"$error":"#VALUE!"},{"$error":"#VALUE!"},{"$error":"#VALUE!"},{"$error":"#VALUE!"},{"$error":"#VALUE!"},{"$error":"#VALUE!"},{"$error":"#VALUE!"},{"$error":"#VALUE!"},{"$error":"#VALUE!"},{"$error":"#VALUE!"},{"$error":"#VALUE!"},{"$error":"#VALUE!"}]
[null,null,null,null,null,null,null,null,null,null,null,null,null,null,{"$f":"IF(Analyze!G895=\"\",\"\",Analyze!G895)","v":""},{"$f":"IF(Analyze!S895=\"\",\"\",Analyze!S895)","v":{"$error":"#VALUE!"}},null,null,null,null,null,null,null,"","","",88.899999999999224,-49.748450146842664,88.899999999999224,-15.120683207126916,88.899999999999224,-19.120683207126913,88.899999999999224,-23.120683207126959,{"$error":"#VALUE!"},{"$error":"#VALUE!"},{"$error":"#VALUE!"},{"$error":"#VALUE!"},{"$error":"#VALUE!"},{"$error":"#VALUE!"},{"$error":"#VALUE!"},{"$error":"#VALUE!"},{"$error":"#VALUE!"},{"$error":"#VALUE!"},{"$error":"#VALUE!"},{"$error":"#VALUE!"}]
[null,null,null,null,null,null,null,null,null,null,null,null,null,null,{"$f":"IF(Analyze!G896=\"\",\"\",Analyze!G896)","v":""},{"$f":"IF(Analyze!S896=\"\",\"\",Analyze!S896)","v":{"$error":"#VALUE!"}},null,null,null,null,null,null,null,"","","",88.999999999999218,-49.818470900663634,88.999999999999218,-15.147478126370029,88.999999999999218,-19.147478126370025,88.999999999999218,-23.147478126370071,{"$error":"#VALUE!"},{"$error":"#VALUE!"},{"$error":"#VALUE!"},{"$error":"#VALUE!"},{"$error":"#VALUE!"},{"$error":"#VALUE!"},{"$error":"#VALUE!"},{"$error":"#VALUE!"},{"$error":"#VALUE!"},{"$error":"#VALUE!"},{"$error":"#VALUE!"},{"$error":"#VALUE!"}]
[null,null,null,null,null,null,null,null,null,null,null,null,null,null,{"$f":"IF(Analyze!G897=\"\",\"\",Analyze!G897)","v":""},{"$f":"IF(Analyze!S897=\"\",\"\",Analyze!S897)","v":{"$error":"#VALUE!"}},null,null,null,null,null,null,null,"","","",89.099999999999213,-49.888491654484604,89.099999999999213,-15.174273045613141,89.099999999999213,-19.174273045613138,89.099999999999213,-23.174273045613184,{"$error":"#VALUE!"},{"$error":"#VALUE!"},{"$error":"#VALUE!"},{"$error":"#VALUE!"},{"$error":"#VALUE!"},{"$error":"#VALUE!"},{"$error":"#VALUE!"},{"$error":"#VALUE!"},{"$error":"#VALUE!"},{"$error":"#VALUE!"},{"$error":"#VALUE!"},{"$error":"#VALUE!"}]
[null,null,null,null,null,null,null,null,null,null,null,null,null,null,{"$f":"IF(Analyze!G898=\"\",\"\",Analyze!G898)","v":""},{"$f":"IF(Analyze!S898=\"\",\"\",Analyze!S898)","v":{"$error":"#VALUE!"}},null,null,null,null,null,null,null,"","","",89.199999999999207,-49.958512408305573,89.199999999999207,-15.201067964856254,89.199999999999207,-19.20106796485625,89.199999999999207,-23.201067964856296,{"$error":"#VALUE!"},{"$error":"#VALUE!"},{"$error":"#VALUE!"},{"$error":"#VALUE!"},{"$error":"#VALUE!"},{"$error":"#VALUE!"},{"$error":"#VALUE!"},{"$error":"#VALUE!"},{"$error":"#VALUE!"},{"$error":"#VALUE!"},{"$error":"#VALUE!"},{"$error":"#VALUE!"}]
[null,null,null,null,null,null,null,null,null,null,null,null,null,null,{"$f":"IF(Analyze!G899=\"\",\"\",Analyze!G899)","v":""},{"$f":"IF(Analyze!S899=\"\",\"\",Analyze!S899)","v":{"$error":"#VALUE!"}},null,null,null,null,null,null,null,"","","",89.299999999999201,-50.028533162126543,89.299999999999201,-15.227862884099366,89.299999999999201,-19.227862884099363,89.299999999999201,-23.227862884099409,{"$error":"#VALUE!"},{"$error":"#VALUE!"},{"$error":"#VALUE!"},{"$error":"#VALUE!"},{"$error":"#VALUE!"},{"$error":"#VALUE!"},{"$error":"#VALUE!"},{"$error":"#VALUE!"},{"$error":"#VALUE!"},{"$error":"#VALUE!"},{"$error":"#VALUE!"},{"$error":"#VALUE!"}]
[null,null,null,null,null,null,null,null,null,null,null,null,null,null,{"$f":"IF(Analyze!G900=\"\",\"\",Analyze!G900)","v":""},{"$f":"IF(Analyze!S900=\"\",\"\",Analyze!S900)","v":{"$error":"#VALUE!"}},null,null,null,null,null,null,null,"","","",89.399999999999196,-50.098553915947512,89.399999999999196,-15.254657803342479,89.399999999999196,-19.254657803342475,89.399999999999196,-23.254657803342521,{"$error":"#VALUE!"},{"$error":"#VALUE!"},{"$error":"#VALUE!"},{"$error":"#VALUE!"},{"$error":"#VALUE!"},{"$error":"#VALUE!"},{"$error":"#VALUE!"},{"$error":"#VALUE!"},{"$error":"#VALUE!"},{"$error":"#VALUE!"},{"$error":"#VALUE!"},{"$error":"#VALUE!"}]
[null,null,null,null,null,null,null,null,null,null,null,null,null,null,{"$f":"IF(Analyze!G901=\"\",\"\",Analyze!G901)","v":""},{"$f":"IF(Analyze!S901=\"\",\"\",Analyze!S901)","v":{"$error":"#VALUE!"}},null,null,null,null,null,null,null,"","","",89.49999999999919,-50.168574669768482,89.49999999999919,-15.281452722585591,89.49999999999919,-19.281452722585588,89.49999999999919,-23.281452722585634,{"$error":"#VALUE!"},{"$error":"#VALUE!"},{"$error":"#VALUE!"},{"$error":"#VALUE!"},{"$error":"#VALUE!"},{"$error":"#VALUE!"},{"$error":"#VALUE!"},{"$error":"#VALUE!"},{"$error":"#VALUE!"},{"$error":"#VALUE!"},{"$error":"#VALUE!"},{"$error":"#VALUE!"}]
[null,null,null,null,null,null,null,null,null,null,null,null,null,null,{"$f":"IF(Analyze!G902=\"\",\"\",Analyze!G902)","v":""},{"$f":"IF(Analyze!S902=\"\",\"\",Analyze!S902)","v":{"$error":"#VALUE!"}},null,null,null,null,null,null,null,{"$f":"IF(O902=\"\",\"\",IF(O902>h+$H$2,(\"\"),(h-O902)))","v":""},"","",89.599999999999184,-50.238595423589452,89.599999999999184,-15.308247641828704,89.599999999999184,-19.3082476418287,89.599999999999184,-23.308247641828746,{"$error":"#VALUE!"},{"$error":"#VALUE!"},{"$error":"#VALUE!"},{"$error":"#VALUE!"},{"$error":"#VALUE!"},{"$error":"#VALUE!"},{"$error":"#VALUE!"},{"$error":"#VALUE!"},{"$error":"#VALUE!"},{"$error":"#VALUE!"},{"$error":"#VALUE!"},{"$error":"#VALUE!"}]
[null,null,null,null,null,null,null,null,null,null,null,null,null,null,{"$f":"IF(Analyze!G903=\"\",\"\",Analyze!G903)","v":""},{"$f":"IF(Analyze!S903=\"\",\"\",Analyze!S903)","v":{"$error":"#VALUE!"}},null,null,null,null,null,null,null,"","","",89.699999999999179,-50.308616177410421,89.699999999999179,-15.335042561071816,89.699999999999179,-19.335042561071813,89.699999999999179,-23.335042561071859,{"$error":"#VALUE!"},{"$error":"#VALUE!"},{"$error":"#VALUE!"},{"$error":"#VALUE!"},{"$error":"#VALUE!"},{"$error":"#VALUE!"},{"$error":"#VALUE!"},{"$error":"#VALUE!"},{"$error":"#VALUE!"},{"$error":"#VALUE!"},{"$error":"#VALUE!"},{"$error":"#VALUE!"}]
[null,null,null,null,null,null,null,null,null,null,null,null,null,null,{"$f":"IF(Analyze!G904=\"\",\"\",Analyze!G904)","v":""},{"$f":"IF(Analyze!S904=\"\",\"\",Analyze!S904)","v":{"$error":"#VALUE!"}},null,null,null,null,null,null,null,"","","",{"$f":"AA903+0.1","v":89.799999999999173},{"$f":"AB903-0.1*TAN(RADIANS($F$7))","v":-50.378636931231391},{"$f":"AC903+0.1","v":89.799999999999173},{"$f":"AD903-0.1*TAN(RADIANS($F$8))","v":-15.361837480314929},{"$f":"AE903+0.1","v":89.799999999999173},{"$f":"AF903-0.1*TAN(RADIANS($F$9))","v":-19.361837480314925},{"$f":"AG903+0.1","v":89.799999999999173},{"$f":"AH903-0.1*TAN(RADIANS($F$10))","v":-23.361837480314971},{"$f":"AI903+0.1","v":{"$error":"#VALUE!"}},{"$f":"AJ903-0.1*TAN(RADIANS($F$11))","v":{"$error":"#VALUE!"}},{"$f":"AK903+0.1","v":{"$error":"#VALUE!"}},{"$f":"AL903-0.1*TAN(RADIANS($F$12))","v":{"$error":"#VALUE!"}},{"$f":"AM903+0.1","v":{"$error":"#VALUE!"}},{"$f":"AN903-0.1*TAN(RADIANS($F$13))","v":{"$error":"#VALUE!"}},{"$f":"AO903+0.1","v":{"$error":"#VALUE!"}},{"$f":"AP903-0.1*TAN(RADIANS($F$14))","v":{"$error":"#VALUE!"}},{"$f":"AQ903+0.1","v":{"$error":"#VALUE!"}},{"$f":"AR903-0.1*TAN(RADIANS($F$15))","v":{"$error":"#VALUE!"}},{"$f":"AS903+0.1","v":{"$error":"#VALUE!"}},{"$f":"AT903-0.1*TAN(RADIANS($F$16))","v":{"$error":"#VALUE!"}}]
[null,null,null,null,null,null,null,null,null,null,null,null,null,null,{"$f":"IF(Analyze!G905=\"\",\"\",Analyze!G905)","v":""},{"$f":"IF(Analyze!S905=\"\",\"\",Analyze!S905)","v":{"$error":"#VALUE!"}},null,null,null,null,null,null,null,"","","",89.899999999999167,-50.44865768505236,89.899999999999167,-15.388632399558041,89.899999999999167,-19.388632399558038,89.899999999999167,-23.388632399558084,{"$error":"#VALUE!"},{"$error":"#VALUE!"},{"$error":"#VALUE!"},{"$error":"#VALUE!"},{"$error":"#VALUE!"},{"$error":"#VALUE!"},{"$error":"#VALUE!"},{"$error":"#VALUE!"},{"$error":"#VALUE!"},{"$error":"#VALUE!"},{"$error":"#VALUE!"},{"$error":"#VALUE!"}]
[null,null,null,null,null,null,null,null,null,null,null,null,null,null,{"$f":"IF(Analyze!G906=\"\",\"\",Analyze!G906)","v":""},{"$f":"IF(Analyze!S906=\"\",\"\",Analyze!S906)","v":{"$error":"#VALUE!"}},null,null,null,null,null,null,null,"","","",89.999999999999162,-50.51867843887333,89.999999999999162,-15.415427318801154,89.999999999999162,-19.41542731880115,89.999999999999162,-23.415427318801196,{"$error":"#VALUE!"},{"$error":"#VALUE!"},{"$error":"#VALUE!"},{"$error":"#VALUE!"},{"$error":"#VALUE!"},{"$error":"#VALUE!"},{"$error":"#VALUE!"},{"$error":"#VALUE!"},{"$error":"#VALUE!"},{"$error":"#VALUE!"},{"$error":"#VALUE!"},{"$error":"#VALUE!"}]
[null,null,null,null,null,null,null,null,null,null,null,null,null,null,{"$f":"IF(Analyze!G907=\"\",\"\",Analyze!G907)","v":""},{"$f":"IF(Analyze!S907=\"\",\"\",Analyze!S907)","v":{"$error":"#VALUE!"}},null,null,null,null,null,null,null,"","","",90.099999999999156,-50.5886991926943,90.099999999999156,-15.442222238044266,90.099999999999156,-19.442222238044263,90.099999999999156,-23.442222238044309,{"$error":"#VALUE!"},{"$error":"#VALUE!"},{"$error":"#VALUE!"},{"$error":"#VALUE!"},{"$error":"#VALUE!"},{"$error":"#VALUE!"},{"$error":"#VALUE!"},{"$error":"#VALUE!"},{"$error":"#VALUE!"},{"$error":"#VALUE!"},{"$error":"#VALUE!"},{"$error":"#VALUE!"}]
[null,null,null,null,null,null,null,null,null,null,null,null,null,null,{"$f":"IF(Analyze!G908=\"\",\"\",Analyze!G908)","v":""},{"$f":"IF(Analyze!S908=\"\",\"\",Analyze!S908)","v":{"$error":"#VALUE!"}},null,null,null,null,null,null,null,"","","",90.19999999999915,-50.658719946515269,90.19999999999915,-15.469017157287379,90.19999999999915,-19.469017157287375,90.19999999999915,-23.469017157287421,{"$error":"#VALUE!"},{"$error":"#VALUE!"},{"$error":"#VALUE!"},{"$error":"#VALUE!"},{"$error":"#VALUE!"},{"$error":"#VALUE!"},{"$error":"#VALUE!"},{"$error":"#VALUE!"},{"$error":"#VALUE!"},{"$error":"#VALUE!"},{"$error":"#VALUE!"},{"$error":"#VALUE!"}]
[null,null,null,null,null,null,null,null,null,null,null,null,null,null,{"$f":"IF(Analyze!G909=\"\",\"\",Analyze!G909)","v":""},{"$f":"IF(Analyze!S909=\"\",\"\",Analyze!S909)","v":{"$error":"#VALUE!"}},null,null,null,null,null,null,null,"","","",90.299999999999145,-50.728740700336239,90.299999999999145,-15.495812076530491,90.299999999999145,-19.495812076530488,90.299999999999145,-23.495812076530534,{"$error":"#VALUE!"},{"$error":"#VALUE!"},{"$error":"#VALUE!"},{"$error":"#VALUE!"},{"$error":"#VALUE!"},{"$error":"#VALUE!"},{"$error":"#VALUE!"},{"$error":"#VALUE!"},{"$error":"#VALUE!"},{"$error":"#VALUE!"},{"$error":"#VALUE!"},{"$error":"#VALUE!"}]
[null,null,null,null,null,null,null,null,null,null,null,null,null,null,{"$f":"IF(Analyze!G910=\"\",\"\",Analyze!G910)","v":""},{"$f":"IF(Analyze!S910=\"\",\"\",Analyze!S910)","v":{"$error":"#VALUE!"}},null,null,null,null,null,null,null,"","","",90.399999999999139,-50.798761454157209,90.399999999999139,-15.522606995773604,90.399999999999139,-19.5226069957736,90.399999999999139,-23.522606995773646,{"$error":"#VALUE!"},{"$error":"#VALUE!"},{"$error":"#VALUE!"},{"$error":"#VALUE!"},{"$error":"#VALUE!"},{"$error":"#VALUE!"},{"$error":"#VALUE!"},{"$error":"#VALUE!"},{"$error":"#VALUE!"},{"$error":"#VALUE!"},{"$error":"#VALUE!"},{"$error":"#VALUE!"}]
[null,null,null,null,null,null,null,null,null,null,null,null,null,null,{"$f":"IF(Analyze!G911=\"\",\"\",Analyze!G911)","v":""},{"$f":"IF(Analyze!S911=\"\",\"\",Analyze!S911)","v":{"$error":"#VALUE!"}},null,null,null,null,null,null,null,"","","",90.499999999999133,-50.868782207978178,90.499999999999133,-15.549401915016716,90.499999999999133,-19.549401915016713,90.499999999999133,-23.549401915016759,{"$error":"#VALUE!"},{"$error":"#VALUE!"},{"$error":"#VALUE!"},{"$error":"#VALUE!"},{"$error":"#VALUE!"},{"$error":"#VALUE!"},{"$error":"#VALUE!"},{"$error":"#VALUE!"},{"$error":"#VALUE!"},{"$error":"#VALUE!"},{"$error":"#VALUE!"},{"$error":"#VALUE!"}]
[null,null,null,null,null,null,null,null,null,null,null,null,null,null,{"$f":"IF(Analyze!G912=\"\",\"\",Analyze!G912)","v":""},{"$f":"IF(Analyze!S912=\"\",\"\",Analyze!S912)","v":{"$error":"#VALUE!"}},null,null,null,null,null,null,null,"","","",90.599999999999127,-50.938802961799148,90.599999999999127,-15.576196834259829,90.599999999999127,-19.576196834259825,90.599999999999127,-23.576196834259871,{"$error":"#VALUE!"},{"$error":"#VALUE!"},{"$error":"#VALUE!"},{"$error":"#VALUE!"},{"$error":"#VALUE!"},{"$error":"#VALUE!"},{"$error":"#VALUE!"},{"$error":"#VALUE!"},{"$error":"#VALUE!"},{"$error":"#VALUE!"},{"$error":"#VALUE!"},{"$error":"#VALUE!"}]
[null,null,null,null,null,null,null,null,null,null,null,null,null,null,{"$f":"IF(Analyze!G913=\"\",\"\",Analyze!G913)","v":""},{"$f":"IF(Analyze!S913=\"\",\"\",Analyze!S913)","v":{"$error":"#VALUE!"}},null,null,null,null,null,null,null,"","","",90.699999999999122,-51.008823715620117,90.699999999999122,-15.602991753502941,90.699999999999122,-19.602991753502938,90.699999999999122,-23.602991753502984,{"$error":"#VALUE!"},{"$error":"#VALUE!"},{"$error":"#VALUE!"},{"$error":"#VALUE!"},{"$error":"#VALUE!"},{"$error":"#VALUE!"},{"$error":"#VALUE!"},{"$error":"#VALUE!"},{"$error":"#VALUE!"},{"$error":"#VALUE!"},{"$error":"#VALUE!"},{"$error":"#VALUE!"}]
[null,null,null,null,null,null,null,null,null,null,null,null,null,null,{"$f":"IF(Analyze!G914=\"\",\"\",Analyze!G914)","v":""},{"$f":"IF(Analyze!S914=\"\",\"\",Analyze!S914)","v":{"$error":"#VALUE!"}},null,null,null,null,null,null,null,"","","",90.799999999999116,-51.078844469441087,90.799999999999116,-15.629786672746054,90.799999999999116,-19.62978667274605,90.799999999999116,-23.629786672746096,{"$error":"#VALUE!"},{"$error":"#VALUE!"},{"$error":"#VALUE!"},{"$error":"#VALUE!"},{"$error":"#VALUE!"},{"$error":"#VALUE!"},{"$error":"#VALUE!"},{"$error":"#VALUE!"},{"$error":"#VALUE!"},{"$error":"#VALUE!"},{"$error":"#VALUE!"},{"$error":"#VALUE!"}]
[null,null,null,null,null,null,null,null,null,null,null,null,null,null,{"$f":"IF(Analyze!G915=\"\",\"\",Analyze!G915)","v":""},{"$f":"IF(Analyze!S915=\"\",\"\",Analyze!S915)","v":{"$error":"#VALUE!"}},null,null,null,null,null,null,null,"","","",90.89999999999911,-51.148865223262057,90.89999999999911,-15.656581591989166,90.89999999999911,-19.656581591989163,90.89999999999911,-23.656581591989209,{"$error":"#VALUE!"},{"$error":"#VALUE!"},{"$error":"#VALUE!"},{"$error":"#VALUE!"},{"$error":"#VALUE!"},{"$error":"#VALUE!"},{"$error":"#VALUE!"},{"$error":"#VALUE!"},{"$error":"#VALUE!"},{"$error":"#VALUE!"},{"$error":"#VALUE!"},{"$error":"#VALUE!"}]
[null,null,null,null,null,null,null,null,null,null,null,null,null,null,{"$f":"IF(Analyze!G916=\"\",\"\",Analyze!G916)","v":""},{"$f":"IF(Analyze!S916=\"\",\"\",Analyze!S916)","v":{"$error":"#VALUE!"}},null,null,null,null,null,null,null,"","","",90.999999999999105,-51.218885977083026,90.999999999999105,-15.683376511232279,90.999999999999105,-19.683376511232275,90.999999999999105,-23.683376511232321,{"$error":"#VALUE!"},{"$error":"#VALUE!"},{"$error":"#VALUE!"},{"$error":"#VALUE!"},{"$error":"#VALUE!"},{"$error":"#VALUE!"},{"$error":"#VALUE!"},{"$error":"#VALUE!"},{"$error":"#VALUE!"},{"$error":"#VALUE!"},{"$error":"#VALUE!"},{"$error":"#VALUE!"}]
[null,null,null,null,null,null,null,null,null,null,null,null,null,null,{"$f":"IF(Analyze!G917=\"\",\"\",Analyze!G917)","v":""},{"$f":"IF(Analyze!S917=\"\",\"\",Analyze!S917)","v":{"$error":"#VALUE!"}},null,null,null,null,null,null,null,"","","",91.099999999999099,-51.288906730903996,91.099999999999099,-15.710171430475391,91.099999999999099,-19.710171430475388,91.099999999999099,-23.710171430475434,{"$error":"#VALUE!"},{"$error":"#VALUE!"},{"$error":"#VALUE!"},{"$error":"#VALUE!"},{"$error":"#VALUE!"},{"$error":"#VALUE!"},{"$error":"#VALUE!"},{"$error":"#VALUE!"},{"$error":"#VALUE!"},{"$error":"#VALUE!"},{"$error":"#VALUE!"},{"$error":"#VALUE!"}]
[null,null,null,null,null,null,null,null,null,null,null,null,null,null,{"$f":"IF(Analyze!G918=\"\",\"\",Analyze!G918)","v":""},{"$f":"IF(Analyze!S918=\"\",\"\",Analyze!S918)","v":{"$error":"#VALUE!"}},null,null,null,null,null,null,null,"","","",91.199999999999093,-51.358927484724965,91.199999999999093,-15.736966349718504,91.199999999999093,-19.7369663497185,91.199999999999093,-23.736966349718546,{"$error":"#VALUE!"},{"$error":"#VALUE!"},{"$error":"#VALUE!"},{"$error":"#VALUE!"},{"$error":"#VALUE!"},{"$error":"#VALUE!"},{"$error":"#VALUE!"},{"$error":"#VALUE!"},{"$error":"#VALUE!"},{"$error":"#VALUE!"},{"$error":"#VALUE!"},{"$error":"#VALUE!"}]
[null,null,null,null,null,null,null,null,null,null,null,null,null,null,{"$f":"IF(Analyze!G919=\"\",\"\",Analyze!G919)","v":""},{"$f":"IF(Analyze!S919=\"\",\"\",Analyze!S919)","v":{"$error":"#VALUE!"}},null,null,null,null,null,null,null,"","","",91.299999999999088,-51.428948238545935,91.299999999999088,-15.763761268961616,91.299999999999088,-19.763761268961613,91.299999999999088,-23.763761268961659,{"$error":"#VALUE!"},{"$error":"#VALUE!"},{"$error":"#VALUE!"},{"$error":"#VALUE!"},{"$error":"#VALUE!"},{"$error":"#VALUE!"},{"$error":"#VALUE!"},{"$error":"#VALUE!"},{"$error":"#VALUE!"},{"$error":"#VALUE!"},{"$error":"#VALUE!"},{"$error":"#VALUE!"}]
[null,null,null,null,null,null,null,null,null,null,null,null,null,null,{"$f":"IF(Analyze!G920=\"\",\"\",Analyze!G920)","v":""},{"$f":"IF(Analyze!S920=\"\",\"\",Analyze!S920)","v":{"$error":"#VALUE!"}},null,null,null,null,null,null,null,"","","",91.399999999999082,-51.498968992366905,91.399999999999082,-15.790556188204729,91.399999999999082,-19.790556188204725,91.399999999999082,-23.790556188204771,{"$error":"#VALUE!"},{"$error":"#VALUE!"},{"$error":"#VALUE!"},{"$error":"#VALUE!"},{"$error":"#VALUE!"},{"$error":"#VALUE!"},{"$error":"#VALUE!"},{"$error":"#VALUE!"},{"$error":"#VALUE!"},{"$error":"#VALUE!"},{"$error":"#VALUE!"},{"$error":"#VALUE!"}]
[null,null,null,null,null,null,null,null,null,null,null,null,null,null,{"$f":"IF(Analyze!G921=\"\",\"\",Analyze!G921)","v":""},{"$f":"IF(Analyze!S921=\"\",\"\",Analyze!S921)","v":{"$error":"#VALUE!"}},null,null,null,null,null,null,null,"","","",91.499999999999076,-51.568989746187874,91.499999999999076,-15.817351107447841,91.499999999999076,-19.817351107447838,91.499999999999076,-23.817351107447884,{"$error":"#VALUE!"},{"$error":"#VALUE!"},{"$error":"#VALUE!"},{"$error":"#VALUE!"},{"$error":"#VALUE!"},{"$error":"#VALUE!"},{"$error":"#VALUE!"},{"$error":"#VALUE!"},{"$error":"#VALUE!"},{"$error":"#VALUE!"},{"$error":"#VALUE!"},{"$error":"#VALUE!"}]
[null,null,null,null,null,null,null,null,null,null,null,null,null,null,{"$f":"IF(Analyze!G922=\"\",\"\",Analyze!G922)","v":""},{"$f":"IF(Analyze!S922=\"\",\"\",Analyze!S922)","v":{"$error":"#VALUE!"}},null,null,null,null,null,null,null,"","","",91.599999999999071,-51.639010500008844,91.599999999999071,-15.844146026690954,91.599999999999071,-19.84414602669095,91.599999999999071,-23.844146026690996,{"$error":"#VALUE!"},{"$error":"#VALUE!"},{"$error":"#VALUE!"},{"$error":"#VALUE!"},{"$error":"#VALUE!"},{"$error":"#VALUE!"},{"$error":"#VALUE!"},{"$error":"#VALUE!"},{"$error":"#VALUE!"},{"$error":"#VALUE!"},{"$error":"#VALUE!"},{"$error":"#VALUE!"}]
[null,null,null,null,null,null,null,null,null,null,null,null,null,null,{"$f":"IF(Analyze!G923=\"\",\"\",Analyze!G923)","v":""},{"$f":"IF(Analyze!S923=\"\",\"\",Analyze!S923)","v":{"$error":"#VALUE!"}},null,null,null,null,null,null,null,"","","",91.699999999999065,-51.709031253829814,91.699999999999065,-15.870940945934066,91.699999999999065,-19.870940945934063,91.699999999999065,-23.870940945934109,{"$error":"#VALUE!"},{"$error":"#VALUE!"},{"$error":"#VALUE!"},{"$error":"#VALUE!"},{"$error":"#VALUE!"},{"$error":"#VALUE!"},{"$error":"#VALUE!"},{"$error":"#VALUE!"},{"$error":"#VALUE!"},{"$error":"#VALUE!"},{"$error":"#VALUE!"},{"$error":"#VALUE!"}]
[null,null,null,null,null,null,null,null,null,null,null,null,null,null,{"$f":"IF(Analyze!G924=\"\",\"\",Analyze!G924)","v":""},{"$f":"IF(Analyze!S924=\"\",\"\",Analyze!S924)","v":{"$error":"#VALUE!"}},null,null,null,null,null,null,null,"","","",91.799999999999059,-51.779052007650783,91.799999999999059,-15.897735865177179,91.799999999999059,-19.897735865177175,91.799999999999059,-23.897735865177221,{"$error":"#VALUE!"},{"$error":"#VALUE!"},{"$error":"#VALUE!"},{"$error":"#VALUE!"},{"$error":"#VALUE!"},{"$error":"#VALUE!"},{"$error":"#VALUE!"},{"$error":"#VALUE!"},{"$error":"#VALUE!"},{"$error":"#VALUE!"},{"$error":"#VALUE!"},{"$error":"#VALUE!"}]
[null,null,null,null,null,null,null,null,null,null,null,null,null,null,{"$f":"IF(Analyze!G925=\"\",\"\",Analyze!G925)","v":""},{"$f":"IF(Analyze!S925=\"\",\"\",Analyze!S925)","v":{"$error":"#VALUE!"}},null,null,null,null,null,null,null,"","","",91.899999999999054,-51.849072761471753,91.899999999999054,-15.924530784420291,91.899999999999054,-19.924530784420288,91.899999999999054,-23.924530784420334,{"$error":"#VALUE!"},{"$error":"#VALUE!"},{"$error":"#VALUE!"},{"$error":"#VALUE!"},{"$error":"#VALUE!"},{"$error":"#VALUE!"},{"$error":"#VALUE!"},{"$error":"#VALUE!"},{"$error":"#VALUE!"},{"$error":"#VALUE!"},{"$error":"#VALUE!"},{"$error":"#VALUE!"}]
[null,null,null,null,null,null,null,null,null,null,null,null,null,null,{"$f":"IF(Analyze!G926=\"\",\"\",Analyze!G926)","v":""},{"$f":"IF(Analyze!S926=\"\",\"\",Analyze!S926)","v":{"$error":"#VALUE!"}},null,null,null,null,null,null,null,"","","",91.999999999999048,-51.919093515292722,91.999999999999048,-15.951325703663404,91.999999999999048,-19.9513257036634,91.999999999999048,-23.951325703663446,{"$error":"#VALUE!"},{"$error":"#VALUE!"},{"$error":"#VALUE!"},{"$error":"#VALUE!"},{"$error":"#VALUE!"},{"$error":"#VALUE!"},{"$error":"#VALUE!"},{"$error":"#VALUE!"},{"$error":"#VALUE!"},{"$error":"#VALUE!"},{"$error":"#VALUE!"},{"$error":"#VALUE!"}]
[null,null,null,null,null,null,null,null,null,null,null,null,null,null,{"$f":"IF(Analyze!G927=\"\",\"\",Analyze!G927)","v":""},{"$f":"IF(Analyze!S927=\"\",\"\",Analyze!S927)","v":{"$error":"#VALUE!"}},null,null,null,null,null,null,null,"","","",92.099999999999042,-51.989114269113692,92.099999999999042,-15.978120622906516,92.099999999999042,-19.978120622906513,92.099999999999042,-23.978120622906559,{"$error":"#VALUE!"},{"$error":"#VALUE!"},{"$error":"#VALUE!"},{"$error":"#VALUE!"},{"$error":"#VALUE!"},{"$error":"#VALUE!"},{"$error":"#VALUE!"},{"$error":"#VALUE!"},{"$error":"#VALUE!"},{"$error":"#VALUE!"},{"$error":"#VALUE!"},{"$error":"#VALUE!"}]
[null,null,null,null,null,null,null,null,null,null,null,null,null,null,{"$f":"IF(Analyze!G928=\"\",\"\",Analyze!G928)","v":""},{"$f":"IF(Analyze!S928=\"\",\"\",Analyze!S928)","v":{"$error":"#VALUE!"}},null,null,null,null,null,null,null,"","","",92.199999999999037,-52.059135022934662,92.199999999999037,-16.004915542149629,92.199999999999037,-20.004915542149625,92.199999999999037,-24.004915542149671,{"$error":"#VALUE!"},{"$error":"#VALUE!"},{"$error":"#VALUE!"},{"$error":"#VALUE!"},{"$error":"#VALUE!"},{"$error":"#VALUE!"},{"$error":"#VALUE!"},{"$error":"#VALUE!"},{"$error":"#VALUE!"},{"$error":"#VALUE!"},{"$error":"#VALUE!"},{"$error":"#VALUE!"}]
[null,null,null,null,null,null,null,null,null,null,null,null,null,null,{"$f":"IF(Analyze!G929=\"\",\"\",Analyze!G929)","v":""},{"$f":"IF(Analyze!S929=\"\",\"\",Analyze!S929)","v":{"$error":"#VALUE!"}},null,null,null,null,null,null,null,"","","",92.299999999999031,-52.129155776755631,92.299999999999031,-16.031710461392741,92.299999999999031,-20.031710461392738,92.299999999999031,-24.031710461392784,{"$error":"#VALUE!"},{"$error":"#VALUE!"},{"$error":"#VALUE!"},{"$error":"#VALUE!"},{"$error":"#VALUE!"},{"$error":"#VALUE!"},{"$error":"#VALUE!"},{"$error":"#VALUE!"},{"$error":"#VALUE!"},{"$error":"#VALUE!"},{"$error":"#VALUE!"},{"$error":"#VALUE!"}]
[null,null,null,null,null,null,null,null,null,null,null,null,null,null,{"$f":"IF(Analyze!G930=\"\",\"\",Analyze!G930)","v":""},{"$f":"IF(Analyze!S930=\"\",\"\",Analyze!S930)","v":{"$error":"#VALUE!"}},null,null,null,null,null,null,null,"","","",92.399999999999025,-52.199176530576601,92.399999999999025,-16.058505380635854,92.399999999999025,-20.05850538063585,92.399999999999025,-24.058505380635896,{"$error":"#VALUE!"},{"$error":"#VALUE!"},{"$error":"#VALUE!"},{"$error":"#VALUE!"},{"$error":"#VALUE!"},{"$error":"#VALUE!"},{"$error":"#VALUE!"},{"$error":"#VALUE!"},{"$error":"#VALUE!"},{"$error":"#VALUE!"},{"$error":"#VALUE!"},{"$error":"#VALUE!"}]
[null,null,null,null,null,null,null,null,null,null,null,null,null,null,{"$f":"IF(Analyze!G931=\"\",\"\",Analyze!G931)","v":""},{"$f":"IF(Analyze!S931=\"\",\"\",Analyze!S931)","v":{"$error":"#VALUE!"}},null,null,null,null,null,null,null,"","","",92.499999999999019,-52.269197284397571,92.499999999999019,-16.085300299878966,92.499999999999019,-20.085300299878963,92.499999999999019,-24.085300299879009,{"$error":"#VALUE!"},{"$error":"#VALUE!"},{"$error":"#VALUE!"},{"$error":"#VALUE!"},{"$error":"#VALUE!"},{"$error":"#VALUE!"},{"$error":"#VALUE!"},{"$error":"#VALUE!"},{"$error":"#VALUE!"},{"$error":"#VALUE!"},{"$error":"#VALUE!"},{"$error":"#VALUE!"}]
[null,null,null,null,null,null,null,null,null,null,null,null,null,null,{"$f":"IF(Analyze!G932=\"\",\"\",Analyze!G932)","v":""},{"$f":"IF(Analyze!S932=\"\",\"\",Analyze!S932)","v":{"$error":"#VALUE!"}},null,null,null,null,null,null,null,"","","",92.599999999999014,-52.33921803821854,92.599999999999014,-16.112095219122079,92.599999999999014,-20.112095219122075,92.599999999999014,-24.112095219122121,{"$error":"#VALUE!"},{"$error":"#VALUE!"},{"$error":"#VALUE!"},{"$error":"#VALUE!"},{"$error":"#VALUE!"},{"$error":"#VALUE!"},{"$error":"#VALUE!"},{"$error":"#VALUE!"},{"$error":"#VALUE!"},{"$error":"#VALUE!"},{"$error":"#VALUE!"},{"$error":"#VALUE!"}]
[null,null,null,null,null,null,null,null,null,null,null,null,null,null,{"$f":"IF(Analyze!G933=\"\",\"\",Analyze!G933)","v":""},{"$f":"IF(Analyze!S933=\"\",\"\",Analyze!S933)","v":{"$error":"#VALUE!"}},null,null,null,null,null,null,null,"","","",92.699999999999008,-52.40923879203951,92.699999999999008,-16.138890138365191,92.699999999999008,-20.138890138365188,92.699999999999008,-24.138890138365234,{"$error":"#VALUE!"},{"$error":"#VALUE!"},{"$error":"#VALUE!"},{"$error":"#VALUE!"},{"$error":"#VALUE!"},{"$error":"#VALUE!"},{"$error":"#VALUE!"},{"$error":"#VALUE!"},{"$error":"#VALUE!"},{"$error":"#VALUE!"},{"$error":"#VALUE!"},{"$error":"#VALUE!"}]
[null,null,null,null,null,null,null,null,null,null,null,null,null,null,{"$f":"IF(Analyze!G934=\"\",\"\",Analyze!G934)","v":""},{"$f":"IF(Analyze!S934=\"\",\"\",Analyze!S934)","v":{"$error":"#VALUE!"}},null,null,null,null,null,null,null,"","","",92.799999999999002,-52.479259545860479,92.799999999999002,-16.165685057608304,92.799999999999002,-20.1656850576083,92.799999999999002,-24.165685057608346,{"$error":"#VALUE!"},{"$error":"#VALUE!"},{"$error":"#VALUE!"},{"$error":"#VALUE!"},{"$error":"#VALUE!"},{"$error":"#VALUE!"},{"$error":"#VALUE!"},{"$error":"#VALUE!"},{"$error":"#VALUE!"},{"$error":"#VALUE!"},{"$error":"#VALUE!"},{"$error":"#VALUE!"}]
[null,null,null,null,null,null,null,null,null,null,null,null,null,null,{"$f":"IF(Analyze!G935=\"\",\"\",Analyze!G935)","v":""},{"$f":"IF(Analyze!S935=\"\",\"\",Analyze!S935)","v":{"$error":"#VALUE!"}},null,null,null,null,null,null,null,"","","",92.899999999998997,-52.549280299681449,92.899999999998997,-16.192479976851416,92.899999999998997,-20.192479976851413,92.899999999998997,-24.192479976851459,{"$error":"#VALUE!"},{"$error":"#VALUE!"},{"$error":"#VALUE!"},{"$error":"#VALUE!"},{"$error":"#VALUE!"},{"$error":"#VALUE!"},{"$error":"#VALUE!"},{"$error":"#VALUE!"},{"$error":"#VALUE!"},{"$error":"#VALUE!"},{"$error":"#VALUE!"},{"$error":"#VALUE!"}]
[null,null,null,null,null,null,null,null,null,null,null,null,null,null,{"$f":"IF(Analyze!G936=\"\",\"\",Analyze!G936)","v":""},{"$f":"IF(Analyze!S936=\"\",\"\",Analyze!S936)","v":{"$error":"#VALUE!"}},null,null,null,null,null,null,null,"","","",92.999999999998991,-52.619301053502419,92.999999999998991,-16.219274896094529,92.999999999998991,-20.219274896094525,92.999999999998991,-24.219274896094571,{"$error":"#VALUE!"},{"$error":"#VALUE!"},{"$error":"#VALUE!"},{"$error":"#VALUE!"},{"$error":"#VALUE!"},{"$error":"#VALUE!"},{"$error":"#VALUE!"},{"$error":"#VALUE!"},{"$error":"#VALUE!"},{"$error":"#VALUE!"},{"$error":"#VALUE!"},{"$error":"#VALUE!"}]
[null,null,null,null,null,null,null,null,null,null,null,null,null,null,{"$f":"IF(Analyze!G937=\"\",\"\",Analyze!G937)","v":""},{"$f":"IF(Analyze!S937=\"\",\"\",Analyze!S937)","v":{"$error":"#VALUE!"}},null,null,null,null,null,null,null,"","","",93.099999999998985,-52.689321807323388,93.099999999998985,-16.246069815337641,93.099999999998985,-20.246069815337638,93.099999999998985,-24.246069815337684,{"$error":"#VALUE!"},{"$error":"#VALUE!"},{"$error":"#VALUE!"},{"$error":"#VALUE!"},{"$error":"#VALUE!"},{"$error":"#VALUE!"},{"$error":"#VALUE!"},{"$error":"#VALUE!"},{"$error":"#VALUE!"},{"$error":"#VALUE!"},{"$error":"#VALUE!"},{"$error":"#VALUE!"}]
[null,null,null,null,null,null,null,null,null,null,null,null,null,null,{"$f":"IF(Analyze!G938=\"\",\"\",Analyze!G938)","v":""},{"$f":"IF(Analyze!S938=\"\",\"\",Analyze!S938)","v":{"$error":"#VALUE!"}},null,null,null,null,null,null,null,"","","",93.19999999999898,-52.759342561144358,93.19999999999898,-16.272864734580754,93.19999999999898,-20.27286473458075,93.19999999999898,-24.272864734580796,{"$error":"#VALUE!"},{"$error":"#VALUE!"},{"$error":"#VALUE!"},{"$error":"#VALUE!"},{"$error":"#VALUE!"},{"$error":"#VALUE!"},{"$error":"#VALUE!"},{"$error":"#VALUE!"},{"$error":"#VALUE!"},{"$error":"#VALUE!"},{"$error":"#VALUE!"},{"$error":"#VALUE!"}]
[null,null,null,null,null,null,null,null,null,null,null,null,null,null,{"$f":"IF(Analyze!G939=\"\",\"\",Analyze!G939)","v":""},{"$f":"IF(Analyze!S939=\"\",\"\",Analyze!S939)","v":{"$error":"#VALUE!"}},null,null,null,null,null,null,null,"","","",93.299999999998974,-52.829363314965327,93.299999999998974,-16.299659653823866,93.299999999998974,-20.299659653823863,93.299999999998974,-24.299659653823909,{"$error":"#VALUE!"},{"$error":"#VALUE!"},{"$error":"#VALUE!"},{"$error":"#VALUE!"},{"$error":"#VALUE!"},{"$error":"#VALUE!"},{"$error":"#VALUE!"},{"$error":"#VALUE!"},{"$error":"#VALUE!"},{"$error":"#VALUE!"},{"$error":"#VALUE!"},{"$error":"#VALUE!"}]
[null,null,null,null,null,null,null,null,null,null,null,null,null,null,{"$f":"IF(Analyze!G940=\"\",\"\",Analyze!G940)","v":""},{"$f":"IF(Analyze!S940=\"\",\"\",Analyze!S940)","v":{"$error":"#VALUE!"}},null,null,null,null,null,null,null,"","","",93.399999999998968,-52.899384068786297,93.399999999998968,-16.326454573066979,93.399999999998968,-20.326454573066975,93.399999999998968,-24.326454573067021,{"$error":"#VALUE!"},{"$error":"#VALUE!"},{"$error":"#VALUE!"},{"$error":"#VALUE!"},{"$error":"#VALUE!"},{"$error":"#VALUE!"},{"$error":"#VALUE!"},{"$error":"#VALUE!"},{"$error":"#VALUE!"},{"$error":"#VALUE!"},{"$error":"#VALUE!"},{"$error":"#VALUE!"}]
[null,null,null,null,null,null,null,null,null,null,null,null,null,null,{"$f":"IF(Analyze!G941=\"\",\"\",Analyze!G941)","v":""},{"$f":"IF(Analyze!S941=\"\",\"\",Analyze!S941)","v":{"$error":"#VALUE!"}},null,null,null,null,null,null,null,"","","",93.499999999998963,-52.969404822607267,93.499999999998963,-16.353249492310091,93.499999999998963,-20.353249492310088,93.499999999998963,-24.353249492310134,{"$error":"#VALUE!"},{"$error":"#VALUE!"},{"$error":"#VALUE!"},{"$error":"#VALUE!"},{"$error":"#VALUE!"},{"$error":"#VALUE!"},{"$error":"#VALUE!"},{"$error":"#VALUE!"},{"$error":"#VALUE!"},{"$error":"#VALUE!"},{"$error":"#VALUE!"},{"$error":"#VALUE!"}]
[null,null,null,null,null,null,null,null,null,null,null,null,null,null,{"$f":"IF(Analyze!G942=\"\",\"\",Analyze!G942)","v":""},{"$f":"IF(Analyze!S942=\"\",\"\",Analyze!S942)","v":{"$error":"#VALUE!"}},null,null,null,null,null,null,null,"","","",93.599999999998957,-53.039425576428236,93.599999999998957,-16.380044411553204,93.599999999998957,-20.3800444115532,93.599999999998957,-24.380044411553246,{"$error":"#VALUE!"},{"$error":"#VALUE!"},{"$error":"#VALUE!"},{"$error":"#VALUE!"},{"$error":"#VALUE!"},{"$error":"#VALUE!"},{"$error":"#VALUE!"},{"$error":"#VALUE!"},{"$error":"#VALUE!"},{"$error":"#VALUE!"},{"$error":"#VALUE!"},{"$error":"#VALUE!"}]
[null,null,null,null,null,null,null,null,null,null,null,null,null,null,{"$f":"IF(Analyze!G943=\"\",\"\",Analyze!G943)","v":""},{"$f":"IF(Analyze!S943=\"\",\"\",Analyze!S943)","v":{"$error":"#VALUE!"}},null,null,null,null,null,null,null,"","","",93.699999999998951,-53.109446330249206,93.699999999998951,-16.406839330796316,93.699999999998951,-20.406839330796313,93.699999999998951,-24.406839330796359,{"$error":"#VALUE!"},{"$error":"#VALUE!"},{"$error":"#VALUE!"},{"$error":"#VALUE!"},{"$error":"#VALUE!"},{"$error":"#VALUE!"},{"$error":"#VALUE!"},{"$error":"#VALUE!"},{"$error":"#VALUE!"},{"$error":"#VALUE!"},{"$error":"#VALUE!"},{"$error":"#VALUE!"}]
[null,null,null,null,null,null,null,null,null,null,null,null,null,null,{"$f":"IF(Analyze!G944=\"\",\"\",Analyze!G944)","v":""},{"$f":"IF(Analyze!S944=\"\",\"\",Analyze!S944)","v":{"$error":"#VALUE!"}},null,null,null,null,null,null,null,"","","",93.799999999998946,-53.179467084070176,93.799999999998946,-16.433634250039429,93.799999999998946,-20.433634250039425,93.799999999998946,-24.433634250039471,{"$error":"#VALUE!"},{"$error":"#VALUE!"},{"$error":"#VALUE!"},{"$error":"#VALUE!"},{"$error":"#VALUE!"},{"$error":"#VALUE!"},{"$error":"#VALUE!"},{"$error":"#VALUE!"},{"$error":"#VALUE!"},{"$error":"#VALUE!"},{"$error":"#VALUE!"},{"$error":"#VALUE!"}]
[null,null,null,null,null,null,null,null,null,null,null,null,null,null,{"$f":"IF(Analyze!G945=\"\",\"\",Analyze!G945)","v":""},{"$f":"IF(Analyze!S945=\"\",\"\",Analyze!S945)","v":{"$error":"#VALUE!"}},null,null,null,null,null,null,null,"","","",93.89999999999894,-53.249487837891145,93.89999999999894,-16.460429169282541,93.89999999999894,-20.460429169282538,93.89999999999894,-24.460429169282584,{"$error":"#VALUE!"},{"$error":"#VALUE!"},{"$error":"#VALUE!"},{"$error":"#VALUE!"},{"$error":"#VALUE!"},{"$error":"#VALUE!"},{"$error":"#VALUE!"},{"$error":"#VALUE!"},{"$error":"#VALUE!"},{"$error":"#VALUE!"},{"$error":"#VALUE!"},{"$error":"#VALUE!"}]
[null,null,null,null,null,null,null,null,null,null,null,null,null,null,{"$f":"IF(Analyze!G946=\"\",\"\",Analyze!G946)","v":""},{"$f":"IF(Analyze!S946=\"\",\"\",Analyze!S946)","v":{"$error":"#VALUE!"}},null,null,null,null,null,null,null,"","","",93.999999999998934,-53.319508591712115,93.999999999998934,-16.487224088525654,93.999999999998934,-20.48722408852565,93.999999999998934,-24.487224088525696,{"$error":"#VALUE!"},{"$error":"#VALUE!"},{"$error":"#VALUE!"},{"$error":"#VALUE!"},{"$error":"#VALUE!"},{"$error":"#VALUE!"},{"$error":"#VALUE!"},{"$error":"#VALUE!"},{"$error":"#VALUE!"},{"$error":"#VALUE!"},{"$error":"#VALUE!"},{"$error":"#VALUE!"}]
[null,null,null,null,null,null,null,null,null,null,null,null,null,null,{"$f":"IF(Analyze!G947=\"\",\"\",Analyze!G947)","v":""},{"$f":"IF(Analyze!S947=\"\",\"\",Analyze!S947)","v":{"$error":"#VALUE!"}},null,null,null,null,null,null,null,"",{"$f":"IF(W948=\"\",\"\",W947+$H$4*COS(ATAN((X948-X947)/(W948-W947))))","v":""},{"$f":"IF(W948=\"\",\"\",X947-$H$4*SIN(ATAN((X948-X947)/(W948-W947))))","v":""},94.099999999998929,-53.389529345533084,94.099999999998929,-16.514019007768766,94.099999999998929,-20.514019007768763,94.099999999998929,-24.514019007768809,{"$error":"#VALUE!"},{"$error":"#VALUE!"},{"$error":"#VALUE!"},{"$error":"#VALUE!"},{"$error":"#VALUE!"},{"$error":"#VALUE!"},{"$error":"#VALUE!"},{"$error":"#VALUE!"},{"$error":"#VALUE!"},{"$error":"#VALUE!"},{"$error":"#VALUE!"},{"$error":"#VALUE!"}]
[null,null,null,null,null,null,null,null,null,null,null,null,null,null,{"$f":"IF(Analyze!G948=\"\",\"\",Analyze!G948)","v":""},{"$f":"IF(Analyze!S948=\"\",\"\",Analyze!S948)","v":{"$error":"#VALUE!"}},null,null,null,null,null,null,null,"","","",94.199999999998923,-53.459550099354054,94.199999999998923,-16.540813927011879,94.199999999998923,-20.540813927011875,94.199999999998923,-24.540813927011921,{"$error":"#VALUE!"},{"$error":"#VALUE!"},{"$error":"#VALUE!"},{"$error":"#VALUE!"},{"$error":"#VALUE!"},{"$error":"#VALUE!"},{"$error":"#VALUE!"},{"$error":"#VALUE!"},{"$error":"#VALUE!"},{"$error":"#VALUE!"},{"$error":"#VALUE!"},{"$error":"#VALUE!"}]
[null,null,null,null,null,null,null,null,null,null,null,null,null,null,{"$f":"IF(Analyze!G949=\"\",\"\",Analyze!G949)","v":""},{"$f":"IF(Analyze!S949=\"\",\"\",Analyze!S949)","v":{"$error":"#VALUE!"}},null,null,null,null,null,null,null,"","","",94.299999999998917,-53.529570853175024,94.299999999998917,-16.567608846254991,94.299999999998917,-20.567608846254988,94.299999999998917,-24.567608846255034,{"$error":"#VALUE!"},{"$error":"#VALUE!"},{"$error":"#VALUE!"},{"$error":"#VALUE!"},{"$error":"#VALUE!"},{"$error":"#VALUE!"},{"$error":"#VALUE!"},{"$error":"#VALUE!"},{"$error":"#VALUE!"},{"$error":"#VALUE!"},{"$error":"#VALUE!"},{"$error":"#VALUE!"}]
[null,null,null,null,null,null,null,null,null,null,null,null,null,null,{"$f":"IF(Analyze!G950=\"\",\"\",Analyze!G950)","v":""},{"$f":"IF(Analyze!S950=\"\",\"\",Analyze!S950)","v":{"$error":"#VALUE!"}},null,null,null,null,null,null,null,"","","",94.399999999998911,-53.599591606995993,94.399999999998911,-16.594403765498104,94.399999999998911,-20.5944037654981,94.399999999998911,-24.594403765498146,{"$error":"#VALUE!"},{"$error":"#VALUE!"},{"$error":"#VALUE!"},{"$error":"#VALUE!"},{"$error":"#VALUE!"},{"$error":"#VALUE!"},{"$error":"#VALUE!"},{"$error":"#VALUE!"},{"$error":"#VALUE!"},{"$error":"#VALUE!"},{"$error":"#VALUE!"},{"$error":"#VALUE!"}]
[null,null,null,null,null,null,null,null,null,null,null,null,null,null,{"$f":"IF(Analyze!G951=\"\",\"\",Analyze!G951)","v":""},{"$f":"IF(Analyze!S951=\"\",\"\",Analyze!S951)","v":{"$error":"#VALUE!"}},null,null,null,null,null,null,null,"","","",94.499999999998906,-53.669612360816963,94.499999999998906,-16.621198684741216,94.499999999998906,-20.621198684741213,94.499999999998906,-24.621198684741259,{"$error":"#VALUE!"},{"$error":"#VALUE!"},{"$error":"#VALUE!"},{"$error":"#VALUE!"},{"$error":"#VALUE!"},{"$error":"#VALUE!"},{"$error":"#VALUE!"},{"$error":"#VALUE!"},{"$error":"#VALUE!"},{"$error":"#VALUE!"},{"$error":"#VALUE!"},{"$error":"#VALUE!"}]
[null,null,null,null,null,null,null,null,null,null,null,null,null,null,{"$f":"IF(Analyze!G952=\"\",\"\",Analyze!G952)","v":""},{"$f":"IF(Analyze!S952=\"\",\"\",Analyze!S952)","v":{"$error":"#VALUE!"}},null,null,null,null,null,null,null,"","","",94.5999999999989,-53.739633114637932,94.5999999999989,-16.647993603984329,94.5999999999989,-20.647993603984325,94.5999999999989,-24.647993603984371,{"$error":"#VALUE!"},{"$error":"#VALUE!"},{"$error":"#VALUE!"},{"$error":"#VALUE!"},{"$error":"#VALUE!"},{"$error":"#VALUE!"},{"$error":"#VALUE!"},{"$error":"#VALUE!"},{"$error":"#VALUE!"},{"$error":"#VALUE!"},{"$error":"#VALUE!"},{"$error":"#VALUE!"}]
[null,null,null,null,null,null,null,null,null,null,null,null,null,null,{"$f":"IF(Analyze!G953=\"\",\"\",Analyze!G953)","v":""},{"$f":"IF(Analyze!S953=\"\",\"\",Analyze!S953)","v":{"$error":"#VALUE!"}},null,null,null,null,null,null,null,"","","",94.699999999998894,-53.809653868458902,94.699999999998894,-16.674788523227441,94.699999999998894,-20.674788523227438,94.699999999998894,-24.674788523227484,{"$error":"#VALUE!"},{"$error":"#VALUE!"},{"$error":"#VALUE!"},{"$error":"#VALUE!"},{"$error":"#VALUE!"},{"$error":"#VALUE!"},{"$error":"#VALUE!"},{"$error":"#VALUE!"},{"$error":"#VALUE!"},{"$error":"#VALUE!"},{"$error":"#VALUE!"},{"$error":"#VALUE!"}]
[null,null,null,null,null,null,null,null,null,null,null,null,null,null,{"$f":"IF(Analyze!G954=\"\",\"\",Analyze!G954)","v":""},{"$f":"IF(Analyze!S954=\"\",\"\",Analyze!S954)","v":{"$error":"#VALUE!"}},null,null,null,null,null,null,null,"","","",94.799999999998889,-53.879674622279872,94.799999999998889,-16.701583442470554,94.799999999998889,-20.70158344247055,94.799999999998889,-24.701583442470596,{"$error":"#VALUE!"},{"$error":"#VALUE!"},{"$error":"#VALUE!"},{"$error":"#VALUE!"},{"$error":"#VALUE!"},{"$error":"#VALUE!"},{"$error":"#VALUE!"},{"$error":"#VALUE!"},{"$error":"#VALUE!"},{"$error":"#VALUE!"},{"$error":"#VALUE!"},{"$error":"#VALUE!"}]
[null,null,null,null,null,null,null,null,null,null,null,null,null,null,{"$f":"IF(Analyze!G955=\"\",\"\",Analyze!G955)","v":""},{"$f":"IF(Analyze!S955=\"\",\"\",Analyze!S955)","v":{"$error":"#VALUE!"}},null,null,null,null,null,null,null,"","","",94.899999999998883,-53.949695376100841,94.899999999998883,-16.728378361713666,94.899999999998883,-20.728378361713663,94.899999999998883,-24.728378361713709,{"$error":"#VALUE!"},{"$error":"#VALUE!"},{"$error":"#VALUE!"},{"$error":"#VALUE!"},{"$error":"#VALUE!"},{"$error":"#VALUE!"},{"$error":"#VALUE!"},{"$error":"#VALUE!"},{"$error":"#VALUE!"},{"$error":"#VALUE!"},{"$error":"#VALUE!"},{"$error":"#VALUE!"}]
[null,null,null,null,null,null,null,null,null,null,null,null,null,null,{"$f":"IF(Analyze!G956=\"\",\"\",Analyze!G956)","v":""},{"$f":"IF(Analyze!S956=\"\",\"\",Analyze!S956)","v":{"$error":"#VALUE!"}},null,null,null,null,null,null,null,"","","",94.999999999998877,-54.019716129921811,94.999999999998877,-16.755173280956779,94.999999999998877,-20.755173280956775,94.999999999998877,-24.755173280956821,{"$error":"#VALUE!"},{"$error":"#VALUE!"},{"$error":"#VALUE!"},{"$error":"#VALUE!"},{"$error":"#VALUE!"},{"$error":"#VALUE!"},{"$error":"#VALUE!"},{"$error":"#VALUE!"},{"$error":"#VALUE!"},{"$error":"#VALUE!"},{"$error":"#VALUE!"},{"$error":"#VALUE!"}]
[null,null,null,null,null,null,null,null,null,null,null,null,null,null,{"$f":"IF(Analyze!G957=\"\",\"\",Analyze!G957)","v":""},{"$f":"IF(Analyze!S957=\"\",\"\",Analyze!S957)","v":{"$error":"#VALUE!"}},null,null,null,null,null,null,null,"","","",95.099999999998872,-54.089736883742781,95.099999999998872,-16.781968200199891,95.099999999998872,-20.781968200199888,95.099999999998872,-24.781968200199934,{"$error":"#VALUE!"},{"$error":"#VALUE!"},{"$error":"#VALUE!"},{"$error":"#VALUE!"},{"$error":"#VALUE!"},{"$error":"#VALUE!"},{"$error":"#VALUE!"},{"$error":"#VALUE!"},{"$error":"#VALUE!"},{"$error":"#VALUE!"},{"$error":"#VALUE!"},{"$error":"#VALUE!"}]
[null,null,null,null,null,null,null,null,null,null,null,null,null,null,{"$f":"IF(Analyze!G958=\"\",\"\",Analyze!G958)","v":""},{"$f":"IF(Analyze!S958=\"\",\"\",Analyze!S958)","v":{"$error":"#VALUE!"}},null,null,null,null,null,null,null,"","","",95.199999999998866,-54.15975763756375,95.199999999998866,-16.808763119443004,95.199999999998866,-20.808763119443,95.199999999998866,-24.808763119443046,{"$error":"#VALUE!"},{"$error":"#VALUE!"},{"$error":"#VALUE!"},{"$error":"#VALUE!"},{"$error":"#VALUE!"},{"$error":"#VALUE!"},{"$error":"#VALUE!"},{"$error":"#VALUE!"},{"$error":"#VALUE!"},{"$error":"#VALUE!"},{"$error":"#VALUE!"},{"$error":"#VALUE!"}]
[null,null,null,null,null,null,null,null,null,null,null,null,null,null,{"$f":"IF(Analyze!G959=\"\",\"\",Analyze!G959)","v":""},{"$f":"IF(Analyze!S959=\"\",\"\",Analyze!S959)","v":{"$error":"#VALUE!"}},null,null,null,null,null,null,null,"","","",95.29999999999886,-54.22977839138472,95.29999999999886,-16.835558038686116,95.29999999999886,-20.835558038686113,95.29999999999886,-24.835558038686159,{"$error":"#VALUE!"},{"$error":"#VALUE!"},{"$error":"#VALUE!"},{"$error":"#VALUE!"},{"$error":"#VALUE!"},{"$error":"#VALUE!"},{"$error":"#VALUE!"},{"$error":"#VALUE!"},{"$error":"#VALUE!"},{"$error":"#VALUE!"},{"$error":"#VALUE!"},{"$error":"#VALUE!"}]
[null,null,null,null,null,null,null,null,null,null,null,null,null,null,{"$f":"IF(Analyze!G960=\"\",\"\",Analyze!G960)","v":""},{"$f":"IF(Analyze!S960=\"\",\"\",Analyze!S960)","v":{"$error":"#VALUE!"}},null,null,null,null,null,null,null,"","","",95.399999999998855,-54.299799145205689,95.399999999998855,-16.862352957929229,95.399999999998855,-20.862352957929225,95.399999999998855,-24.862352957929271,{"$error":"#VALUE!"},{"$error":"#VALUE!"},{"$error":"#VALUE!"},{"$error":"#VALUE!"},{"$error":"#VALUE!"},{"$error":"#VALUE!"},{"$error":"#VALUE!"},{"$error":"#VALUE!"},{"$error":"#VALUE!"},{"$error":"#VALUE!"},{"$error":"#VALUE!"},{"$error":"#VALUE!"}]
[null,null,null,null,null,null,null,null,null,null,null,null,null,null,{"$f":"IF(Analyze!G961=\"\",\"\",Analyze!G961)","v":""},{"$f":"IF(Analyze!S961=\"\",\"\",Analyze!S961)","v":{"$error":"#VALUE!"}},null,null,null,null,null,null,null,"","","",95.499999999998849,-54.369819899026659,95.499999999998849,-16.889147877172341,95.499999999998849,-20.889147877172338,95.499999999998849,-24.889147877172384,{"$error":"#VALUE!"},{"$error":"#VALUE!"},{"$error":"#VALUE!"},{"$error":"#VALUE!"},{"$error":"#VALUE!"},{"$error":"#VALUE!"},{"$error":"#VALUE!"},{"$error":"#VALUE!"},{"$error":"#VALUE!"},{"$error":"#VALUE!"},{"$error":"#VALUE!"},{"$error":"#VALUE!"}]
[null,null,null,null,null,null,null,null,null,null,null,null,null,null,{"$f":"IF(Analyze!G962=\"\",\"\",Analyze!G962)","v":""},{"$f":"IF(Analyze!S962=\"\",\"\",Analyze!S962)","v":{"$error":"#VALUE!"}},null,null,null,null,null,null,null,"","","",95.599999999998843,-54.439840652847629,95.599999999998843,-16.915942796415454,95.599999999998843,-20.91594279641545,95.599999999998843,-24.915942796415496,{"$error":"#VALUE!"},{"$error":"#VALUE!"},{"$error":"#VALUE!"},{"$error":"#VALUE!"},{"$error":"#VALUE!"},{"$error":"#VALUE!"},{"$error":"#VALUE!"},{"$error":"#VALUE!"},{"$error":"#VALUE!"},{"$error":"#VALUE!"},{"$error":"#VALUE!"},{"$error":"#VALUE!"}]
[null,null,null,null,null,null,null,null,null,null,null,null,null,null,{"$f":"IF(Analyze!G963=\"\",\"\",Analyze!G963)","v":""},{"$f":"IF(Analyze!S963=\"\",\"\",Analyze!S963)","v":{"$error":"#VALUE!"}},null,null,null,null,null,null,null,"","","",95.699999999998838,-54.509861406668598,95.699999999998838,-16.942737715658566,95.699999999998838,-20.942737715658563,95.699999999998838,-24.942737715658609,{"$error":"#VALUE!"},{"$error":"#VALUE!"},{"$error":"#VALUE!"},{"$error":"#VALUE!"},{"$error":"#VALUE!"},{"$error":"#VALUE!"},{"$error":"#VALUE!"},{"$error":"#VALUE!"},{"$error":"#VALUE!"},{"$error":"#VALUE!"},{"$error":"#VALUE!"},{"$error":"#VALUE!"}]
[null,null,null,null,null,null,null,null,null,null,null,null,null,null,{"$f":"IF(Analyze!G964=\"\",\"\",Analyze!G964)","v":""},{"$f":"IF(Analyze!S964=\"\",\"\",Analyze!S964)","v":{"$error":"#VALUE!"}},null,null,null,null,null,null,null,"","","",95.799999999998832,-54.579882160489568,95.799999999998832,-16.969532634901679,95.799999999998832,-20.969532634901675,95.799999999998832,-24.969532634901721,{"$error":"#VALUE!"},{"$error":"#VALUE!"},{"$error":"#VALUE!"},{"$error":"#VALUE!"},{"$error":"#VALUE!"},{"$error":"#VALUE!"},{"$error":"#VALUE!"},{"$error":"#VALUE!"},{"$error":"#VALUE!"},{"$error":"#VALUE!"},{"$error":"#VALUE!"},{"$error":"#VALUE!"}]
[null,null,null,null,null,null,null,null,null,null,null,null,null,null,{"$f":"IF(Analyze!G965=\"\",\"\",Analyze!G965)","v":""},{"$f":"IF(Analyze!S965=\"\",\"\",Analyze!S965)","v":{"$error":"#VALUE!"}},null,null,null,null,null,null,null,"","","",95.899999999998826,-54.649902914310537,95.899999999998826,-16.996327554144791,95.899999999998826,-20.996327554144788,95.899999999998826,-24.996327554144834,{"$error":"#VALUE!"},{"$error":"#VALUE!"},{"$error":"#VALUE!"},{"$error":"#VALUE!"},{"$error":"#VALUE!"},{"$error":"#VALUE!"},{"$error":"#VALUE!"},{"$error":"#VALUE!"},{"$error":"#VALUE!"},{"$error":"#VALUE!"},{"$error":"#VALUE!"},{"$error":"#VALUE!"}]
[null,null,null,null,null,null,null,null,null,null,null,null,null,null,{"$f":"IF(Analyze!G966=\"\",\"\",Analyze!G966)","v":""},{"$f":"IF(Analyze!S966=\"\",\"\",Analyze!S966)","v":{"$error":"#VALUE!"}},null,null,null,null,null,null,null,{"$f":"IF(O966=\"\",\"\",IF(O966>h+$H$2,(\"\"),(h-O966)))","v":""},"","",95.99999999999882,-54.719923668131507,95.99999999999882,-17.023122473387904,95.99999999999882,-21.0231224733879,95.99999999999882,-25.023122473387946,{"$error":"#VALUE!"},{"$error":"#VALUE!"},{"$error":"#VALUE!"},{"$error":"#VALUE!"},{"$error":"#VALUE!"},{"$error":"#VALUE!"},{"$error":"#VALUE!"},{"$error":"#VALUE!"},{"$error":"#VALUE!"},{"$error":"#VALUE!"},{"$error":"#VALUE!"},{"$error":"#VALUE!"}]
[null,null,null,null,null,null,null,null,null,null,null,null,null,null,{"$f":"IF(Analyze!G967=\"\",\"\",Analyze!G967)","v":""},{"$f":"IF(Analyze!S967=\"\",\"\",Analyze!S967)","v":{"$error":"#VALUE!"}},null,null,null,null,null,null,null,"","","",96.099999999998815,-54.789944421952477,96.099999999998815,-17.049917392631016,96.099999999998815,-21.049917392631013,96.099999999998815,-25.049917392631059,{"$error":"#VALUE!"},{"$error":"#VALUE!"},{"$error":"#VALUE!"},{"$error":"#VALUE!"},{"$error":"#VALUE!"},{"$error":"#VALUE!"},{"$error":"#VALUE!"},{"$error":"#VALUE!"},{"$error":"#VALUE!"},{"$error":"#VALUE!"},{"$error":"#VALUE!"},{"$error":"#VALUE!"}]
[null,null,null,null,null,null,null,null,null,null,null,null,null,null,{"$f":"IF(Analyze!G968=\"\",\"\",Analyze!G968)","v":""},{"$f":"IF(Analyze!S968=\"\",\"\",Analyze!S968)","v":{"$error":"#VALUE!"}},null,null,null,null,null,null,null,"","","",{"$f":"AA967+0.1","v":96.199999999998809},{"$f":"AB967-0.1*TAN(RADIANS($F$7))","v":-54.859965175773446},{"$f":"AC967+0.1","v":96.199999999998809},{"$f":"AD967-0.1*TAN(RADIANS($F$8))","v":-17.076712311874129},{"$f":"AE967+0.1","v":96.199999999998809},{"$f":"AF967-0.1*TAN(RADIANS($F$9))","v":-21.076712311874125},{"$f":"AG967+0.1","v":96.199999999998809},{"$f":"AH967-0.1*TAN(RADIANS($F$10))","v":-25.076712311874171},{"$f":"AI967+0.1","v":{"$error":"#VALUE!"}},{"$f":"AJ967-0.1*TAN(RADIANS($F$11))","v":{"$error":"#VALUE!"}},{"$f":"AK967+0.1","v":{"$error":"#VALUE!"}},{"$f":"AL967-0.1*TAN(RADIANS($F$12))","v":{"$error":"#VALUE!"}},{"$f":"AM967+0.1","v":{"$error":"#VALUE!"}},{"$f":"AN967-0.1*TAN(RADIANS($F$13))","v":{"$error":"#VALUE!"}},{"$f":"AO967+0.1","v":{"$error":"#VALUE!"}},{"$f":"AP967-0.1*TAN(RADIANS($F$14))","v":{"$error":"#VALUE!"}},{"$f":"AQ967+0.1","v":{"$error":"#VALUE!"}},{"$f":"AR967-0.1*TAN(RADIANS($F$15))","v":{"$error":"#VALUE!"}},{"$f":"AS967+0.1","v":{"$error":"#VALUE!"}},{"$f":"AT967-0.1*TAN(RADIANS($F$16))","v":{"$error":"#VALUE!"}}]
[null,null,null,null,null,null,null,null,null,null,null,null,null,null,{"$f":"IF(Analyze!G969=\"\",\"\",Analyze!G969)","v":""},{"$f":"IF(Analyze!S969=\"\",\"\",Analyze!S969)","v":{"$error":"#VALUE!"}},null,null,null,null,null,null,null,"","","",96.299999999998803,-54.929985929594416,96.299999999998803,-17.103507231117241,96.299999999998803,-21.103507231117238,96.299999999998803,-25.103507231117284,{"$error":"#VALUE!"},{"$error":"#VALUE!"},{"$error":"#VALUE!"},{"$error":"#VALUE!"},{"$error":"#VALUE!"},{"$error":"#VALUE!"},{"$error":"#VALUE!"},{"$error":"#VALUE!"},{"$error":"#VALUE!"},{"$error":"#VALUE!"},{"$error":"#VALUE!"},{"$error":"#VALUE!"}]
[null,null,null,null,null,null,null,null,null,null,null,null,null,null,{"$f":"IF(Analyze!G970=\"\",\"\",Analyze!G970)","v":""},{"$f":"IF(Analyze!S970=\"\",\"\",Analyze!S970)","v":{"$error":"#VALUE!"}},null,null,null,null,null,null,null,"","","",96.399999999998798,-55.000006683415386,96.399999999998798,-17.130302150360354,96.399999999998798,-21.13030215036035,96.399999999998798,-25.130302150360396,{"$error":"#VALUE!"},{"$error":"#VALUE!"},{"$error":"#VALUE!"},{"$error":"#VALUE!"},{"$error":"#VALUE!"},{"$error":"#VALUE!"},{"$error":"#VALUE!"},{"$error":"#VALUE!"},{"$error":"#VALUE!"},{"$error":"#VALUE!"},{"$error":"#VALUE!"},{"$error":"#VALUE!"}]
[null,null,null,null,null,null,null,null,null,null,null,null,null,null,{"$f":"IF(Analyze!G971=\"\",\"\",Analyze!G971)","v":""},{"$f":"IF(Analyze!S971=\"\",\"\",Analyze!S971)","v":{"$error":"#VALUE!"}},null,null,null,null,null,null,null,"","","",96.499999999998792,-55.070027437236355,96.499999999998792,-17.157097069603466,96.499999999998792,-21.157097069603463,96.499999999998792,-25.157097069603509,{"$error":"#VALUE!"},{"$error":"#VALUE!"},{"$error":"#VALUE!"},{"$error":"#VALUE!"},{"$error":"#VALUE!"},{"$error":"#VALUE!"},{"$error":"#VALUE!"},{"$error":"#VALUE!"},{"$error":"#VALUE!"},{"$error":"#VALUE!"},{"$error":"#VALUE!"},{"$error":"#VALUE!"}]
[null,null,null,null,null,null,null,null,null,null,null,null,null,null,{"$f":"IF(Analyze!G972=\"\",\"\",Analyze!G972)","v":""},{"$f":"IF(Analyze!S972=\"\",\"\",Analyze!S972)","v":{"$error":"#VALUE!"}},null,null,null,null,null,null,null,"","","",96.599999999998786,-55.140048191057325,96.599999999998786,-17.183891988846579,96.599999999998786,-21.183891988846575,96.599999999998786,-25.183891988846622,{"$error":"#VALUE!"},{"$error":"#VALUE!"},{"$error":"#VALUE!"},{"$error":"#VALUE!"},{"$error":"#VALUE!"},{"$error":"#VALUE!"},{"$error":"#VALUE!"},{"$error":"#VALUE!"},{"$error":"#VALUE!"},{"$error":"#VALUE!"},{"$error":"#VALUE!"},{"$error":"#VALUE!"}]
[null,null,null,null,null,null,null,null,null,null,null,null,null,null,{"$f":"IF(Analyze!G973=\"\",\"\",Analyze!G973)","v":""},{"$f":"IF(Analyze!S973=\"\",\"\",Analyze!S973)","v":{"$error":"#VALUE!"}},null,null,null,null,null,null,null,"","","",96.699999999998781,-55.210068944878294,96.699999999998781,-17.210686908089691,96.699999999998781,-21.210686908089688,96.699999999998781,-25.210686908089734,{"$error":"#VALUE!"},{"$error":"#VALUE!"},{"$error":"#VALUE!"},{"$error":"#VALUE!"},{"$error":"#VALUE!"},{"$error":"#VALUE!"},{"$error":"#VALUE!"},{"$error":"#VALUE!"},{"$error":"#VALUE!"},{"$error":"#VALUE!"},{"$error":"#VALUE!"},{"$error":"#VALUE!"}]
[null,null,null,null,null,null,null,null,null,null,null,null,null,null,{"$f":"IF(Analyze!G974=\"\",\"\",Analyze!G974)","v":""},{"$f":"IF(Analyze!S974=\"\",\"\",Analyze!S974)","v":{"$error":"#VALUE!"}},null,null,null,null,null,null,null,"","","",96.799999999998775,-55.280089698699264,96.799999999998775,-17.237481827332804,96.799999999998775,-21.2374818273328,96.799999999998775,-25.237481827332847,{"$error":"#VALUE!"},{"$error":"#VALUE!"},{"$error":"#VALUE!"},{"$error":"#VALUE!"},{"$error":"#VALUE!"},{"$error":"#VALUE!"},{"$error":"#VALUE!"},{"$error":"#VALUE!"},{"$error":"#VALUE!"},{"$error":"#VALUE!"},{"$error":"#VALUE!"},{"$error":"#VALUE!"}]
[null,null,null,null,null,null,null,null,null,null,null,null,null,null,{"$f":"IF(Analyze!G975=\"\",\"\",Analyze!G975)","v":""},{"$f":"IF(Analyze!S975=\"\",\"\",Analyze!S975)","v":{"$error":"#VALUE!"}},null,null,null,null,null,null,null,"","","",96.899999999998769,-55.350110452520234,96.899999999998769,-17.264276746575916,96.899999999998769,-21.264276746575913,96.899999999998769,-25.264276746575959,{"$error":"#VALUE!"},{"$error":"#VALUE!"},{"$error":"#VALUE!"},{"$error":"#VALUE!"},{"$error":"#VALUE!"},{"$error":"#VALUE!"},{"$error":"#VALUE!"},{"$error":"#VALUE!"},{"$error":"#VALUE!"},{"$error":"#VALUE!"},{"$error":"#VALUE!"},{"$error":"#VALUE!"}]
[null,null,null,null,null,null,null,null,null,null,null,null,null,null,{"$f":"IF(Analyze!G976=\"\",\"\",Analyze!G976)","v":""},{"$f":"IF(Analyze!S976=\"\",\"\",Analyze!S976)","v":{"$error":"#VALUE!"}},null,null,null,null,null,null,null,"","","",96.999999999998764,-55.420131206341203,96.999999999998764,-17.291071665819029,96.999999999998764,-21.291071665819025,96.999999999998764,-25.291071665819072,{"$error":"#VALUE!"},{"$error":"#VALUE!"},{"$error":"#VALUE!"},{"$error":"#VALUE!"},{"$error":"#VALUE!"},{"$error":"#VALUE!"},{"$error":"#VALUE!"},{"$error":"#VALUE!"},{"$error":"#VALUE!"},{"$error":"#VALUE!"},{"$error":"#VALUE!"},{"$error":"#VALUE!"}]
[null,null,null,null,null,null,null,null,null,null,null,null,null,null,{"$f":"IF(Analyze!G977=\"\",\"\",Analyze!G977)","v":""},{"$f":"IF(Analyze!S977=\"\",\"\",Analyze!S977)","v":{"$error":"#VALUE!"}},null,null,null,null,null,null,null,"","","",97.099999999998758,-55.490151960162173,97.099999999998758,-17.317866585062141,97.099999999998758,-21.317866585062138,97.099999999998758,-25.317866585062184,{"$error":"#VALUE!"},{"$error":"#VALUE!"},{"$error":"#VALUE!"},{"$error":"#VALUE!"},{"$error":"#VALUE!"},{"$error":"#VALUE!"},{"$error":"#VALUE!"},{"$error":"#VALUE!"},{"$error":"#VALUE!"},{"$error":"#VALUE!"},{"$error":"#VALUE!"},{"$error":"#VALUE!"}]
[null,null,null,null,null,null,null,null,null,null,null,null,null,null,{"$f":"IF(Analyze!G978=\"\",\"\",Analyze!G978)","v":""},{"$f":"IF(Analyze!S978=\"\",\"\",Analyze!S978)","v":{"$error":"#VALUE!"}},null,null,null,null,null,null,null,"","","",97.199999999998752,-55.560172713983143,97.199999999998752,-17.344661504305254,97.199999999998752,-21.34466150430525,97.199999999998752,-25.344661504305297,{"$error":"#VALUE!"},{"$error":"#VALUE!"},{"$error":"#VALUE!"},{"$error":"#VALUE!"},{"$error":"#VALUE!"},{"$error":"#VALUE!"},{"$error":"#VALUE!"},{"$error":"#VALUE!"},{"$error":"#VALUE!"},{"$error":"#VALUE!"},{"$error":"#VALUE!"},{"$error":"#VALUE!"}]
[null,null,null,null,null,null,null,null,null,null,null,null,null,null,{"$f":"IF(Analyze!G979=\"\",\"\",Analyze!G979)","v":""},{"$f":"IF(Analyze!S979=\"\",\"\",Analyze!S979)","v":{"$error":"#VALUE!"}},null,null,null,null,null,null,null,"","","",97.299999999998747,-55.630193467804112,97.299999999998747,-17.371456423548366,97.299999999998747,-21.371456423548363,97.299999999998747,-25.371456423548409,{"$error":"#VALUE!"},{"$error":"#VALUE!"},{"$error":"#VALUE!"},{"$error":"#VALUE!"},{"$error":"#VALUE!"},{"$error":"#VALUE!"},{"$error":"#VALUE!"},{"$error":"#VALUE!"},{"$error":"#VALUE!"},{"$error":"#VALUE!"},{"$error":"#VALUE!"},{"$error":"#VALUE!"}]
[null,null,null,null,null,null,null,null,null,null,null,null,null,null,{"$f":"IF(Analyze!G980=\"\",\"\",Analyze!G980)","v":""},{"$f":"IF(Analyze!S980=\"\",\"\",Analyze!S980)","v":{"$error":"#VALUE!"}},null,null,null,null,null,null,null,"","","",97.399999999998741,-55.700214221625082,97.399999999998741,-17.398251342791479,97.399999999998741,-21.398251342791475,97.399999999998741,-25.398251342791522,{"$error":"#VALUE!"},{"$error":"#VALUE!"},{"$error":"#VALUE!"},{"$error":"#VALUE!"},{"$error":"#VALUE!"},{"$error":"#VALUE!"},{"$error":"#VALUE!"},{"$error":"#VALUE!"},{"$error":"#VALUE!"},{"$error":"#VALUE!"},{"$error":"#VALUE!"},{"$error":"#VALUE!"}]
[null,null,null,null,null,null,null,null,null,null,null,null,null,null,{"$f":"IF(Analyze!G981=\"\",\"\",Analyze!G981)","v":""},{"$f":"IF(Analyze!S981=\"\",\"\",Analyze!S981)","v":{"$error":"#VALUE!"}},null,null,null,null,null,null,null,"","","",97.499999999998735,-55.770234975446051,97.499999999998735,-17.425046262034591,97.499999999998735,-21.425046262034588,97.499999999998735,-25.425046262034634,{"$error":"#VALUE!"},{"$error":"#VALUE!"},{"$error":"#VALUE!"},{"$error":"#VALUE!"},{"$error":"#VALUE!"},{"$error":"#VALUE!"},{"$error":"#VALUE!"},{"$error":"#VALUE!"},{"$error":"#VALUE!"},{"$error":"#VALUE!"},{"$error":"#VALUE!"},{"$error":"#VALUE!"}]
[null,null,null,null,null,null,null,null,null,null,null,null,null,null,{"$f":"IF(Analyze!G982=\"\",\"\",Analyze!G982)","v":""},{"$f":"IF(Analyze!S982=\"\",\"\",Analyze!S982)","v":{"$error":"#VALUE!"}},null,null,null,null,null,null,null,"","","",97.59999999999873,-55.840255729267021,97.59999999999873,-17.451841181277704,97.59999999999873,-21.4518411812777,97.59999999999873,-25.451841181277747,{"$error":"#VALUE!"},{"$error":"#VALUE!"},{"$error":"#VALUE!"},{"$error":"#VALUE!"},{"$error":"#VALUE!"},{"$error":"#VALUE!"},{"$error":"#VALUE!"},{"$error":"#VALUE!"},{"$error":"#VALUE!"},{"$error":"#VALUE!"},{"$error":"#VALUE!"},{"$error":"#VALUE!"}]
[null,null,null,null,null,null,null,null,null,null,null,null,null,null,{"$f":"IF(Analyze!G983=\"\",\"\",Analyze!G983)","v":""},{"$f":"IF(Analyze!S983=\"\",\"\",Analyze!S983)","v":{"$error":"#VALUE!"}},null,null,null,null,null,null,null,"","","",97.699999999998724,-55.910276483087991,97.699999999998724,-17.478636100520816,97.699999999998724,-21.478636100520813,97.699999999998724,-25.478636100520859,{"$error":"#VALUE!"},{"$error":"#VALUE!"},{"$error":"#VALUE!"},{"$error":"#VALUE!"},{"$error":"#VALUE!"},{"$error":"#VALUE!"},{"$error":"#VALUE!"},{"$error":"#VALUE!"},{"$error":"#VALUE!"},{"$error":"#VALUE!"},{"$error":"#VALUE!"},{"$error":"#VALUE!"}]
[null,null,null,null,null,null,null,null,null,null,null,null,null,null,{"$f":"IF(Analyze!G984=\"\",\"\",Analyze!G984)","v":""},{"$f":"IF(Analyze!S984=\"\",\"\",Analyze!S984)","v":{"$error":"#VALUE!"}},null,null,null,null,null,null,null,"","","",97.799999999998718,-55.98029723690896,97.799999999998718,-17.505431019763929,97.799999999998718,-21.505431019763925,97.799999999998718,-25.505431019763972,{"$error":"#VALUE!"},{"$error":"#VALUE!"},{"$error":"#VALUE!"},{"$error":"#VALUE!"},{"$error":"#VALUE!"},{"$error":"#VALUE!"},{"$error":"#VALUE!"},{"$error":"#VALUE!"},{"$error":"#VALUE!"},{"$error":"#VALUE!"},{"$error":"#VALUE!"},{"$error":"#VALUE!"}]
[null,null,null,null,null,null,null,null,null,null,null,null,null,null,{"$f":"IF(Analyze!G985=\"\",\"\",Analyze!G985)","v":""},{"$f":"IF(Analyze!S985=\"\",\"\",Analyze!S985)","v":{"$error":"#VALUE!"}},null,null,null,null,null,null,null,"","","",97.899999999998712,-56.05031799072993,97.899999999998712,-17.532225939007041,97.899999999998712,-21.532225939007038,97.899999999998712,-25.532225939007084,{"$error":"#VALUE!"},{"$error":"#VALUE!"},{"$error":"#VALUE!"},{"$error":"#VALUE!"},{"$error":"#VALUE!"},{"$error":"#VALUE!"},{"$error":"#VALUE!"},{"$error":"#VALUE!"},{"$error":"#VALUE!"},{"$error":"#VALUE!"},{"$error":"#VALUE!"},{"$error":"#VALUE!"}]
[null,null,null,null,null,null,null,null,null,null,null,null,null,null,{"$f":"IF(Analyze!G986=\"\",\"\",Analyze!G986)","v":""},{"$f":"IF(Analyze!S986=\"\",\"\",Analyze!S986)","v":{"$error":"#VALUE!"}},null,null,null,null,null,null,null,"","","",97.999999999998707,-56.120338744550899,97.999999999998707,-17.559020858250154,97.999999999998707,-21.55902085825015,97.999999999998707,-25.559020858250197,{"$error":"#VALUE!"},{"$error":"#VALUE!"},{"$error":"#VALUE!"},{"$error":"#VALUE!"},{"$error":"#VALUE!"},{"$error":"#VALUE!"},{"$error":"#VALUE!"},{"$error":"#VALUE!"},{"$error":"#VALUE!"},{"$error":"#VALUE!"},{"$error":"#VALUE!"},{"$error":"#VALUE!"}]
[null,null,null,null,null,null,null,null,null,null,null,null,null,null,{"$f":"IF(Analyze!G987=\"\",\"\",Analyze!G987)","v":""},{"$f":"IF(Analyze!S987=\"\",\"\",Analyze!S987)","v":{"$error":"#VALUE!"}},null,null,null,null,null,null,null,"","","",98.099999999998701,-56.190359498371869,98.099999999998701,-17.585815777493266,98.099999999998701,-21.585815777493263,98.099999999998701,-25.585815777493309,{"$error":"#VALUE!"},{"$error":"#VALUE!"},{"$error":"#VALUE!"},{"$error":"#VALUE!"},{"$error":"#VALUE!"},{"$error":"#VALUE!"},{"$error":"#VALUE!"},{"$error":"#VALUE!"},{"$error":"#VALUE!"},{"$error":"#VALUE!"},{"$error":"#VALUE!"},{"$error":"#VALUE!"}]
[null,null,null,null,null,null,null,null,null,null,null,null,null,null,{"$f":"IF(Analyze!G988=\"\",\"\",Analyze!G988)","v":""},{"$f":"IF(Analyze!S988=\"\",\"\",Analyze!S988)","v":{"$error":"#VALUE!"}},null,null,null,null,null,null,null,"","","",98.199999999998695,-56.260380252192839,98.199999999998695,-17.612610696736379,98.199999999998695,-21.612610696736375,98.199999999998695,-25.612610696736422,{"$error":"#VALUE!"},{"$error":"#VALUE!"},{"$error":"#VALUE!"},{"$error":"#VALUE!"},{"$error":"#VALUE!"},{"$error":"#VALUE!"},{"$error":"#VALUE!"},{"$error":"#VALUE!"},{"$error":"#VALUE!"},{"$error":"#VALUE!"},{"$error":"#VALUE!"},{"$error":"#VALUE!"}]
[null,null,null,null,null,null,null,null,null,null,null,null,null,null,{"$f":"IF(Analyze!G989=\"\",\"\",Analyze!G989)","v":""},{"$f":"IF(Analyze!S989=\"\",\"\",Analyze!S989)","v":{"$error":"#VALUE!"}},null,null,null,null,null,null,null,"","","",98.29999999999869,-56.330401006013808,98.29999999999869,-17.639405615979491,98.29999999999869,-21.639405615979488,98.29999999999869,-25.639405615979534,{"$error":"#VALUE!"},{"$error":"#VALUE!"},{"$error":"#VALUE!"},{"$error":"#VALUE!"},{"$error":"#VALUE!"},{"$error":"#VALUE!"},{"$error":"#VALUE!"},{"$error":"#VALUE!"},{"$error":"#VALUE!"},{"$error":"#VALUE!"},{"$error":"#VALUE!"},{"$error":"#VALUE!"}]
[null,null,null,null,null,null,null,null,null,null,null,null,null,null,{"$f":"IF(Analyze!G990=\"\",\"\",Analyze!G990)","v":""},{"$f":"IF(Analyze!S990=\"\",\"\",Analyze!S990)","v":{"$error":"#VALUE!"}},null,null,null,null,null,null,null,"","","",98.399999999998684,-56.400421759834778,98.399999999998684,-17.666200535222604,98.399999999998684,-21.6662005352226,98.399999999998684,-25.666200535222647,{"$error":"#VALUE!"},{"$error":"#VALUE!"},{"$error":"#VALUE!"},{"$error":"#VALUE!"},{"$error":"#VALUE!"},{"$error":"#VALUE!"},{"$error":"#VALUE!"},{"$error":"#VALUE!"},{"$error":"#VALUE!"},{"$error":"#VALUE!"},{"$error":"#VALUE!"},{"$error":"#VALUE!"}]
[null,null,null,null,null,null,null,null,null,null,null,null,null,null,{"$f":"IF(Analyze!G991=\"\",\"\",Analyze!G991)","v":""},{"$f":"IF(Analyze!S991=\"\",\"\",Analyze!S991)","v":{"$error":"#VALUE!"}},null,null,null,null,null,null,null,"","","",98.499999999998678,-56.470442513655748,98.499999999998678,-17.692995454465716,98.499999999998678,-21.692995454465713,98.499999999998678,-25.692995454465759,{"$error":"#VALUE!"},{"$error":"#VALUE!"},{"$error":"#VALUE!"},{"$error":"#VALUE!"},{"$error":"#VALUE!"},{"$error":"#VALUE!"},{"$error":"#VALUE!"},{"$error":"#VALUE!"},{"$error":"#VALUE!"},{"$error":"#VALUE!"},{"$error":"#VALUE!"},{"$error":"#VALUE!"}]
[null,null,null,null,null,null,null,null,null,null,null,null,null,null,{"$f":"IF(Analyze!G992=\"\",\"\",Analyze!G992)","v":""},{"$f":"IF(Analyze!S992=\"\",\"\",Analyze!S992)","v":{"$error":"#VALUE!"}},null,null,null,null,null,null,null,"","","",98.599999999998673,-56.540463267476717,98.599999999998673,-17.719790373708829,98.599999999998673,-21.719790373708825,98.599999999998673,-25.719790373708872,{"$error":"#VALUE!"},{"$error":"#VALUE!"},{"$error":"#VALUE!"},{"$error":"#VALUE!"},{"$error":"#VALUE!"},{"$error":"#VALUE!"},{"$error":"#VALUE!"},{"$error":"#VALUE!"},{"$error":"#VALUE!"},{"$error":"#VALUE!"},{"$error":"#VALUE!"},{"$error":"#VALUE!"}]
[null,null,null,null,null,null,null,null,null,null,null,null,null,null,{"$f":"IF(Analyze!G993=\"\",\"\",Analyze!G993)","v":""},{"$f":"IF(Analyze!S993=\"\",\"\",Analyze!S993)","v":{"$error":"#VALUE!"}},null,null,null,null,null,null,null,"","","",98.699999999998667,-56.610484021297687,98.699999999998667,-17.746585292951941,98.699999999998667,-21.746585292951938,98.699999999998667,-25.746585292951984,{"$error":"#VALUE!"},{"$error":"#VALUE!"},{"$error":"#VALUE!"},{"$error":"#VALUE!"},{"$error":"#VALUE!"},{"$error":"#VALUE!"},{"$error":"#VALUE!"},{"$error":"#VALUE!"},{"$error":"#VALUE!"},{"$error":"#VALUE!"},{"$error":"#VALUE!"},{"$error":"#VALUE!"}]
[null,null,null,null,null,null,null,null,null,null,null,null,null,null,{"$f":"IF(Analyze!G994=\"\",\"\",Analyze!G994)","v":""},{"$f":"IF(Analyze!S994=\"\",\"\",Analyze!S994)","v":{"$error":"#VALUE!"}},null,null,null,null,null,null,null,"","","",98.799999999998661,-56.680504775118656,98.799999999998661,-17.773380212195054,98.799999999998661,-21.77338021219505,98.799999999998661,-25.773380212195097,{"$error":"#VALUE!"},{"$error":"#VALUE!"},{"$error":"#VALUE!"},{"$error":"#VALUE!"},{"$error":"#VALUE!"},{"$error":"#VALUE!"},{"$error":"#VALUE!"},{"$error":"#VALUE!"},{"$error":"#VALUE!"},{"$error":"#VALUE!"},{"$error":"#VALUE!"},{"$error":"#VALUE!"}]
[null,null,null,null,null,null,null,null,null,null,null,null,null,null,{"$f":"IF(Analyze!G995=\"\",\"\",Analyze!G995)","v":""},{"$f":"IF(Analyze!S995=\"\",\"\",Analyze!S995)","v":{"$error":"#VALUE!"}},null,null,null,null,null,null,null,"","","",98.899999999998656,-56.750525528939626,98.899999999998656,-17.800175131438166,98.899999999998656,-21.800175131438163,98.899999999998656,-25.800175131438209,{"$error":"#VALUE!"},{"$error":"#VALUE!"},{"$error":"#VALUE!"},{"$error":"#VALUE!"},{"$error":"#VALUE!"},{"$error":"#VALUE!"},{"$error":"#VALUE!"},{"$error":"#VALUE!"},{"$error":"#VALUE!"},{"$error":"#VALUE!"},{"$error":"#VALUE!"},{"$error":"#VALUE!"}]
[null,null,null,null,null,null,null,null,null,null,null,null,null,null,{"$f":"IF(Analyze!G996=\"\",\"\",Analyze!G996)","v":""},{"$f":"IF(Analyze!S996=\"\",\"\",Analyze!S996)","v":{"$error":"#VALUE!"}},null,null,null,null,null,null,null,"","","",98.99999999999865,-56.820546282760596,98.99999999999865,-17.826970050681279,98.99999999999865,-21.826970050681275,98.99999999999865,-25.826970050681322,{"$error":"#VALUE!"},{"$error":"#VALUE!"},{"$error":"#VALUE!"},{"$error":"#VALUE!"},{"$error":"#VALUE!"},{"$error":"#VALUE!"},{"$error":"#VALUE!"},{"$error":"#VALUE!"},{"$error":"#VALUE!"},{"$error":"#VALUE!"},{"$error":"#VALUE!"},{"$error":"#VALUE!"}]
[null,null,null,null,null,null,null,null,null,null,null,null,null,null,{"$f":"IF(Analyze!G997=\"\",\"\",Analyze!G997)","v":""},{"$f":"IF(Analyze!S997=\"\",\"\",Analyze!S997)","v":{"$error":"#VALUE!"}},null,null,null,null,null,null,null,"","","",99.099999999998644,-56.890567036581565,99.099999999998644,-17.853764969924391,99.099999999998644,-21.853764969924388,99.099999999998644,-25.853764969924434,{"$error":"#VALUE!"},{"$error":"#VALUE!"},{"$error":"#VALUE!"},{"$error":"#VALUE!"},{"$error":"#VALUE!"},{"$error":"#VALUE!"},{"$error":"#VALUE!"},{"$error":"#VALUE!"},{"$error":"#VALUE!"},{"$error":"#VALUE!"},{"$error":"#VALUE!"},{"$error":"#VALUE!"}]
[null,null,null,null,null,null,null,null,null,null,null,null,null,null,{"$f":"IF(Analyze!G998=\"\",\"\",Analyze!G998)","v":""},{"$f":"IF(Analyze!S998=\"\",\"\",Analyze!S998)","v":{"$error":"#VALUE!"}},null,null,null,null,null,null,null,"","","",99.199999999998639,-56.960587790402535,99.199999999998639,-17.880559889167504,99.199999999998639,-21.8805598891675,99.199999999998639,-25.880559889167547,{"$error":"#VALUE!"},{"$error":"#VALUE!"},{"$error":"#VALUE!"},{"$error":"#VALUE!"},{"$error":"#VALUE!"},{"$error":"#VALUE!"},{"$error":"#VALUE!"},{"$error":"#VALUE!"},{"$error":"#VALUE!"},{"$error":"#VALUE!"},{"$error":"#VALUE!"},{"$error":"#VALUE!"}]
[null,null,null,null,null,null,null,null,null,null,null,null,null,null,{"$f":"IF(Analyze!G999=\"\",\"\",Analyze!G999)","v":""},{"$f":"IF(Analyze!S999=\"\",\"\",Analyze!S999)","v":{"$error":"#VALUE!"}},null,null,null,null,null,null,null,"","","",99.299999999998633,-57.030608544223504,99.299999999998633,-17.907354808410616,99.299999999998633,-21.907354808410613,99.299999999998633,-25.907354808410659,{"$error":"#VALUE!"},{"$error":"#VALUE!"},{"$error":"#VALUE!"},{"$error":"#VALUE!"},{"$error":"#VALUE!"},{"$error":"#VALUE!"},{"$error":"#VALUE!"},{"$error":"#VALUE!"},{"$error":"#VALUE!"},{"$error":"#VALUE!"},{"$error":"#VALUE!"},{"$error":"#VALUE!"}]
[null,null,null,null,null,null,null,null,null,null,null,null,null,null,{"$f":"IF(Analyze!G1000=\"\",\"\",Analyze!G1000)","v":""},{"$f":"IF(Analyze!S1000=\"\",\"\",Analyze!S1000)","v":{"$error":"#VALUE!"}},null,null,null,null,null,null,null,"","","",99.399999999998627,-57.100629298044474,99.399999999998627,-17.934149727653729,99.399999999998627,-21.934149727653725,99.399999999998627,-25.934149727653772,{"$error":"#VALUE!"},{"$error":"#VALUE!"},{"$error":"#VALUE!"},{"$error":"#VALUE!"},{"$error":"#VALUE!"},{"$error":"#VALUE!"},{"$error":"#VALUE!"},{"$error":"#VALUE!"},{"$error":"#VALUE!"},{"$error":"#VALUE!"},{"$error":"#VALUE!"},{"$error":"#VALUE!"}]
[null,null,null,null,null,null,null,null,null,null,null,null,null,null,{"$f":"IF(Analyze!G1001=\"\",\"\",Analyze!G1001)","v":""},{"$f":"IF(Analyze!S1001=\"\",\"\",Analyze!S1001)","v":{"$error":"#VALUE!"}},null,null,null,null,null,null,null,"","","",99.499999999998622,-57.170650051865444,99.499999999998622,-17.960944646896841,99.499999999998622,-21.960944646896838,99.499999999998622,-25.960944646896884,{"$error":"#VALUE!"},{"$error":"#VALUE!"},{"$error":"#VALUE!"},{"$error":"#VALUE!"},{"$error":"#VALUE!"},{"$error":"#VALUE!"},{"$error":"#VALUE!"},{"$error":"#VALUE!"},{"$error":"#VALUE!"},{"$error":"#VALUE!"},{"$error":"#VALUE!"},{"$error":"#VALUE!"}]
[null,null,null,null,null,null,null,null,null,null,null,null,null,null,{"$f":"IF(Analyze!G1002=\"\",\"\",Analyze!G1002)","v":""},{"$f":"IF(Analyze!S1002=\"\",\"\",Analyze!S1002)","v":{"$error":"#VALUE!"}},null,null,null,null,null,null,null,"","","",99.599999999998616,-57.240670805686413,99.599999999998616,-17.987739566139954,99.599999999998616,-21.98773956613995,99.599999999998616,-25.987739566139997,{"$error":"#VALUE!"},{"$error":"#VALUE!"},{"$error":"#VALUE!"},{"$error":"#VALUE!"},{"$error":"#VALUE!"},{"$error":"#VALUE!"},{"$error":"#VALUE!"},{"$error":"#VALUE!"},{"$error":"#VALUE!"},{"$error":"#VALUE!"},{"$error":"#VALUE!"},{"$error":"#VALUE!"}]
[null,null,null,null,null,null,null,null,null,null,null,null,null,null,{"$f":"IF(Analyze!G1003=\"\",\"\",Analyze!G1003)","v":""},{"$f":"IF(Analyze!S1003=\"\",\"\",Analyze!S1003)","v":{"$error":"#VALUE!"}},null,null,null,null,null,null,null,"","","",99.69999999999861,-57.310691559507383,99.69999999999861,-18.014534485383066,99.69999999999861,-22.014534485383063,99.69999999999861,-26.014534485383109,{"$error":"#VALUE!"},{"$error":"#VALUE!"},{"$error":"#VALUE!"},{"$error":"#VALUE!"},{"$error":"#VALUE!"},{"$error":"#VALUE!"},{"$error":"#VALUE!"},{"$error":"#VALUE!"},{"$error":"#VALUE!"},{"$error":"#VALUE!"},{"$error":"#VALUE!"},{"$error":"#VALUE!"}]
[null,null,null,null,null,null,null,null,null,null,null,null,null,null,{"$f":"IF(Analyze!G1004=\"\",\"\",Analyze!G1004)","v":""},{"$f":"IF(Analyze!S1004=\"\",\"\",Analyze!S1004)","v":{"$error":"#VALUE!"}},null,null,null,null,null,null,null,"","","",99.799999999998604,-57.380712313328353,99.799999999998604,-18.041329404626179,99.799999999998604,-22.041329404626175,99.799999999998604,-26.041329404626222,{"$error":"#VALUE!"},{"$error":"#VALUE!"},{"$error":"#VALUE!"},{"$error":"#VALUE!"},{"$error":"#VALUE!"},{"$error":"#VALUE!"},{"$error":"#VALUE!"},{"$error":"#VALUE!"},{"$error":"#VALUE!"},{"$error":"#VALUE!"},{"$error":"#VALUE!"},{"$error":"#VALUE!"}]
[null,null,null,null,null,null,null,null,null,null,null,null,null,null,{"$f":"IF(Analyze!G1005=\"\",\"\",Analyze!G1005)","v":""},{"$f":"IF(Analyze!S1005=\"\",\"\",Analyze!S1005)","v":{"$error":"#VALUE!"}},null,null,null,null,null,null,null,"","","",99.899999999998599,-57.450733067149322,99.899999999998599,-18.068124323869291,99.899999999998599,-22.068124323869288,99.899999999998599,-26.068124323869334,{"$error":"#VALUE!"},{"$error":"#VALUE!"},{"$error":"#VALUE!"},{"$error":"#VALUE!"},{"$error":"#VALUE!"},{"$error":"#VALUE!"},{"$error":"#VALUE!"},{"$error":"#VALUE!"},{"$error":"#VALUE!"},{"$error":"#VALUE!"},{"$error":"#VALUE!"},{"$error":"#VALUE!"}]
[null,null,null,null,null,null,null,null,null,null,null,null,null,null,{"$f":"IF(Analyze!G1006=\"\",\"\",Analyze!G1006)","v":""},{"$f":"IF(Analyze!S1006=\"\",\"\",Analyze!S1006)","v":{"$error":"#VALUE!"}},null,null,null,null,null,null,null,"","","",99.999999999998593,-57.520753820970292,99.999999999998593,-18.094919243112404,99.999999999998593,-22.0949192431124,99.999999999998593,-26.094919243112447,{"$error":"#VALUE!"},{"$error":"#VALUE!"},{"$error":"#VALUE!"},{"$error":"#VALUE!"},{"$error":"#VALUE!"},{"$error":"#VALUE!"},{"$error":"#VALUE!"},{"$error":"#VALUE!"},{"$error":"#VALUE!"},{"$error":"#VALUE!"},{"$error":"#VALUE!"},{"$error":"#VALUE!"}]
[null,null,null,null,null,null,null,null,null,null,null,null,null,null,{"$f":"IF(Analyze!G1007=\"\",\"\",Analyze!G1007)","v":""},{"$f":"IF(Analyze!S1007=\"\",\"\",Analyze!S1007)","v":{"$error":"#VALUE!"}},null,null,null,null,null,null,null,"","","",100.09999999999859,-57.590774574791261,100.09999999999859,-18.121714162355516,100.09999999999859,-22.121714162355513,100.09999999999859,-26.121714162355559,{"$error":"#VALUE!"},{"$error":"#VALUE!"},{"$error":"#VALUE!"},{"$error":"#VALUE!"},{"$error":"#VALUE!"},{"$error":"#VALUE!"},{"$error":"#VALUE!"},{"$error":"#VALUE!"},{"$error":"#VALUE!"},{"$error":"#VALUE!"},{"$error":"#VALUE!"},{"$error":"#VALUE!"}]
[null,null,null,null,null,null,null,null,null,null,null,null,null,null,{"$f":"IF(Analyze!G1008=\"\",\"\",Analyze!G1008)","v":""},{"$f":"IF(Analyze!S1008=\"\",\"\",Analyze!S1008)","v":{"$error":"#VALUE!"}},null,null,null,null,null,null,null,"","","",100.19999999999858,-57.660795328612231,100.19999999999858,-18.148509081598629,100.19999999999858,-22.148509081598625,100.19999999999858,-26.148509081598672,{"$error":"#VALUE!"},{"$error":"#VALUE!"},{"$error":"#VALUE!"},{"$error":"#VALUE!"},{"$error":"#VALUE!"},{"$error":"#VALUE!"},{"$error":"#VALUE!"},{"$error":"#VALUE!"},{"$error":"#VALUE!"},{"$error":"#VALUE!"},{"$error":"#VALUE!"},{"$error":"#VALUE!"}]
[null,null,null,null,null,null,null,null,null,null,null,null,null,null,{"$f":"IF(Analyze!G1009=\"\",\"\",Analyze!G1009)","v":""},{"$f":"IF(Analyze!S1009=\"\",\"\",Analyze!S1009)","v":{"$error":"#VALUE!"}},null,null,null,null,null,null,null,"","","",100.29999999999858,-57.730816082433201,100.29999999999858,-18.175304000841741,100.29999999999858,-22.175304000841738,100.29999999999858,-26.175304000841784,{"$error":"#VALUE!"},{"$error":"#VALUE!"},{"$error":"#VALUE!"},{"$error":"#VALUE!"},{"$error":"#VALUE!"},{"$error":"#VALUE!"},{"$error":"#VALUE!"},{"$error":"#VALUE!"},{"$error":"#VALUE!"},{"$error":"#VALUE!"},{"$error":"#VALUE!"},{"$error":"#VALUE!"}]
[null,null,null,null,null,null,null,null,null,null,null,null,null,null,{"$f":"IF(Analyze!G1010=\"\",\"\",Analyze!G1010)","v":""},{"$f":"IF(Analyze!S1010=\"\",\"\",Analyze!S1010)","v":{"$error":"#VALUE!"}},null,null,null,null,null,null,null,"","",""]
[null,null,null,null,null,null,null,null,null,null,null,null,null,null,null,null,null,null,null,null,null,null,null,"",{"$f":"IF(W1012=\"\",\"\",W1011+$H$4*COS(ATAN((X1012-X1011)/(W1012-W1011))))","v":""},{"$f":"IF(W1012=\"\",\"\",X1011-$H$4*SIN(ATAN((X1012-X1011)/(W1012-W1011))))","v":""}]
[null,null,null,null,null,null,null,null,null,null,null,null,null,null,null,null,null,null,null,null,null,null,null,"","",""]

{"sheet":"Shear-Moment Analysis","index":4,"n_rows":1010,"n_cols":18,"rows_kept":1010,"cut":false,"hidden":false,"merged":[]}
[1,2,3,4,5,6,7,8,9,10,11,12,13,14,15,16,17,18]
[]
[]
[]
[null,null,null,null,null,null,"Depth\n(m)","Distribution\n(kPa)","Strut Force\n(kN)","Shear\n(kN)","Moment\n(kN.m)"]
[null,null,{"$f":"IF(G6=\"\",\"\",G6/10)","v":0},null,null,null,{"$f":"IF(Analyze!G6=\"\",\"\",Analyze!G6)","v":0},{"$f":"IF(G6=\"\",\"\",IF(Analyze!Y6=\"\",Analyze!AB6,Analyze!AB6+Analyze!Y6/Summary!$Y$25))","v":0},22.114786705941555,{"$f":"IF(G6=\"\",\"\",+I6)","v":22.114786705941555},{"$f":"0","v":0}]
[null,null,{"$f":"IF(G7=\"\",\"\",G7/10)","v":0.01},null,null,null,{"$f":"IF(Analyze!G7=\"\",\"\",Analyze!G7)","v":0.1},{"$f":"IF(G7=\"\",\"\",IF(Analyze!Y7=\"\",Analyze!AB7,Analyze!AB7+Analyze!Y7/Summary!$Y$25))","v":1.2099352904901644},0,{"$f":"IF(G7=\"\",\"\",(J6+I7-H7*(G7-G6)))","v":21.993793176892538},{"$f":"IF(G7=\"\",\"\",K6+J6*(G7-G6))","v":2.2114786705941554}]
[null,null,0.02,null,null,null,{"$f":"IF(Analyze!G8=\"\",\"\",Analyze!G8)","v":0.2},{"$f":"IF(G8=\"\",\"\",IF(Analyze!Y8=\"\",Analyze!AB8,Analyze!AB8+Analyze!Y8/Summary!$Y$25))","v":2.4198705809803287},0,{"$f":"IF(G8=\"\",\"\",(J7+I8-H8*(G8-G7)))","v":21.751806118794505},{"$f":"IF(G8=\"\",\"\",K7+J7*(G8-G7))","v":4.4108579882834089}]
[null,null,3.0000000000000006E-2,null,null,null,{"$f":"IF(Analyze!G9=\"\",\"\",Analyze!G9)","v":0.30000000000000004},{"$f":"IF(G9=\"\",\"\",IF(Analyze!Y9=\"\",Analyze!AB9,Analyze!AB9+Analyze!Y9/Summary!$Y$25))","v":3.6298058714704933},0,21.388825531647456,6.5860386001628601]
[null,null,0.04,null,null,null,{"$f":"IF(Analyze!G10=\"\",\"\",Analyze!G10)","v":0.4},{"$f":"IF(G10=\"\",\"\",IF(Analyze!Y10=\"\",Analyze!AB10,Analyze!AB10+Analyze!Y10/Summary!$Y$25))","v":4.8397411619606574},0,20.90485141545139,8.724921153327605]
[null,null,0.05,null,null,null,{"$f":"IF(Analyze!G11=\"\",\"\",Analyze!G11)","v":0.5},{"$f":"IF(G11=\"\",\"\",IF(Analyze!Y11=\"\",Analyze!AB11,Analyze!AB11+Analyze!Y11/Summary!$Y$25))","v":6.0496764524508215},0,20.299883770206307,10.815406294872744]
[null,null,0.06,null,null,null,{"$f":"IF(Analyze!G12=\"\",\"\",Analyze!G12)","v":0.6},{"$f":"IF(G12=\"\",\"\",IF(Analyze!Y12=\"\",Analyze!AB12,Analyze!AB12+Analyze!Y12/Summary!$Y$25))","v":7.2596117429409857},0,19.573922595912208,12.845394671893374]
[null,null,6.9999999999999993E-2,null,null,null,{"$f":"IF(Analyze!G13=\"\",\"\",Analyze!G13)","v":0.7},{"$f":"IF(G13=\"\",\"\",IF(Analyze!Y13=\"\",Analyze!AB13,Analyze!AB13+Analyze!Y13/Summary!$Y$25))","v":8.4695470334311498},0,18.726967892569093,14.802786931484594]
[null,null,7.9999999999999988E-2,null,null,null,{"$f":"IF(Analyze!G14=\"\",\"\",Analyze!G14)","v":0.79999999999999993},{"$f":"IF(G14=\"\",\"\",IF(Analyze!Y14=\"\",Analyze!AB14,Analyze!AB14+Analyze!Y14/Summary!$Y$25))","v":9.679482323921313},0,17.759019660176961,16.675483720741504]
[null,null,0.09,null,null,null,{"$f":"IF(Analyze!G15=\"\",\"\",Analyze!G15)","v":0.89999999999999991},{"$f":"IF(G15=\"\",\"\",IF(Analyze!Y15=\"\",Analyze!AB15,Analyze!AB15+Analyze!Y15/Summary!$Y$25))","v":10.889417614411478},0,16.670077898735812,18.451385686759199]
[null,null,9.9999999999999992E-2,null,null,null,{"$f":"IF(Analyze!G16=\"\",\"\",Analyze!G16)","v":0.99999999999999989},{"$f":"IF(G16=\"\",\"\",IF(Analyze!Y16=\"\",Analyze!AB16,Analyze!AB16+Analyze!Y16/Summary!$Y$25))","v":12.099352904901641},0,15.460142608245649,20.118393476632779]
[null,null,0.10999999999999999,null,null,null,{"$f":"IF(Analyze!G17=\"\",\"\",Analyze!G17)","v":1.0999999999999999},{"$f":"IF(G17=\"\",\"\",IF(Analyze!Y17=\"\",Analyze!AB17,Analyze!AB17+Analyze!Y17/Summary!$Y$25))","v":13.309288195391806},0,14.129213788706469,21.664407737457342]
[null,null,0.12,null,null,null,{"$f":"IF(Analyze!G18=\"\",\"\",Analyze!G18)","v":1.2},{"$f":"IF(G18=\"\",\"\",IF(Analyze!Y18=\"\",Analyze!AB18,Analyze!AB18+Analyze!Y18/Summary!$Y$25))","v":14.519223485881971},0,12.677291440118271,23.077329116327991]
[null,null,0.13,null,null,null,{"$f":"IF(Analyze!G19=\"\",\"\",Analyze!G19)","v":1.3},{"$f":"IF(G19=\"\",\"\",IF(Analyze!Y19=\"\",Analyze!AB19,Analyze!AB19+Analyze!Y19/Summary!$Y$25))","v":15.729158776372136},0,11.104375562481057,24.345058260339819]
[null,null,0.14000000000000001,null,null,null,{"$f":"IF(Analyze!G20=\"\",\"\",Analyze!G20)","v":1.4000000000000001},{"$f":"IF(G20=\"\",\"\",IF(Analyze!Y20=\"\",Analyze!AB20,Analyze!AB20+Analyze!Y20/Summary!$Y$25))","v":16.939094066862303},0,9.4104661557948255,25.455495816587927]
[null,null,0.15000000000000002,null,null,null,{"$f":"IF(Analyze!G21=\"\",\"\",Analyze!G21)","v":1.5000000000000002},{"$f":"IF(G21=\"\",\"\",IF(Analyze!Y21=\"\",Analyze!AB21,Analyze!AB21+Analyze!Y21/Summary!$Y$25))","v":18.149029357352468},0,7.5955632200595771,26.396542432167411]
[null,null,0.16000000000000003,null,null,null,{"$f":"IF(Analyze!G22=\"\",\"\",Analyze!G22)","v":1.6000000000000003},{"$f":"IF(G22=\"\",\"\",IF(Analyze!Y22=\"\",Analyze!AB22,Analyze!AB22+Analyze!Y22/Summary!$Y$25))","v":19.358964647842633},0,5.6596667552753122,27.156098754173371]
[null,null,0.17000000000000004,null,null,null,{"$f":"IF(Analyze!G23=\"\",\"\",Analyze!G23)","v":1.7000000000000004},{"$f":"IF(G23=\"\",\"\",IF(Analyze!Y23=\"\",Analyze!AB23,Analyze!AB23+Analyze!Y23/Summary!$Y$25))","v":20.568899938332798},0,3.6027767614420303,27.722065429700901]
[null,null,0.18000000000000005,null,null,null,{"$f":"IF(Analyze!G24=\"\",\"\",Analyze!G24)","v":1.8000000000000005},{"$f":"IF(G24=\"\",\"\",IF(Analyze!Y24=\"\",Analyze!AB24,Analyze!AB24+Analyze!Y24/Summary!$Y$25))","v":21.778835228822963},0,1.4248932385597319,28.082343105845105]
[null,null,0.19000000000000006,null,null,null,{"$f":"IF(Analyze!G25=\"\",\"\",Analyze!G25)","v":1.9000000000000006},{"$f":"IF(G25=\"\",\"\",IF(Analyze!Y25=\"\",Analyze!AB25,Analyze!AB25+Analyze!Y25/Summary!$Y$25))","v":22.988770519313128},0,-0.87398381337158293,28.224832429701078]
[null,null,0.20000000000000004,null,null,null,{"$f":"IF(Analyze!G26=\"\",\"\",Analyze!G26)","v":2.0000000000000004},{"$f":"IF(G26=\"\",\"\",IF(Analyze!Y26=\"\",Analyze!AB26,Analyze!AB26+Analyze!Y26/Summary!$Y$25))","v":24.198705809803293},0,-3.293854394351909,28.137434048363918]
[null,null,0.21000000000000005,null,null,null,{"$f":"IF(Analyze!G27=\"\",\"\",Analyze!G27)","v":2.1000000000000005},{"$f":"IF(G27=\"\",\"\",IF(Analyze!Y27=\"\",Analyze!AB27,Analyze!AB27+Analyze!Y27/Summary!$Y$25))","v":25.408641100293458},0,-5.8347185043812573,27.808048608928726]
[null,null,0.22000000000000006,null,null,null,{"$f":"IF(Analyze!G28=\"\",\"\",Analyze!G28)","v":2.2000000000000006},{"$f":"IF(G28=\"\",\"\",IF(Analyze!Y28=\"\",Analyze!AB28,Analyze!AB28+Analyze!Y28/Summary!$Y$25))","v":26.618576390783623},0,-8.4965761434596221,27.224576758490599]
[null,null,0.23000000000000007,null,null,null,{"$f":"IF(Analyze!G29=\"\",\"\",Analyze!G29)","v":2.3000000000000007},{"$f":"IF(G29=\"\",\"\",IF(Analyze!Y29=\"\",Analyze!AB29,Analyze!AB29+Analyze!Y29/Summary!$Y$25))","v":27.828511681273788},0,-11.279427311587003,26.374919144144638]
[null,null,0.24000000000000007,null,null,null,{"$f":"IF(Analyze!G30=\"\",\"\",Analyze!G30)","v":2.4000000000000008},{"$f":"IF(G30=\"\",\"\",IF(Analyze!Y30=\"\",Analyze!AB30,Analyze!AB30+Analyze!Y30/Summary!$Y$25))","v":29.038446971763953},0,-14.183272008763401,25.246976412985937]
[null,null,0.25000000000000011,null,null,null,{"$f":"IF(Analyze!G31=\"\",\"\",Analyze!G31)","v":2.5000000000000009},{"$f":"IF(G31=\"\",\"\",IF(Analyze!Y31=\"\",Analyze!AB31,Analyze!AB31+Analyze!Y31/Summary!$Y$25))","v":30.248382262254118},0,-17.208110234988816,23.828649212109596]
[null,null,0.26000000000000012,null,null,null,{"$f":"IF(Analyze!G32=\"\",\"\",Analyze!G32)","v":2.600000000000001},{"$f":"IF(G32=\"\",\"\",IF(Analyze!Y32=\"\",Analyze!AB32,Analyze!AB32+Analyze!Y32/Summary!$Y$25))","v":31.458317552744283},0,-20.353941990263248,22.107838188610714]
[null,null,0.27000000000000013,null,null,null,{"$f":"IF(Analyze!G33=\"\",\"\",Analyze!G33)","v":2.7000000000000011},{"$f":"IF(G33=\"\",\"\",IF(Analyze!Y33=\"\",Analyze!AB33,Analyze!AB33+Analyze!Y33/Summary!$Y$25))","v":32.668252843234448},0,-23.620767274586697,20.072443989584386]
[null,null,0.28000000000000014,null,null,null,{"$f":"IF(Analyze!G34=\"\",\"\",Analyze!G34)","v":2.8000000000000012},{"$f":"IF(G34=\"\",\"\",IF(Analyze!Y34=\"\",Analyze!AB34,Analyze!AB34+Analyze!Y34/Summary!$Y$25))","v":33.878188133724613},0,-27.008586087959163,17.710367262125715]
[null,null,0.29000000000000015,null,null,null,{"$f":"IF(Analyze!G35=\"\",\"\",Analyze!G35)","v":2.9000000000000012},{"$f":"IF(G35=\"\",\"\",IF(Analyze!Y35=\"\",Analyze!AB35,Analyze!AB35+Analyze!Y35/Summary!$Y$25))","v":35.088123424214778},0,-30.517398430380645,15.009508653329796]
[null,null,0.30000000000000016,null,null,null,{"$f":"IF(Analyze!G36=\"\",\"\",Analyze!G36)","v":3.0000000000000013},{"$f":"IF(G36=\"\",\"\",IF(Analyze!Y36=\"\",Analyze!AB36,Analyze!AB36+Analyze!Y36/Summary!$Y$25))","v":36.298058714704943},0,-34.14720430185114,11.957768810291729]
[null,null,0.31000000000000016,null,null,null,{"$f":"IF(Analyze!G37=\"\",\"\",Analyze!G37)","v":3.1000000000000014},{"$f":"IF(G37=\"\",\"\",IF(Analyze!Y37=\"\",Analyze!AB37,Analyze!AB37+Analyze!Y37/Summary!$Y$25))","v":37.507994005195108},0,-37.898003702370652,8.5430483801066117]
[null,null,0.32000000000000017,null,null,null,{"$f":"IF(Analyze!G38=\"\",\"\",Analyze!G38)","v":3.2000000000000015},{"$f":"IF(G38=\"\",\"\",IF(Analyze!Y38=\"\",Analyze!AB38,Analyze!AB38+Analyze!Y38/Summary!$Y$25))","v":38.717929295685273},0,-41.76979663193918,4.7532480098695427]
[null,null,0.33000000000000018,null,null,null,{"$f":"IF(Analyze!G39=\"\",\"\",Analyze!G39)","v":3.3000000000000016},{"$f":"IF(G39=\"\",\"\",IF(Analyze!Y39=\"\",Analyze!AB39,Analyze!AB39+Analyze!Y39/Summary!$Y$25))","v":39.927864586175438},0,-45.762583090556724,0.57626834667562132]
[null,null,0.34000000000000019,null,null,null,{"$f":"IF(Analyze!G40=\"\",\"\",Analyze!G40)","v":3.4000000000000017},{"$f":"IF(G40=\"\",\"\",IF(Analyze!Y40=\"\",Analyze!AB40,Analyze!AB40+Analyze!Y40/Summary!$Y$25))","v":41.137799876665603},0,-49.876363078223285,-3.999989962380055]
[null,null,0.3500000000000002,null,null,null,{"$f":"IF(Analyze!G41=\"\",\"\",Analyze!G41)","v":3.5000000000000018},{"$f":"IF(G41=\"\",\"\",IF(Analyze!Y41=\"\",Analyze!AB41,Analyze!AB41+Analyze!Y41/Summary!$Y$25))","v":42.347735167155776},0,-54.11113659493887,-8.9876262702023872]
[null,null,0.36000000000000021,null,null,null,{"$f":"IF(Analyze!G42=\"\",\"\",Analyze!G42)","v":3.6000000000000019},{"$f":"IF(G42=\"\",\"\",IF(Analyze!Y42=\"\",Analyze!AB42,Analyze!AB42+Analyze!Y42/Summary!$Y$25))","v":43.557670457645941},0,-58.466903640703464,-14.39873992969628]
[null,null,0.37000000000000022,null,null,null,{"$f":"IF(Analyze!G43=\"\",\"\",Analyze!G43)","v":3.700000000000002},{"$f":"IF(G43=\"\",\"\",IF(Analyze!Y43=\"\",Analyze!AB43,Analyze!AB43+Analyze!Y43/Summary!$Y$25))","v":44.767605748136077},164.57087107004796,101.62720685453088,-20.245430293766631]
[null,null,0.38000000000000023,null,null,null,{"$f":"IF(Analyze!G44=\"\",\"\",Analyze!G44)","v":3.800000000000002},{"$f":"IF(G44=\"\",\"\",IF(Analyze!Y44=\"\",Analyze!AB44,Analyze!AB44+Analyze!Y44/Summary!$Y$25))","v":44.767605748136077},0,97.150446279717272,-10.082709608313534]
[null,null,0.39000000000000024,null,null,null,{"$f":"IF(Analyze!G45=\"\",\"\",Analyze!G45)","v":3.9000000000000021},{"$f":"IF(G45=\"\",\"\",IF(Analyze!Y45=\"\",Analyze!AB45,Analyze!AB45+Analyze!Y45/Summary!$Y$25))","v":44.767605748136077},0,92.673685704903662,-0.3676649803417984]
[null,null,0.40000000000000019,null,null,null,{"$f":"IF(Analyze!G46=\"\",\"\",Analyze!G46)","v":4.0000000000000018},{"$f":"IF(G46=\"\",\"\",IF(Analyze!Y46=\"\",Analyze!AB46,Analyze!AB46+Analyze!Y46/Summary!$Y$25))","v":44.767605748136077},0,88.196925130090065,8.8997035901485351]
[null,null,0.41000000000000014,null,null,null,{"$f":"IF(Analyze!G47=\"\",\"\",Analyze!G47)","v":4.1000000000000014},{"$f":"IF(G47=\"\",\"\",IF(Analyze!Y47=\"\",Analyze!AB47,Analyze!AB47+Analyze!Y47/Summary!$Y$25))","v":44.767605748136077},0,83.720164555276469,17.719396103157511]
[null,null,0.4200000000000001,null,null,null,{"$f":"IF(Analyze!G48=\"\",\"\",Analyze!G48)","v":4.2000000000000011},{"$f":"IF(G48=\"\",\"\",IF(Analyze!Y48=\"\",Analyze!AB48,Analyze!AB48+Analyze!Y48/Summary!$Y$25))","v":44.767605748136077},0,79.243403980462872,26.091412558685128]
[null,null,0.43000000000000005,null,null,null,{"$f":"IF(Analyze!G49=\"\",\"\",Analyze!G49)","v":4.3000000000000007},{"$f":"IF(G49=\"\",\"\",IF(Analyze!Y49=\"\",Analyze!AB49,Analyze!AB49+Analyze!Y49/Summary!$Y$25))","v":44.767605748136077},0,74.766643405649276,34.01575295673139]
[null,null,0.44000000000000006,null,null,null,{"$f":"IF(Analyze!G50=\"\",\"\",Analyze!G50)","v":4.4000000000000004},{"$f":"IF(G50=\"\",\"\",IF(Analyze!Y50=\"\",Analyze!AB50,Analyze!AB50+Analyze!Y50/Summary!$Y$25))","v":44.767605748136077},0,70.28988283083568,41.492417297296292]
[null,null,0.45,null,null,null,{"$f":"IF(Analyze!G51=\"\",\"\",Analyze!G51)","v":4.5},{"$f":"IF(G51=\"\",\"\",IF(Analyze!Y51=\"\",Analyze!AB51,Analyze!AB51+Analyze!Y51/Summary!$Y$25))","v":44.767605748136077},0,65.813122256022083,48.521405580379835]
[null,null,0.45999999999999996,null,null,null,{"$f":"IF(Analyze!G52=\"\",\"\",Analyze!G52)","v":4.5999999999999996},{"$f":"IF(G52=\"\",\"\",IF(Analyze!Y52=\"\",Analyze!AB52,Analyze!AB52+Analyze!Y52/Summary!$Y$25))","v":44.767605748136077},0,61.336361681208494,55.102717805982017]
[null,null,0.46999999999999992,null,null,null,{"$f":"IF(Analyze!G53=\"\",\"\",Analyze!G53)","v":4.6999999999999993},{"$f":"IF(G53=\"\",\"\",IF(Analyze!Y53=\"\",Analyze!AB53,Analyze!AB53+Analyze!Y53/Summary!$Y$25))","v":44.767605748136077},0,56.859601106394905,61.236353974102848]
[null,null,0.47999999999999987,null,null,null,{"$f":"IF(Analyze!G54=\"\",\"\",Analyze!G54)","v":4.7999999999999989},{"$f":"IF(G54=\"\",\"\",IF(Analyze!Y54=\"\",Analyze!AB54,Analyze!AB54+Analyze!Y54/Summary!$Y$25))","v":44.767605748136077},0,52.382840531581316,66.922314084742311]
[null,null,0.48999999999999988,null,null,null,{"$f":"IF(Analyze!G55=\"\",\"\",Analyze!G55)","v":4.8999999999999986},{"$f":"IF(G55=\"\",\"\",IF(Analyze!Y55=\"\",Analyze!AB55,Analyze!AB55+Analyze!Y55/Summary!$Y$25))","v":44.767605748136077},0,47.906079956767726,72.160598137900422]
[null,null,0.49999999999999983,null,null,null,{"$f":"IF(Analyze!G56=\"\",\"\",Analyze!G56)","v":4.9999999999999982},{"$f":"IF(G56=\"\",\"\",IF(Analyze!Y56=\"\",Analyze!AB56,Analyze!AB56+Analyze!Y56/Summary!$Y$25))","v":44.767605748136077},0,43.429319381954137,76.951206133577173]
[null,null,0.50999999999999979,null,null,null,{"$f":"IF(Analyze!G57=\"\",\"\",Analyze!G57)","v":5.0999999999999979},{"$f":"IF(G57=\"\",\"\",IF(Analyze!Y57=\"\",Analyze!AB57,Analyze!AB57+Analyze!Y57/Summary!$Y$25))","v":44.767605748136077},0,38.952558807140548,81.294138071772565]
[null,null,0.5199999999999998,null,null,null,{"$f":"IF(Analyze!G58=\"\",\"\",Analyze!G58)","v":5.1999999999999975},{"$f":"IF(G58=\"\",\"\",IF(Analyze!Y58=\"\",Analyze!AB58,Analyze!AB58+Analyze!Y58/Summary!$Y$25))","v":44.767605748136077},0,34.475798232326959,85.189393952486611]
[null,null,0.52999999999999969,null,null,null,{"$f":"IF(Analyze!G59=\"\",\"\",Analyze!G59)","v":5.2999999999999972},{"$f":"IF(G59=\"\",\"\",IF(Analyze!Y59=\"\",Analyze!AB59,Analyze!AB59+Analyze!Y59/Summary!$Y$25))","v":44.767605748136077},0,29.999037657513366,88.636973775719298]
[null,null,0.5399999999999997,null,null,null,{"$f":"IF(Analyze!G60=\"\",\"\",Analyze!G60)","v":5.3999999999999968},{"$f":"IF(G60=\"\",\"\",IF(Analyze!Y60=\"\",Analyze!AB60,Analyze!AB60+Analyze!Y60/Summary!$Y$25))","v":44.767605748136077},0,25.522277082699773,91.636877541470625]
[null,null,0.5499999999999996,null,null,null,{"$f":"IF(Analyze!G61=\"\",\"\",Analyze!G61)","v":5.4999999999999964},{"$f":"IF(G61=\"\",\"\",IF(Analyze!Y61=\"\",Analyze!AB61,Analyze!AB61+Analyze!Y61/Summary!$Y$25))","v":44.767605748136077},0,21.04551650788618,94.189105249740592]
[null,null,0.55999999999999961,null,null,null,{"$f":"IF(Analyze!G62=\"\",\"\",Analyze!G62)","v":5.5999999999999961},{"$f":"IF(G62=\"\",\"\",IF(Analyze!Y62=\"\",Analyze!AB62,Analyze!AB62+Analyze!Y62/Summary!$Y$25))","v":44.767605748136077},0,16.568755933072588,96.2936569005292]
[null,null,0.56999999999999962,null,null,null,{"$f":"IF(Analyze!G63=\"\",\"\",Analyze!G63)","v":5.6999999999999957},{"$f":"IF(G63=\"\",\"\",IF(Analyze!Y63=\"\",Analyze!AB63,Analyze!AB63+Analyze!Y63/Summary!$Y$25))","v":44.767605748136077},0,12.091995358258995,97.950532493836448]
[null,null,0.57999999999999952,null,null,null,{"$f":"IF(Analyze!G64=\"\",\"\",Analyze!G64)","v":5.7999999999999954},{"$f":"IF(G64=\"\",\"\",IF(Analyze!Y64=\"\",Analyze!AB64,Analyze!AB64+Analyze!Y64/Summary!$Y$25))","v":44.767605748136077},0,7.6152347834454028,99.159732029662337]
[null,null,0.58999999999999952,null,null,null,{"$f":"IF(Analyze!G65=\"\",\"\",Analyze!G65)","v":5.899999999999995},{"$f":"IF(G65=\"\",\"\",IF(Analyze!Y65=\"\",Analyze!AB65,Analyze!AB65+Analyze!Y65/Summary!$Y$25))","v":44.767605748136077},0,3.1384742086318109,99.92125550800688]
[null,null,0.59999999999999942,null,null,null,{"$f":"IF(Analyze!G66=\"\",\"\",Analyze!G66)","v":5.9999999999999947},{"$f":"IF(G66=\"\",\"\",IF(Analyze!Y66=\"\",Analyze!AB66,Analyze!AB66+Analyze!Y66/Summary!$Y$25))","v":44.767605748136077},0,-1.338286366181781,100.23510292887006]
[null,null,0.60999999999999943,null,null,null,{"$f":"IF(Analyze!G67=\"\",\"\",Analyze!G67)","v":6.0999999999999943},{"$f":"IF(G67=\"\",\"\",IF(Analyze!Y67=\"\",Analyze!AB67,Analyze!AB67+Analyze!Y67/Summary!$Y$25))","v":44.767605748136077},0,-5.8150469409953729,100.10127429225189]
[null,null,0.61999999999999944,null,null,null,{"$f":"IF(Analyze!G68=\"\",\"\",Analyze!G68)","v":6.199999999999994},{"$f":"IF(G68=\"\",\"\",IF(Analyze!Y68=\"\",Analyze!AB68,Analyze!AB68+Analyze!Y68/Summary!$Y$25))","v":44.767605748136077},0,-10.291807515808966,99.519769598152351]
[null,null,0.62999999999999934,null,null,null,{"$f":"IF(Analyze!G69=\"\",\"\",Analyze!G69)","v":6.2999999999999936},{"$f":"IF(G69=\"\",\"\",IF(Analyze!Y69=\"\",Analyze!AB69,Analyze!AB69+Analyze!Y69/Summary!$Y$25))","v":44.767605748136077},0,-14.768568090622558,98.490588846571455]
[null,null,0.63999999999999935,null,null,null,{"$f":"IF(Analyze!G70=\"\",\"\",Analyze!G70)","v":6.3999999999999932},{"$f":"IF(G70=\"\",\"\",IF(Analyze!Y70=\"\",Analyze!AB70,Analyze!AB70+Analyze!Y70/Summary!$Y$25))","v":44.767605748136077},0,-19.245328665436151,97.0137320375092]
[null,null,{"$f":"IF(G71=\"\",\"\",G71/10)","v":0.64999999999999925},null,null,null,{"$f":"IF(Analyze!G71=\"\",\"\",Analyze!G71)","v":6.4999999999999929},{"$f":"IF(G71=\"\",\"\",IF(Analyze!Y71=\"\",Analyze!AB71,Analyze!AB71+Analyze!Y71/Summary!$Y$25))","v":44.767605748136077},0,-23.722089240249744,95.089199170965585]
[null,null,0.65999999999999925,null,null,null,{"$f":"IF(Analyze!G72=\"\",\"\",Analyze!G72)","v":6.5999999999999925},{"$f":"IF(G72=\"\",\"\",IF(Analyze!Y72=\"\",Analyze!AB72,Analyze!AB72+Analyze!Y72/Summary!$Y$25))","v":44.767605748136077},0,{"$f":"IF(G72=\"\",\"\",(J71+I72-H72*(G72-G71)))","v":-28.198849815063337},{"$f":"IF(G72=\"\",\"\",K71+J71*(G72-G71))","v":92.716990246940625}]
[null,null,0.66999999999999926,null,null,null,{"$f":"IF(Analyze!G73=\"\",\"\",Analyze!G73)","v":6.6999999999999922},{"$f":"IF(G73=\"\",\"\",IF(Analyze!Y73=\"\",Analyze!AB73,Analyze!AB73+Analyze!Y73/Summary!$Y$25))","v":44.767605748136077},0,-32.67561038987693,89.897105265434305]
[null,null,0.67999999999999916,null,null,null,{"$f":"IF(Analyze!G74=\"\",\"\",Analyze!G74)","v":6.7999999999999918},{"$f":"IF(G74=\"\",\"\",IF(Analyze!Y74=\"\",Analyze!AB74,Analyze!AB74+Analyze!Y74/Summary!$Y$25))","v":44.767605748136077},0,-37.152370964690519,86.629544226446626]
[null,null,0.68999999999999917,null,null,null,{"$f":"IF(Analyze!G75=\"\",\"\",Analyze!G75)","v":6.8999999999999915},{"$f":"IF(G75=\"\",\"\",IF(Analyze!Y75=\"\",Analyze!AB75,Analyze!AB75+Analyze!Y75/Summary!$Y$25))","v":44.767605748136077},0,-41.629131539504108,82.914307129977587]
[null,null,0.69999999999999907,null,null,null,{"$f":"IF(Analyze!G76=\"\",\"\",Analyze!G76)","v":6.9999999999999911},{"$f":"IF(G76=\"\",\"\",IF(Analyze!Y76=\"\",Analyze!AB76,Analyze!AB76+Analyze!Y76/Summary!$Y$25))","v":44.767605748136077},0,-46.105892114317697,78.751393976027188]
[null,null,0.70999999999999908,null,null,null,{"$f":"IF(Analyze!G77=\"\",\"\",Analyze!G77)","v":7.0999999999999908},{"$f":"IF(G77=\"\",\"\",IF(Analyze!Y77=\"\",Analyze!AB77,Analyze!AB77+Analyze!Y77/Summary!$Y$25))","v":44.767605748136077},0,-50.582652689131287,74.14080476459543]
[null,null,0.71999999999999909,null,null,null,{"$f":"IF(Analyze!G78=\"\",\"\",Analyze!G78)","v":7.1999999999999904},{"$f":"IF(G78=\"\",\"\",IF(Analyze!Y78=\"\",Analyze!AB78,Analyze!AB78+Analyze!Y78/Summary!$Y$25))","v":44.767605748136077},0,-55.059413263944876,69.082539495682312]
[null,null,0.72999999999999898,null,null,null,{"$f":"IF(Analyze!G79=\"\",\"\",Analyze!G79)","v":7.2999999999999901},{"$f":"IF(G79=\"\",\"\",IF(Analyze!Y79=\"\",Analyze!AB79,Analyze!AB79+Analyze!Y79/Summary!$Y$25))","v":44.767605748136077},0,-59.536173838758465,63.576598169287841]
[null,null,0.73999999999999899,null,null,null,{"$f":"IF(Analyze!G80=\"\",\"\",Analyze!G80)","v":7.3999999999999897},{"$f":"IF(G80=\"\",\"\",IF(Analyze!Y80=\"\",Analyze!AB80,Analyze!AB80+Analyze!Y80/Summary!$Y$25))","v":44.767605748136077},0,-64.012934413572054,57.622980785412018]
[null,null,0.74999999999999889,null,null,null,{"$f":"IF(Analyze!G81=\"\",\"\",Analyze!G81)","v":7.4999999999999893},{"$f":"IF(G81=\"\",\"\",IF(Analyze!Y81=\"\",Analyze!AB81,Analyze!AB81+Analyze!Y81/Summary!$Y$25))","v":44.767605748136077},0,-68.489694988385651,51.221687344054835]
[null,null,0.7599999999999989,null,null,null,{"$f":"IF(Analyze!G82=\"\",\"\",Analyze!G82)","v":7.599999999999989},{"$f":"IF(G82=\"\",\"\",IF(Analyze!Y82=\"\",Analyze!AB82,Analyze!AB82+Analyze!Y82/Summary!$Y$25))","v":44.767605748136077},0,-72.966455563199247,44.372717845216293]
[null,null,0.76999999999999891,null,null,null,{"$f":"IF(Analyze!G83=\"\",\"\",Analyze!G83)","v":7.6999999999999886},{"$f":"IF(G83=\"\",\"\",IF(Analyze!Y83=\"\",Analyze!AB83,Analyze!AB83+Analyze!Y83/Summary!$Y$25))","v":44.767605748136077},0,-77.443216138012843,37.076072288896398]
[null,null,0.77999999999999881,null,null,null,{"$f":"IF(Analyze!G84=\"\",\"\",Analyze!G84)","v":7.7999999999999883},{"$f":"IF(G84=\"\",\"\",IF(Analyze!Y84=\"\",Analyze!AB84,Analyze!AB84+Analyze!Y84/Summary!$Y$25))","v":44.767605748136077},186.74708773906113,104.82711102623469,29.33175067509514]
[null,null,0.78999999999999881,null,null,null,{"$f":"IF(Analyze!G85=\"\",\"\",Analyze!G85)","v":7.8999999999999879},{"$f":"IF(G85=\"\",\"\",IF(Analyze!Y85=\"\",Analyze!AB85,Analyze!AB85+Analyze!Y85/Summary!$Y$25))","v":44.767605748136077},0,100.35035045142109,39.81446177771857]
[null,null,0.79999999999999871,null,null,null,{"$f":"IF(Analyze!G86=\"\",\"\",Analyze!G86)","v":7.9999999999999876},{"$f":"IF(G86=\"\",\"\",IF(Analyze!Y86=\"\",Analyze!AB86,Analyze!AB86+Analyze!Y86/Summary!$Y$25))","v":44.767605748136077},0,95.873589876607497,49.849496822860644]
[null,null,0.80999999999999872,null,null,null,{"$f":"IF(Analyze!G87=\"\",\"\",Analyze!G87)","v":8.0999999999999872},{"$f":"IF(G87=\"\",\"\",IF(Analyze!Y87=\"\",Analyze!AB87,Analyze!AB87+Analyze!Y87/Summary!$Y$25))","v":44.767605748136077},0,91.3968293017939,59.436855810521358]
[null,null,0.81999999999999873,null,null,null,{"$f":"IF(Analyze!G88=\"\",\"\",Analyze!G88)","v":8.1999999999999869},{"$f":"IF(G88=\"\",\"\",IF(Analyze!Y88=\"\",Analyze!AB88,Analyze!AB88+Analyze!Y88/Summary!$Y$25))","v":44.767605748136077},0,86.920068726980304,68.576538740700713]
[null,null,0.82999999999999863,null,null,null,{"$f":"IF(Analyze!G89=\"\",\"\",Analyze!G89)","v":8.2999999999999865},{"$f":"IF(G89=\"\",\"\",IF(Analyze!Y89=\"\",Analyze!AB89,Analyze!AB89+Analyze!Y89/Summary!$Y$25))","v":44.767605748136077},0,82.443308152166708,77.268545613398715]
[null,null,0.83999999999999864,null,null,null,{"$f":"IF(Analyze!G90=\"\",\"\",Analyze!G90)","v":8.3999999999999861},{"$f":"IF(G90=\"\",\"\",IF(Analyze!Y90=\"\",Analyze!AB90,Analyze!AB90+Analyze!Y90/Summary!$Y$25))","v":44.767605748136077},0,77.966547577353111,85.512876428615357]
[null,null,0.84999999999999853,null,null,null,{"$f":"IF(Analyze!G91=\"\",\"\",Analyze!G91)","v":8.4999999999999858},{"$f":"IF(G91=\"\",\"\",IF(Analyze!Y91=\"\",Analyze!AB91,Analyze!AB91+Analyze!Y91/Summary!$Y$25))","v":44.767605748136077},0,73.489787002539515,93.30953118635064]
[null,null,0.85999999999999854,null,null,null,{"$f":"IF(Analyze!G92=\"\",\"\",Analyze!G92)","v":8.5999999999999854},{"$f":"IF(G92=\"\",\"\",IF(Analyze!Y92=\"\",Analyze!AB92,Analyze!AB92+Analyze!Y92/Summary!$Y$25))","v":44.767605748136077},0,69.013026427725919,100.65850988660456]
[null,null,0.86999999999999855,null,null,null,{"$f":"IF(Analyze!G93=\"\",\"\",Analyze!G93)","v":8.6999999999999851},{"$f":"IF(G93=\"\",\"\",IF(Analyze!Y93=\"\",Analyze!AB93,Analyze!AB93+Analyze!Y93/Summary!$Y$25))","v":44.767605748136077},0,64.536265852912322,107.55981252937713]
[null,null,0.87999999999999845,null,null,null,{"$f":"IF(Analyze!G94=\"\",\"\",Analyze!G94)","v":8.7999999999999847},{"$f":"IF(G94=\"\",\"\",IF(Analyze!Y94=\"\",Analyze!AB94,Analyze!AB94+Analyze!Y94/Summary!$Y$25))","v":44.767605748136077},0,60.059505278098733,114.01343911466833]
[null,null,0.88999999999999846,null,null,null,{"$f":"IF(Analyze!G95=\"\",\"\",Analyze!G95)","v":8.8999999999999844},{"$f":"IF(G95=\"\",\"\",IF(Analyze!Y95=\"\",Analyze!AB95,Analyze!AB95+Analyze!Y95/Summary!$Y$25))","v":44.767605748136077},0,55.582744703285144,120.01938964247819]
[null,null,0.89999999999999836,null,null,null,{"$f":"IF(Analyze!G96=\"\",\"\",Analyze!G96)","v":8.999999999999984},{"$f":"IF(G96=\"\",\"\",IF(Analyze!Y96=\"\",Analyze!AB96,Analyze!AB96+Analyze!Y96/Summary!$Y$25))","v":44.767605748136077},0,51.105984128471555,125.57766411280669]
[null,null,0.90999999999999837,null,null,null,{"$f":"IF(Analyze!G97=\"\",\"\",Analyze!G97)","v":9.0999999999999837},{"$f":"IF(G97=\"\",\"\",IF(Analyze!Y97=\"\",Analyze!AB97,Analyze!AB97+Analyze!Y97/Summary!$Y$25))","v":44.767605748136077},0,46.629223553657965,130.68826252565381]
[null,null,0.91999999999999837,null,null,null,{"$f":"IF(Analyze!G98=\"\",\"\",Analyze!G98)","v":9.1999999999999833},{"$f":"IF(G98=\"\",\"\",IF(Analyze!Y98=\"\",Analyze!AB98,Analyze!AB98+Analyze!Y98/Summary!$Y$25))","v":44.767605748136077},0,42.152462978844376,135.35118488101961]
[null,null,0.92999999999999827,null,null,null,{"$f":"IF(Analyze!G99=\"\",\"\",Analyze!G99)","v":9.2999999999999829},{"$f":"IF(G99=\"\",\"\",IF(Analyze!Y99=\"\",Analyze!AB99,Analyze!AB99+Analyze!Y99/Summary!$Y$25))","v":44.767605748136077},0,37.675702404030787,139.56643117890403]
[null,null,0.93999999999999828,null,null,null,{"$f":"IF(Analyze!G100=\"\",\"\",Analyze!G100)","v":9.3999999999999826},{"$f":"IF(G100=\"\",\"\",IF(Analyze!Y100=\"\",Analyze!AB100,Analyze!AB100+Analyze!Y100/Summary!$Y$25))","v":44.767605748136077},0,33.198941829217198,143.3340014193071]
[null,null,0.94999999999999818,null,null,null,{"$f":"IF(Analyze!G101=\"\",\"\",Analyze!G101)","v":9.4999999999999822},{"$f":"IF(G101=\"\",\"\",IF(Analyze!Y101=\"\",Analyze!AB101,Analyze!AB101+Analyze!Y101/Summary!$Y$25))","v":44.767605748136077},0,28.722181254403605,146.6538956022288]
[null,null,0.95999999999999819,null,null,null,{"$f":"IF(Analyze!G102=\"\",\"\",Analyze!G102)","v":9.5999999999999819},{"$f":"IF(G102=\"\",\"\",IF(Analyze!Y102=\"\",Analyze!AB102,Analyze!AB102+Analyze!Y102/Summary!$Y$25))","v":44.767605748136077},0,24.245420679590012,149.52611372766916]
[null,null,0.9699999999999982,null,null,null,{"$f":"IF(Analyze!G103=\"\",\"\",Analyze!G103)","v":9.6999999999999815},{"$f":"IF(G103=\"\",\"\",IF(Analyze!Y103=\"\",Analyze!AB103,Analyze!AB103+Analyze!Y103/Summary!$Y$25))","v":44.767605748136077},0,19.768660104776419,151.95065579562814]
[null,null,0.97999999999999809,null,null,null,{"$f":"IF(Analyze!G104=\"\",\"\",Analyze!G104)","v":9.7999999999999812},{"$f":"IF(G104=\"\",\"\",IF(Analyze!Y104=\"\",Analyze!AB104,Analyze!AB104+Analyze!Y104/Summary!$Y$25))","v":44.767605748136077},0,15.291899529962826,153.92752180610577]
[null,null,0.9899999999999981,null,null,null,{"$f":"IF(Analyze!G105=\"\",\"\",Analyze!G105)","v":9.8999999999999808},{"$f":"IF(G105=\"\",\"\",IF(Analyze!Y105=\"\",Analyze!AB105,Analyze!AB105+Analyze!Y105/Summary!$Y$25))","v":44.767605748136077},0,10.815138955149234,155.45671175910206]
[null,null,0.999999999999998,null,null,null,{"$f":"IF(Analyze!G106=\"\",\"\",Analyze!G106)","v":9.9999999999999805},{"$f":"IF(G106=\"\",\"\",IF(Analyze!Y106=\"\",Analyze!AB106,Analyze!AB106+Analyze!Y106/Summary!$Y$25))","v":44.767605748136077},0,6.3383783803356417,156.53822565461698]
[null,null,1.009999999999998,null,null,null,{"$f":"IF(Analyze!G107=\"\",\"\",Analyze!G107)","v":10.09999999999998},{"$f":"IF(G107=\"\",\"\",IF(Analyze!Y107=\"\",Analyze!AB107,Analyze!AB107+Analyze!Y107/Summary!$Y$25))","v":44.767605748136077},0,1.8616178055220498,157.17206349265055]
[null,null,1.019999999999998,null,null,null,{"$f":"IF(Analyze!G108=\"\",\"\",Analyze!G108)","v":10.19999999999998},{"$f":"IF(G108=\"\",\"\",IF(Analyze!Y108=\"\",Analyze!AB108,Analyze!AB108+Analyze!Y108/Summary!$Y$25))","v":44.767605748136077},0,-2.6151427692915421,157.35822527320275]
[null,null,1.029999999999998,null,null,null,{"$f":"IF(Analyze!G109=\"\",\"\",Analyze!G109)","v":10.299999999999979},{"$f":"IF(G109=\"\",\"\",IF(Analyze!Y109=\"\",Analyze!AB109,Analyze!AB109+Analyze!Y109/Summary!$Y$25))","v":44.767605748136077},0,-7.091903344105134,157.0967109962736]
[null,null,1.0399999999999978,null,null,null,{"$f":"IF(Analyze!G110=\"\",\"\",Analyze!G110)","v":10.399999999999979},{"$f":"IF(G110=\"\",\"\",IF(Analyze!Y110=\"\",Analyze!AB110,Analyze!AB110+Analyze!Y110/Summary!$Y$25))","v":44.767605748136077},0,-11.568663918918727,156.38752066186308]
[null,null,1.0499999999999978,null,null,null,{"$f":"IF(Analyze!G111=\"\",\"\",Analyze!G111)","v":10.499999999999979},{"$f":"IF(G111=\"\",\"\",IF(Analyze!Y111=\"\",Analyze!AB111,Analyze!AB111+Analyze!Y111/Summary!$Y$25))","v":44.767605748136077},0,-16.04542449373232,155.23065426997121]
[null,null,1.0599999999999978,null,null,null,{"$f":"IF(Analyze!G112=\"\",\"\",Analyze!G112)","v":10.599999999999978},{"$f":"IF(G112=\"\",\"\",IF(Analyze!Y112=\"\",Analyze!AB112,Analyze!AB112+Analyze!Y112/Summary!$Y$25))","v":44.767605748136077},0,-20.522185068545912,153.626111820598]
[null,null,1.0699999999999978,null,null,null,{"$f":"IF(Analyze!G113=\"\",\"\",Analyze!G113)","v":10.699999999999978},{"$f":"IF(G113=\"\",\"\",IF(Analyze!Y113=\"\",Analyze!AB113,Analyze!AB113+Analyze!Y113/Summary!$Y$25))","v":44.767605748136077},0,-24.998945643359505,151.57389331374341]
[null,null,1.0799999999999979,null,null,null,{"$f":"IF(Analyze!G114=\"\",\"\",Analyze!G114)","v":10.799999999999978},{"$f":"IF(G114=\"\",\"\",IF(Analyze!Y114=\"\",Analyze!AB114,Analyze!AB114+Analyze!Y114/Summary!$Y$25))","v":44.767605748136077},0,-29.475706218173098,149.07399874940748]
[null,null,1.0899999999999976,null,null,null,{"$f":"IF(Analyze!G115=\"\",\"\",Analyze!G115)","v":10.899999999999977},{"$f":"IF(G115=\"\",\"\",IF(Analyze!Y115=\"\",Analyze!AB115,Analyze!AB115+Analyze!Y115/Summary!$Y$25))","v":44.767605748136077},0,-33.952466792986691,146.12642812759017]
[null,null,1.0999999999999976,null,null,null,{"$f":"IF(Analyze!G116=\"\",\"\",Analyze!G116)","v":10.999999999999977},{"$f":"IF(G116=\"\",\"\",IF(Analyze!Y116=\"\",Analyze!AB116,Analyze!AB116+Analyze!Y116/Summary!$Y$25))","v":44.767605748136077},0,-38.42922736780028,142.73118144829152]
[null,null,1.1099999999999977,null,null,null,{"$f":"IF(Analyze!G117=\"\",\"\",Analyze!G117)","v":11.099999999999977},{"$f":"IF(G117=\"\",\"\",IF(Analyze!Y117=\"\",Analyze!AB117,Analyze!AB117+Analyze!Y117/Summary!$Y$25))","v":44.767605748136077},0,-42.905987942613869,138.8882587115115]
[null,null,1.1199999999999977,null,null,null,{"$f":"IF(Analyze!G118=\"\",\"\",Analyze!G118)","v":11.199999999999976},{"$f":"IF(G118=\"\",\"\",IF(Analyze!Y118=\"\",Analyze!AB118,Analyze!AB118+Analyze!Y118/Summary!$Y$25))","v":44.767605748136077},0,-47.382748517427459,134.59765991725013]
[null,null,1.1299999999999977,null,null,null,{"$f":"IF(Analyze!G119=\"\",\"\",Analyze!G119)","v":11.299999999999976},{"$f":"IF(G119=\"\",\"\",IF(Analyze!Y119=\"\",Analyze!AB119,Analyze!AB119+Analyze!Y119/Summary!$Y$25))","v":44.767605748136077},0,-51.859509092241048,129.85938506550741]
[null,null,1.1399999999999975,null,null,null,{"$f":"IF(Analyze!G120=\"\",\"\",Analyze!G120)","v":11.399999999999975},{"$f":"IF(G120=\"\",\"\",IF(Analyze!Y120=\"\",Analyze!AB120,Analyze!AB120+Analyze!Y120/Summary!$Y$25))","v":44.767605748136077},0,-56.336269667054637,124.67343415628332]
[null,null,1.1499999999999975,null,null,null,{"$f":"IF(Analyze!G121=\"\",\"\",Analyze!G121)","v":11.499999999999975},{"$f":"IF(G121=\"\",\"\",IF(Analyze!Y121=\"\",Analyze!AB121,Analyze!AB121+Analyze!Y121/Summary!$Y$25))","v":44.767605748136077},0,-60.813030241868226,119.03980718957787]
[null,null,1.1599999999999975,null,null,null,{"$f":"IF(Analyze!G122=\"\",\"\",Analyze!G122)","v":11.599999999999975},{"$f":"IF(G122=\"\",\"\",IF(Analyze!Y122=\"\",Analyze!AB122,Analyze!AB122+Analyze!Y122/Summary!$Y$25))","v":44.767605748136077},0,-65.289790816681815,112.95850416539108]
[null,null,1.1699999999999975,null,null,null,{"$f":"IF(Analyze!G123=\"\",\"\",Analyze!G123)","v":11.699999999999974},{"$f":"IF(G123=\"\",\"\",IF(Analyze!Y123=\"\",Analyze!AB123,Analyze!AB123+Analyze!Y123/Summary!$Y$25))","v":44.767605748136077},0,-69.766551391495412,106.42952508372292]
[null,null,1.1799999999999975,null,null,null,{"$f":"IF(Analyze!G124=\"\",\"\",Analyze!G124)","v":11.799999999999974},{"$f":"IF(G124=\"\",\"\",IF(Analyze!Y124=\"\",Analyze!AB124,Analyze!AB124+Analyze!Y124/Summary!$Y$25))","v":44.767605748136077},205.42179651296865,131.17848454665963,99.452869944573408]
[null,null,1.1899999999999973,null,null,null,{"$f":"IF(Analyze!G125=\"\",\"\",Analyze!G125)","v":11.899999999999974},{"$f":"IF(G125=\"\",\"\",IF(Analyze!Y125=\"\",Analyze!AB125,Analyze!AB125+Analyze!Y125/Summary!$Y$25))","v":44.767605748136077},0,126.70172397184604,112.57071839923933]
[null,null,1.1999999999999973,null,null,null,{"$f":"IF(Analyze!G126=\"\",\"\",Analyze!G126)","v":11.999999999999973},{"$f":"IF(G126=\"\",\"\",IF(Analyze!Y126=\"\",Analyze!AB126,Analyze!AB126+Analyze!Y126/Summary!$Y$25))","v":44.767605748136077},0,122.22496339703244,125.24089079642388]
[null,null,1.2099999999999973,null,null,null,{"$f":"IF(Analyze!G127=\"\",\"\",Analyze!G127)","v":12.099999999999973},{"$f":"IF(G127=\"\",\"\",IF(Analyze!Y127=\"\",Analyze!AB127,Analyze!AB127+Analyze!Y127/Summary!$Y$25))","v":44.767605748136077},0,117.74820282221884,137.4633871361271]
[null,null,1.2199999999999973,null,null,null,{"$f":"IF(Analyze!G128=\"\",\"\",Analyze!G128)","v":12.199999999999973},{"$f":"IF(G128=\"\",\"\",IF(Analyze!Y128=\"\",Analyze!AB128,Analyze!AB128+Analyze!Y128/Summary!$Y$25))","v":44.767605748136077},0,113.27144224740525,149.23820741834894]
[null,null,1.2299999999999973,null,null,null,{"$f":"IF(Analyze!G129=\"\",\"\",Analyze!G129)","v":12.299999999999972},{"$f":"IF(G129=\"\",\"\",IF(Analyze!Y129=\"\",Analyze!AB129,Analyze!AB129+Analyze!Y129/Summary!$Y$25))","v":44.767605748136077},0,108.79468167259165,160.56535164308943]
[null,null,1.2399999999999971,null,null,null,{"$f":"IF(Analyze!G130=\"\",\"\",Analyze!G130)","v":12.399999999999972},{"$f":"IF(G130=\"\",\"\",IF(Analyze!Y130=\"\",Analyze!AB130,Analyze!AB130+Analyze!Y130/Summary!$Y$25))","v":44.767605748136077},0,104.31792109777805,171.44481981034855]
[null,null,1.25,null,null,null,{"$f":"IF(Analyze!G131=\"\",\"\",Analyze!G131)","v":12.5},{"$f":"IF(G131=\"\",\"\",IF(Analyze!Y131=\"\",Analyze!AB131,Analyze!AB131+Analyze!Y131/Summary!$Y$25))","v":32.882956194859489},0,101.02962547829118,181.87661192012928]
[null,null,1.26,null,null,null,{"$f":"IF(Analyze!G132=\"\",\"\",Analyze!G132)","v":12.6},{"$f":"IF(G132=\"\",\"\",IF(Analyze!Y132=\"\",Analyze!AB132,Analyze!AB132+Analyze!Y132/Summary!$Y$25))","v":32.394066794519375},0,97.790218798839248,191.97957446795837]
[null,null,1.27,null,null,null,{"$f":"IF(Analyze!G133=\"\",\"\",Analyze!G133)","v":12.7},{"$f":"IF(G133=\"\",\"\",IF(Analyze!Y133=\"\",Analyze!AB133,Analyze!AB133+Analyze!Y133/Summary!$Y$25))","v":31.905177394179262},0,94.599701059421335,201.75859634784226]
[null,null,1.2799999999999998,null,null,null,{"$f":"IF(Analyze!G134=\"\",\"\",Analyze!G134)","v":12.799999999999999},{"$f":"IF(G134=\"\",\"\",IF(Analyze!Y134=\"\",Analyze!AB134,Analyze!AB134+Analyze!Y134/Summary!$Y$25))","v":31.416287993839152},0,91.458072260037426,211.21856645378435]
[null,null,{"$f":"IF(G135=\"\",\"\",G135/10)","v":1.2899999999999998},null,null,null,{"$f":"IF(Analyze!G135=\"\",\"\",Analyze!G135)","v":12.899999999999999},{"$f":"IF(G135=\"\",\"\",IF(Analyze!Y135=\"\",Analyze!AB135,Analyze!AB135+Analyze!Y135/Summary!$Y$25))","v":30.927398593499042},0,88.365332400687535,220.36437367978806]
[null,null,1.2999999999999998,null,null,null,{"$f":"IF(Analyze!G136=\"\",\"\",Analyze!G136)","v":12.999999999999998},{"$f":"IF(G136=\"\",\"\",IF(Analyze!Y136=\"\",Analyze!AB136,Analyze!AB136+Analyze!Y136/Summary!$Y$25))","v":30.438509193158929},0,{"$f":"IF(G136=\"\",\"\",(J135+I136-H136*(G136-G135)))","v":85.321481481371649},{"$f":"IF(G136=\"\",\"\",K135+J135*(G136-G135))","v":229.20090691985678}]
[null,null,1.3099999999999998,null,null,null,{"$f":"IF(Analyze!G137=\"\",\"\",Analyze!G137)","v":13.099999999999998},{"$f":"IF(G137=\"\",\"\",IF(Analyze!Y137=\"\",Analyze!AB137,Analyze!AB137+Analyze!Y137/Summary!$Y$25))","v":29.949619792818819},0,82.326519502089781,237.73305506799392]
[null,null,1.3199999999999998,null,null,null,{"$f":"IF(Analyze!G138=\"\",\"\",Analyze!G138)","v":13.199999999999998},{"$f":"IF(G138=\"\",\"\",IF(Analyze!Y138=\"\",Analyze!AB138,Analyze!AB138+Analyze!Y138/Summary!$Y$25))","v":29.460730392478705},0,79.380446462841917,245.96570701820286]
[null,null,1.3299999999999996,null,null,null,{"$f":"IF(Analyze!G139=\"\",\"\",Analyze!G139)","v":13.299999999999997},{"$f":"IF(G139=\"\",\"\",IF(Analyze!Y139=\"\",Analyze!AB139,Analyze!AB139+Analyze!Y139/Summary!$Y$25))","v":28.971840992138596},0,76.483262363628072,253.90375166448703]
[null,null,1.3399999999999996,null,null,null,{"$f":"IF(Analyze!G140=\"\",\"\",Analyze!G140)","v":13.399999999999997},{"$f":"IF(G140=\"\",\"\",IF(Analyze!Y140=\"\",Analyze!AB140,Analyze!AB140+Analyze!Y140/Summary!$Y$25))","v":28.482951591798486},0,73.63496720444823,261.55207790084984]
[null,null,1.3499999999999996,null,null,null,{"$f":"IF(Analyze!G141=\"\",\"\",Analyze!G141)","v":13.499999999999996},{"$f":"IF(G141=\"\",\"\",IF(Analyze!Y141=\"\",Analyze!AB141,Analyze!AB141+Analyze!Y141/Summary!$Y$25))","v":27.994062191458372},0,70.835560985302408,268.91557462129464]
[null,null,1.3599999999999997,null,null,null,{"$f":"IF(Analyze!G142=\"\",\"\",Analyze!G142)","v":13.599999999999996},{"$f":"IF(G142=\"\",\"\",IF(Analyze!Y142=\"\",Analyze!AB142,Analyze!AB142+Analyze!Y142/Summary!$Y$25))","v":27.505172791118262},0,68.085043706190589,275.99913071982485]
[null,null,1.3699999999999997,null,null,null,{"$f":"IF(Analyze!G143=\"\",\"\",Analyze!G143)","v":13.699999999999996},{"$f":"IF(G143=\"\",\"\",IF(Analyze!Y143=\"\",Analyze!AB143,Analyze!AB143+Analyze!Y143/Summary!$Y$25))","v":27.016283390778149},0,65.383415367112789,282.80763509044391]
[null,null,1.3799999999999994,null,null,null,{"$f":"IF(Analyze!G144=\"\",\"\",Analyze!G144)","v":13.799999999999995},{"$f":"IF(G144=\"\",\"\",IF(Analyze!Y144=\"\",Analyze!AB144,Analyze!AB144+Analyze!Y144/Summary!$Y$25))","v":26.527393990438039},0,62.730675968068994,289.34597662715515]
[null,null,1.3899999999999995,null,null,null,{"$f":"IF(Analyze!G145=\"\",\"\",Analyze!G145)","v":13.899999999999995},{"$f":"IF(G145=\"\",\"\",IF(Analyze!Y145=\"\",Analyze!AB145,Analyze!AB145+Analyze!Y145/Summary!$Y$25))","v":26.038504590097929},0,60.126825509059209,295.61904422396202]
[null,null,1.3999999999999995,null,null,null,{"$f":"IF(Analyze!G146=\"\",\"\",Analyze!G146)","v":13.999999999999995},{"$f":"IF(G146=\"\",\"\",IF(Analyze!Y146=\"\",Analyze!AB146,Analyze!AB146+Analyze!Y146/Summary!$Y$25))","v":25.549615189757816},0,57.571863990083436,301.6317267748679]
[null,null,1.4099999999999995,null,null,null,{"$f":"IF(Analyze!G147=\"\",\"\",Analyze!G147)","v":14.099999999999994},{"$f":"IF(G147=\"\",\"\",IF(Analyze!Y147=\"\",Analyze!AB147,Analyze!AB147+Analyze!Y147/Summary!$Y$25))","v":25.060725789417706},0,55.065791411141674,307.38891317387623]
[null,null,1.4199999999999995,null,null,null,{"$f":"IF(Analyze!G148=\"\",\"\",Analyze!G148)","v":14.199999999999994},{"$f":"IF(G148=\"\",\"\",IF(Analyze!Y148=\"\",Analyze!AB148,Analyze!AB148+Analyze!Y148/Summary!$Y$25))","v":24.571836389077596},0,52.608607772233924,312.89549231499041]
[null,null,1.4299999999999993,null,null,null,{"$f":"IF(Analyze!G149=\"\",\"\",Analyze!G149)","v":14.299999999999994},{"$f":"IF(G149=\"\",\"\",IF(Analyze!Y149=\"\",Analyze!AB149,Analyze!AB149+Analyze!Y149/Summary!$Y$25))","v":24.082946988737486},0,50.200313073360185,318.15635309221381]
[null,null,1.4399999999999993,null,null,null,{"$f":"IF(Analyze!G150=\"\",\"\",Analyze!G150)","v":14.399999999999993},{"$f":"IF(G150=\"\",\"\",IF(Analyze!Y150=\"\",Analyze!AB150,Analyze!AB150+Analyze!Y150/Summary!$Y$25))","v":23.594057588397373},0,47.840907314520457,323.17638439954982]
[null,null,1.4499999999999993,null,null,null,{"$f":"IF(Analyze!G151=\"\",\"\",Analyze!G151)","v":14.499999999999993},{"$f":"IF(G151=\"\",\"\",IF(Analyze!Y151=\"\",Analyze!AB151,Analyze!AB151+Analyze!Y151/Summary!$Y$25))","v":23.105168188057263},0,45.530390495714741,327.96047513100183]
[null,null,1.4599999999999993,null,null,null,{"$f":"IF(Analyze!G152=\"\",\"\",Analyze!G152)","v":14.599999999999993},{"$f":"IF(G152=\"\",\"\",IF(Analyze!Y152=\"\",Analyze!AB152,Analyze!AB152+Analyze!Y152/Summary!$Y$25))","v":22.616278787717153},0,43.268762616943036,332.51351418057328]
[null,null,1.4699999999999993,null,null,null,{"$f":"IF(Analyze!G153=\"\",\"\",Analyze!G153)","v":14.699999999999992},{"$f":"IF(G153=\"\",\"\",IF(Analyze!Y153=\"\",Analyze!AB153,Analyze!AB153+Analyze!Y153/Summary!$Y$25))","v":22.12738938737704},0,41.056023678205342,336.84039044226756]
[null,null,1.4799999999999991,null,null,null,{"$f":"IF(Analyze!G154=\"\",\"\",Analyze!G154)","v":14.799999999999992},{"$f":"IF(G154=\"\",\"\",IF(Analyze!Y154=\"\",Analyze!AB154,Analyze!AB154+Analyze!Y154/Summary!$Y$25))","v":21.638499987037036},0,38.892173679501646,340.94599281008806]
[null,null,1.4899999999999991,null,null,null,{"$f":"IF(Analyze!G155=\"\",\"\",Analyze!G155)","v":14.899999999999991},{"$f":"IF(G155=\"\",\"\",IF(Analyze!Y155=\"\",Analyze!AB155,Analyze!AB155+Analyze!Y155/Summary!$Y$25))","v":19.939675296206772},0,36.898206149880977,344.83521017803821]
[null,null,1.4999999999999991,null,null,null,{"$f":"IF(Analyze!G156=\"\",\"\",Analyze!G156)","v":14.999999999999991},{"$f":"IF(G156=\"\",\"\",IF(Analyze!Y156=\"\",Analyze!AB156,Analyze!AB156+Analyze!Y156/Summary!$Y$25))","v":18.240850605376497},0,35.074121089343336,348.5250307930263]
[null,null,1.5099999999999991,null,null,null,{"$f":"IF(Analyze!G157=\"\",\"\",Analyze!G157)","v":15.099999999999991},{"$f":"IF(G157=\"\",\"\",IF(Analyze!Y157=\"\",Analyze!AB157,Analyze!AB157+Analyze!Y157/Summary!$Y$25))","v":16.542025914546223},0,33.419918497888723,352.03244290196062]
[null,null,1.5199999999999991,null,null,null,{"$f":"IF(Analyze!G158=\"\",\"\",Analyze!G158)","v":15.19999999999999},{"$f":"IF(G158=\"\",\"\",IF(Analyze!Y158=\"\",Analyze!AB158,Analyze!AB158+Analyze!Y158/Summary!$Y$25))","v":14.843201223715955},0,31.935598375517134,355.3744347517495]
[null,null,1.5299999999999989,null,null,null,{"$f":"IF(Analyze!G159=\"\",\"\",Analyze!G159)","v":15.29999999999999},{"$f":"IF(G159=\"\",\"\",IF(Analyze!Y159=\"\",Analyze!AB159,Analyze!AB159+Analyze!Y159/Summary!$Y$25))","v":13.144376532885683},0,30.62116072222857,358.56799458930118]
[null,null,1.5399999999999989,null,null,null,{"$f":"IF(Analyze!G160=\"\",\"\",Analyze!G160)","v":15.39999999999999},{"$f":"IF(G160=\"\",\"\",IF(Analyze!Y160=\"\",Analyze!AB160,Analyze!AB160+Analyze!Y160/Summary!$Y$25))","v":11.445551842055412},0,29.476605538023033,361.63011066152404]
[null,null,1.5499999999999989,null,null,null,{"$f":"IF(Analyze!G161=\"\",\"\",Analyze!G161)","v":15.499999999999989},{"$f":"IF(G161=\"\",\"\",IF(Analyze!Y161=\"\",Analyze!AB161,Analyze!AB161+Analyze!Y161/Summary!$Y$25))","v":9.7467271512251408},0,28.501932822900521,364.57777121532632]
[null,null,1.5599999999999989,null,null,null,{"$f":"IF(Analyze!G162=\"\",\"\",Analyze!G162)","v":15.599999999999989},{"$f":"IF(G162=\"\",\"\",IF(Analyze!Y162=\"\",Analyze!AB162,Analyze!AB162+Analyze!Y162/Summary!$Y$25))","v":8.0479024603948695},0,27.697142576861037,367.42796449761636]
[null,null,1.569999999999999,null,null,null,{"$f":"IF(Analyze!G163=\"\",\"\",Analyze!G163)","v":15.699999999999989},{"$f":"IF(G163=\"\",\"\",IF(Analyze!Y163=\"\",Analyze!AB163,Analyze!AB163+Analyze!Y163/Summary!$Y$25))","v":6.3490777695646052},0,27.06223479990458,370.19767875530243]
[null,null,1.5799999999999987,null,null,null,{"$f":"IF(Analyze!G164=\"\",\"\",Analyze!G164)","v":15.799999999999988},{"$f":"IF(G164=\"\",\"\",IF(Analyze!Y164=\"\",Analyze!AB164,Analyze!AB164+Analyze!Y164/Summary!$Y$25))","v":4.6502530787343233},0,26.597209492031148,372.90390223529289]
[null,null,1.5899999999999987,null,null,null,{"$f":"IF(Analyze!G165=\"\",\"\",Analyze!G165)","v":15.899999999999988},{"$f":"IF(G165=\"\",\"\",IF(Analyze!Y165=\"\",Analyze!AB165,Analyze!AB165+Analyze!Y165/Summary!$Y$25))","v":2.951428387904059},0,26.302066653240743,375.56362318449601]
[null,null,1.5999999999999988,null,null,null,{"$f":"IF(Analyze!G166=\"\",\"\",Analyze!G166)","v":15.999999999999988},{"$f":"IF(G166=\"\",\"\",IF(Analyze!Y166=\"\",Analyze!AB166,Analyze!AB166+Analyze!Y166/Summary!$Y$25))","v":1.2526036970737842},0,26.176806283533367,378.19382984982008]
[null,null,1.6099999999999988,null,null,null,{"$f":"IF(Analyze!G167=\"\",\"\",Analyze!G167)","v":16.099999999999987},{"$f":"IF(G167=\"\",\"\",IF(Analyze!Y167=\"\",Analyze!AB167,Analyze!AB167+Analyze!Y167/Summary!$Y$25))","v":-0.44622099375648716},0,26.221428382909014,380.81151047817343]
[null,null,1.6199999999999988,null,null,null,{"$f":"IF(Analyze!G168=\"\",\"\",Analyze!G168)","v":16.199999999999989},{"$f":"IF(G168=\"\",\"\",IF(Analyze!Y168=\"\",Analyze!AB168,Analyze!AB168+Analyze!Y168/Summary!$Y$25))","v":-2.1450456845867834},0,26.435932951367697,383.43365331646436]
[null,null,1.629999999999999,null,null,null,{"$f":"IF(Analyze!G169=\"\",\"\",Analyze!G169)","v":16.29999999999999},{"$f":"IF(G169=\"\",\"\",IF(Analyze!Y169=\"\",Analyze!AB169,Analyze!AB169+Analyze!Y169/Summary!$Y$25))","v":-3.8438703754170902},0,26.820319988909411,386.07724661160114]
[null,null,1.6399999999999992,null,null,null,{"$f":"IF(Analyze!G170=\"\",\"\",Analyze!G170)","v":16.399999999999991},{"$f":"IF(G170=\"\",\"\",IF(Analyze!Y170=\"\",Analyze!AB170,Analyze!AB170+Analyze!Y170/Summary!$Y$25))","v":-5.5426950662473899},0,27.374589495534156,388.75927861049212]
[null,null,1.6499999999999992,null,null,null,{"$f":"IF(Analyze!G171=\"\",\"\",Analyze!G171)","v":16.499999999999993},{"$f":"IF(G171=\"\",\"\",IF(Analyze!Y171=\"\",Analyze!AB171,Analyze!AB171+Analyze!Y171/Summary!$Y$25))","v":-7.2415197570776968},0,28.098741471241937,391.49673756004557]
[null,null,1.6599999999999995,null,null,null,{"$f":"IF(Analyze!G172=\"\",\"\",Analyze!G172)","v":16.599999999999994},{"$f":"IF(G172=\"\",\"\",IF(Analyze!Y172=\"\",Analyze!AB172,Analyze!AB172+Analyze!Y172/Summary!$Y$25))","v":-8.9403444479080001},0,28.992775916032748,394.30661170716979]
[null,null,1.6699999999999995,null,null,null,{"$f":"IF(Analyze!G173=\"\",\"\",Analyze!G173)","v":16.699999999999996},{"$f":"IF(G173=\"\",\"\",IF(Analyze!Y173=\"\",Analyze!AB173,Analyze!AB173+Analyze!Y173/Summary!$Y$25))","v":-10.6391691387383},0,30.056692829906595,397.20588929877312]
[null,null,1.6799999999999997,null,null,null,{"$f":"IF(Analyze!G174=\"\",\"\",Analyze!G174)","v":16.799999999999997},{"$f":"IF(G174=\"\",\"\",IF(Analyze!Y174=\"\",Analyze!AB174,Analyze!AB174+Analyze!Y174/Summary!$Y$25))","v":-12.337993829568603},0,31.290492212863473,400.21155858176382]
[null,null,1.69,null,null,null,{"$f":"IF(Analyze!G175=\"\",\"\",Analyze!G175)","v":16.899999999999999},{"$f":"IF(G175=\"\",\"\",IF(Analyze!Y175=\"\",Analyze!AB175,Analyze!AB175+Analyze!Y175/Summary!$Y$25))","v":-14.036818520398914},0,32.694174064903386,403.3406078030502]
[null,null,1.7,null,null,null,{"$f":"IF(Analyze!G176=\"\",\"\",Analyze!G176)","v":17},{"$f":"IF(G176=\"\",\"\",IF(Analyze!Y176=\"\",Analyze!AB176,Analyze!AB176+Analyze!Y176/Summary!$Y$25))","v":-15.735643211229213},0,34.26773838602633,406.61002520954059]
[null,null,1.7100000000000002,null,null,null,{"$f":"IF(Analyze!G177=\"\",\"\",Analyze!G177)","v":17.100000000000001},{"$f":"IF(G177=\"\",\"\",IF(Analyze!Y177=\"\",Analyze!AB177,Analyze!AB177+Analyze!Y177/Summary!$Y$25))","v":-17.434467902059524},0,36.01118517623231,410.03679904814328]
[null,null,1.7200000000000002,null,null,null,{"$f":"IF(Analyze!G178=\"\",\"\",Analyze!G178)","v":17.200000000000003},{"$f":"IF(G178=\"\",\"\",IF(Analyze!Y178=\"\",Analyze!AB178,Analyze!AB178+Analyze!Y178/Summary!$Y$25))","v":-19.133292592889816},0,37.924514435521317,413.63791756576654]
[null,null,1.7300000000000004,null,null,null,{"$f":"IF(Analyze!G179=\"\",\"\",Analyze!G179)","v":17.300000000000004},{"$f":"IF(G179=\"\",\"\",IF(Analyze!Y179=\"\",Analyze!AB179,Analyze!AB179+Analyze!Y179/Summary!$Y$25))","v":-20.832117283720127},0,40.007726163893359,417.43036900931872]
[null,null,1.7400000000000007,null,null,null,{"$f":"IF(Analyze!G180=\"\",\"\",Analyze!G180)","v":17.400000000000006},{"$f":"IF(G180=\"\",\"\",IF(Analyze!Y180=\"\",Analyze!AB180,Analyze!AB180+Analyze!Y180/Summary!$Y$25))","v":-22.530941974550423},0,42.260820361348436,421.43114162570811]
[null,null,1.7500000000000007,null,null,null,{"$f":"IF(Analyze!G181=\"\",\"\",Analyze!G181)","v":17.500000000000007},{"$f":"IF(G181=\"\",\"\",IF(Analyze!Y181=\"\",Analyze!AB181,Analyze!AB181+Analyze!Y181/Summary!$Y$25))","v":-24.22976666538073},0,44.683797027886541,425.65722366184303]
[null,null,1.7600000000000009,null,null,null,{"$f":"IF(Analyze!G182=\"\",\"\",Analyze!G182)","v":17.600000000000009},{"$f":"IF(G182=\"\",\"\",IF(Analyze!Y182=\"\",Analyze!AB182,Analyze!AB182+Analyze!Y182/Summary!$Y$25))","v":-25.928591356211037},0,47.276656163507681,430.12560336463173]
[null,null,1.7700000000000009,null,null,null,{"$f":"IF(Analyze!G183=\"\",\"\",Analyze!G183)","v":17.70000000000001},{"$f":"IF(G183=\"\",\"\",IF(Analyze!Y183=\"\",Analyze!AB183,Analyze!AB183+Analyze!Y183/Summary!$Y$25))","v":-27.627416047041343},0,50.039397768211856,434.85326898098259]
[null,null,1.7800000000000011,null,null,null,{"$f":"IF(Analyze!G184=\"\",\"\",Analyze!G184)","v":17.800000000000011},{"$f":"IF(G184=\"\",\"\",IF(Analyze!Y184=\"\",Analyze!AB184,Analyze!AB184+Analyze!Y184/Summary!$Y$25))","v":-29.326240737871636},0,52.972021841999059,439.85720875780385]
[null,null,1.7900000000000014,null,null,null,{"$f":"IF(Analyze!G185=\"\",\"\",Analyze!G185)","v":17.900000000000013},{"$f":"IF(G185=\"\",\"\",IF(Analyze!Y185=\"\",Analyze!AB185,Analyze!AB185+Analyze!Y185/Summary!$Y$25))","v":-31.025065428701943},0,56.074528384869296,445.15441094200384]
[null,null,1.8000000000000014,null,null,null,{"$f":"IF(Analyze!G186=\"\",\"\",Analyze!G186)","v":18.000000000000014},{"$f":"IF(G186=\"\",\"\",IF(Analyze!Y186=\"\",Analyze!AB186,Analyze!AB186+Analyze!Y186/Summary!$Y$25))","v":-32.72389011953225},0,59.346917396822569,450.76186378049084]
[null,null,1.8100000000000016,null,null,null,{"$f":"IF(Analyze!G187=\"\",\"\",Analyze!G187)","v":18.100000000000016},{"$f":"IF(G187=\"\",\"\",IF(Analyze!Y187=\"\",Analyze!AB187,Analyze!AB187+Analyze!Y187/Summary!$Y$25))","v":-34.42271481036255},0,62.789188877858876,456.69655552017321]
[null,null,1.8200000000000016,null,null,null,{"$f":"IF(Analyze!G188=\"\",\"\",Analyze!G188)","v":18.200000000000017},{"$f":"IF(G188=\"\",\"\",IF(Analyze!Y188=\"\",Analyze!AB188,Analyze!AB188+Analyze!Y188/Summary!$Y$25))","v":-36.121539501192849},0,66.401342827978212,462.97547440795915]
[null,null,1.8300000000000018,null,null,null,{"$f":"IF(Analyze!G189=\"\",\"\",Analyze!G189)","v":18.300000000000018},{"$f":"IF(G189=\"\",\"\",IF(Analyze!Y189=\"\",Analyze!AB189,Analyze!AB189+Analyze!Y189/Summary!$Y$25))","v":-37.820364192023163},0,70.183379247180582,469.61560869075709]
[null,null,1.8400000000000021,null,null,null,{"$f":"IF(Analyze!G190=\"\",\"\",Analyze!G190)","v":18.40000000000002},{"$f":"IF(G190=\"\",\"\",IF(Analyze!Y190=\"\",Analyze!AB190,Analyze!AB190+Analyze!Y190/Summary!$Y$25))","v":-39.519188882853456},0,74.135298135465987,476.63394661547522]
[null,null,1.85,null,null,null,{"$f":"IF(Analyze!G191=\"\",\"\",Analyze!G191)","v":18.5},{"$f":"IF(G191=\"\",\"\",IF(Analyze!Y191=\"\",Analyze!AB191,Analyze!AB191+Analyze!Y191/Summary!$Y$25))","v":-41.2180135736834},0,78.257099492833504,484.04747642902032]
[null,null,"",null,null,null,{"$f":"IF(Analyze!G192=\"\",\"\",Analyze!G192)","v":""},{"$f":"IF(G192=\"\",\"\",IF(Analyze!Y192=\"\",Analyze!AB192,Analyze!AB192+Analyze!Y192/Summary!$Y$25))","v":""},0,"",""]
[null,null,"",null,null,null,{"$f":"IF(Analyze!G193=\"\",\"\",Analyze!G193)","v":""},{"$f":"IF(G193=\"\",\"\",IF(Analyze!Y193=\"\",Analyze!AB193,Analyze!AB193+Analyze!Y193/Summary!$Y$25))","v":""},0,"",""]
[null,null,"",null,null,null,{"$f":"IF(Analyze!G194=\"\",\"\",Analyze!G194)","v":""},{"$f":"IF(G194=\"\",\"\",IF(Analyze!Y194=\"\",Analyze!AB194,Analyze!AB194+Analyze!Y194/Summary!$Y$25))","v":""},0,"",""]
[null,null,"",null,null,null,{"$f":"IF(Analyze!G195=\"\",\"\",Analyze!G195)","v":""},{"$f":"IF(G195=\"\",\"\",IF(Analyze!Y195=\"\",Analyze!AB195,Analyze!AB195+Analyze!Y195/Summary!$Y$25))","v":""},0,"",""]
[null,null,"",null,null,null,{"$f":"IF(Analyze!G196=\"\",\"\",Analyze!G196)","v":""},{"$f":"IF(G196=\"\",\"\",IF(Analyze!Y196=\"\",Analyze!AB196,Analyze!AB196+Analyze!Y196/Summary!$Y$25))","v":""},0,"",""]
[null,null,"",null,null,null,{"$f":"IF(Analyze!G197=\"\",\"\",Analyze!G197)","v":""},{"$f":"IF(G197=\"\",\"\",IF(Analyze!Y197=\"\",Analyze!AB197,Analyze!AB197+Analyze!Y197/Summary!$Y$25))","v":""},null,"",""]
[null,null,"",null,null,null,{"$f":"IF(Analyze!G198=\"\",\"\",Analyze!G198)","v":""},{"$f":"IF(G198=\"\",\"\",IF(Analyze!Y198=\"\",Analyze!AB198,Analyze!AB198+Analyze!Y198/Summary!$Y$25))","v":""},null,"",""]
[null,null,{"$f":"IF(G199=\"\",\"\",G199/10)","v":""},null,null,null,{"$f":"IF(Analyze!G199=\"\",\"\",Analyze!G199)","v":""},{"$f":"IF(G199=\"\",\"\",IF(Analyze!Y199=\"\",Analyze!AB199,Analyze!AB199+Analyze!Y199/Summary!$Y$25))","v":""},null,"",""]
[null,null,"",null,null,null,{"$f":"IF(Analyze!G200=\"\",\"\",Analyze!G200)","v":""},{"$f":"IF(G200=\"\",\"\",IF(Analyze!Y200=\"\",Analyze!AB200,Analyze!AB200+Analyze!Y200/Summary!$Y$25))","v":""},null,{"$f":"IF(G200=\"\",\"\",(J199+I200-H200*(G200-G199)))","v":""},{"$f":"IF(G200=\"\",\"\",K199+J199*(G200-G199))","v":""}]
[null,null,"",null,null,null,{"$f":"IF(Analyze!G201=\"\",\"\",Analyze!G201)","v":""},{"$f":"IF(G201=\"\",\"\",IF(Analyze!Y201=\"\",Analyze!AB201,Analyze!AB201+Analyze!Y201/Summary!$Y$25))","v":""},null,"",""]
[null,null,"",null,null,null,{"$f":"IF(Analyze!G202=\"\",\"\",Analyze!G202)","v":""},{"$f":"IF(G202=\"\",\"\",IF(Analyze!Y202=\"\",Analyze!AB202,Analyze!AB202+Analyze!Y202/Summary!$Y$25))","v":""},null,"",""]
[null,null,"",null,null,null,{"$f":"IF(Analyze!G203=\"\",\"\",Analyze!G203)","v":""},{"$f":"IF(G203=\"\",\"\",IF(Analyze!Y203=\"\",Analyze!AB203,Analyze!AB203+Analyze!Y203/Summary!$Y$25))","v":""},null,"",""]
[null,null,"",null,null,null,{"$f":"IF(Analyze!G204=\"\",\"\",Analyze!G204)","v":""},{"$f":"IF(G204=\"\",\"\",IF(Analyze!Y204=\"\",Analyze!AB204,Analyze!AB204+Analyze!Y204/Summary!$Y$25))","v":""},null,"",""]
[null,null,"",null,null,null,{"$f":"IF(Analyze!G205=\"\",\"\",Analyze!G205)","v":""},{"$f":"IF(G205=\"\",\"\",IF(Analyze!Y205=\"\",Analyze!AB205,Analyze!AB205+Analyze!Y205/Summary!$Y$25))","v":""},null,"",""]
[null,null,"",null,null,null,{"$f":"IF(Analyze!G206=\"\",\"\",Analyze!G206)","v":""},{"$f":"IF(G206=\"\",\"\",IF(Analyze!Y206=\"\",Analyze!AB206,Analyze!AB206+Analyze!Y206/Summary!$Y$25))","v":""},null,"",""]
[null,null,"",null,null,null,{"$f":"IF(Analyze!G207=\"\",\"\",Analyze!G207)","v":""},{"$f":"IF(G207=\"\",\"\",IF(Analyze!Y207=\"\",Analyze!AB207,Analyze!AB207+Analyze!Y207/Summary!$Y$25))","v":""},null,"",""]
[null,null,"",null,null,null,{"$f":"IF(Analyze!G208=\"\",\"\",Analyze!G208)","v":""},{"$f":"IF(G208=\"\",\"\",IF(Analyze!Y208=\"\",Analyze!AB208,Analyze!AB208+Analyze!Y208/Summary!$Y$25))","v":""},null,"",""]
[null,null,"",null,null,null,{"$f":"IF(Analyze!G209=\"\",\"\",Analyze!G209)","v":""},{"$f":"IF(G209=\"\",\"\",IF(Analyze!Y209=\"\",Analyze!AB209,Analyze!AB209+Analyze!Y209/Summary!$Y$25))","v":""},null,"",""]
[null,null,"",null,null,null,{"$f":"IF(Analyze!G210=\"\",\"\",Analyze!G210)","v":""},{"$f":"IF(G210=\"\",\"\",IF(Analyze!Y210=\"\",Analyze!AB210,Analyze!AB210+Analyze!Y210/Summary!$Y$25))","v":""},null,"",""]
[null,null,"",null,null,null,{"$f":"IF(Analyze!G211=\"\",\"\",Analyze!G211)","v":""},{"$f":"IF(G211=\"\",\"\",IF(Analyze!Y211=\"\",Analyze!AB211,Analyze!AB211+Analyze!Y211/Summary!$Y$25))","v":""},null,"",""]
[null,null,"",null,null,null,{"$f":"IF(Analyze!G212=\"\",\"\",Analyze!G212)","v":""},{"$f":"IF(G212=\"\",\"\",IF(Analyze!Y212=\"\",Analyze!AB212,Analyze!AB212+Analyze!Y212/Summary!$Y$25))","v":""},null,"",""]
[null,null,"",null,null,null,{"$f":"IF(Analyze!G213=\"\",\"\",Analyze!G213)","v":""},{"$f":"IF(G213=\"\",\"\",IF(Analyze!Y213=\"\",Analyze!AB213,Analyze!AB213+Analyze!Y213/Summary!$Y$25))","v":""},null,"",""]
[null,null,"",null,null,null,{"$f":"IF(Analyze!G214=\"\",\"\",Analyze!G214)","v":""},{"$f":"IF(G214=\"\",\"\",IF(Analyze!Y214=\"\",Analyze!AB214,Analyze!AB214+Analyze!Y214/Summary!$Y$25))","v":""},null,"",""]
[null,null,"",null,null,null,{"$f":"IF(Analyze!G215=\"\",\"\",Analyze!G215)","v":""},{"$f":"IF(G215=\"\",\"\",IF(Analyze!Y215=\"\",Analyze!AB215,Analyze!AB215+Analyze!Y215/Summary!$Y$25))","v":""},null,"",""]
[null,null,"",null,null,null,{"$f":"IF(Analyze!G216=\"\",\"\",Analyze!G216)","v":""},{"$f":"IF(G216=\"\",\"\",IF(Analyze!Y216=\"\",Analyze!AB216,Analyze!AB216+Analyze!Y216/Summary!$Y$25))","v":""},null,"",""]
[null,null,"",null,null,null,{"$f":"IF(Analyze!G217=\"\",\"\",Analyze!G217)","v":""},{"$f":"IF(G217=\"\",\"\",IF(Analyze!Y217=\"\",Analyze!AB217,Analyze!AB217+Analyze!Y217/Summary!$Y$25))","v":""},null,"",""]
[null,null,"",null,null,null,{"$f":"IF(Analyze!G218=\"\",\"\",Analyze!G218)","v":""},{"$f":"IF(G218=\"\",\"\",IF(Analyze!Y218=\"\",Analyze!AB218,Analyze!AB218+Analyze!Y218/Summary!$Y$25))","v":""},null,"",""]
[null,null,"",null,null,null,{"$f":"IF(Analyze!G219=\"\",\"\",Analyze!G219)","v":""},{"$f":"IF(G219=\"\",\"\",IF(Analyze!Y219=\"\",Analyze!AB219,Analyze!AB219+Analyze!Y219/Summary!$Y$25))","v":""},null,"",""]
[null,null,"",null,null,null,{"$f":"IF(Analyze!G220=\"\",\"\",Analyze!G220)","v":""},{"$f":"IF(G220=\"\",\"\",IF(Analyze!Y220=\"\",Analyze!AB220,Analyze!AB220+Analyze!Y220/Summary!$Y$25))","v":""},null,"",""]
[null,null,"",null,null,null,{"$f":"IF(Analyze!G221=\"\",\"\",Analyze!G221)","v":""},{"$f":"IF(G221=\"\",\"\",IF(Analyze!Y221=\"\",Analyze!AB221,Analyze!AB221+Analyze!Y221/Summary!$Y$25))","v":""},null,"",""]
[null,null,"",null,null,null,{"$f":"IF(Analyze!G222=\"\",\"\",Analyze!G222)","v":""},{"$f":"IF(G222=\"\",\"\",IF(Analyze!Y222=\"\",Analyze!AB222,Analyze!AB222+Analyze!Y222/Summary!$Y$25))","v":""},null,"",""]
[null,null,"",null,null,null,{"$f":"IF(Analyze!G223=\"\",\"\",Analyze!G223)","v":""},{"$f":"IF(G223=\"\",\"\",IF(Analyze!Y223=\"\",Analyze!AB223,Analyze!AB223+Analyze!Y223/Summary!$Y$25))","v":""},null,"",""]
[null,null,"",null,null,null,{"$f":"IF(Analyze!G224=\"\",\"\",Analyze!G224)","v":""},{"$f":"IF(G224=\"\",\"\",IF(Analyze!Y224=\"\",Analyze!AB224,Analyze!AB224+Analyze!Y224/Summary!$Y$25))","v":""},null,"",""]
[null,null,"",null,null,null,{"$f":"IF(Analyze!G225=\"\",\"\",Analyze!G225)","v":""},{"$f":"IF(G225=\"\",\"\",IF(Analyze!Y225=\"\",Analyze!AB225,Analyze!AB225+Analyze!Y225/Summary!$Y$25))","v":""},null,"",""]
[null,null,"",null,null,null,{"$f":"IF(Analyze!G226=\"\",\"\",Analyze!G226)","v":""},{"$f":"IF(G226=\"\",\"\",IF(Analyze!Y226=\"\",Analyze!AB226,Analyze!AB226+Analyze!Y226/Summary!$Y$25))","v":""},null,"",""]
[null,null,"",null,null,null,{"$f":"IF(Analyze!G227=\"\",\"\",Analyze!G227)","v":""},{"$f":"IF(G227=\"\",\"\",IF(Analyze!Y227=\"\",Analyze!AB227,Analyze!AB227+Analyze!Y227/Summary!$Y$25))","v":""},null,"",""]
[null,null,"",null,null,null,{"$f":"IF(Analyze!G228=\"\",\"\",Analyze!G228)","v":""},{"$f":"IF(G228=\"\",\"\",IF(Analyze!Y228=\"\",Analyze!AB228,Analyze!AB228+Analyze!Y228/Summary!$Y$25))","v":""},null,"",""]
[null,null,"",null,null,null,{"$f":"IF(Analyze!G229=\"\",\"\",Analyze!G229)","v":""},{"$f":"IF(G229=\"\",\"\",IF(Analyze!Y229=\"\",Analyze!AB229,Analyze!AB229+Analyze!Y229/Summary!$Y$25))","v":""},null,"",""]
[null,null,"",null,null,null,{"$f":"IF(Analyze!G230=\"\",\"\",Analyze!G230)","v":""},{"$f":"IF(G230=\"\",\"\",IF(Analyze!Y230=\"\",Analyze!AB230,Analyze!AB230+Analyze!Y230/Summary!$Y$25))","v":""},null,"",""]
[null,null,"",null,null,null,{"$f":"IF(Analyze!G231=\"\",\"\",Analyze!G231)","v":""},{"$f":"IF(G231=\"\",\"\",IF(Analyze!Y231=\"\",Analyze!AB231,Analyze!AB231+Analyze!Y231/Summary!$Y$25))","v":""},null,"",""]
[null,null,"",null,null,null,{"$f":"IF(Analyze!G232=\"\",\"\",Analyze!G232)","v":""},{"$f":"IF(G232=\"\",\"\",IF(Analyze!Y232=\"\",Analyze!AB232,Analyze!AB232+Analyze!Y232/Summary!$Y$25))","v":""},null,"",""]
[null,null,"",null,null,null,{"$f":"IF(Analyze!G233=\"\",\"\",Analyze!G233)","v":""},{"$f":"IF(G233=\"\",\"\",IF(Analyze!Y233=\"\",Analyze!AB233,Analyze!AB233+Analyze!Y233/Summary!$Y$25))","v":""},null,"",""]
[null,null,"",null,null,null,{"$f":"IF(Analyze!G234=\"\",\"\",Analyze!G234)","v":""},{"$f":"IF(G234=\"\",\"\",IF(Analyze!Y234=\"\",Analyze!AB234,Analyze!AB234+Analyze!Y234/Summary!$Y$25))","v":""},null,"",""]
[null,null,"",null,null,null,{"$f":"IF(Analyze!G235=\"\",\"\",Analyze!G235)","v":""},{"$f":"IF(G235=\"\",\"\",IF(Analyze!Y235=\"\",Analyze!AB235,Analyze!AB235+Analyze!Y235/Summary!$Y$25))","v":""},null,"",""]
[null,null,"",null,null,null,{"$f":"IF(Analyze!G236=\"\",\"\",Analyze!G236)","v":""},{"$f":"IF(G236=\"\",\"\",IF(Analyze!Y236=\"\",Analyze!AB236,Analyze!AB236+Analyze!Y236/Summary!$Y$25))","v":""},null,"",""]
[null,null,"",null,null,null,{"$f":"IF(Analyze!G237=\"\",\"\",Analyze!G237)","v":""},{"$f":"IF(G237=\"\",\"\",IF(Analyze!Y237=\"\",Analyze!AB237,Analyze!AB237+Analyze!Y237/Summary!$Y$25))","v":""},null,"",""]
[null,null,"",null,null,null,{"$f":"IF(Analyze!G238=\"\",\"\",Analyze!G238)","v":""},{"$f":"IF(G238=\"\",\"\",IF(Analyze!Y238=\"\",Analyze!AB238,Analyze!AB238+Analyze!Y238/Summary!$Y$25))","v":""},null,"",""]
[null,null,"",null,null,null,{"$f":"IF(Analyze!G239=\"\",\"\",Analyze!G239)","v":""},{"$f":"IF(G239=\"\",\"\",IF(Analyze!Y239=\"\",Analyze!AB239,Analyze!AB239+Analyze!Y239/Summary!$Y$25))","v":""},null,"",""]
[null,null,"",null,null,null,{"$f":"IF(Analyze!G240=\"\",\"\",Analyze!G240)","v":""},{"$f":"IF(G240=\"\",\"\",IF(Analyze!Y240=\"\",Analyze!AB240,Analyze!AB240+Analyze!Y240/Summary!$Y$25))","v":""},null,"",""]
[null,null,"",null,null,null,{"$f":"IF(Analyze!G241=\"\",\"\",Analyze!G241)","v":""},{"$f":"IF(G241=\"\",\"\",IF(Analyze!Y241=\"\",Analyze!AB241,Analyze!AB241+Analyze!Y241/Summary!$Y$25))","v":""},null,"",""]
[null,null,"",null,null,null,{"$f":"IF(Analyze!G242=\"\",\"\",Analyze!G242)","v":""},{"$f":"IF(G242=\"\",\"\",IF(Analyze!Y242=\"\",Analyze!AB242,Analyze!AB242+Analyze!Y242/Summary!$Y$25))","v":""},null,"",""]
[null,null,"",null,null,null,{"$f":"IF(Analyze!G243=\"\",\"\",Analyze!G243)","v":""},{"$f":"IF(G243=\"\",\"\",IF(Analyze!Y243=\"\",Analyze!AB243,Analyze!AB243+Analyze!Y243/Summary!$Y$25))","v":""},null,"",""]
[null,null,"",null,null,null,{"$f":"IF(Analyze!G244=\"\",\"\",Analyze!G244)","v":""},{"$f":"IF(G244=\"\",\"\",IF(Analyze!Y244=\"\",Analyze!AB244,Analyze!AB244+Analyze!Y244/Summary!$Y$25))","v":""},null,"",""]
[null,null,"",null,null,null,{"$f":"IF(Analyze!G245=\"\",\"\",Analyze!G245)","v":""},{"$f":"IF(G245=\"\",\"\",IF(Analyze!Y245=\"\",Analyze!AB245,Analyze!AB245+Analyze!Y245/Summary!$Y$25))","v":""},null,"",""]
[null,null,"",null,null,null,{"$f":"IF(Analyze!G246=\"\",\"\",Analyze!G246)","v":""},{"$f":"IF(G246=\"\",\"\",IF(Analyze!Y246=\"\",Analyze!AB246,Analyze!AB246+Analyze!Y246/Summary!$Y$25))","v":""},null,"",""]
[null,null,"",null,null,null,{"$f":"IF(Analyze!G247=\"\",\"\",Analyze!G247)","v":""},{"$f":"IF(G247=\"\",\"\",IF(Analyze!Y247=\"\",Analyze!AB247,Analyze!AB247+Analyze!Y247/Summary!$Y$25))","v":""},null,"",""]
[null,null,"",null,null,null,{"$f":"IF(Analyze!G248=\"\",\"\",Analyze!G248)","v":""},{"$f":"IF(G248=\"\",\"\",IF(Analyze!Y248=\"\",Analyze!AB248,Analyze!AB248+Analyze!Y248/Summary!$Y$25))","v":""},null,"",""]
[null,null,"",null,null,null,{"$f":"IF(Analyze!G249=\"\",\"\",Analyze!G249)","v":""},{"$f":"IF(G249=\"\",\"\",IF(Analyze!Y249=\"\",Analyze!AB249,Analyze!AB249+Analyze!Y249/Summary!$Y$25))","v":""},null,"",""]
[null,null,"",null,null,null,{"$f":"IF(Analyze!G250=\"\",\"\",Analyze!G250)","v":""},{"$f":"IF(G250=\"\",\"\",IF(Analyze!Y250=\"\",Analyze!AB250,Analyze!AB250+Analyze!Y250/Summary!$Y$25))","v":""},null,"",""]
[null,null,"",null,null,null,{"$f":"IF(Analyze!G251=\"\",\"\",Analyze!G251)","v":""},{"$f":"IF(G251=\"\",\"\",IF(Analyze!Y251=\"\",Analyze!AB251,Analyze!AB251+Analyze!Y251/Summary!$Y$25))","v":""},null,"",""]
[null,null,"",null,null,null,{"$f":"IF(Analyze!G252=\"\",\"\",Analyze!G252)","v":""},{"$f":"IF(G252=\"\",\"\",IF(Analyze!Y252=\"\",Analyze!AB252,Analyze!AB252+Analyze!Y252/Summary!$Y$25))","v":""},null,"",""]
[null,null,"",null,null,null,{"$f":"IF(Analyze!G253=\"\",\"\",Analyze!G253)","v":""},{"$f":"IF(G253=\"\",\"\",IF(Analyze!Y253=\"\",Analyze!AB253,Analyze!AB253+Analyze!Y253/Summary!$Y$25))","v":""},null,"",""]
[null,null,"",null,null,null,{"$f":"IF(Analyze!G254=\"\",\"\",Analyze!G254)","v":""},{"$f":"IF(G254=\"\",\"\",IF(Analyze!Y254=\"\",Analyze!AB254,Analyze!AB254+Analyze!Y254/Summary!$Y$25))","v":""},null,"",""]
[null,null,"",null,null,null,{"$f":"IF(Analyze!G255=\"\",\"\",Analyze!G255)","v":""},{"$f":"IF(G255=\"\",\"\",IF(Analyze!Y255=\"\",Analyze!AB255,Analyze!AB255+Analyze!Y255/Summary!$Y$25))","v":""},null,"",""]
[null,null,"",null,null,null,{"$f":"IF(Analyze!G256=\"\",\"\",Analyze!G256)","v":""},{"$f":"IF(G256=\"\",\"\",IF(Analyze!Y256=\"\",Analyze!AB256,Analyze!AB256+Analyze!Y256/Summary!$Y$25))","v":""},null,"",""]
[null,null,"",null,null,null,{"$f":"IF(Analyze!G257=\"\",\"\",Analyze!G257)","v":""},{"$f":"IF(G257=\"\",\"\",IF(Analyze!Y257=\"\",Analyze!AB257,Analyze!AB257+Analyze!Y257/Summary!$Y$25))","v":""},null,"",""]
[null,null,"",null,null,null,{"$f":"IF(Analyze!G258=\"\",\"\",Analyze!G258)","v":""},{"$f":"IF(G258=\"\",\"\",IF(Analyze!Y258=\"\",Analyze!AB258,Analyze!AB258+Analyze!Y258/Summary!$Y$25))","v":""},null,"",""]
[null,null,"",null,null,null,{"$f":"IF(Analyze!G259=\"\",\"\",Analyze!G259)","v":""},{"$f":"IF(G259=\"\",\"\",IF(Analyze!Y259=\"\",Analyze!AB259,Analyze!AB259+Analyze!Y259/Summary!$Y$25))","v":""},null,"",""]
[null,null,"",null,null,null,{"$f":"IF(Analyze!G260=\"\",\"\",Analyze!G260)","v":""},{"$f":"IF(G260=\"\",\"\",IF(Analyze!Y260=\"\",Analyze!AB260,Analyze!AB260+Analyze!Y260/Summary!$Y$25))","v":""},null,"",""]
[null,null,"",null,null,null,{"$f":"IF(Analyze!G261=\"\",\"\",Analyze!G261)","v":""},{"$f":"IF(G261=\"\",\"\",IF(Analyze!Y261=\"\",Analyze!AB261,Analyze!AB261+Analyze!Y261/Summary!$Y$25))","v":""},null,"",""]
[null,null,"",null,null,null,{"$f":"IF(Analyze!G262=\"\",\"\",Analyze!G262)","v":""},{"$f":"IF(G262=\"\",\"\",IF(Analyze!Y262=\"\",Analyze!AB262,Analyze!AB262+Analyze!Y262/Summary!$Y$25))","v":""},null,"",""]
[null,null,{"$f":"IF(G263=\"\",\"\",G263/10)","v":""},null,null,null,{"$f":"IF(Analyze!G263=\"\",\"\",Analyze!G263)","v":""},{"$f":"IF(G263=\"\",\"\",IF(Analyze!Y263=\"\",Analyze!AB263,Analyze!AB263+Analyze!Y263/Summary!$Y$25))","v":""},null,"",""]
[null,null,"",null,null,null,{"$f":"IF(Analyze!G264=\"\",\"\",Analyze!G264)","v":""},{"$f":"IF(G264=\"\",\"\",IF(Analyze!Y264=\"\",Analyze!AB264,Analyze!AB264+Analyze!Y264/Summary!$Y$25))","v":""},null,{"$f":"IF(G264=\"\",\"\",(J263+I264-H264*(G264-G263)))","v":""},{"$f":"IF(G264=\"\",\"\",K263+J263*(G264-G263))","v":""}]
[null,null,"",null,null,null,{"$f":"IF(Analyze!G265=\"\",\"\",Analyze!G265)","v":""},{"$f":"IF(G265=\"\",\"\",IF(Analyze!Y265=\"\",Analyze!AB265,Analyze!AB265+Analyze!Y265/Summary!$Y$25))","v":""},null,"",""]
[null,null,"",null,null,null,{"$f":"IF(Analyze!G266=\"\",\"\",Analyze!G266)","v":""},{"$f":"IF(G266=\"\",\"\",IF(Analyze!Y266=\"\",Analyze!AB266,Analyze!AB266+Analyze!Y266/Summary!$Y$25))","v":""},null,"",""]
[null,null,"",null,null,null,{"$f":"IF(Analyze!G267=\"\",\"\",Analyze!G267)","v":""},{"$f":"IF(G267=\"\",\"\",IF(Analyze!Y267=\"\",Analyze!AB267,Analyze!AB267+Analyze!Y267/Summary!$Y$25))","v":""},null,"",""]
[null,null,"",null,null,null,{"$f":"IF(Analyze!G268=\"\",\"\",Analyze!G268)","v":""},{"$f":"IF(G268=\"\",\"\",IF(Analyze!Y268=\"\",Analyze!AB268,Analyze!AB268+Analyze!Y268/Summary!$Y$25))","v":""},null,"",""]
[null,null,"",null,null,null,{"$f":"IF(Analyze!G269=\"\",\"\",Analyze!G269)","v":""},{"$f":"IF(G269=\"\",\"\",IF(Analyze!Y269=\"\",Analyze!AB269,Analyze!AB269+Analyze!Y269/Summary!$Y$25))","v":""},null,"",""]
[null,null,"",null,null,null,{"$f":"IF(Analyze!G270=\"\",\"\",Analyze!G270)","v":""},{"$f":"IF(G270=\"\",\"\",IF(Analyze!Y270=\"\",Analyze!AB270,Analyze!AB270+Analyze!Y270/Summary!$Y$25))","v":""},null,"",""]
[null,null,"",null,null,null,{"$f":"IF(Analyze!G271=\"\",\"\",Analyze!G271)","v":""},{"$f":"IF(G271=\"\",\"\",IF(Analyze!Y271=\"\",Analyze!AB271,Analyze!AB271+Analyze!Y271/Summary!$Y$25))","v":""},null,"",""]
[null,null,"",null,null,null,{"$f":"IF(Analyze!G272=\"\",\"\",Analyze!G272)","v":""},{"$f":"IF(G272=\"\",\"\",IF(Analyze!Y272=\"\",Analyze!AB272,Analyze!AB272+Analyze!Y272/Summary!$Y$25))","v":""},null,"",""]
[null,null,"",null,null,null,{"$f":"IF(Analyze!G273=\"\",\"\",Analyze!G273)","v":""},{"$f":"IF(G273=\"\",\"\",IF(Analyze!Y273=\"\",Analyze!AB273,Analyze!AB273+Analyze!Y273/Summary!$Y$25))","v":""},null,"",""]
[null,null,"",null,null,null,{"$f":"IF(Analyze!G274=\"\",\"\",Analyze!G274)","v":""},{"$f":"IF(G274=\"\",\"\",IF(Analyze!Y274=\"\",Analyze!AB274,Analyze!AB274+Analyze!Y274/Summary!$Y$25))","v":""},null,"",""]
[null,null,"",null,null,null,{"$f":"IF(Analyze!G275=\"\",\"\",Analyze!G275)","v":""},{"$f":"IF(G275=\"\",\"\",IF(Analyze!Y275=\"\",Analyze!AB275,Analyze!AB275+Analyze!Y275/Summary!$Y$25))","v":""},null,"",""]
[null,null,"",null,null,null,{"$f":"IF(Analyze!G276=\"\",\"\",Analyze!G276)","v":""},{"$f":"IF(G276=\"\",\"\",IF(Analyze!Y276=\"\",Analyze!AB276,Analyze!AB276+Analyze!Y276/Summary!$Y$25))","v":""},null,"",""]
[null,null,"",null,null,null,{"$f":"IF(Analyze!G277=\"\",\"\",Analyze!G277)","v":""},{"$f":"IF(G277=\"\",\"\",IF(Analyze!Y277=\"\",Analyze!AB277,Analyze!AB277+Analyze!Y277/Summary!$Y$25))","v":""},null,"",""]
[null,null,"",null,null,null,{"$f":"IF(Analyze!G278=\"\",\"\",Analyze!G278)","v":""},{"$f":"IF(G278=\"\",\"\",IF(Analyze!Y278=\"\",Analyze!AB278,Analyze!AB278+Analyze!Y278/Summary!$Y$25))","v":""},null,"",""]
[null,null,"",null,null,null,{"$f":"IF(Analyze!G279=\"\",\"\",Analyze!G279)","v":""},{"$f":"IF(G279=\"\",\"\",IF(Analyze!Y279=\"\",Analyze!AB279,Analyze!AB279+Analyze!Y279/Summary!$Y$25))","v":""},null,"",""]
[null,null,"",null,null,null,{"$f":"IF(Analyze!G280=\"\",\"\",Analyze!G280)","v":""},{"$f":"IF(G280=\"\",\"\",IF(Analyze!Y280=\"\",Analyze!AB280,Analyze!AB280+Analyze!Y280/Summary!$Y$25))","v":""},null,"",""]
[null,null,"",null,null,null,{"$f":"IF(Analyze!G281=\"\",\"\",Analyze!G281)","v":""},{"$f":"IF(G281=\"\",\"\",IF(Analyze!Y281=\"\",Analyze!AB281,Analyze!AB281+Analyze!Y281/Summary!$Y$25))","v":""},null,"",""]
[null,null,"",null,null,null,{"$f":"IF(Analyze!G282=\"\",\"\",Analyze!G282)","v":""},{"$f":"IF(G282=\"\",\"\",IF(Analyze!Y282=\"\",Analyze!AB282,Analyze!AB282+Analyze!Y282/Summary!$Y$25))","v":""},null,"",""]
[null,null,"",null,null,null,{"$f":"IF(Analyze!G283=\"\",\"\",Analyze!G283)","v":""},{"$f":"IF(G283=\"\",\"\",IF(Analyze!Y283=\"\",Analyze!AB283,Analyze!AB283+Analyze!Y283/Summary!$Y$25))","v":""},null,"",""]
[null,null,"",null,null,null,{"$f":"IF(Analyze!G284=\"\",\"\",Analyze!G284)","v":""},{"$f":"IF(G284=\"\",\"\",IF(Analyze!Y284=\"\",Analyze!AB284,Analyze!AB284+Analyze!Y284/Summary!$Y$25))","v":""},null,"",""]
[null,null,"",null,null,null,{"$f":"IF(Analyze!G285=\"\",\"\",Analyze!G285)","v":""},{"$f":"IF(G285=\"\",\"\",IF(Analyze!Y285=\"\",Analyze!AB285,Analyze!AB285+Analyze!Y285/Summary!$Y$25))","v":""},null,"",""]
[null,null,"",null,null,null,{"$f":"IF(Analyze!G286=\"\",\"\",Analyze!G286)","v":""},{"$f":"IF(G286=\"\",\"\",IF(Analyze!Y286=\"\",Analyze!AB286,Analyze!AB286+Analyze!Y286/Summary!$Y$25))","v":""},null,"",""]
[null,null,"",null,null,null,{"$f":"IF(Analyze!G287=\"\",\"\",Analyze!G287)","v":""},{"$f":"IF(G287=\"\",\"\",IF(Analyze!Y287=\"\",Analyze!AB287,Analyze!AB287+Analyze!Y287/Summary!$Y$25))","v":""},null,"",""]
[null,null,"",null,null,null,{"$f":"IF(Analyze!G288=\"\",\"\",Analyze!G288)","v":""},{"$f":"IF(G288=\"\",\"\",IF(Analyze!Y288=\"\",Analyze!AB288,Analyze!AB288+Analyze!Y288/Summary!$Y$25))","v":""},null,"",""]
[null,null,"",null,null,null,{"$f":"IF(Analyze!G289=\"\",\"\",Analyze!G289)","v":""},{"$f":"IF(G289=\"\",\"\",IF(Analyze!Y289=\"\",Analyze!AB289,Analyze!AB289+Analyze!Y289/Summary!$Y$25))","v":""},null,"",""]
[null,null,"",null,null,null,{"$f":"IF(Analyze!G290=\"\",\"\",Analyze!G290)","v":""},{"$f":"IF(G290=\"\",\"\",IF(Analyze!Y290=\"\",Analyze!AB290,Analyze!AB290+Analyze!Y290/Summary!$Y$25))","v":""},null,"",""]
[null,null,"",null,null,null,{"$f":"IF(Analyze!G291=\"\",\"\",Analyze!G291)","v":""},{"$f":"IF(G291=\"\",\"\",IF(Analyze!Y291=\"\",Analyze!AB291,Analyze!AB291+Analyze!Y291/Summary!$Y$25))","v":""},null,"",""]
[null,null,"",null,null,null,{"$f":"IF(Analyze!G292=\"\",\"\",Analyze!G292)","v":""},{"$f":"IF(G292=\"\",\"\",IF(Analyze!Y292=\"\",Analyze!AB292,Analyze!AB292+Analyze!Y292/Summary!$Y$25))","v":""},null,"",""]
[null,null,"",null,null,null,{"$f":"IF(Analyze!G293=\"\",\"\",Analyze!G293)","v":""},{"$f":"IF(G293=\"\",\"\",IF(Analyze!Y293=\"\",Analyze!AB293,Analyze!AB293+Analyze!Y293/Summary!$Y$25))","v":""},null,"",""]
[null,null,"",null,null,null,{"$f":"IF(Analyze!G294=\"\",\"\",Analyze!G294)","v":""},{"$f":"IF(G294=\"\",\"\",IF(Analyze!Y294=\"\",Analyze!AB294,Analyze!AB294+Analyze!Y294/Summary!$Y$25))","v":""},null,"",""]
[null,null,"",null,null,null,{"$f":"IF(Analyze!G295=\"\",\"\",Analyze!G295)","v":""},{"$f":"IF(G295=\"\",\"\",IF(Analyze!Y295=\"\",Analyze!AB295,Analyze!AB295+Analyze!Y295/Summary!$Y$25))","v":""},null,"",""]
[null,null,"",null,null,null,{"$f":"IF(Analyze!G296=\"\",\"\",Analyze!G296)","v":""},{"$f":"IF(G296=\"\",\"\",IF(Analyze!Y296=\"\",Analyze!AB296,Analyze!AB296+Analyze!Y296/Summary!$Y$25))","v":""},null,"",""]
[null,null,"",null,null,null,{"$f":"IF(Analyze!G297=\"\",\"\",Analyze!G297)","v":""},{"$f":"IF(G297=\"\",\"\",IF(Analyze!Y297=\"\",Analyze!AB297,Analyze!AB297+Analyze!Y297/Summary!$Y$25))","v":""},null,"",""]
[null,null,"",null,null,null,{"$f":"IF(Analyze!G298=\"\",\"\",Analyze!G298)","v":""},{"$f":"IF(G298=\"\",\"\",IF(Analyze!Y298=\"\",Analyze!AB298,Analyze!AB298+Analyze!Y298/Summary!$Y$25))","v":""},null,"",""]
[null,null,"",null,null,null,{"$f":"IF(Analyze!G299=\"\",\"\",Analyze!G299)","v":""},{"$f":"IF(G299=\"\",\"\",IF(Analyze!Y299=\"\",Analyze!AB299,Analyze!AB299+Analyze!Y299/Summary!$Y$25))","v":""},null,"",""]
[null,null,"",null,null,null,{"$f":"IF(Analyze!G300=\"\",\"\",Analyze!G300)","v":""},{"$f":"IF(G300=\"\",\"\",IF(Analyze!Y300=\"\",Analyze!AB300,Analyze!AB300+Analyze!Y300/Summary!$Y$25))","v":""},null,"",""]
[null,null,"",null,null,null,{"$f":"IF(Analyze!G301=\"\",\"\",Analyze!G301)","v":""},{"$f":"IF(G301=\"\",\"\",IF(Analyze!Y301=\"\",Analyze!AB301,Analyze!AB301+Analyze!Y301/Summary!$Y$25))","v":""},null,"",""]
[null,null,"",null,null,null,{"$f":"IF(Analyze!G302=\"\",\"\",Analyze!G302)","v":""},{"$f":"IF(G302=\"\",\"\",IF(Analyze!Y302=\"\",Analyze!AB302,Analyze!AB302+Analyze!Y302/Summary!$Y$25))","v":""},null,"",""]
[null,null,"",null,null,null,{"$f":"IF(Analyze!G303=\"\",\"\",Analyze!G303)","v":""},{"$f":"IF(G303=\"\",\"\",IF(Analyze!Y303=\"\",Analyze!AB303,Analyze!AB303+Analyze!Y303/Summary!$Y$25))","v":""},null,"",""]
[null,null,"",null,null,null,{"$f":"IF(Analyze!G304=\"\",\"\",Analyze!G304)","v":""},{"$f":"IF(G304=\"\",\"\",IF(Analyze!Y304=\"\",Analyze!AB304,Analyze!AB304+Analyze!Y304/Summary!$Y$25))","v":""},null,"",""]
[null,null,"",null,null,null,{"$f":"IF(Analyze!G305=\"\",\"\",Analyze!G305)","v":""},{"$f":"IF(G305=\"\",\"\",IF(Analyze!Y305=\"\",Analyze!AB305,Analyze!AB305+Analyze!Y305/Summary!$Y$25))","v":""},null,"",""]
[null,null,"",null,null,null,{"$f":"IF(Analyze!G306=\"\",\"\",Analyze!G306)","v":""},{"$f":"IF(G306=\"\",\"\",IF(Analyze!Y306=\"\",Analyze!AB306,Analyze!AB306+Analyze!Y306/Summary!$Y$25))","v":""},null,"",""]
[null,null,"",null,null,null,{"$f":"IF(Analyze!G307=\"\",\"\",Analyze!G307)","v":""},{"$f":"IF(G307=\"\",\"\",IF(Analyze!Y307=\"\",Analyze!AB307,Analyze!AB307+Analyze!Y307/Summary!$Y$25))","v":""},null,"",""]
[null,null,"",null,null,null,{"$f":"IF(Analyze!G308=\"\",\"\",Analyze!G308)","v":""},{"$f":"IF(G308=\"\",\"\",IF(Analyze!Y308=\"\",Analyze!AB308,Analyze!AB308+Analyze!Y308/Summary!$Y$25))","v":""},null,"",""]
[null,null,"",null,null,null,{"$f":"IF(Analyze!G309=\"\",\"\",Analyze!G309)","v":""},{"$f":"IF(G309=\"\",\"\",IF(Analyze!Y309=\"\",Analyze!AB309,Analyze!AB309+Analyze!Y309/Summary!$Y$25))","v":""},null,"",""]
[null,null,"",null,null,null,{"$f":"IF(Analyze!G310=\"\",\"\",Analyze!G310)","v":""},{"$f":"IF(G310=\"\",\"\",IF(Analyze!Y310=\"\",Analyze!AB310,Analyze!AB310+Analyze!Y310/Summary!$Y$25))","v":""},null,"",""]
[null,null,"",null,null,null,{"$f":"IF(Analyze!G311=\"\",\"\",Analyze!G311)","v":""},{"$f":"IF(G311=\"\",\"\",IF(Analyze!Y311=\"\",Analyze!AB311,Analyze!AB311+Analyze!Y311/Summary!$Y$25))","v":""},null,"",""]
[null,null,"",null,null,null,{"$f":"IF(Analyze!G312=\"\",\"\",Analyze!G312)","v":""},{"$f":"IF(G312=\"\",\"\",IF(Analyze!Y312=\"\",Analyze!AB312,Analyze!AB312+Analyze!Y312/Summary!$Y$25))","v":""},null,"",""]
[null,null,"",null,null,null,{"$f":"IF(Analyze!G313=\"\",\"\",Analyze!G313)","v":""},{"$f":"IF(G313=\"\",\"\",IF(Analyze!Y313=\"\",Analyze!AB313,Analyze!AB313+Analyze!Y313/Summary!$Y$25))","v":""},null,"",""]
[null,null,"",null,null,null,{"$f":"IF(Analyze!G314=\"\",\"\",Analyze!G314)","v":""},{"$f":"IF(G314=\"\",\"\",IF(Analyze!Y314=\"\",Analyze!AB314,Analyze!AB314+Analyze!Y314/Summary!$Y$25))","v":""},null,"",""]
[null,null,"",null,null,null,{"$f":"IF(Analyze!G315=\"\",\"\",Analyze!G315)","v":""},{"$f":"IF(G315=\"\",\"\",IF(Analyze!Y315=\"\",Analyze!AB315,Analyze!AB315+Analyze!Y315/Summary!$Y$25))","v":""},null,"",""]
[null,null,"",null,null,null,{"$f":"IF(Analyze!G316=\"\",\"\",Analyze!G316)","v":""},{"$f":"IF(G316=\"\",\"\",IF(Analyze!Y316=\"\",Analyze!AB316,Analyze!AB316+Analyze!Y316/Summary!$Y$25))","v":""},null,"",""]
[null,null,"",null,null,null,{"$f":"IF(Analyze!G317=\"\",\"\",Analyze!G317)","v":""},{"$f":"IF(G317=\"\",\"\",IF(Analyze!Y317=\"\",Analyze!AB317,Analyze!AB317+Analyze!Y317/Summary!$Y$25))","v":""},null,"",""]
[null,null,"",null,null,null,{"$f":"IF(Analyze!G318=\"\",\"\",Analyze!G318)","v":""},{"$f":"IF(G318=\"\",\"\",IF(Analyze!Y318=\"\",Analyze!AB318,Analyze!AB318+Analyze!Y318/Summary!$Y$25))","v":""},null,"",""]
[null,null,"",null,null,null,{"$f":"IF(Analyze!G319=\"\",\"\",Analyze!G319)","v":""},{"$f":"IF(G319=\"\",\"\",IF(Analyze!Y319=\"\",Analyze!AB319,Analyze!AB319+Analyze!Y319/Summary!$Y$25))","v":""},null,"",""]
[null,null,"",null,null,null,{"$f":"IF(Analyze!G320=\"\",\"\",Analyze!G320)","v":""},{"$f":"IF(G320=\"\",\"\",IF(Analyze!Y320=\"\",Analyze!AB320,Analyze!AB320+Analyze!Y320/Summary!$Y$25))","v":""},null,"",""]
[null,null,"",null,null,null,{"$f":"IF(Analyze!G321=\"\",\"\",Analyze!G321)","v":""},{"$f":"IF(G321=\"\",\"\",IF(Analyze!Y321=\"\",Analyze!AB321,Analyze!AB321+Analyze!Y321/Summary!$Y$25))","v":""},null,"",""]
[null,null,"",null,null,null,{"$f":"IF(Analyze!G322=\"\",\"\",Analyze!G322)","v":""},{"$f":"IF(G322=\"\",\"\",IF(Analyze!Y322=\"\",Analyze!AB322,Analyze!AB322+Analyze!Y322/Summary!$Y$25))","v":""},null,"",""]
[null,null,"",null,null,null,{"$f":"IF(Analyze!G323=\"\",\"\",Analyze!G323)","v":""},{"$f":"IF(G323=\"\",\"\",IF(Analyze!Y323=\"\",Analyze!AB323,Analyze!AB323+Analyze!Y323/Summary!$Y$25))","v":""},null,"",""]
[null,null,"",null,null,null,{"$f":"IF(Analyze!G324=\"\",\"\",Analyze!G324)","v":""},{"$f":"IF(G324=\"\",\"\",IF(Analyze!Y324=\"\",Analyze!AB324,Analyze!AB324+Analyze!Y324/Summary!$Y$25))","v":""},null,"",""]
[null,null,"",null,null,null,{"$f":"IF(Analyze!G325=\"\",\"\",Analyze!G325)","v":""},{"$f":"IF(G325=\"\",\"\",IF(Analyze!Y325=\"\",Analyze!AB325,Analyze!AB325+Analyze!Y325/Summary!$Y$25))","v":""},null,"",""]
[null,null,"",null,null,null,{"$f":"IF(Analyze!G326=\"\",\"\",Analyze!G326)","v":""},{"$f":"IF(G326=\"\",\"\",IF(Analyze!Y326=\"\",Analyze!AB326,Analyze!AB326+Analyze!Y326/Summary!$Y$25))","v":""},null,"",""]
[null,null,{"$f":"IF(G327=\"\",\"\",G327/10)","v":""},null,null,null,{"$f":"IF(Analyze!G327=\"\",\"\",Analyze!G327)","v":""},{"$f":"IF(G327=\"\",\"\",IF(Analyze!Y327=\"\",Analyze!AB327,Analyze!AB327+Analyze!Y327/Summary!$Y$25))","v":""},null,"",""]
[null,null,"",null,null,null,{"$f":"IF(Analyze!G328=\"\",\"\",Analyze!G328)","v":""},{"$f":"IF(G328=\"\",\"\",IF(Analyze!Y328=\"\",Analyze!AB328,Analyze!AB328+Analyze!Y328/Summary!$Y$25))","v":""},null,{"$f":"IF(G328=\"\",\"\",(J327+I328-H328*(G328-G327)))","v":""},{"$f":"IF(G328=\"\",\"\",K327+J327*(G328-G327))","v":""}]
[null,null,"",null,null,null,{"$f":"IF(Analyze!G329=\"\",\"\",Analyze!G329)","v":""},{"$f":"IF(G329=\"\",\"\",IF(Analyze!Y329=\"\",Analyze!AB329,Analyze!AB329+Analyze!Y329/Summary!$Y$25))","v":""},null,"",""]
[null,null,"",null,null,null,{"$f":"IF(Analyze!G330=\"\",\"\",Analyze!G330)","v":""},{"$f":"IF(G330=\"\",\"\",IF(Analyze!Y330=\"\",Analyze!AB330,Analyze!AB330+Analyze!Y330/Summary!$Y$25))","v":""},null,"",""]
[null,null,"",null,null,null,{"$f":"IF(Analyze!G331=\"\",\"\",Analyze!G331)","v":""},{"$f":"IF(G331=\"\",\"\",IF(Analyze!Y331=\"\",Analyze!AB331,Analyze!AB331+Analyze!Y331/Summary!$Y$25))","v":""},null,"",""]
[null,null,"",null,null,null,{"$f":"IF(Analyze!G332=\"\",\"\",Analyze!G332)","v":""},{"$f":"IF(G332=\"\",\"\",IF(Analyze!Y332=\"\",Analyze!AB332,Analyze!AB332+Analyze!Y332/Summary!$Y$25))","v":""},null,"",""]
[null,null,"",null,null,null,{"$f":"IF(Analyze!G333=\"\",\"\",Analyze!G333)","v":""},{"$f":"IF(G333=\"\",\"\",IF(Analyze!Y333=\"\",Analyze!AB333,Analyze!AB333+Analyze!Y333/Summary!$Y$25))","v":""},null,"",""]
[null,null,"",null,null,null,{"$f":"IF(Analyze!G334=\"\",\"\",Analyze!G334)","v":""},{"$f":"IF(G334=\"\",\"\",IF(Analyze!Y334=\"\",Analyze!AB334,Analyze!AB334+Analyze!Y334/Summary!$Y$25))","v":""},null,"",""]
[null,null,"",null,null,null,{"$f":"IF(Analyze!G335=\"\",\"\",Analyze!G335)","v":""},{"$f":"IF(G335=\"\",\"\",IF(Analyze!Y335=\"\",Analyze!AB335,Analyze!AB335+Analyze!Y335/Summary!$Y$25))","v":""},null,"",""]
[null,null,"",null,null,null,{"$f":"IF(Analyze!G336=\"\",\"\",Analyze!G336)","v":""},{"$f":"IF(G336=\"\",\"\",IF(Analyze!Y336=\"\",Analyze!AB336,Analyze!AB336+Analyze!Y336/Summary!$Y$25))","v":""},null,"",""]
[null,null,"",null,null,null,{"$f":"IF(Analyze!G337=\"\",\"\",Analyze!G337)","v":""},{"$f":"IF(G337=\"\",\"\",IF(Analyze!Y337=\"\",Analyze!AB337,Analyze!AB337+Analyze!Y337/Summary!$Y$25))","v":""},null,"",""]
[null,null,"",null,null,null,{"$f":"IF(Analyze!G338=\"\",\"\",Analyze!G338)","v":""},{"$f":"IF(G338=\"\",\"\",IF(Analyze!Y338=\"\",Analyze!AB338,Analyze!AB338+Analyze!Y338/Summary!$Y$25))","v":""},null,"",""]
[null,null,"",null,null,null,{"$f":"IF(Analyze!G339=\"\",\"\",Analyze!G339)","v":""},{"$f":"IF(G339=\"\",\"\",IF(Analyze!Y339=\"\",Analyze!AB339,Analyze!AB339+Analyze!Y339/Summary!$Y$25))","v":""},null,"",""]
[null,null,"",null,null,null,{"$f":"IF(Analyze!G340=\"\",\"\",Analyze!G340)","v":""},{"$f":"IF(G340=\"\",\"\",IF(Analyze!Y340=\"\",Analyze!AB340,Analyze!AB340+Analyze!Y340/Summary!$Y$25))","v":""},null,"",""]
[null,null,"",null,null,null,{"$f":"IF(Analyze!G341=\"\",\"\",Analyze!G341)","v":""},{"$f":"IF(G341=\"\",\"\",IF(Analyze!Y341=\"\",Analyze!AB341,Analyze!AB341+Analyze!Y341/Summary!$Y$25))","v":""},null,"",""]
[null,null,"",null,null,null,{"$f":"IF(Analyze!G342=\"\",\"\",Analyze!G342)","v":""},{"$f":"IF(G342=\"\",\"\",IF(Analyze!Y342=\"\",Analyze!AB342,Analyze!AB342+Analyze!Y342/Summary!$Y$25))","v":""},null,"",""]
[null,null,"",null,null,null,{"$f":"IF(Analyze!G343=\"\",\"\",Analyze!G343)","v":""},{"$f":"IF(G343=\"\",\"\",IF(Analyze!Y343=\"\",Analyze!AB343,Analyze!AB343+Analyze!Y343/Summary!$Y$25))","v":""},null,"",""]
[null,null,"",null,null,null,{"$f":"IF(Analyze!G344=\"\",\"\",Analyze!G344)","v":""},{"$f":"IF(G344=\"\",\"\",IF(Analyze!Y344=\"\",Analyze!AB344,Analyze!AB344+Analyze!Y344/Summary!$Y$25))","v":""},null,"",""]
[null,null,"",null,null,null,{"$f":"IF(Analyze!G345=\"\",\"\",Analyze!G345)","v":""},{"$f":"IF(G345=\"\",\"\",IF(Analyze!Y345=\"\",Analyze!AB345,Analyze!AB345+Analyze!Y345/Summary!$Y$25))","v":""},null,"",""]
[null,null,"",null,null,null,{"$f":"IF(Analyze!G346=\"\",\"\",Analyze!G346)","v":""},{"$f":"IF(G346=\"\",\"\",IF(Analyze!Y346=\"\",Analyze!AB346,Analyze!AB346+Analyze!Y346/Summary!$Y$25))","v":""},null,"",""]
[null,null,"",null,null,null,{"$f":"IF(Analyze!G347=\"\",\"\",Analyze!G347)","v":""},{"$f":"IF(G347=\"\",\"\",IF(Analyze!Y347=\"\",Analyze!AB347,Analyze!AB347+Analyze!Y347/Summary!$Y$25))","v":""},null,"",""]
[null,null,"",null,null,null,{"$f":"IF(Analyze!G348=\"\",\"\",Analyze!G348)","v":""},{"$f":"IF(G348=\"\",\"\",IF(Analyze!Y348=\"\",Analyze!AB348,Analyze!AB348+Analyze!Y348/Summary!$Y$25))","v":""},null,"",""]
[null,null,"",null,null,null,{"$f":"IF(Analyze!G349=\"\",\"\",Analyze!G349)","v":""},{"$f":"IF(G349=\"\",\"\",IF(Analyze!Y349=\"\",Analyze!AB349,Analyze!AB349+Analyze!Y349/Summary!$Y$25))","v":""},null,"",""]
[null,null,"",null,null,null,{"$f":"IF(Analyze!G350=\"\",\"\",Analyze!G350)","v":""},{"$f":"IF(G350=\"\",\"\",IF(Analyze!Y350=\"\",Analyze!AB350,Analyze!AB350+Analyze!Y350/Summary!$Y$25))","v":""},null,"",""]
[null,null,"",null,null,null,{"$f":"IF(Analyze!G351=\"\",\"\",Analyze!G351)","v":""},{"$f":"IF(G351=\"\",\"\",IF(Analyze!Y351=\"\",Analyze!AB351,Analyze!AB351+Analyze!Y351/Summary!$Y$25))","v":""},null,"",""]
[null,null,"",null,null,null,{"$f":"IF(Analyze!G352=\"\",\"\",Analyze!G352)","v":""},{"$f":"IF(G352=\"\",\"\",IF(Analyze!Y352=\"\",Analyze!AB352,Analyze!AB352+Analyze!Y352/Summary!$Y$25))","v":""},null,"",""]
[null,null,"",null,null,null,{"$f":"IF(Analyze!G353=\"\",\"\",Analyze!G353)","v":""},{"$f":"IF(G353=\"\",\"\",IF(Analyze!Y353=\"\",Analyze!AB353,Analyze!AB353+Analyze!Y353/Summary!$Y$25))","v":""},null,"",""]
[null,null,"",null,null,null,{"$f":"IF(Analyze!G354=\"\",\"\",Analyze!G354)","v":""},{"$f":"IF(G354=\"\",\"\",IF(Analyze!Y354=\"\",Analyze!AB354,Analyze!AB354+Analyze!Y354/Summary!$Y$25))","v":""},null,"",""]
[null,null,"",null,null,null,{"$f":"IF(Analyze!G355=\"\",\"\",Analyze!G355)","v":""},{"$f":"IF(G355=\"\",\"\",IF(Analyze!Y355=\"\",Analyze!AB355,Analyze!AB355+Analyze!Y355/Summary!$Y$25))","v":""},null,"",""]
[null,null,"",null,null,null,{"$f":"IF(Analyze!G356=\"\",\"\",Analyze!G356)","v":""},{"$f":"IF(G356=\"\",\"\",IF(Analyze!Y356=\"\",Analyze!AB356,Analyze!AB356+Analyze!Y356/Summary!$Y$25))","v":""},null,"",""]
[null,null,"",null,null,null,{"$f":"IF(Analyze!G357=\"\",\"\",Analyze!G357)","v":""},{"$f":"IF(G357=\"\",\"\",IF(Analyze!Y357=\"\",Analyze!AB357,Analyze!AB357+Analyze!Y357/Summary!$Y$25))","v":""},null,"",""]
[null,null,"",null,null,null,{"$f":"IF(Analyze!G358=\"\",\"\",Analyze!G358)","v":""},{"$f":"IF(G358=\"\",\"\",IF(Analyze!Y358=\"\",Analyze!AB358,Analyze!AB358+Analyze!Y358/Summary!$Y$25))","v":""},null,"",""]
[null,null,"",null,null,null,{"$f":"IF(Analyze!G359=\"\",\"\",Analyze!G359)","v":""},{"$f":"IF(G359=\"\",\"\",IF(Analyze!Y359=\"\",Analyze!AB359,Analyze!AB359+Analyze!Y359/Summary!$Y$25))","v":""},null,"",""]
[null,null,"",null,null,null,{"$f":"IF(Analyze!G360=\"\",\"\",Analyze!G360)","v":""},{"$f":"IF(G360=\"\",\"\",IF(Analyze!Y360=\"\",Analyze!AB360,Analyze!AB360+Analyze!Y360/Summary!$Y$25))","v":""},null,"",""]
[null,null,"",null,null,null,{"$f":"IF(Analyze!G361=\"\",\"\",Analyze!G361)","v":""},{"$f":"IF(G361=\"\",\"\",IF(Analyze!Y361=\"\",Analyze!AB361,Analyze!AB361+Analyze!Y361/Summary!$Y$25))","v":""},null,"",""]
[null,null,"",null,null,null,{"$f":"IF(Analyze!G362=\"\",\"\",Analyze!G362)","v":""},{"$f":"IF(G362=\"\",\"\",IF(Analyze!Y362=\"\",Analyze!AB362,Analyze!AB362+Analyze!Y362/Summary!$Y$25))","v":""},null,"",""]
[null,null,"",null,null,null,{"$f":"IF(Analyze!G363=\"\",\"\",Analyze!G363)","v":""},{"$f":"IF(G363=\"\",\"\",IF(Analyze!Y363=\"\",Analyze!AB363,Analyze!AB363+Analyze!Y363/Summary!$Y$25))","v":""},null,"",""]
[null,null,"",null,null,null,{"$f":"IF(Analyze!G364=\"\",\"\",Analyze!G364)","v":""},{"$f":"IF(G364=\"\",\"\",IF(Analyze!Y364=\"\",Analyze!AB364,Analyze!AB364+Analyze!Y364/Summary!$Y$25))","v":""},null,"",""]
[null,null,"",null,null,null,{"$f":"IF(Analyze!G365=\"\",\"\",Analyze!G365)","v":""},{"$f":"IF(G365=\"\",\"\",IF(Analyze!Y365=\"\",Analyze!AB365,Analyze!AB365+Analyze!Y365/Summary!$Y$25))","v":""},null,"",""]
[null,null,"",null,null,null,{"$f":"IF(Analyze!G366=\"\",\"\",Analyze!G366)","v":""},{"$f":"IF(G366=\"\",\"\",IF(Analyze!Y366=\"\",Analyze!AB366,Analyze!AB366+Analyze!Y366/Summary!$Y$25))","v":""},null,"",""]
[null,null,"",null,null,null,{"$f":"IF(Analyze!G367=\"\",\"\",Analyze!G367)","v":""},{"$f":"IF(G367=\"\",\"\",IF(Analyze!Y367=\"\",Analyze!AB367,Analyze!AB367+Analyze!Y367/Summary!$Y$25))","v":""},null,"",""]
[null,null,"",null,null,null,{"$f":"IF(Analyze!G368=\"\",\"\",Analyze!G368)","v":""},{"$f":"IF(G368=\"\",\"\",IF(Analyze!Y368=\"\",Analyze!AB368,Analyze!AB368+Analyze!Y368/Summary!$Y$25))","v":""},null,"",""]
[null,null,"",null,null,null,{"$f":"IF(Analyze!G369=\"\",\"\",Analyze!G369)","v":""},{"$f":"IF(G369=\"\",\"\",IF(Analyze!Y369=\"\",Analyze!AB369,Analyze!AB369+Analyze!Y369/Summary!$Y$25))","v":""},null,"",""]
[null,null,"",null,null,null,{"$f":"IF(Analyze!G370=\"\",\"\",Analyze!G370)","v":""},{"$f":"IF(G370=\"\",\"\",IF(Analyze!Y370=\"\",Analyze!AB370,Analyze!AB370+Analyze!Y370/Summary!$Y$25))","v":""},null,"",""]
[null,null,"",null,null,null,{"$f":"IF(Analyze!G371=\"\",\"\",Analyze!G371)","v":""},{"$f":"IF(G371=\"\",\"\",IF(Analyze!Y371=\"\",Analyze!AB371,Analyze!AB371+Analyze!Y371/Summary!$Y$25))","v":""},null,"",""]
[null,null,"",null,null,null,{"$f":"IF(Analyze!G372=\"\",\"\",Analyze!G372)","v":""},{"$f":"IF(G372=\"\",\"\",IF(Analyze!Y372=\"\",Analyze!AB372,Analyze!AB372+Analyze!Y372/Summary!$Y$25))","v":""},null,"",""]
[null,null,"",null,null,null,{"$f":"IF(Analyze!G373=\"\",\"\",Analyze!G373)","v":""},{"$f":"IF(G373=\"\",\"\",IF(Analyze!Y373=\"\",Analyze!AB373,Analyze!AB373+Analyze!Y373/Summary!$Y$25))","v":""},null,"",""]
[null,null,"",null,null,null,{"$f":"IF(Analyze!G374=\"\",\"\",Analyze!G374)","v":""},{"$f":"IF(G374=\"\",\"\",IF(Analyze!Y374=\"\",Analyze!AB374,Analyze!AB374+Analyze!Y374/Summary!$Y$25))","v":""},null,"",""]
[null,null,"",null,null,null,{"$f":"IF(Analyze!G375=\"\",\"\",Analyze!G375)","v":""},{"$f":"IF(G375=\"\",\"\",IF(Analyze!Y375=\"\",Analyze!AB375,Analyze!AB375+Analyze!Y375/Summary!$Y$25))","v":""},null,"",""]
[null,null,"",null,null,null,{"$f":"IF(Analyze!G376=\"\",\"\",Analyze!G376)","v":""},{"$f":"IF(G376=\"\",\"\",IF(Analyze!Y376=\"\",Analyze!AB376,Analyze!AB376+Analyze!Y376/Summary!$Y$25))","v":""},null,"",""]
[null,null,"",null,null,null,{"$f":"IF(Analyze!G377=\"\",\"\",Analyze!G377)","v":""},{"$f":"IF(G377=\"\",\"\",IF(Analyze!Y377=\"\",Analyze!AB377,Analyze!AB377+Analyze!Y377/Summary!$Y$25))","v":""},null,"",""]
[null,null,"",null,null,null,{"$f":"IF(Analyze!G378=\"\",\"\",Analyze!G378)","v":""},{"$f":"IF(G378=\"\",\"\",IF(Analyze!Y378=\"\",Analyze!AB378,Analyze!AB378+Analyze!Y378/Summary!$Y$25))","v":""},null,"",""]
[null,null,"",null,null,null,{"$f":"IF(Analyze!G379=\"\",\"\",Analyze!G379)","v":""},{"$f":"IF(G379=\"\",\"\",IF(Analyze!Y379=\"\",Analyze!AB379,Analyze!AB379+Analyze!Y379/Summary!$Y$25))","v":""},null,"",""]
[null,null,"",null,null,null,{"$f":"IF(Analyze!G380=\"\",\"\",Analyze!G380)","v":""},{"$f":"IF(G380=\"\",\"\",IF(Analyze!Y380=\"\",Analyze!AB380,Analyze!AB380+Analyze!Y380/Summary!$Y$25))","v":""},null,"",""]
[null,null,"",null,null,null,{"$f":"IF(Analyze!G381=\"\",\"\",Analyze!G381)","v":""},{"$f":"IF(G381=\"\",\"\",IF(Analyze!Y381=\"\",Analyze!AB381,Analyze!AB381+Analyze!Y381/Summary!$Y$25))","v":""},null,"",""]
[null,null,"",null,null,null,{"$f":"IF(Analyze!G382=\"\",\"\",Analyze!G382)","v":""},{"$f":"IF(G382=\"\",\"\",IF(Analyze!Y382=\"\",Analyze!AB382,Analyze!AB382+Analyze!Y382/Summary!$Y$25))","v":""},null,"",""]
[null,null,"",null,null,null,{"$f":"IF(Analyze!G383=\"\",\"\",Analyze!G383)","v":""},{"$f":"IF(G383=\"\",\"\",IF(Analyze!Y383=\"\",Analyze!AB383,Analyze!AB383+Analyze!Y383/Summary!$Y$25))","v":""},null,"",""]
[null,null,"",null,null,null,{"$f":"IF(Analyze!G384=\"\",\"\",Analyze!G384)","v":""},{"$f":"IF(G384=\"\",\"\",IF(Analyze!Y384=\"\",Analyze!AB384,Analyze!AB384+Analyze!Y384/Summary!$Y$25))","v":""},null,"",""]
[null,null,"",null,null,null,{"$f":"IF(Analyze!G385=\"\",\"\",Analyze!G385)","v":""},{"$f":"IF(G385=\"\",\"\",IF(Analyze!Y385=\"\",Analyze!AB385,Analyze!AB385+Analyze!Y385/Summary!$Y$25))","v":""},null,"",""]
[null,null,"",null,null,null,{"$f":"IF(Analyze!G386=\"\",\"\",Analyze!G386)","v":""},{"$f":"IF(G386=\"\",\"\",IF(Analyze!Y386=\"\",Analyze!AB386,Analyze!AB386+Analyze!Y386/Summary!$Y$25))","v":""},null,"",""]
[null,null,"",null,null,null,{"$f":"IF(Analyze!G387=\"\",\"\",Analyze!G387)","v":""},{"$f":"IF(G387=\"\",\"\",IF(Analyze!Y387=\"\",Analyze!AB387,Analyze!AB387+Analyze!Y387/Summary!$Y$25))","v":""},null,"",""]
[null,null,"",null,null,null,{"$f":"IF(Analyze!G388=\"\",\"\",Analyze!G388)","v":""},{"$f":"IF(G388=\"\",\"\",IF(Analyze!Y388=\"\",Analyze!AB388,Analyze!AB388+Analyze!Y388/Summary!$Y$25))","v":""},null,"",""]
[null,null,"",null,null,null,{"$f":"IF(Analyze!G389=\"\",\"\",Analyze!G389)","v":""},{"$f":"IF(G389=\"\",\"\",IF(Analyze!Y389=\"\",Analyze!AB389,Analyze!AB389+Analyze!Y389/Summary!$Y$25))","v":""},null,"",""]
[null,null,"",null,null,null,{"$f":"IF(Analyze!G390=\"\",\"\",Analyze!G390)","v":""},{"$f":"IF(G390=\"\",\"\",IF(Analyze!Y390=\"\",Analyze!AB390,Analyze!AB390+Analyze!Y390/Summary!$Y$25))","v":""},null,"",""]
[null,null,{"$f":"IF(G391=\"\",\"\",G391/10)","v":""},null,null,null,{"$f":"IF(Analyze!G391=\"\",\"\",Analyze!G391)","v":""},{"$f":"IF(G391=\"\",\"\",IF(Analyze!Y391=\"\",Analyze!AB391,Analyze!AB391+Analyze!Y391/Summary!$Y$25))","v":""},null,"",""]
[null,null,"",null,null,null,{"$f":"IF(Analyze!G392=\"\",\"\",Analyze!G392)","v":""},{"$f":"IF(G392=\"\",\"\",IF(Analyze!Y392=\"\",Analyze!AB392,Analyze!AB392+Analyze!Y392/Summary!$Y$25))","v":""},null,{"$f":"IF(G392=\"\",\"\",(J391+I392-H392*(G392-G391)))","v":""},{"$f":"IF(G392=\"\",\"\",K391+J391*(G392-G391))","v":""}]
[null,null,"",null,null,null,{"$f":"IF(Analyze!G393=\"\",\"\",Analyze!G393)","v":""},{"$f":"IF(G393=\"\",\"\",IF(Analyze!Y393=\"\",Analyze!AB393,Analyze!AB393+Analyze!Y393/Summary!$Y$25))","v":""},null,"",""]
[null,null,"",null,null,null,{"$f":"IF(Analyze!G394=\"\",\"\",Analyze!G394)","v":""},{"$f":"IF(G394=\"\",\"\",IF(Analyze!Y394=\"\",Analyze!AB394,Analyze!AB394+Analyze!Y394/Summary!$Y$25))","v":""},null,"",""]
[null,null,"",null,null,null,{"$f":"IF(Analyze!G395=\"\",\"\",Analyze!G395)","v":""},{"$f":"IF(G395=\"\",\"\",IF(Analyze!Y395=\"\",Analyze!AB395,Analyze!AB395+Analyze!Y395/Summary!$Y$25))","v":""},null,"",""]
[null,null,"",null,null,null,{"$f":"IF(Analyze!G396=\"\",\"\",Analyze!G396)","v":""},{"$f":"IF(G396=\"\",\"\",IF(Analyze!Y396=\"\",Analyze!AB396,Analyze!AB396+Analyze!Y396/Summary!$Y$25))","v":""},null,"",""]
[null,null,"",null,null,null,{"$f":"IF(Analyze!G397=\"\",\"\",Analyze!G397)","v":""},{"$f":"IF(G397=\"\",\"\",IF(Analyze!Y397=\"\",Analyze!AB397,Analyze!AB397+Analyze!Y397/Summary!$Y$25))","v":""},null,"",""]
[null,null,"",null,null,null,{"$f":"IF(Analyze!G398=\"\",\"\",Analyze!G398)","v":""},{"$f":"IF(G398=\"\",\"\",IF(Analyze!Y398=\"\",Analyze!AB398,Analyze!AB398+Analyze!Y398/Summary!$Y$25))","v":""},null,"",""]
[null,null,"",null,null,null,{"$f":"IF(Analyze!G399=\"\",\"\",Analyze!G399)","v":""},{"$f":"IF(G399=\"\",\"\",IF(Analyze!Y399=\"\",Analyze!AB399,Analyze!AB399+Analyze!Y399/Summary!$Y$25))","v":""},null,"",""]
[null,null,"",null,null,null,{"$f":"IF(Analyze!G400=\"\",\"\",Analyze!G400)","v":""},{"$f":"IF(G400=\"\",\"\",IF(Analyze!Y400=\"\",Analyze!AB400,Analyze!AB400+Analyze!Y400/Summary!$Y$25))","v":""},null,"",""]
[null,null,"",null,null,null,{"$f":"IF(Analyze!G401=\"\",\"\",Analyze!G401)","v":""},{"$f":"IF(G401=\"\",\"\",IF(Analyze!Y401=\"\",Analyze!AB401,Analyze!AB401+Analyze!Y401/Summary!$Y$25))","v":""},null,"",""]
[null,null,"",null,null,null,{"$f":"IF(Analyze!G402=\"\",\"\",Analyze!G402)","v":""},{"$f":"IF(G402=\"\",\"\",IF(Analyze!Y402=\"\",Analyze!AB402,Analyze!AB402+Analyze!Y402/Summary!$Y$25))","v":""},null,"",""]
[null,null,"",null,null,null,{"$f":"IF(Analyze!G403=\"\",\"\",Analyze!G403)","v":""},{"$f":"IF(G403=\"\",\"\",IF(Analyze!Y403=\"\",Analyze!AB403,Analyze!AB403+Analyze!Y403/Summary!$Y$25))","v":""},null,"",""]
[null,null,"",null,null,null,{"$f":"IF(Analyze!G404=\"\",\"\",Analyze!G404)","v":""},{"$f":"IF(G404=\"\",\"\",IF(Analyze!Y404=\"\",Analyze!AB404,Analyze!AB404+Analyze!Y404/Summary!$Y$25))","v":""},null,"",""]
[null,null,"",null,null,null,{"$f":"IF(Analyze!G405=\"\",\"\",Analyze!G405)","v":""},{"$f":"IF(G405=\"\",\"\",IF(Analyze!Y405=\"\",Analyze!AB405,Analyze!AB405+Analyze!Y405/Summary!$Y$25))","v":""},null,"",""]
[null,null,"",null,null,null,{"$f":"IF(Analyze!G406=\"\",\"\",Analyze!G406)","v":""},{"$f":"IF(G406=\"\",\"\",IF(Analyze!Y406=\"\",Analyze!AB406,Analyze!AB406+Analyze!Y406/Summary!$Y$25))","v":""},null,"",""]
[null,null,"",null,null,null,{"$f":"IF(Analyze!G407=\"\",\"\",Analyze!G407)","v":""},{"$f":"IF(G407=\"\",\"\",IF(Analyze!Y407=\"\",Analyze!AB407,Analyze!AB407+Analyze!Y407/Summary!$Y$25))","v":""},null,"",""]
[null,null,"",null,null,null,{"$f":"IF(Analyze!G408=\"\",\"\",Analyze!G408)","v":""},{"$f":"IF(G408=\"\",\"\",IF(Analyze!Y408=\"\",Analyze!AB408,Analyze!AB408+Analyze!Y408/Summary!$Y$25))","v":""},null,"",""]
[null,null,"",null,null,null,{"$f":"IF(Analyze!G409=\"\",\"\",Analyze!G409)","v":""},{"$f":"IF(G409=\"\",\"\",IF(Analyze!Y409=\"\",Analyze!AB409,Analyze!AB409+Analyze!Y409/Summary!$Y$25))","v":""},null,"",""]
[null,null,"",null,null,null,{"$f":"IF(Analyze!G410=\"\",\"\",Analyze!G410)","v":""},{"$f":"IF(G410=\"\",\"\",IF(Analyze!Y410=\"\",Analyze!AB410,Analyze!AB410+Analyze!Y410/Summary!$Y$25))","v":""},null,"",""]
[null,null,"",null,null,null,{"$f":"IF(Analyze!G411=\"\",\"\",Analyze!G411)","v":""},{"$f":"IF(G411=\"\",\"\",IF(Analyze!Y411=\"\",Analyze!AB411,Analyze!AB411+Analyze!Y411/Summary!$Y$25))","v":""},null,"",""]
[null,null,"",null,null,null,{"$f":"IF(Analyze!G412=\"\",\"\",Analyze!G412)","v":""},{"$f":"IF(G412=\"\",\"\",IF(Analyze!Y412=\"\",Analyze!AB412,Analyze!AB412+Analyze!Y412/Summary!$Y$25))","v":""},null,"",""]
[null,null,"",null,null,null,{"$f":"IF(Analyze!G413=\"\",\"\",Analyze!G413)","v":""},{"$f":"IF(G413=\"\",\"\",IF(Analyze!Y413=\"\",Analyze!AB413,Analyze!AB413+Analyze!Y413/Summary!$Y$25))","v":""},null,"",""]
[null,null,"",null,null,null,{"$f":"IF(Analyze!G414=\"\",\"\",Analyze!G414)","v":""},{"$f":"IF(G414=\"\",\"\",IF(Analyze!Y414=\"\",Analyze!AB414,Analyze!AB414+Analyze!Y414/Summary!$Y$25))","v":""},null,"",""]
[null,null,"",null,null,null,{"$f":"IF(Analyze!G415=\"\",\"\",Analyze!G415)","v":""},{"$f":"IF(G415=\"\",\"\",IF(Analyze!Y415=\"\",Analyze!AB415,Analyze!AB415+Analyze!Y415/Summary!$Y$25))","v":""},null,"",""]
[null,null,"",null,null,null,{"$f":"IF(Analyze!G416=\"\",\"\",Analyze!G416)","v":""},{"$f":"IF(G416=\"\",\"\",IF(Analyze!Y416=\"\",Analyze!AB416,Analyze!AB416+Analyze!Y416/Summary!$Y$25))","v":""},null,"",""]
[null,null,"",null,null,null,{"$f":"IF(Analyze!G417=\"\",\"\",Analyze!G417)","v":""},{"$f":"IF(G417=\"\",\"\",IF(Analyze!Y417=\"\",Analyze!AB417,Analyze!AB417+Analyze!Y417/Summary!$Y$25))","v":""},null,"",""]
[null,null,"",null,null,null,{"$f":"IF(Analyze!G418=\"\",\"\",Analyze!G418)","v":""},{"$f":"IF(G418=\"\",\"\",IF(Analyze!Y418=\"\",Analyze!AB418,Analyze!AB418+Analyze!Y418/Summary!$Y$25))","v":""},null,"",""]
[null,null,"",null,null,null,{"$f":"IF(Analyze!G419=\"\",\"\",Analyze!G419)","v":""},{"$f":"IF(G419=\"\",\"\",IF(Analyze!Y419=\"\",Analyze!AB419,Analyze!AB419+Analyze!Y419/Summary!$Y$25))","v":""},null,"",""]
[null,null,"",null,null,null,{"$f":"IF(Analyze!G420=\"\",\"\",Analyze!G420)","v":""},{"$f":"IF(G420=\"\",\"\",IF(Analyze!Y420=\"\",Analyze!AB420,Analyze!AB420+Analyze!Y420/Summary!$Y$25))","v":""},null,"",""]
[null,null,"",null,null,null,{"$f":"IF(Analyze!G421=\"\",\"\",Analyze!G421)","v":""},{"$f":"IF(G421=\"\",\"\",IF(Analyze!Y421=\"\",Analyze!AB421,Analyze!AB421+Analyze!Y421/Summary!$Y$25))","v":""},null,"",""]
[null,null,"",null,null,null,{"$f":"IF(Analyze!G422=\"\",\"\",Analyze!G422)","v":""},{"$f":"IF(G422=\"\",\"\",IF(Analyze!Y422=\"\",Analyze!AB422,Analyze!AB422+Analyze!Y422/Summary!$Y$25))","v":""},null,"",""]
[null,null,"",null,null,null,{"$f":"IF(Analyze!G423=\"\",\"\",Analyze!G423)","v":""},{"$f":"IF(G423=\"\",\"\",IF(Analyze!Y423=\"\",Analyze!AB423,Analyze!AB423+Analyze!Y423/Summary!$Y$25))","v":""},null,"",""]
[null,null,"",null,null,null,{"$f":"IF(Analyze!G424=\"\",\"\",Analyze!G424)","v":""},{"$f":"IF(G424=\"\",\"\",IF(Analyze!Y424=\"\",Analyze!AB424,Analyze!AB424+Analyze!Y424/Summary!$Y$25))","v":""},null,"",""]
[null,null,"",null,null,null,{"$f":"IF(Analyze!G425=\"\",\"\",Analyze!G425)","v":""},{"$f":"IF(G425=\"\",\"\",IF(Analyze!Y425=\"\",Analyze!AB425,Analyze!AB425+Analyze!Y425/Summary!$Y$25))","v":""},null,"",""]
[null,null,"",null,null,null,{"$f":"IF(Analyze!G426=\"\",\"\",Analyze!G426)","v":""},{"$f":"IF(G426=\"\",\"\",IF(Analyze!Y426=\"\",Analyze!AB426,Analyze!AB426+Analyze!Y426/Summary!$Y$25))","v":""},null,"",""]
[null,null,"",null,null,null,{"$f":"IF(Analyze!G427=\"\",\"\",Analyze!G427)","v":""},{"$f":"IF(G427=\"\",\"\",IF(Analyze!Y427=\"\",Analyze!AB427,Analyze!AB427+Analyze!Y427/Summary!$Y$25))","v":""},null,"",""]
[null,null,"",null,null,null,{"$f":"IF(Analyze!G428=\"\",\"\",Analyze!G428)","v":""},{"$f":"IF(G428=\"\",\"\",IF(Analyze!Y428=\"\",Analyze!AB428,Analyze!AB428+Analyze!Y428/Summary!$Y$25))","v":""},null,"",""]
[null,null,"",null,null,null,{"$f":"IF(Analyze!G429=\"\",\"\",Analyze!G429)","v":""},{"$f":"IF(G429=\"\",\"\",IF(Analyze!Y429=\"\",Analyze!AB429,Analyze!AB429+Analyze!Y429/Summary!$Y$25))","v":""},null,"",""]
[null,null,"",null,null,null,{"$f":"IF(Analyze!G430=\"\",\"\",Analyze!G430)","v":""},{"$f":"IF(G430=\"\",\"\",IF(Analyze!Y430=\"\",Analyze!AB430,Analyze!AB430+Analyze!Y430/Summary!$Y$25))","v":""},null,"",""]
[null,null,"",null,null,null,{"$f":"IF(Analyze!G431=\"\",\"\",Analyze!G431)","v":""},{"$f":"IF(G431=\"\",\"\",IF(Analyze!Y431=\"\",Analyze!AB431,Analyze!AB431+Analyze!Y431/Summary!$Y$25))","v":""},null,"",""]
[null,null,"",null,null,null,{"$f":"IF(Analyze!G432=\"\",\"\",Analyze!G432)","v":""},{"$f":"IF(G432=\"\",\"\",IF(Analyze!Y432=\"\",Analyze!AB432,Analyze!AB432+Analyze!Y432/Summary!$Y$25))","v":""},null,"",""]
[null,null,"",null,null,null,{"$f":"IF(Analyze!G433=\"\",\"\",Analyze!G433)","v":""},{"$f":"IF(G433=\"\",\"\",IF(Analyze!Y433=\"\",Analyze!AB433,Analyze!AB433+Analyze!Y433/Summary!$Y$25))","v":""},null,"",""]
[null,null,"",null,null,null,{"$f":"IF(Analyze!G434=\"\",\"\",Analyze!G434)","v":""},{"$f":"IF(G434=\"\",\"\",IF(Analyze!Y434=\"\",Analyze!AB434,Analyze!AB434+Analyze!Y434/Summary!$Y$25))","v":""},null,"",""]
[null,null,"",null,null,null,{"$f":"IF(Analyze!G435=\"\",\"\",Analyze!G435)","v":""},{"$f":"IF(G435=\"\",\"\",IF(Analyze!Y435=\"\",Analyze!AB435,Analyze!AB435+Analyze!Y435/Summary!$Y$25))","v":""},null,"",""]
[null,null,"",null,null,null,{"$f":"IF(Analyze!G436=\"\",\"\",Analyze!G436)","v":""},{"$f":"IF(G436=\"\",\"\",IF(Analyze!Y436=\"\",Analyze!AB436,Analyze!AB436+Analyze!Y436/Summary!$Y$25))","v":""},null,"",""]
[null,null,"",null,null,null,{"$f":"IF(Analyze!G437=\"\",\"\",Analyze!G437)","v":""},{"$f":"IF(G437=\"\",\"\",IF(Analyze!Y437=\"\",Analyze!AB437,Analyze!AB437+Analyze!Y437/Summary!$Y$25))","v":""},null,"",""]
[null,null,"",null,null,null,{"$f":"IF(Analyze!G438=\"\",\"\",Analyze!G438)","v":""},{"$f":"IF(G438=\"\",\"\",IF(Analyze!Y438=\"\",Analyze!AB438,Analyze!AB438+Analyze!Y438/Summary!$Y$25))","v":""},null,"",""]
[null,null,"",null,null,null,{"$f":"IF(Analyze!G439=\"\",\"\",Analyze!G439)","v":""},{"$f":"IF(G439=\"\",\"\",IF(Analyze!Y439=\"\",Analyze!AB439,Analyze!AB439+Analyze!Y439/Summary!$Y$25))","v":""},null,"",""]
[null,null,"",null,null,null,{"$f":"IF(Analyze!G440=\"\",\"\",Analyze!G440)","v":""},{"$f":"IF(G440=\"\",\"\",IF(Analyze!Y440=\"\",Analyze!AB440,Analyze!AB440+Analyze!Y440/Summary!$Y$25))","v":""},null,"",""]
[null,null,"",null,null,null,{"$f":"IF(Analyze!G441=\"\",\"\",Analyze!G441)","v":""},{"$f":"IF(G441=\"\",\"\",IF(Analyze!Y441=\"\",Analyze!AB441,Analyze!AB441+Analyze!Y441/Summary!$Y$25))","v":""},null,"",""]
[null,null,"",null,null,null,{"$f":"IF(Analyze!G442=\"\",\"\",Analyze!G442)","v":""},{"$f":"IF(G442=\"\",\"\",IF(Analyze!Y442=\"\",Analyze!AB442,Analyze!AB442+Analyze!Y442/Summary!$Y$25))","v":""},null,"",""]
[null,null,"",null,null,null,{"$f":"IF(Analyze!G443=\"\",\"\",Analyze!G443)","v":""},{"$f":"IF(G443=\"\",\"\",IF(Analyze!Y443=\"\",Analyze!AB443,Analyze!AB443+Analyze!Y443/Summary!$Y$25))","v":""},null,"",""]
[null,null,"",null,null,null,{"$f":"IF(Analyze!G444=\"\",\"\",Analyze!G444)","v":""},{"$f":"IF(G444=\"\",\"\",IF(Analyze!Y444=\"\",Analyze!AB444,Analyze!AB444+Analyze!Y444/Summary!$Y$25))","v":""},null,"",""]
[null,null,"",null,null,null,{"$f":"IF(Analyze!G445=\"\",\"\",Analyze!G445)","v":""},{"$f":"IF(G445=\"\",\"\",IF(Analyze!Y445=\"\",Analyze!AB445,Analyze!AB445+Analyze!Y445/Summary!$Y$25))","v":""},null,"",""]
[null,null,"",null,null,null,{"$f":"IF(Analyze!G446=\"\",\"\",Analyze!G446)","v":""},{"$f":"IF(G446=\"\",\"\",IF(Analyze!Y446=\"\",Analyze!AB446,Analyze!AB446+Analyze!Y446/Summary!$Y$25))","v":""},null,"",""]
[null,null,"",null,null,null,{"$f":"IF(Analyze!G447=\"\",\"\",Analyze!G447)","v":""},{"$f":"IF(G447=\"\",\"\",IF(Analyze!Y447=\"\",Analyze!AB447,Analyze!AB447+Analyze!Y447/Summary!$Y$25))","v":""},null,"",""]
[null,null,"",null,null,null,{"$f":"IF(Analyze!G448=\"\",\"\",Analyze!G448)","v":""},{"$f":"IF(G448=\"\",\"\",IF(Analyze!Y448=\"\",Analyze!AB448,Analyze!AB448+Analyze!Y448/Summary!$Y$25))","v":""},null,"",""]
[null,null,"",null,null,null,{"$f":"IF(Analyze!G449=\"\",\"\",Analyze!G449)","v":""},{"$f":"IF(G449=\"\",\"\",IF(Analyze!Y449=\"\",Analyze!AB449,Analyze!AB449+Analyze!Y449/Summary!$Y$25))","v":""},null,"",""]
[null,null,"",null,null,null,{"$f":"IF(Analyze!G450=\"\",\"\",Analyze!G450)","v":""},{"$f":"IF(G450=\"\",\"\",IF(Analyze!Y450=\"\",Analyze!AB450,Analyze!AB450+Analyze!Y450/Summary!$Y$25))","v":""},null,"",""]
[null,null,"",null,null,null,{"$f":"IF(Analyze!G451=\"\",\"\",Analyze!G451)","v":""},{"$f":"IF(G451=\"\",\"\",IF(Analyze!Y451=\"\",Analyze!AB451,Analyze!AB451+Analyze!Y451/Summary!$Y$25))","v":""},null,"",""]
[null,null,"",null,null,null,{"$f":"IF(Analyze!G452=\"\",\"\",Analyze!G452)","v":""},{"$f":"IF(G452=\"\",\"\",IF(Analyze!Y452=\"\",Analyze!AB452,Analyze!AB452+Analyze!Y452/Summary!$Y$25))","v":""},null,"",""]
[null,null,"",null,null,null,{"$f":"IF(Analyze!G453=\"\",\"\",Analyze!G453)","v":""},{"$f":"IF(G453=\"\",\"\",IF(Analyze!Y453=\"\",Analyze!AB453,Analyze!AB453+Analyze!Y453/Summary!$Y$25))","v":""},null,"",""]
[null,null,"",null,null,null,{"$f":"IF(Analyze!G454=\"\",\"\",Analyze!G454)","v":""},{"$f":"IF(G454=\"\",\"\",IF(Analyze!Y454=\"\",Analyze!AB454,Analyze!AB454+Analyze!Y454/Summary!$Y$25))","v":""},null,"",""]
[null,null,{"$f":"IF(G455=\"\",\"\",G455/10)","v":""},null,null,null,{"$f":"IF(Analyze!G455=\"\",\"\",Analyze!G455)","v":""},{"$f":"IF(G455=\"\",\"\",IF(Analyze!Y455=\"\",Analyze!AB455,Analyze!AB455+Analyze!Y455/Summary!$Y$25))","v":""},null,"",""]
[null,null,"",null,null,null,{"$f":"IF(Analyze!G456=\"\",\"\",Analyze!G456)","v":""},{"$f":"IF(G456=\"\",\"\",IF(Analyze!Y456=\"\",Analyze!AB456,Analyze!AB456+Analyze!Y456/Summary!$Y$25))","v":""},null,{"$f":"IF(G456=\"\",\"\",(J455+I456-H456*(G456-G455)))","v":""},{"$f":"IF(G456=\"\",\"\",K455+J455*(G456-G455))","v":""}]
[null,null,"",null,null,null,{"$f":"IF(Analyze!G457=\"\",\"\",Analyze!G457)","v":""},{"$f":"IF(G457=\"\",\"\",IF(Analyze!Y457=\"\",Analyze!AB457,Analyze!AB457+Analyze!Y457/Summary!$Y$25))","v":""},null,"",""]
[null,null,"",null,null,null,{"$f":"IF(Analyze!G458=\"\",\"\",Analyze!G458)","v":""},{"$f":"IF(G458=\"\",\"\",IF(Analyze!Y458=\"\",Analyze!AB458,Analyze!AB458+Analyze!Y458/Summary!$Y$25))","v":""},null,"",""]
[null,null,"",null,null,null,{"$f":"IF(Analyze!G459=\"\",\"\",Analyze!G459)","v":""},{"$f":"IF(G459=\"\",\"\",IF(Analyze!Y459=\"\",Analyze!AB459,Analyze!AB459+Analyze!Y459/Summary!$Y$25))","v":""},null,"",""]
[null,null,"",null,null,null,{"$f":"IF(Analyze!G460=\"\",\"\",Analyze!G460)","v":""},{"$f":"IF(G460=\"\",\"\",IF(Analyze!Y460=\"\",Analyze!AB460,Analyze!AB460+Analyze!Y460/Summary!$Y$25))","v":""},null,"",""]
[null,null,"",null,null,null,{"$f":"IF(Analyze!G461=\"\",\"\",Analyze!G461)","v":""},{"$f":"IF(G461=\"\",\"\",IF(Analyze!Y461=\"\",Analyze!AB461,Analyze!AB461+Analyze!Y461/Summary!$Y$25))","v":""},null,"",""]
[null,null,"",null,null,null,{"$f":"IF(Analyze!G462=\"\",\"\",Analyze!G462)","v":""},{"$f":"IF(G462=\"\",\"\",IF(Analyze!Y462=\"\",Analyze!AB462,Analyze!AB462+Analyze!Y462/Summary!$Y$25))","v":""},null,"",""]
[null,null,"",null,null,null,{"$f":"IF(Analyze!G463=\"\",\"\",Analyze!G463)","v":""},{"$f":"IF(G463=\"\",\"\",IF(Analyze!Y463=\"\",Analyze!AB463,Analyze!AB463+Analyze!Y463/Summary!$Y$25))","v":""},null,"",""]
[null,null,"",null,null,null,{"$f":"IF(Analyze!G464=\"\",\"\",Analyze!G464)","v":""},{"$f":"IF(G464=\"\",\"\",IF(Analyze!Y464=\"\",Analyze!AB464,Analyze!AB464+Analyze!Y464/Summary!$Y$25))","v":""},null,"",""]
[null,null,"",null,null,null,{"$f":"IF(Analyze!G465=\"\",\"\",Analyze!G465)","v":""},{"$f":"IF(G465=\"\",\"\",IF(Analyze!Y465=\"\",Analyze!AB465,Analyze!AB465+Analyze!Y465/Summary!$Y$25))","v":""},null,"",""]
[null,null,"",null,null,null,{"$f":"IF(Analyze!G466=\"\",\"\",Analyze!G466)","v":""},{"$f":"IF(G466=\"\",\"\",IF(Analyze!Y466=\"\",Analyze!AB466,Analyze!AB466+Analyze!Y466/Summary!$Y$25))","v":""},null,"",""]
[null,null,"",null,null,null,{"$f":"IF(Analyze!G467=\"\",\"\",Analyze!G467)","v":""},{"$f":"IF(G467=\"\",\"\",IF(Analyze!Y467=\"\",Analyze!AB467,Analyze!AB467+Analyze!Y467/Summary!$Y$25))","v":""},null,"",""]
[null,null,"",null,null,null,{"$f":"IF(Analyze!G468=\"\",\"\",Analyze!G468)","v":""},{"$f":"IF(G468=\"\",\"\",IF(Analyze!Y468=\"\",Analyze!AB468,Analyze!AB468+Analyze!Y468/Summary!$Y$25))","v":""},null,"",""]
[null,null,"",null,null,null,{"$f":"IF(Analyze!G469=\"\",\"\",Analyze!G469)","v":""},{"$f":"IF(G469=\"\",\"\",IF(Analyze!Y469=\"\",Analyze!AB469,Analyze!AB469+Analyze!Y469/Summary!$Y$25))","v":""},null,"",""]
[null,null,"",null,null,null,{"$f":"IF(Analyze!G470=\"\",\"\",Analyze!G470)","v":""},{"$f":"IF(G470=\"\",\"\",IF(Analyze!Y470=\"\",Analyze!AB470,Analyze!AB470+Analyze!Y470/Summary!$Y$25))","v":""},null,"",""]
[null,null,"",null,null,null,{"$f":"IF(Analyze!G471=\"\",\"\",Analyze!G471)","v":""},{"$f":"IF(G471=\"\",\"\",IF(Analyze!Y471=\"\",Analyze!AB471,Analyze!AB471+Analyze!Y471/Summary!$Y$25))","v":""},null,"",""]
[null,null,"",null,null,null,{"$f":"IF(Analyze!G472=\"\",\"\",Analyze!G472)","v":""},{"$f":"IF(G472=\"\",\"\",IF(Analyze!Y472=\"\",Analyze!AB472,Analyze!AB472+Analyze!Y472/Summary!$Y$25))","v":""},null,"",""]
[null,null,"",null,null,null,{"$f":"IF(Analyze!G473=\"\",\"\",Analyze!G473)","v":""},{"$f":"IF(G473=\"\",\"\",IF(Analyze!Y473=\"\",Analyze!AB473,Analyze!AB473+Analyze!Y473/Summary!$Y$25))","v":""},null,"",""]
[null,null,"",null,null,null,{"$f":"IF(Analyze!G474=\"\",\"\",Analyze!G474)","v":""},{"$f":"IF(G474=\"\",\"\",IF(Analyze!Y474=\"\",Analyze!AB474,Analyze!AB474+Analyze!Y474/Summary!$Y$25))","v":""},null,"",""]
[null,null,"",null,null,null,{"$f":"IF(Analyze!G475=\"\",\"\",Analyze!G475)","v":""},{"$f":"IF(G475=\"\",\"\",IF(Analyze!Y475=\"\",Analyze!AB475,Analyze!AB475+Analyze!Y475/Summary!$Y$25))","v":""},null,"",""]
[null,null,"",null,null,null,{"$f":"IF(Analyze!G476=\"\",\"\",Analyze!G476)","v":""},{"$f":"IF(G476=\"\",\"\",IF(Analyze!Y476=\"\",Analyze!AB476,Analyze!AB476+Analyze!Y476/Summary!$Y$25))","v":""},null,"",""]
[null,null,"",null,null,null,{"$f":"IF(Analyze!G477=\"\",\"\",Analyze!G477)","v":""},{"$f":"IF(G477=\"\",\"\",IF(Analyze!Y477=\"\",Analyze!AB477,Analyze!AB477+Analyze!Y477/Summary!$Y$25))","v":""},null,"",""]
[null,null,"",null,null,null,{"$f":"IF(Analyze!G478=\"\",\"\",Analyze!G478)","v":""},{"$f":"IF(G478=\"\",\"\",IF(Analyze!Y478=\"\",Analyze!AB478,Analyze!AB478+Analyze!Y478/Summary!$Y$25))","v":""},null,"",""]
[null,null,"",null,null,null,{"$f":"IF(Analyze!G479=\"\",\"\",Analyze!G479)","v":""},{"$f":"IF(G479=\"\",\"\",IF(Analyze!Y479=\"\",Analyze!AB479,Analyze!AB479+Analyze!Y479/Summary!$Y$25))","v":""},null,"",""]
[null,null,"",null,null,null,{"$f":"IF(Analyze!G480=\"\",\"\",Analyze!G480)","v":""},{"$f":"IF(G480=\"\",\"\",IF(Analyze!Y480=\"\",Analyze!AB480,Analyze!AB480+Analyze!Y480/Summary!$Y$25))","v":""},null,"",""]
[null,null,"",null,null,null,{"$f":"IF(Analyze!G481=\"\",\"\",Analyze!G481)","v":""},{"$f":"IF(G481=\"\",\"\",IF(Analyze!Y481=\"\",Analyze!AB481,Analyze!AB481+Analyze!Y481/Summary!$Y$25))","v":""},null,"",""]
[null,null,"",null,null,null,{"$f":"IF(Analyze!G482=\"\",\"\",Analyze!G482)","v":""},{"$f":"IF(G482=\"\",\"\",IF(Analyze!Y482=\"\",Analyze!AB482,Analyze!AB482+Analyze!Y482/Summary!$Y$25))","v":""},null,"",""]
[null,null,"",null,null,null,{"$f":"IF(Analyze!G483=\"\",\"\",Analyze!G483)","v":""},{"$f":"IF(G483=\"\",\"\",IF(Analyze!Y483=\"\",Analyze!AB483,Analyze!AB483+Analyze!Y483/Summary!$Y$25))","v":""},null,"",""]
[null,null,"",null,null,null,{"$f":"IF(Analyze!G484=\"\",\"\",Analyze!G484)","v":""},{"$f":"IF(G484=\"\",\"\",IF(Analyze!Y484=\"\",Analyze!AB484,Analyze!AB484+Analyze!Y484/Summary!$Y$25))","v":""},null,"",""]
[null,null,"",null,null,null,{"$f":"IF(Analyze!G485=\"\",\"\",Analyze!G485)","v":""},{"$f":"IF(G485=\"\",\"\",IF(Analyze!Y485=\"\",Analyze!AB485,Analyze!AB485+Analyze!Y485/Summary!$Y$25))","v":""},null,"",""]
[null,null,"",null,null,null,{"$f":"IF(Analyze!G486=\"\",\"\",Analyze!G486)","v":""},{"$f":"IF(G486=\"\",\"\",IF(Analyze!Y486=\"\",Analyze!AB486,Analyze!AB486+Analyze!Y486/Summary!$Y$25))","v":""},null,"",""]
[null,null,"",null,null,null,{"$f":"IF(Analyze!G487=\"\",\"\",Analyze!G487)","v":""},{"$f":"IF(G487=\"\",\"\",IF(Analyze!Y487=\"\",Analyze!AB487,Analyze!AB487+Analyze!Y487/Summary!$Y$25))","v":""},null,"",""]
[null,null,"",null,null,null,{"$f":"IF(Analyze!G488=\"\",\"\",Analyze!G488)","v":""},{"$f":"IF(G488=\"\",\"\",IF(Analyze!Y488=\"\",Analyze!AB488,Analyze!AB488+Analyze!Y488/Summary!$Y$25))","v":""},null,"",""]
[null,null,"",null,null,null,{"$f":"IF(Analyze!G489=\"\",\"\",Analyze!G489)","v":""},{"$f":"IF(G489=\"\",\"\",IF(Analyze!Y489=\"\",Analyze!AB489,Analyze!AB489+Analyze!Y489/Summary!$Y$25))","v":""},null,"",""]
[null,null,"",null,null,null,{"$f":"IF(Analyze!G490=\"\",\"\",Analyze!G490)","v":""},{"$f":"IF(G490=\"\",\"\",IF(Analyze!Y490=\"\",Analyze!AB490,Analyze!AB490+Analyze!Y490/Summary!$Y$25))","v":""},null,"",""]
[null,null,"",null,null,null,{"$f":"IF(Analyze!G491=\"\",\"\",Analyze!G491)","v":""},{"$f":"IF(G491=\"\",\"\",IF(Analyze!Y491=\"\",Analyze!AB491,Analyze!AB491+Analyze!Y491/Summary!$Y$25))","v":""},null,"",""]
[null,null,"",null,null,null,{"$f":"IF(Analyze!G492=\"\",\"\",Analyze!G492)","v":""},{"$f":"IF(G492=\"\",\"\",IF(Analyze!Y492=\"\",Analyze!AB492,Analyze!AB492+Analyze!Y492/Summary!$Y$25))","v":""},null,"",""]
[null,null,"",null,null,null,{"$f":"IF(Analyze!G493=\"\",\"\",Analyze!G493)","v":""},{"$f":"IF(G493=\"\",\"\",IF(Analyze!Y493=\"\",Analyze!AB493,Analyze!AB493+Analyze!Y493/Summary!$Y$25))","v":""},null,"",""]
[null,null,"",null,null,null,{"$f":"IF(Analyze!G494=\"\",\"\",Analyze!G494)","v":""},{"$f":"IF(G494=\"\",\"\",IF(Analyze!Y494=\"\",Analyze!AB494,Analyze!AB494+Analyze!Y494/Summary!$Y$25))","v":""},null,"",""]
[null,null,"",null,null,null,{"$f":"IF(Analyze!G495=\"\",\"\",Analyze!G495)","v":""},{"$f":"IF(G495=\"\",\"\",IF(Analyze!Y495=\"\",Analyze!AB495,Analyze!AB495+Analyze!Y495/Summary!$Y$25))","v":""},null,"",""]
[null,null,"",null,null,null,{"$f":"IF(Analyze!G496=\"\",\"\",Analyze!G496)","v":""},{"$f":"IF(G496=\"\",\"\",IF(Analyze!Y496=\"\",Analyze!AB496,Analyze!AB496+Analyze!Y496/Summary!$Y$25))","v":""},null,"",""]
[null,null,"",null,null,null,{"$f":"IF(Analyze!G497=\"\",\"\",Analyze!G497)","v":""},{"$f":"IF(G497=\"\",\"\",IF(Analyze!Y497=\"\",Analyze!AB497,Analyze!AB497+Analyze!Y497/Summary!$Y$25))","v":""},null,"",""]
[null,null,"",null,null,null,{"$f":"IF(Analyze!G498=\"\",\"\",Analyze!G498)","v":""},{"$f":"IF(G498=\"\",\"\",IF(Analyze!Y498=\"\",Analyze!AB498,Analyze!AB498+Analyze!Y498/Summary!$Y$25))","v":""},null,"",""]
[null,null,"",null,null,null,{"$f":"IF(Analyze!G499=\"\",\"\",Analyze!G499)","v":""},{"$f":"IF(G499=\"\",\"\",IF(Analyze!Y499=\"\",Analyze!AB499,Analyze!AB499+Analyze!Y499/Summary!$Y$25))","v":""},null,"",""]
[null,null,"",null,null,null,{"$f":"IF(Analyze!G500=\"\",\"\",Analyze!G500)","v":""},{"$f":"IF(G500=\"\",\"\",IF(Analyze!Y500=\"\",Analyze!AB500,Analyze!AB500+Analyze!Y500/Summary!$Y$25))","v":""},null,"",""]
[null,null,"",null,null,null,{"$f":"IF(Analyze!G501=\"\",\"\",Analyze!G501)","v":""},{"$f":"IF(G501=\"\",\"\",IF(Analyze!Y501=\"\",Analyze!AB501,Analyze!AB501+Analyze!Y501/Summary!$Y$25))","v":""},null,"",""]
[null,null,"",null,null,null,{"$f":"IF(Analyze!G502=\"\",\"\",Analyze!G502)","v":""},{"$f":"IF(G502=\"\",\"\",IF(Analyze!Y502=\"\",Analyze!AB502,Analyze!AB502+Analyze!Y502/Summary!$Y$25))","v":""},null,"",""]
[null,null,"",null,null,null,{"$f":"IF(Analyze!G503=\"\",\"\",Analyze!G503)","v":""},{"$f":"IF(G503=\"\",\"\",IF(Analyze!Y503=\"\",Analyze!AB503,Analyze!AB503+Analyze!Y503/Summary!$Y$25))","v":""},null,"",""]
[null,null,"",null,null,null,{"$f":"IF(Analyze!G504=\"\",\"\",Analyze!G504)","v":""},{"$f":"IF(G504=\"\",\"\",IF(Analyze!Y504=\"\",Analyze!AB504,Analyze!AB504+Analyze!Y504/Summary!$Y$25))","v":""},null,"",""]
[null,null,"",null,null,null,{"$f":"IF(Analyze!G505=\"\",\"\",Analyze!G505)","v":""},{"$f":"IF(G505=\"\",\"\",IF(Analyze!Y505=\"\",Analyze!AB505,Analyze!AB505+Analyze!Y505/Summary!$Y$25))","v":""},null,"",""]
[null,null,"",null,null,null,{"$f":"IF(Analyze!G506=\"\",\"\",Analyze!G506)","v":""},{"$f":"IF(G506=\"\",\"\",IF(Analyze!Y506=\"\",Analyze!AB506,Analyze!AB506+Analyze!Y506/Summary!$Y$25))","v":""},null,"",""]
[null,null,"",null,null,null,{"$f":"IF(Analyze!G507=\"\",\"\",Analyze!G507)","v":""},{"$f":"IF(G507=\"\",\"\",IF(Analyze!Y507=\"\",Analyze!AB507,Analyze!AB507+Analyze!Y507/Summary!$Y$25))","v":""},null,"",""]
[null,null,"",null,null,null,{"$f":"IF(Analyze!G508=\"\",\"\",Analyze!G508)","v":""},{"$f":"IF(G508=\"\",\"\",IF(Analyze!Y508=\"\",Analyze!AB508,Analyze!AB508+Analyze!Y508/Summary!$Y$25))","v":""},null,"",""]
[null,null,"",null,null,null,{"$f":"IF(Analyze!G509=\"\",\"\",Analyze!G509)","v":""},{"$f":"IF(G509=\"\",\"\",IF(Analyze!Y509=\"\",Analyze!AB509,Analyze!AB509+Analyze!Y509/Summary!$Y$25))","v":""},null,"",""]
[null,null,"",null,null,null,{"$f":"IF(Analyze!G510=\"\",\"\",Analyze!G510)","v":""},{"$f":"IF(G510=\"\",\"\",IF(Analyze!Y510=\"\",Analyze!AB510,Analyze!AB510+Analyze!Y510/Summary!$Y$25))","v":""},null,"",""]
[null,null,"",null,null,null,{"$f":"IF(Analyze!G511=\"\",\"\",Analyze!G511)","v":""},{"$f":"IF(G511=\"\",\"\",IF(Analyze!Y511=\"\",Analyze!AB511,Analyze!AB511+Analyze!Y511/Summary!$Y$25))","v":""},null,"",""]
[null,null,"",null,null,null,{"$f":"IF(Analyze!G512=\"\",\"\",Analyze!G512)","v":""},{"$f":"IF(G512=\"\",\"\",IF(Analyze!Y512=\"\",Analyze!AB512,Analyze!AB512+Analyze!Y512/Summary!$Y$25))","v":""},null,"",""]
[null,null,"",null,null,null,{"$f":"IF(Analyze!G513=\"\",\"\",Analyze!G513)","v":""},{"$f":"IF(G513=\"\",\"\",IF(Analyze!Y513=\"\",Analyze!AB513,Analyze!AB513+Analyze!Y513/Summary!$Y$25))","v":""},null,"",""]
[null,null,"",null,null,null,{"$f":"IF(Analyze!G514=\"\",\"\",Analyze!G514)","v":""},{"$f":"IF(G514=\"\",\"\",IF(Analyze!Y514=\"\",Analyze!AB514,Analyze!AB514+Analyze!Y514/Summary!$Y$25))","v":""},null,"",""]
[null,null,"",null,null,null,{"$f":"IF(Analyze!G515=\"\",\"\",Analyze!G515)","v":""},{"$f":"IF(G515=\"\",\"\",IF(Analyze!Y515=\"\",Analyze!AB515,Analyze!AB515+Analyze!Y515/Summary!$Y$25))","v":""},null,"",""]
[null,null,"",null,null,null,{"$f":"IF(Analyze!G516=\"\",\"\",Analyze!G516)","v":""},{"$f":"IF(G516=\"\",\"\",IF(Analyze!Y516=\"\",Analyze!AB516,Analyze!AB516+Analyze!Y516/Summary!$Y$25))","v":""},null,"",""]
[null,null,"",null,null,null,{"$f":"IF(Analyze!G517=\"\",\"\",Analyze!G517)","v":""},{"$f":"IF(G517=\"\",\"\",IF(Analyze!Y517=\"\",Analyze!AB517,Analyze!AB517+Analyze!Y517/Summary!$Y$25))","v":""},null,"",""]
[null,null,"",null,null,null,{"$f":"IF(Analyze!G518=\"\",\"\",Analyze!G518)","v":""},{"$f":"IF(G518=\"\",\"\",IF(Analyze!Y518=\"\",Analyze!AB518,Analyze!AB518+Analyze!Y518/Summary!$Y$25))","v":""},null,"",""]
[null,null,{"$f":"IF(G519=\"\",\"\",G519/10)","v":""},null,null,null,{"$f":"IF(Analyze!G519=\"\",\"\",Analyze!G519)","v":""},{"$f":"IF(G519=\"\",\"\",IF(Analyze!Y519=\"\",Analyze!AB519,Analyze!AB519+Analyze!Y519/Summary!$Y$25))","v":""},null,"",""]
[null,null,"",null,null,null,{"$f":"IF(Analyze!G520=\"\",\"\",Analyze!G520)","v":""},{"$f":"IF(G520=\"\",\"\",IF(Analyze!Y520=\"\",Analyze!AB520,Analyze!AB520+Analyze!Y520/Summary!$Y$25))","v":""},null,{"$f":"IF(G520=\"\",\"\",(J519+I520-H520*(G520-G519)))","v":""},{"$f":"IF(G520=\"\",\"\",K519+J519*(G520-G519))","v":""}]
[null,null,"",null,null,null,{"$f":"IF(Analyze!G521=\"\",\"\",Analyze!G521)","v":""},{"$f":"IF(G521=\"\",\"\",IF(Analyze!Y521=\"\",Analyze!AB521,Analyze!AB521+Analyze!Y521/Summary!$Y$25))","v":""},null,"",""]
[null,null,"",null,null,null,{"$f":"IF(Analyze!G522=\"\",\"\",Analyze!G522)","v":""},{"$f":"IF(G522=\"\",\"\",IF(Analyze!Y522=\"\",Analyze!AB522,Analyze!AB522+Analyze!Y522/Summary!$Y$25))","v":""},null,"",""]
[null,null,"",null,null,null,{"$f":"IF(Analyze!G523=\"\",\"\",Analyze!G523)","v":""},{"$f":"IF(G523=\"\",\"\",IF(Analyze!Y523=\"\",Analyze!AB523,Analyze!AB523+Analyze!Y523/Summary!$Y$25))","v":""},null,"",""]
[null,null,"",null,null,null,{"$f":"IF(Analyze!G524=\"\",\"\",Analyze!G524)","v":""},{"$f":"IF(G524=\"\",\"\",IF(Analyze!Y524=\"\",Analyze!AB524,Analyze!AB524+Analyze!Y524/Summary!$Y$25))","v":""},null,"",""]
[null,null,"",null,null,null,{"$f":"IF(Analyze!G525=\"\",\"\",Analyze!G525)","v":""},{"$f":"IF(G525=\"\",\"\",IF(Analyze!Y525=\"\",Analyze!AB525,Analyze!AB525+Analyze!Y525/Summary!$Y$25))","v":""},null,"",""]
[null,null,"",null,null,null,{"$f":"IF(Analyze!G526=\"\",\"\",Analyze!G526)","v":""},{"$f":"IF(G526=\"\",\"\",IF(Analyze!Y526=\"\",Analyze!AB526,Analyze!AB526+Analyze!Y526/Summary!$Y$25))","v":""},null,"",""]
[null,null,"",null,null,null,{"$f":"IF(Analyze!G527=\"\",\"\",Analyze!G527)","v":""},{"$f":"IF(G527=\"\",\"\",IF(Analyze!Y527=\"\",Analyze!AB527,Analyze!AB527+Analyze!Y527/Summary!$Y$25))","v":""},null,"",""]
[null,null,"",null,null,null,{"$f":"IF(Analyze!G528=\"\",\"\",Analyze!G528)","v":""},{"$f":"IF(G528=\"\",\"\",IF(Analyze!Y528=\"\",Analyze!AB528,Analyze!AB528+Analyze!Y528/Summary!$Y$25))","v":""},null,"",""]
[null,null,"",null,null,null,{"$f":"IF(Analyze!G529=\"\",\"\",Analyze!G529)","v":""},{"$f":"IF(G529=\"\",\"\",IF(Analyze!Y529=\"\",Analyze!AB529,Analyze!AB529+Analyze!Y529/Summary!$Y$25))","v":""},null,"",""]
[null,null,"",null,null,null,{"$f":"IF(Analyze!G530=\"\",\"\",Analyze!G530)","v":""},{"$f":"IF(G530=\"\",\"\",IF(Analyze!Y530=\"\",Analyze!AB530,Analyze!AB530+Analyze!Y530/Summary!$Y$25))","v":""},null,"",""]
[null,null,"",null,null,null,{"$f":"IF(Analyze!G531=\"\",\"\",Analyze!G531)","v":""},{"$f":"IF(G531=\"\",\"\",IF(Analyze!Y531=\"\",Analyze!AB531,Analyze!AB531+Analyze!Y531/Summary!$Y$25))","v":""},null,"",""]
[null,null,"",null,null,null,{"$f":"IF(Analyze!G532=\"\",\"\",Analyze!G532)","v":""},{"$f":"IF(G532=\"\",\"\",IF(Analyze!Y532=\"\",Analyze!AB532,Analyze!AB532+Analyze!Y532/Summary!$Y$25))","v":""},null,"",""]
[null,null,"",null,null,null,{"$f":"IF(Analyze!G533=\"\",\"\",Analyze!G533)","v":""},{"$f":"IF(G533=\"\",\"\",IF(Analyze!Y533=\"\",Analyze!AB533,Analyze!AB533+Analyze!Y533/Summary!$Y$25))","v":""},null,"",""]
[null,null,"",null,null,null,{"$f":"IF(Analyze!G534=\"\",\"\",Analyze!G534)","v":""},{"$f":"IF(G534=\"\",\"\",IF(Analyze!Y534=\"\",Analyze!AB534,Analyze!AB534+Analyze!Y534/Summary!$Y$25))","v":""},null,"",""]
[null,null,"",null,null,null,{"$f":"IF(Analyze!G535=\"\",\"\",Analyze!G535)","v":""},{"$f":"IF(G535=\"\",\"\",IF(Analyze!Y535=\"\",Analyze!AB535,Analyze!AB535+Analyze!Y535/Summary!$Y$25))","v":""},null,"",""]
[null,null,"",null,null,null,{"$f":"IF(Analyze!G536=\"\",\"\",Analyze!G536)","v":""},{"$f":"IF(G536=\"\",\"\",IF(Analyze!Y536=\"\",Analyze!AB536,Analyze!AB536+Analyze!Y536/Summary!$Y$25))","v":""},null,"",""]
[null,null,"",null,null,null,{"$f":"IF(Analyze!G537=\"\",\"\",Analyze!G537)","v":""},{"$f":"IF(G537=\"\",\"\",IF(Analyze!Y537=\"\",Analyze!AB537,Analyze!AB537+Analyze!Y537/Summary!$Y$25))","v":""},null,"",""]
[null,null,"",null,null,null,{"$f":"IF(Analyze!G538=\"\",\"\",Analyze!G538)","v":""},{"$f":"IF(G538=\"\",\"\",IF(Analyze!Y538=\"\",Analyze!AB538,Analyze!AB538+Analyze!Y538/Summary!$Y$25))","v":""},null,"",""]
[null,null,"",null,null,null,{"$f":"IF(Analyze!G539=\"\",\"\",Analyze!G539)","v":""},{"$f":"IF(G539=\"\",\"\",IF(Analyze!Y539=\"\",Analyze!AB539,Analyze!AB539+Analyze!Y539/Summary!$Y$25))","v":""},null,"",""]
[null,null,"",null,null,null,{"$f":"IF(Analyze!G540=\"\",\"\",Analyze!G540)","v":""},{"$f":"IF(G540=\"\",\"\",IF(Analyze!Y540=\"\",Analyze!AB540,Analyze!AB540+Analyze!Y540/Summary!$Y$25))","v":""},null,"",""]
[null,null,"",null,null,null,{"$f":"IF(Analyze!G541=\"\",\"\",Analyze!G541)","v":""},{"$f":"IF(G541=\"\",\"\",IF(Analyze!Y541=\"\",Analyze!AB541,Analyze!AB541+Analyze!Y541/Summary!$Y$25))","v":""},null,"",""]
[null,null,"",null,null,null,{"$f":"IF(Analyze!G542=\"\",\"\",Analyze!G542)","v":""},{"$f":"IF(G542=\"\",\"\",IF(Analyze!Y542=\"\",Analyze!AB542,Analyze!AB542+Analyze!Y542/Summary!$Y$25))","v":""},null,"",""]
[null,null,"",null,null,null,{"$f":"IF(Analyze!G543=\"\",\"\",Analyze!G543)","v":""},{"$f":"IF(G543=\"\",\"\",IF(Analyze!Y543=\"\",Analyze!AB543,Analyze!AB543+Analyze!Y543/Summary!$Y$25))","v":""},null,"",""]
[null,null,"",null,null,null,{"$f":"IF(Analyze!G544=\"\",\"\",Analyze!G544)","v":""},{"$f":"IF(G544=\"\",\"\",IF(Analyze!Y544=\"\",Analyze!AB544,Analyze!AB544+Analyze!Y544/Summary!$Y$25))","v":""},null,"",""]
[null,null,"",null,null,null,{"$f":"IF(Analyze!G545=\"\",\"\",Analyze!G545)","v":""},{"$f":"IF(G545=\"\",\"\",IF(Analyze!Y545=\"\",Analyze!AB545,Analyze!AB545+Analyze!Y545/Summary!$Y$25))","v":""},null,"",""]
[null,null,"",null,null,null,{"$f":"IF(Analyze!G546=\"\",\"\",Analyze!G546)","v":""},{"$f":"IF(G546=\"\",\"\",IF(Analyze!Y546=\"\",Analyze!AB546,Analyze!AB546+Analyze!Y546/Summary!$Y$25))","v":""},null,"",""]
[null,null,"",null,null,null,{"$f":"IF(Analyze!G547=\"\",\"\",Analyze!G547)","v":""},{"$f":"IF(G547=\"\",\"\",IF(Analyze!Y547=\"\",Analyze!AB547,Analyze!AB547+Analyze!Y547/Summary!$Y$25))","v":""},null,"",""]
[null,null,"",null,null,null,{"$f":"IF(Analyze!G548=\"\",\"\",Analyze!G548)","v":""},{"$f":"IF(G548=\"\",\"\",IF(Analyze!Y548=\"\",Analyze!AB548,Analyze!AB548+Analyze!Y548/Summary!$Y$25))","v":""},null,"",""]
[null,null,"",null,null,null,{"$f":"IF(Analyze!G549=\"\",\"\",Analyze!G549)","v":""},{"$f":"IF(G549=\"\",\"\",IF(Analyze!Y549=\"\",Analyze!AB549,Analyze!AB549+Analyze!Y549/Summary!$Y$25))","v":""},null,"",""]
[null,null,"",null,null,null,{"$f":"IF(Analyze!G550=\"\",\"\",Analyze!G550)","v":""},{"$f":"IF(G550=\"\",\"\",IF(Analyze!Y550=\"\",Analyze!AB550,Analyze!AB550+Analyze!Y550/Summary!$Y$25))","v":""},null,"",""]
[null,null,"",null,null,null,{"$f":"IF(Analyze!G551=\"\",\"\",Analyze!G551)","v":""},{"$f":"IF(G551=\"\",\"\",IF(Analyze!Y551=\"\",Analyze!AB551,Analyze!AB551+Analyze!Y551/Summary!$Y$25))","v":""},null,"",""]
[null,null,"",null,null,null,{"$f":"IF(Analyze!G552=\"\",\"\",Analyze!G552)","v":""},{"$f":"IF(G552=\"\",\"\",IF(Analyze!Y552=\"\",Analyze!AB552,Analyze!AB552+Analyze!Y552/Summary!$Y$25))","v":""},null,"",""]
[null,null,"",null,null,null,{"$f":"IF(Analyze!G553=\"\",\"\",Analyze!G553)","v":""},{"$f":"IF(G553=\"\",\"\",IF(Analyze!Y553=\"\",Analyze!AB553,Analyze!AB553+Analyze!Y553/Summary!$Y$25))","v":""},null,"",""]
[null,null,"",null,null,null,{"$f":"IF(Analyze!G554=\"\",\"\",Analyze!G554)","v":""},{"$f":"IF(G554=\"\",\"\",IF(Analyze!Y554=\"\",Analyze!AB554,Analyze!AB554+Analyze!Y554/Summary!$Y$25))","v":""},null,"",""]
[null,null,"",null,null,null,{"$f":"IF(Analyze!G555=\"\",\"\",Analyze!G555)","v":""},{"$f":"IF(G555=\"\",\"\",IF(Analyze!Y555=\"\",Analyze!AB555,Analyze!AB555+Analyze!Y555/Summary!$Y$25))","v":""},null,"",""]
[null,null,"",null,null,null,{"$f":"IF(Analyze!G556=\"\",\"\",Analyze!G556)","v":""},{"$f":"IF(G556=\"\",\"\",IF(Analyze!Y556=\"\",Analyze!AB556,Analyze!AB556+Analyze!Y556/Summary!$Y$25))","v":""},null,"",""]
[null,null,"",null,null,null,{"$f":"IF(Analyze!G557=\"\",\"\",Analyze!G557)","v":""},{"$f":"IF(G557=\"\",\"\",IF(Analyze!Y557=\"\",Analyze!AB557,Analyze!AB557+Analyze!Y557/Summary!$Y$25))","v":""},null,"",""]
[null,null,"",null,null,null,{"$f":"IF(Analyze!G558=\"\",\"\",Analyze!G558)","v":""},{"$f":"IF(G558=\"\",\"\",IF(Analyze!Y558=\"\",Analyze!AB558,Analyze!AB558+Analyze!Y558/Summary!$Y$25))","v":""},null,"",""]
[null,null,"",null,null,null,{"$f":"IF(Analyze!G559=\"\",\"\",Analyze!G559)","v":""},{"$f":"IF(G559=\"\",\"\",IF(Analyze!Y559=\"\",Analyze!AB559,Analyze!AB559+Analyze!Y559/Summary!$Y$25))","v":""},null,"",""]
[null,null,"",null,null,null,{"$f":"IF(Analyze!G560=\"\",\"\",Analyze!G560)","v":""},{"$f":"IF(G560=\"\",\"\",IF(Analyze!Y560=\"\",Analyze!AB560,Analyze!AB560+Analyze!Y560/Summary!$Y$25))","v":""},null,"",""]
[null,null,"",null,null,null,{"$f":"IF(Analyze!G561=\"\",\"\",Analyze!G561)","v":""},{"$f":"IF(G561=\"\",\"\",IF(Analyze!Y561=\"\",Analyze!AB561,Analyze!AB561+Analyze!Y561/Summary!$Y$25))","v":""},null,"",""]
[null,null,"",null,null,null,{"$f":"IF(Analyze!G562=\"\",\"\",Analyze!G562)","v":""},{"$f":"IF(G562=\"\",\"\",IF(Analyze!Y562=\"\",Analyze!AB562,Analyze!AB562+Analyze!Y562/Summary!$Y$25))","v":""},null,"",""]
[null,null,"",null,null,null,{"$f":"IF(Analyze!G563=\"\",\"\",Analyze!G563)","v":""},{"$f":"IF(G563=\"\",\"\",IF(Analyze!Y563=\"\",Analyze!AB563,Analyze!AB563+Analyze!Y563/Summary!$Y$25))","v":""},null,"",""]
[null,null,"",null,null,null,{"$f":"IF(Analyze!G564=\"\",\"\",Analyze!G564)","v":""},{"$f":"IF(G564=\"\",\"\",IF(Analyze!Y564=\"\",Analyze!AB564,Analyze!AB564+Analyze!Y564/Summary!$Y$25))","v":""},null,"",""]
[null,null,"",null,null,null,{"$f":"IF(Analyze!G565=\"\",\"\",Analyze!G565)","v":""},{"$f":"IF(G565=\"\",\"\",IF(Analyze!Y565=\"\",Analyze!AB565,Analyze!AB565+Analyze!Y565/Summary!$Y$25))","v":""},null,"",""]
[null,null,"",null,null,null,{"$f":"IF(Analyze!G566=\"\",\"\",Analyze!G566)","v":""},{"$f":"IF(G566=\"\",\"\",IF(Analyze!Y566=\"\",Analyze!AB566,Analyze!AB566+Analyze!Y566/Summary!$Y$25))","v":""},null,"",""]
[null,null,"",null,null,null,{"$f":"IF(Analyze!G567=\"\",\"\",Analyze!G567)","v":""},{"$f":"IF(G567=\"\",\"\",IF(Analyze!Y567=\"\",Analyze!AB567,Analyze!AB567+Analyze!Y567/Summary!$Y$25))","v":""},null,"",""]
[null,null,"",null,null,null,{"$f":"IF(Analyze!G568=\"\",\"\",Analyze!G568)","v":""},{"$f":"IF(G568=\"\",\"\",IF(Analyze!Y568=\"\",Analyze!AB568,Analyze!AB568+Analyze!Y568/Summary!$Y$25))","v":""},null,"",""]
[null,null,"",null,null,null,{"$f":"IF(Analyze!G569=\"\",\"\",Analyze!G569)","v":""},{"$f":"IF(G569=\"\",\"\",IF(Analyze!Y569=\"\",Analyze!AB569,Analyze!AB569+Analyze!Y569/Summary!$Y$25))","v":""},null,"",""]
[null,null,"",null,null,null,{"$f":"IF(Analyze!G570=\"\",\"\",Analyze!G570)","v":""},{"$f":"IF(G570=\"\",\"\",IF(Analyze!Y570=\"\",Analyze!AB570,Analyze!AB570+Analyze!Y570/Summary!$Y$25))","v":""},null,"",""]
[null,null,"",null,null,null,{"$f":"IF(Analyze!G571=\"\",\"\",Analyze!G571)","v":""},{"$f":"IF(G571=\"\",\"\",IF(Analyze!Y571=\"\",Analyze!AB571,Analyze!AB571+Analyze!Y571/Summary!$Y$25))","v":""},null,"",""]
[null,null,"",null,null,null,{"$f":"IF(Analyze!G572=\"\",\"\",Analyze!G572)","v":""},{"$f":"IF(G572=\"\",\"\",IF(Analyze!Y572=\"\",Analyze!AB572,Analyze!AB572+Analyze!Y572/Summary!$Y$25))","v":""},null,"",""]
[null,null,"",null,null,null,{"$f":"IF(Analyze!G573=\"\",\"\",Analyze!G573)","v":""},{"$f":"IF(G573=\"\",\"\",IF(Analyze!Y573=\"\",Analyze!AB573,Analyze!AB573+Analyze!Y573/Summary!$Y$25))","v":""},null,"",""]
[null,null,"",null,null,null,{"$f":"IF(Analyze!G574=\"\",\"\",Analyze!G574)","v":""},{"$f":"IF(G574=\"\",\"\",IF(Analyze!Y574=\"\",Analyze!AB574,Analyze!AB574+Analyze!Y574/Summary!$Y$25))","v":""},null,"",""]
[null,null,"",null,null,null,{"$f":"IF(Analyze!G575=\"\",\"\",Analyze!G575)","v":""},{"$f":"IF(G575=\"\",\"\",IF(Analyze!Y575=\"\",Analyze!AB575,Analyze!AB575+Analyze!Y575/Summary!$Y$25))","v":""},null,"",""]
[null,null,"",null,null,null,{"$f":"IF(Analyze!G576=\"\",\"\",Analyze!G576)","v":""},{"$f":"IF(G576=\"\",\"\",IF(Analyze!Y576=\"\",Analyze!AB576,Analyze!AB576+Analyze!Y576/Summary!$Y$25))","v":""},null,"",""]
[null,null,"",null,null,null,{"$f":"IF(Analyze!G577=\"\",\"\",Analyze!G577)","v":""},{"$f":"IF(G577=\"\",\"\",IF(Analyze!Y577=\"\",Analyze!AB577,Analyze!AB577+Analyze!Y577/Summary!$Y$25))","v":""},null,"",""]
[null,null,"",null,null,null,{"$f":"IF(Analyze!G578=\"\",\"\",Analyze!G578)","v":""},{"$f":"IF(G578=\"\",\"\",IF(Analyze!Y578=\"\",Analyze!AB578,Analyze!AB578+Analyze!Y578/Summary!$Y$25))","v":""},null,"",""]
[null,null,"",null,null,null,{"$f":"IF(Analyze!G579=\"\",\"\",Analyze!G579)","v":""},{"$f":"IF(G579=\"\",\"\",IF(Analyze!Y579=\"\",Analyze!AB579,Analyze!AB579+Analyze!Y579/Summary!$Y$25))","v":""},null,"",""]
[null,null,"",null,null,null,{"$f":"IF(Analyze!G580=\"\",\"\",Analyze!G580)","v":""},{"$f":"IF(G580=\"\",\"\",IF(Analyze!Y580=\"\",Analyze!AB580,Analyze!AB580+Analyze!Y580/Summary!$Y$25))","v":""},null,"",""]
[null,null,"",null,null,null,{"$f":"IF(Analyze!G581=\"\",\"\",Analyze!G581)","v":""},{"$f":"IF(G581=\"\",\"\",IF(Analyze!Y581=\"\",Analyze!AB581,Analyze!AB581+Analyze!Y581/Summary!$Y$25))","v":""},null,"",""]
[null,null,"",null,null,null,{"$f":"IF(Analyze!G582=\"\",\"\",Analyze!G582)","v":""},{"$f":"IF(G582=\"\",\"\",IF(Analyze!Y582=\"\",Analyze!AB582,Analyze!AB582+Analyze!Y582/Summary!$Y$25))","v":""},null,"",""]
[null,null,{"$f":"IF(G583=\"\",\"\",G583/10)","v":""},null,null,null,{"$f":"IF(Analyze!G583=\"\",\"\",Analyze!G583)","v":""},{"$f":"IF(G583=\"\",\"\",IF(Analyze!Y583=\"\",Analyze!AB583,Analyze!AB583+Analyze!Y583/Summary!$Y$25))","v":""},null,"",""]
[null,null,"",null,null,null,{"$f":"IF(Analyze!G584=\"\",\"\",Analyze!G584)","v":""},{"$f":"IF(G584=\"\",\"\",IF(Analyze!Y584=\"\",Analyze!AB584,Analyze!AB584+Analyze!Y584/Summary!$Y$25))","v":""},null,{"$f":"IF(G584=\"\",\"\",(J583+I584-H584*(G584-G583)))","v":""},{"$f":"IF(G584=\"\",\"\",K583+J583*(G584-G583))","v":""}]
[null,null,"",null,null,null,{"$f":"IF(Analyze!G585=\"\",\"\",Analyze!G585)","v":""},{"$f":"IF(G585=\"\",\"\",IF(Analyze!Y585=\"\",Analyze!AB585,Analyze!AB585+Analyze!Y585/Summary!$Y$25))","v":""},null,"",""]
[null,null,"",null,null,null,{"$f":"IF(Analyze!G586=\"\",\"\",Analyze!G586)","v":""},{"$f":"IF(G586=\"\",\"\",IF(Analyze!Y586=\"\",Analyze!AB586,Analyze!AB586+Analyze!Y586/Summary!$Y$25))","v":""},null,"",""]
[null,null,"",null,null,null,{"$f":"IF(Analyze!G587=\"\",\"\",Analyze!G587)","v":""},{"$f":"IF(G587=\"\",\"\",IF(Analyze!Y587=\"\",Analyze!AB587,Analyze!AB587+Analyze!Y587/Summary!$Y$25))","v":""},null,"",""]
[null,null,"",null,null,null,{"$f":"IF(Analyze!G588=\"\",\"\",Analyze!G588)","v":""},{"$f":"IF(G588=\"\",\"\",IF(Analyze!Y588=\"\",Analyze!AB588,Analyze!AB588+Analyze!Y588/Summary!$Y$25))","v":""},null,"",""]
[null,null,"",null,null,null,{"$f":"IF(Analyze!G589=\"\",\"\",Analyze!G589)","v":""},{"$f":"IF(G589=\"\",\"\",IF(Analyze!Y589=\"\",Analyze!AB589,Analyze!AB589+Analyze!Y589/Summary!$Y$25))","v":""},null,"",""]
[null,null,"",null,null,null,{"$f":"IF(Analyze!G590=\"\",\"\",Analyze!G590)","v":""},{"$f":"IF(G590=\"\",\"\",IF(Analyze!Y590=\"\",Analyze!AB590,Analyze!AB590+Analyze!Y590/Summary!$Y$25))","v":""},null,"",""]
[null,null,"",null,null,null,{"$f":"IF(Analyze!G591=\"\",\"\",Analyze!G591)","v":""},{"$f":"IF(G591=\"\",\"\",IF(Analyze!Y591=\"\",Analyze!AB591,Analyze!AB591+Analyze!Y591/Summary!$Y$25))","v":""},null,"",""]
[null,null,"",null,null,null,{"$f":"IF(Analyze!G592=\"\",\"\",Analyze!G592)","v":""},{"$f":"IF(G592=\"\",\"\",IF(Analyze!Y592=\"\",Analyze!AB592,Analyze!AB592+Analyze!Y592/Summary!$Y$25))","v":""},null,"",""]
[null,null,"",null,null,null,{"$f":"IF(Analyze!G593=\"\",\"\",Analyze!G593)","v":""},{"$f":"IF(G593=\"\",\"\",IF(Analyze!Y593=\"\",Analyze!AB593,Analyze!AB593+Analyze!Y593/Summary!$Y$25))","v":""},null,"",""]
[null,null,"",null,null,null,{"$f":"IF(Analyze!G594=\"\",\"\",Analyze!G594)","v":""},{"$f":"IF(G594=\"\",\"\",IF(Analyze!Y594=\"\",Analyze!AB594,Analyze!AB594+Analyze!Y594/Summary!$Y$25))","v":""},null,"",""]
[null,null,"",null,null,null,{"$f":"IF(Analyze!G595=\"\",\"\",Analyze!G595)","v":""},{"$f":"IF(G595=\"\",\"\",IF(Analyze!Y595=\"\",Analyze!AB595,Analyze!AB595+Analyze!Y595/Summary!$Y$25))","v":""},null,"",""]
[null,null,"",null,null,null,{"$f":"IF(Analyze!G596=\"\",\"\",Analyze!G596)","v":""},{"$f":"IF(G596=\"\",\"\",IF(Analyze!Y596=\"\",Analyze!AB596,Analyze!AB596+Analyze!Y596/Summary!$Y$25))","v":""},null,"",""]
[null,null,"",null,null,null,{"$f":"IF(Analyze!G597=\"\",\"\",Analyze!G597)","v":""},{"$f":"IF(G597=\"\",\"\",IF(Analyze!Y597=\"\",Analyze!AB597,Analyze!AB597+Analyze!Y597/Summary!$Y$25))","v":""},null,"",""]
[null,null,"",null,null,null,{"$f":"IF(Analyze!G598=\"\",\"\",Analyze!G598)","v":""},{"$f":"IF(G598=\"\",\"\",IF(Analyze!Y598=\"\",Analyze!AB598,Analyze!AB598+Analyze!Y598/Summary!$Y$25))","v":""},null,"",""]
[null,null,"",null,null,null,{"$f":"IF(Analyze!G599=\"\",\"\",Analyze!G599)","v":""},{"$f":"IF(G599=\"\",\"\",IF(Analyze!Y599=\"\",Analyze!AB599,Analyze!AB599+Analyze!Y599/Summary!$Y$25))","v":""},null,"",""]
[null,null,"",null,null,null,{"$f":"IF(Analyze!G600=\"\",\"\",Analyze!G600)","v":""},{"$f":"IF(G600=\"\",\"\",IF(Analyze!Y600=\"\",Analyze!AB600,Analyze!AB600+Analyze!Y600/Summary!$Y$25))","v":""},null,"",""]
[null,null,"",null,null,null,{"$f":"IF(Analyze!G601=\"\",\"\",Analyze!G601)","v":""},{"$f":"IF(G601=\"\",\"\",IF(Analyze!Y601=\"\",Analyze!AB601,Analyze!AB601+Analyze!Y601/Summary!$Y$25))","v":""},null,"",""]
[null,null,"",null,null,null,{"$f":"IF(Analyze!G602=\"\",\"\",Analyze!G602)","v":""},{"$f":"IF(G602=\"\",\"\",IF(Analyze!Y602=\"\",Analyze!AB602,Analyze!AB602+Analyze!Y602/Summary!$Y$25))","v":""},null,"",""]
[null,null,"",null,null,null,{"$f":"IF(Analyze!G603=\"\",\"\",Analyze!G603)","v":""},{"$f":"IF(G603=\"\",\"\",IF(Analyze!Y603=\"\",Analyze!AB603,Analyze!AB603+Analyze!Y603/Summary!$Y$25))","v":""},null,"",""]
[null,null,"",null,null,null,{"$f":"IF(Analyze!G604=\"\",\"\",Analyze!G604)","v":""},{"$f":"IF(G604=\"\",\"\",IF(Analyze!Y604=\"\",Analyze!AB604,Analyze!AB604+Analyze!Y604/Summary!$Y$25))","v":""},null,"",""]
[null,null,"",null,null,null,{"$f":"IF(Analyze!G605=\"\",\"\",Analyze!G605)","v":""},{"$f":"IF(G605=\"\",\"\",IF(Analyze!Y605=\"\",Analyze!AB605,Analyze!AB605+Analyze!Y605/Summary!$Y$25))","v":""},null,"",""]
[null,null,"",null,null,null,{"$f":"IF(Analyze!G606=\"\",\"\",Analyze!G606)","v":""},{"$f":"IF(G606=\"\",\"\",IF(Analyze!Y606=\"\",Analyze!AB606,Analyze!AB606+Analyze!Y606/Summary!$Y$25))","v":""},null,"",""]
[null,null,"",null,null,null,{"$f":"IF(Analyze!G607=\"\",\"\",Analyze!G607)","v":""},{"$f":"IF(G607=\"\",\"\",IF(Analyze!Y607=\"\",Analyze!AB607,Analyze!AB607+Analyze!Y607/Summary!$Y$25))","v":""},null,"",""]
[null,null,"",null,null,null,{"$f":"IF(Analyze!G608=\"\",\"\",Analyze!G608)","v":""},{"$f":"IF(G608=\"\",\"\",IF(Analyze!Y608=\"\",Analyze!AB608,Analyze!AB608+Analyze!Y608/Summary!$Y$25))","v":""},null,"",""]
[null,null,"",null,null,null,{"$f":"IF(Analyze!G609=\"\",\"\",Analyze!G609)","v":""},{"$f":"IF(G609=\"\",\"\",IF(Analyze!Y609=\"\",Analyze!AB609,Analyze!AB609+Analyze!Y609/Summary!$Y$25))","v":""},null,"",""]
[null,null,"",null,null,null,{"$f":"IF(Analyze!G610=\"\",\"\",Analyze!G610)","v":""},{"$f":"IF(G610=\"\",\"\",IF(Analyze!Y610=\"\",Analyze!AB610,Analyze!AB610+Analyze!Y610/Summary!$Y$25))","v":""},null,"",""]
[null,null,"",null,null,null,{"$f":"IF(Analyze!G611=\"\",\"\",Analyze!G611)","v":""},{"$f":"IF(G611=\"\",\"\",IF(Analyze!Y611=\"\",Analyze!AB611,Analyze!AB611+Analyze!Y611/Summary!$Y$25))","v":""},null,"",""]
[null,null,"",null,null,null,{"$f":"IF(Analyze!G612=\"\",\"\",Analyze!G612)","v":""},{"$f":"IF(G612=\"\",\"\",IF(Analyze!Y612=\"\",Analyze!AB612,Analyze!AB612+Analyze!Y612/Summary!$Y$25))","v":""},null,"",""]
[null,null,"",null,null,null,{"$f":"IF(Analyze!G613=\"\",\"\",Analyze!G613)","v":""},{"$f":"IF(G613=\"\",\"\",IF(Analyze!Y613=\"\",Analyze!AB613,Analyze!AB613+Analyze!Y613/Summary!$Y$25))","v":""},null,"",""]
[null,null,"",null,null,null,{"$f":"IF(Analyze!G614=\"\",\"\",Analyze!G614)","v":""},{"$f":"IF(G614=\"\",\"\",IF(Analyze!Y614=\"\",Analyze!AB614,Analyze!AB614+Analyze!Y614/Summary!$Y$25))","v":""},null,"",""]
[null,null,"",null,null,null,{"$f":"IF(Analyze!G615=\"\",\"\",Analyze!G615)","v":""},{"$f":"IF(G615=\"\",\"\",IF(Analyze!Y615=\"\",Analyze!AB615,Analyze!AB615+Analyze!Y615/Summary!$Y$25))","v":""},null,"",""]
[null,null,"",null,null,null,{"$f":"IF(Analyze!G616=\"\",\"\",Analyze!G616)","v":""},{"$f":"IF(G616=\"\",\"\",IF(Analyze!Y616=\"\",Analyze!AB616,Analyze!AB616+Analyze!Y616/Summary!$Y$25))","v":""},null,"",""]
[null,null,"",null,null,null,{"$f":"IF(Analyze!G617=\"\",\"\",Analyze!G617)","v":""},{"$f":"IF(G617=\"\",\"\",IF(Analyze!Y617=\"\",Analyze!AB617,Analyze!AB617+Analyze!Y617/Summary!$Y$25))","v":""},null,"",""]
[null,null,"",null,null,null,{"$f":"IF(Analyze!G618=\"\",\"\",Analyze!G618)","v":""},{"$f":"IF(G618=\"\",\"\",IF(Analyze!Y618=\"\",Analyze!AB618,Analyze!AB618+Analyze!Y618/Summary!$Y$25))","v":""},null,"",""]
[null,null,"",null,null,null,{"$f":"IF(Analyze!G619=\"\",\"\",Analyze!G619)","v":""},{"$f":"IF(G619=\"\",\"\",IF(Analyze!Y619=\"\",Analyze!AB619,Analyze!AB619+Analyze!Y619/Summary!$Y$25))","v":""},null,"",""]
[null,null,"",null,null,null,{"$f":"IF(Analyze!G620=\"\",\"\",Analyze!G620)","v":""},{"$f":"IF(G620=\"\",\"\",IF(Analyze!Y620=\"\",Analyze!AB620,Analyze!AB620+Analyze!Y620/Summary!$Y$25))","v":""},null,"",""]
[null,null,"",null,null,null,{"$f":"IF(Analyze!G621=\"\",\"\",Analyze!G621)","v":""},{"$f":"IF(G621=\"\",\"\",IF(Analyze!Y621=\"\",Analyze!AB621,Analyze!AB621+Analyze!Y621/Summary!$Y$25))","v":""},null,"",""]
[null,null,"",null,null,null,{"$f":"IF(Analyze!G622=\"\",\"\",Analyze!G622)","v":""},{"$f":"IF(G622=\"\",\"\",IF(Analyze!Y622=\"\",Analyze!AB622,Analyze!AB622+Analyze!Y622/Summary!$Y$25))","v":""},null,"",""]
[null,null,"",null,null,null,{"$f":"IF(Analyze!G623=\"\",\"\",Analyze!G623)","v":""},{"$f":"IF(G623=\"\",\"\",IF(Analyze!Y623=\"\",Analyze!AB623,Analyze!AB623+Analyze!Y623/Summary!$Y$25))","v":""},null,"",""]
[null,null,"",null,null,null,{"$f":"IF(Analyze!G624=\"\",\"\",Analyze!G624)","v":""},{"$f":"IF(G624=\"\",\"\",IF(Analyze!Y624=\"\",Analyze!AB624,Analyze!AB624+Analyze!Y624/Summary!$Y$25))","v":""},null,"",""]
[null,null,"",null,null,null,{"$f":"IF(Analyze!G625=\"\",\"\",Analyze!G625)","v":""},{"$f":"IF(G625=\"\",\"\",IF(Analyze!Y625=\"\",Analyze!AB625,Analyze!AB625+Analyze!Y625/Summary!$Y$25))","v":""},null,"",""]
[null,null,"",null,null,null,{"$f":"IF(Analyze!G626=\"\",\"\",Analyze!G626)","v":""},{"$f":"IF(G626=\"\",\"\",IF(Analyze!Y626=\"\",Analyze!AB626,Analyze!AB626+Analyze!Y626/Summary!$Y$25))","v":""},null,"",""]
[null,null,"",null,null,null,{"$f":"IF(Analyze!G627=\"\",\"\",Analyze!G627)","v":""},{"$f":"IF(G627=\"\",\"\",IF(Analyze!Y627=\"\",Analyze!AB627,Analyze!AB627+Analyze!Y627/Summary!$Y$25))","v":""},null,"",""]
[null,null,"",null,null,null,{"$f":"IF(Analyze!G628=\"\",\"\",Analyze!G628)","v":""},{"$f":"IF(G628=\"\",\"\",IF(Analyze!Y628=\"\",Analyze!AB628,Analyze!AB628+Analyze!Y628/Summary!$Y$25))","v":""},null,"",""]
[null,null,"",null,null,null,{"$f":"IF(Analyze!G629=\"\",\"\",Analyze!G629)","v":""},{"$f":"IF(G629=\"\",\"\",IF(Analyze!Y629=\"\",Analyze!AB629,Analyze!AB629+Analyze!Y629/Summary!$Y$25))","v":""},null,"",""]
[null,null,"",null,null,null,{"$f":"IF(Analyze!G630=\"\",\"\",Analyze!G630)","v":""},{"$f":"IF(G630=\"\",\"\",IF(Analyze!Y630=\"\",Analyze!AB630,Analyze!AB630+Analyze!Y630/Summary!$Y$25))","v":""},null,"",""]
[null,null,"",null,null,null,{"$f":"IF(Analyze!G631=\"\",\"\",Analyze!G631)","v":""},{"$f":"IF(G631=\"\",\"\",IF(Analyze!Y631=\"\",Analyze!AB631,Analyze!AB631+Analyze!Y631/Summary!$Y$25))","v":""},null,"",""]
[null,null,"",null,null,null,{"$f":"IF(Analyze!G632=\"\",\"\",Analyze!G632)","v":""},{"$f":"IF(G632=\"\",\"\",IF(Analyze!Y632=\"\",Analyze!AB632,Analyze!AB632+Analyze!Y632/Summary!$Y$25))","v":""},null,"",""]
[null,null,"",null,null,null,{"$f":"IF(Analyze!G633=\"\",\"\",Analyze!G633)","v":""},{"$f":"IF(G633=\"\",\"\",IF(Analyze!Y633=\"\",Analyze!AB633,Analyze!AB633+Analyze!Y633/Summary!$Y$25))","v":""},null,"",""]
[null,null,"",null,null,null,{"$f":"IF(Analyze!G634=\"\",\"\",Analyze!G634)","v":""},{"$f":"IF(G634=\"\",\"\",IF(Analyze!Y634=\"\",Analyze!AB634,Analyze!AB634+Analyze!Y634/Summary!$Y$25))","v":""},null,"",""]
[null,null,"",null,null,null,{"$f":"IF(Analyze!G635=\"\",\"\",Analyze!G635)","v":""},{"$f":"IF(G635=\"\",\"\",IF(Analyze!Y635=\"\",Analyze!AB635,Analyze!AB635+Analyze!Y635/Summary!$Y$25))","v":""},null,"",""]
[null,null,"",null,null,null,{"$f":"IF(Analyze!G636=\"\",\"\",Analyze!G636)","v":""},{"$f":"IF(G636=\"\",\"\",IF(Analyze!Y636=\"\",Analyze!AB636,Analyze!AB636+Analyze!Y636/Summary!$Y$25))","v":""},null,"",""]
[null,null,"",null,null,null,{"$f":"IF(Analyze!G637=\"\",\"\",Analyze!G637)","v":""},{"$f":"IF(G637=\"\",\"\",IF(Analyze!Y637=\"\",Analyze!AB637,Analyze!AB637+Analyze!Y637/Summary!$Y$25))","v":""},null,"",""]
[null,null,"",null,null,null,{"$f":"IF(Analyze!G638=\"\",\"\",Analyze!G638)","v":""},{"$f":"IF(G638=\"\",\"\",IF(Analyze!Y638=\"\",Analyze!AB638,Analyze!AB638+Analyze!Y638/Summary!$Y$25))","v":""},null,"",""]
[null,null,"",null,null,null,{"$f":"IF(Analyze!G639=\"\",\"\",Analyze!G639)","v":""},{"$f":"IF(G639=\"\",\"\",IF(Analyze!Y639=\"\",Analyze!AB639,Analyze!AB639+Analyze!Y639/Summary!$Y$25))","v":""},null,"",""]
[null,null,"",null,null,null,{"$f":"IF(Analyze!G640=\"\",\"\",Analyze!G640)","v":""},{"$f":"IF(G640=\"\",\"\",IF(Analyze!Y640=\"\",Analyze!AB640,Analyze!AB640+Analyze!Y640/Summary!$Y$25))","v":""},null,"",""]
[null,null,"",null,null,null,{"$f":"IF(Analyze!G641=\"\",\"\",Analyze!G641)","v":""},{"$f":"IF(G641=\"\",\"\",IF(Analyze!Y641=\"\",Analyze!AB641,Analyze!AB641+Analyze!Y641/Summary!$Y$25))","v":""},null,"",""]
[null,null,"",null,null,null,{"$f":"IF(Analyze!G642=\"\",\"\",Analyze!G642)","v":""},{"$f":"IF(G642=\"\",\"\",IF(Analyze!Y642=\"\",Analyze!AB642,Analyze!AB642+Analyze!Y642/Summary!$Y$25))","v":""},null,"",""]
[null,null,"",null,null,null,{"$f":"IF(Analyze!G643=\"\",\"\",Analyze!G643)","v":""},{"$f":"IF(G643=\"\",\"\",IF(Analyze!Y643=\"\",Analyze!AB643,Analyze!AB643+Analyze!Y643/Summary!$Y$25))","v":""},null,"",""]
[null,null,"",null,null,null,{"$f":"IF(Analyze!G644=\"\",\"\",Analyze!G644)","v":""},{"$f":"IF(G644=\"\",\"\",IF(Analyze!Y644=\"\",Analyze!AB644,Analyze!AB644+Analyze!Y644/Summary!$Y$25))","v":""},null,"",""]
[null,null,"",null,null,null,{"$f":"IF(Analyze!G645=\"\",\"\",Analyze!G645)","v":""},{"$f":"IF(G645=\"\",\"\",IF(Analyze!Y645=\"\",Analyze!AB645,Analyze!AB645+Analyze!Y645/Summary!$Y$25))","v":""},null,"",""]
[null,null,"",null,null,null,{"$f":"IF(Analyze!G646=\"\",\"\",Analyze!G646)","v":""},{"$f":"IF(G646=\"\",\"\",IF(Analyze!Y646=\"\",Analyze!AB646,Analyze!AB646+Analyze!Y646/Summary!$Y$25))","v":""},null,"",""]
[null,null,{"$f":"IF(G647=\"\",\"\",G647/10)","v":""},null,null,null,{"$f":"IF(Analyze!G647=\"\",\"\",Analyze!G647)","v":""},{"$f":"IF(G647=\"\",\"\",IF(Analyze!Y647=\"\",Analyze!AB647,Analyze!AB647+Analyze!Y647/Summary!$Y$25))","v":""},null,"",""]
[null,null,"",null,null,null,{"$f":"IF(Analyze!G648=\"\",\"\",Analyze!G648)","v":""},{"$f":"IF(G648=\"\",\"\",IF(Analyze!Y648=\"\",Analyze!AB648,Analyze!AB648+Analyze!Y648/Summary!$Y$25))","v":""},null,{"$f":"IF(G648=\"\",\"\",(J647+I648-H648*(G648-G647)))","v":""},{"$f":"IF(G648=\"\",\"\",K647+J647*(G648-G647))","v":""}]
[null,null,"",null,null,null,{"$f":"IF(Analyze!G649=\"\",\"\",Analyze!G649)","v":""},{"$f":"IF(G649=\"\",\"\",IF(Analyze!Y649=\"\",Analyze!AB649,Analyze!AB649+Analyze!Y649/Summary!$Y$25))","v":""},null,"",""]
[null,null,"",null,null,null,{"$f":"IF(Analyze!G650=\"\",\"\",Analyze!G650)","v":""},{"$f":"IF(G650=\"\",\"\",IF(Analyze!Y650=\"\",Analyze!AB650,Analyze!AB650+Analyze!Y650/Summary!$Y$25))","v":""},null,"",""]
[null,null,"",null,null,null,{"$f":"IF(Analyze!G651=\"\",\"\",Analyze!G651)","v":""},{"$f":"IF(G651=\"\",\"\",IF(Analyze!Y651=\"\",Analyze!AB651,Analyze!AB651+Analyze!Y651/Summary!$Y$25))","v":""},null,"",""]
[null,null,"",null,null,null,{"$f":"IF(Analyze!G652=\"\",\"\",Analyze!G652)","v":""},{"$f":"IF(G652=\"\",\"\",IF(Analyze!Y652=\"\",Analyze!AB652,Analyze!AB652+Analyze!Y652/Summary!$Y$25))","v":""},null,"",""]
[null,null,"",null,null,null,{"$f":"IF(Analyze!G653=\"\",\"\",Analyze!G653)","v":""},{"$f":"IF(G653=\"\",\"\",IF(Analyze!Y653=\"\",Analyze!AB653,Analyze!AB653+Analyze!Y653/Summary!$Y$25))","v":""},null,"",""]
[null,null,"",null,null,null,{"$f":"IF(Analyze!G654=\"\",\"\",Analyze!G654)","v":""},{"$f":"IF(G654=\"\",\"\",IF(Analyze!Y654=\"\",Analyze!AB654,Analyze!AB654+Analyze!Y654/Summary!$Y$25))","v":""},null,"",""]
[null,null,"",null,null,null,{"$f":"IF(Analyze!G655=\"\",\"\",Analyze!G655)","v":""},{"$f":"IF(G655=\"\",\"\",IF(Analyze!Y655=\"\",Analyze!AB655,Analyze!AB655+Analyze!Y655/Summary!$Y$25))","v":""},null,"",""]
[null,null,"",null,null,null,{"$f":"IF(Analyze!G656=\"\",\"\",Analyze!G656)","v":""},{"$f":"IF(G656=\"\",\"\",IF(Analyze!Y656=\"\",Analyze!AB656,Analyze!AB656+Analyze!Y656/Summary!$Y$25))","v":""},null,"",""]
[null,null,"",null,null,null,{"$f":"IF(Analyze!G657=\"\",\"\",Analyze!G657)","v":""},{"$f":"IF(G657=\"\",\"\",IF(Analyze!Y657=\"\",Analyze!AB657,Analyze!AB657+Analyze!Y657/Summary!$Y$25))","v":""},null,"",""]
[null,null,"",null,null,null,{"$f":"IF(Analyze!G658=\"\",\"\",Analyze!G658)","v":""},{"$f":"IF(G658=\"\",\"\",IF(Analyze!Y658=\"\",Analyze!AB658,Analyze!AB658+Analyze!Y658/Summary!$Y$25))","v":""},null,"",""]
[null,null,"",null,null,null,{"$f":"IF(Analyze!G659=\"\",\"\",Analyze!G659)","v":""},{"$f":"IF(G659=\"\",\"\",IF(Analyze!Y659=\"\",Analyze!AB659,Analyze!AB659+Analyze!Y659/Summary!$Y$25))","v":""},null,"",""]
[null,null,"",null,null,null,{"$f":"IF(Analyze!G660=\"\",\"\",Analyze!G660)","v":""},{"$f":"IF(G660=\"\",\"\",IF(Analyze!Y660=\"\",Analyze!AB660,Analyze!AB660+Analyze!Y660/Summary!$Y$25))","v":""},null,"",""]
[null,null,"",null,null,null,{"$f":"IF(Analyze!G661=\"\",\"\",Analyze!G661)","v":""},{"$f":"IF(G661=\"\",\"\",IF(Analyze!Y661=\"\",Analyze!AB661,Analyze!AB661+Analyze!Y661/Summary!$Y$25))","v":""},null,"",""]
[null,null,"",null,null,null,{"$f":"IF(Analyze!G662=\"\",\"\",Analyze!G662)","v":""},{"$f":"IF(G662=\"\",\"\",IF(Analyze!Y662=\"\",Analyze!AB662,Analyze!AB662+Analyze!Y662/Summary!$Y$25))","v":""},null,"",""]
[null,null,"",null,null,null,{"$f":"IF(Analyze!G663=\"\",\"\",Analyze!G663)","v":""},{"$f":"IF(G663=\"\",\"\",IF(Analyze!Y663=\"\",Analyze!AB663,Analyze!AB663+Analyze!Y663/Summary!$Y$25))","v":""},null,"",""]
[null,null,"",null,null,null,{"$f":"IF(Analyze!G664=\"\",\"\",Analyze!G664)","v":""},{"$f":"IF(G664=\"\",\"\",IF(Analyze!Y664=\"\",Analyze!AB664,Analyze!AB664+Analyze!Y664/Summary!$Y$25))","v":""},null,"",""]
[null,null,"",null,null,null,{"$f":"IF(Analyze!G665=\"\",\"\",Analyze!G665)","v":""},{"$f":"IF(G665=\"\",\"\",IF(Analyze!Y665=\"\",Analyze!AB665,Analyze!AB665+Analyze!Y665/Summary!$Y$25))","v":""},null,"",""]
[null,null,"",null,null,null,{"$f":"IF(Analyze!G666=\"\",\"\",Analyze!G666)","v":""},{"$f":"IF(G666=\"\",\"\",IF(Analyze!Y666=\"\",Analyze!AB666,Analyze!AB666+Analyze!Y666/Summary!$Y$25))","v":""},null,"",""]
[null,null,"",null,null,null,{"$f":"IF(Analyze!G667=\"\",\"\",Analyze!G667)","v":""},{"$f":"IF(G667=\"\",\"\",IF(Analyze!Y667=\"\",Analyze!AB667,Analyze!AB667+Analyze!Y667/Summary!$Y$25))","v":""},null,"",""]
[null,null,"",null,null,null,{"$f":"IF(Analyze!G668=\"\",\"\",Analyze!G668)","v":""},{"$f":"IF(G668=\"\",\"\",IF(Analyze!Y668=\"\",Analyze!AB668,Analyze!AB668+Analyze!Y668/Summary!$Y$25))","v":""},null,"",""]
[null,null,"",null,null,null,{"$f":"IF(Analyze!G669=\"\",\"\",Analyze!G669)","v":""},{"$f":"IF(G669=\"\",\"\",IF(Analyze!Y669=\"\",Analyze!AB669,Analyze!AB669+Analyze!Y669/Summary!$Y$25))","v":""},null,"",""]
[null,null,"",null,null,null,{"$f":"IF(Analyze!G670=\"\",\"\",Analyze!G670)","v":""},{"$f":"IF(G670=\"\",\"\",IF(Analyze!Y670=\"\",Analyze!AB670,Analyze!AB670+Analyze!Y670/Summary!$Y$25))","v":""},null,"",""]
[null,null,"",null,null,null,{"$f":"IF(Analyze!G671=\"\",\"\",Analyze!G671)","v":""},{"$f":"IF(G671=\"\",\"\",IF(Analyze!Y671=\"\",Analyze!AB671,Analyze!AB671+Analyze!Y671/Summary!$Y$25))","v":""},null,"",""]
[null,null,"",null,null,null,{"$f":"IF(Analyze!G672=\"\",\"\",Analyze!G672)","v":""},{"$f":"IF(G672=\"\",\"\",IF(Analyze!Y672=\"\",Analyze!AB672,Analyze!AB672+Analyze!Y672/Summary!$Y$25))","v":""},null,"",""]
[null,null,"",null,null,null,{"$f":"IF(Analyze!G673=\"\",\"\",Analyze!G673)","v":""},{"$f":"IF(G673=\"\",\"\",IF(Analyze!Y673=\"\",Analyze!AB673,Analyze!AB673+Analyze!Y673/Summary!$Y$25))","v":""},null,"",""]
[null,null,"",null,null,null,{"$f":"IF(Analyze!G674=\"\",\"\",Analyze!G674)","v":""},{"$f":"IF(G674=\"\",\"\",IF(Analyze!Y674=\"\",Analyze!AB674,Analyze!AB674+Analyze!Y674/Summary!$Y$25))","v":""},null,"",""]
[null,null,"",null,null,null,{"$f":"IF(Analyze!G675=\"\",\"\",Analyze!G675)","v":""},{"$f":"IF(G675=\"\",\"\",IF(Analyze!Y675=\"\",Analyze!AB675,Analyze!AB675+Analyze!Y675/Summary!$Y$25))","v":""},null,"",""]
[null,null,"",null,null,null,{"$f":"IF(Analyze!G676=\"\",\"\",Analyze!G676)","v":""},{"$f":"IF(G676=\"\",\"\",IF(Analyze!Y676=\"\",Analyze!AB676,Analyze!AB676+Analyze!Y676/Summary!$Y$25))","v":""},null,"",""]
[null,null,"",null,null,null,{"$f":"IF(Analyze!G677=\"\",\"\",Analyze!G677)","v":""},{"$f":"IF(G677=\"\",\"\",IF(Analyze!Y677=\"\",Analyze!AB677,Analyze!AB677+Analyze!Y677/Summary!$Y$25))","v":""},null,"",""]
[null,null,"",null,null,null,{"$f":"IF(Analyze!G678=\"\",\"\",Analyze!G678)","v":""},{"$f":"IF(G678=\"\",\"\",IF(Analyze!Y678=\"\",Analyze!AB678,Analyze!AB678+Analyze!Y678/Summary!$Y$25))","v":""},null,"",""]
[null,null,"",null,null,null,{"$f":"IF(Analyze!G679=\"\",\"\",Analyze!G679)","v":""},{"$f":"IF(G679=\"\",\"\",IF(Analyze!Y679=\"\",Analyze!AB679,Analyze!AB679+Analyze!Y679/Summary!$Y$25))","v":""},null,"",""]
[null,null,"",null,null,null,{"$f":"IF(Analyze!G680=\"\",\"\",Analyze!G680)","v":""},{"$f":"IF(G680=\"\",\"\",IF(Analyze!Y680=\"\",Analyze!AB680,Analyze!AB680+Analyze!Y680/Summary!$Y$25))","v":""},null,"",""]
[null,null,"",null,null,null,{"$f":"IF(Analyze!G681=\"\",\"\",Analyze!G681)","v":""},{"$f":"IF(G681=\"\",\"\",IF(Analyze!Y681=\"\",Analyze!AB681,Analyze!AB681+Analyze!Y681/Summary!$Y$25))","v":""},null,"",""]
[null,null,"",null,null,null,{"$f":"IF(Analyze!G682=\"\",\"\",Analyze!G682)","v":""},{"$f":"IF(G682=\"\",\"\",IF(Analyze!Y682=\"\",Analyze!AB682,Analyze!AB682+Analyze!Y682/Summary!$Y$25))","v":""},null,"",""]
[null,null,"",null,null,null,{"$f":"IF(Analyze!G683=\"\",\"\",Analyze!G683)","v":""},{"$f":"IF(G683=\"\",\"\",IF(Analyze!Y683=\"\",Analyze!AB683,Analyze!AB683+Analyze!Y683/Summary!$Y$25))","v":""},null,"",""]
[null,null,"",null,null,null,{"$f":"IF(Analyze!G684=\"\",\"\",Analyze!G684)","v":""},{"$f":"IF(G684=\"\",\"\",IF(Analyze!Y684=\"\",Analyze!AB684,Analyze!AB684+Analyze!Y684/Summary!$Y$25))","v":""},null,"",""]
[null,null,"",null,null,null,{"$f":"IF(Analyze!G685=\"\",\"\",Analyze!G685)","v":""},{"$f":"IF(G685=\"\",\"\",IF(Analyze!Y685=\"\",Analyze!AB685,Analyze!AB685+Analyze!Y685/Summary!$Y$25))","v":""},null,"",""]
[null,null,"",null,null,null,{"$f":"IF(Analyze!G686=\"\",\"\",Analyze!G686)","v":""},{"$f":"IF(G686=\"\",\"\",IF(Analyze!Y686=\"\",Analyze!AB686,Analyze!AB686+Analyze!Y686/Summary!$Y$25))","v":""},null,"",""]
[null,null,"",null,null,null,{"$f":"IF(Analyze!G687=\"\",\"\",Analyze!G687)","v":""},{"$f":"IF(G687=\"\",\"\",IF(Analyze!Y687=\"\",Analyze!AB687,Analyze!AB687+Analyze!Y687/Summary!$Y$25))","v":""},null,"",""]
[null,null,"",null,null,null,{"$f":"IF(Analyze!G688=\"\",\"\",Analyze!G688)","v":""},{"$f":"IF(G688=\"\",\"\",IF(Analyze!Y688=\"\",Analyze!AB688,Analyze!AB688+Analyze!Y688/Summary!$Y$25))","v":""},null,"",""]
[null,null,"",null,null,null,{"$f":"IF(Analyze!G689=\"\",\"\",Analyze!G689)","v":""},{"$f":"IF(G689=\"\",\"\",IF(Analyze!Y689=\"\",Analyze!AB689,Analyze!AB689+Analyze!Y689/Summary!$Y$25))","v":""},null,"",""]
[null,null,"",null,null,null,{"$f":"IF(Analyze!G690=\"\",\"\",Analyze!G690)","v":""},{"$f":"IF(G690=\"\",\"\",IF(Analyze!Y690=\"\",Analyze!AB690,Analyze!AB690+Analyze!Y690/Summary!$Y$25))","v":""},null,"",""]
[null,null,"",null,null,null,{"$f":"IF(Analyze!G691=\"\",\"\",Analyze!G691)","v":""},{"$f":"IF(G691=\"\",\"\",IF(Analyze!Y691=\"\",Analyze!AB691,Analyze!AB691+Analyze!Y691/Summary!$Y$25))","v":""},null,"",""]
[null,null,"",null,null,null,{"$f":"IF(Analyze!G692=\"\",\"\",Analyze!G692)","v":""},{"$f":"IF(G692=\"\",\"\",IF(Analyze!Y692=\"\",Analyze!AB692,Analyze!AB692+Analyze!Y692/Summary!$Y$25))","v":""},null,"",""]
[null,null,"",null,null,null,{"$f":"IF(Analyze!G693=\"\",\"\",Analyze!G693)","v":""},{"$f":"IF(G693=\"\",\"\",IF(Analyze!Y693=\"\",Analyze!AB693,Analyze!AB693+Analyze!Y693/Summary!$Y$25))","v":""},null,"",""]
[null,null,"",null,null,null,{"$f":"IF(Analyze!G694=\"\",\"\",Analyze!G694)","v":""},{"$f":"IF(G694=\"\",\"\",IF(Analyze!Y694=\"\",Analyze!AB694,Analyze!AB694+Analyze!Y694/Summary!$Y$25))","v":""},null,"",""]
[null,null,"",null,null,null,{"$f":"IF(Analyze!G695=\"\",\"\",Analyze!G695)","v":""},{"$f":"IF(G695=\"\",\"\",IF(Analyze!Y695=\"\",Analyze!AB695,Analyze!AB695+Analyze!Y695/Summary!$Y$25))","v":""},null,"",""]
[null,null,"",null,null,null,{"$f":"IF(Analyze!G696=\"\",\"\",Analyze!G696)","v":""},{"$f":"IF(G696=\"\",\"\",IF(Analyze!Y696=\"\",Analyze!AB696,Analyze!AB696+Analyze!Y696/Summary!$Y$25))","v":""},null,"",""]
[null,null,"",null,null,null,{"$f":"IF(Analyze!G697=\"\",\"\",Analyze!G697)","v":""},{"$f":"IF(G697=\"\",\"\",IF(Analyze!Y697=\"\",Analyze!AB697,Analyze!AB697+Analyze!Y697/Summary!$Y$25))","v":""},null,"",""]
[null,null,"",null,null,null,{"$f":"IF(Analyze!G698=\"\",\"\",Analyze!G698)","v":""},{"$f":"IF(G698=\"\",\"\",IF(Analyze!Y698=\"\",Analyze!AB698,Analyze!AB698+Analyze!Y698/Summary!$Y$25))","v":""},null,"",""]
[null,null,"",null,null,null,{"$f":"IF(Analyze!G699=\"\",\"\",Analyze!G699)","v":""},{"$f":"IF(G699=\"\",\"\",IF(Analyze!Y699=\"\",Analyze!AB699,Analyze!AB699+Analyze!Y699/Summary!$Y$25))","v":""},null,"",""]
[null,null,"",null,null,null,{"$f":"IF(Analyze!G700=\"\",\"\",Analyze!G700)","v":""},{"$f":"IF(G700=\"\",\"\",IF(Analyze!Y700=\"\",Analyze!AB700,Analyze!AB700+Analyze!Y700/Summary!$Y$25))","v":""},null,"",""]
[null,null,"",null,null,null,{"$f":"IF(Analyze!G701=\"\",\"\",Analyze!G701)","v":""},{"$f":"IF(G701=\"\",\"\",IF(Analyze!Y701=\"\",Analyze!AB701,Analyze!AB701+Analyze!Y701/Summary!$Y$25))","v":""},null,"",""]
[null,null,"",null,null,null,{"$f":"IF(Analyze!G702=\"\",\"\",Analyze!G702)","v":""},{"$f":"IF(G702=\"\",\"\",IF(Analyze!Y702=\"\",Analyze!AB702,Analyze!AB702+Analyze!Y702/Summary!$Y$25))","v":""},null,"",""]
[null,null,"",null,null,null,{"$f":"IF(Analyze!G703=\"\",\"\",Analyze!G703)","v":""},{"$f":"IF(G703=\"\",\"\",IF(Analyze!Y703=\"\",Analyze!AB703,Analyze!AB703+Analyze!Y703/Summary!$Y$25))","v":""},null,"",""]
[null,null,"",null,null,null,{"$f":"IF(Analyze!G704=\"\",\"\",Analyze!G704)","v":""},{"$f":"IF(G704=\"\",\"\",IF(Analyze!Y704=\"\",Analyze!AB704,Analyze!AB704+Analyze!Y704/Summary!$Y$25))","v":""},null,"",""]
[null,null,"",null,null,null,{"$f":"IF(Analyze!G705=\"\",\"\",Analyze!G705)","v":""},{"$f":"IF(G705=\"\",\"\",IF(Analyze!Y705=\"\",Analyze!AB705,Analyze!AB705+Analyze!Y705/Summary!$Y$25))","v":""},null,"",""]
[null,null,"",null,null,null,{"$f":"IF(Analyze!G706=\"\",\"\",Analyze!G706)","v":""},{"$f":"IF(G706=\"\",\"\",IF(Analyze!Y706=\"\",Analyze!AB706,Analyze!AB706+Analyze!Y706/Summary!$Y$25))","v":""},null,"",""]
[null,null,"",null,null,null,{"$f":"IF(Analyze!G707=\"\",\"\",Analyze!G707)","v":""},{"$f":"IF(G707=\"\",\"\",IF(Analyze!Y707=\"\",Analyze!AB707,Analyze!AB707+Analyze!Y707/Summary!$Y$25))","v":""},null,"",""]
[null,null,"",null,null,null,{"$f":"IF(Analyze!G708=\"\",\"\",Analyze!G708)","v":""},{"$f":"IF(G708=\"\",\"\",IF(Analyze!Y708=\"\",Analyze!AB708,Analyze!AB708+Analyze!Y708/Summary!$Y$25))","v":""},null,"",""]
[null,null,"",null,null,null,{"$f":"IF(Analyze!G709=\"\",\"\",Analyze!G709)","v":""},{"$f":"IF(G709=\"\",\"\",IF(Analyze!Y709=\"\",Analyze!AB709,Analyze!AB709+Analyze!Y709/Summary!$Y$25))","v":""},null,"",""]
[null,null,"",null,null,null,{"$f":"IF(Analyze!G710=\"\",\"\",Analyze!G710)","v":""},{"$f":"IF(G710=\"\",\"\",IF(Analyze!Y710=\"\",Analyze!AB710,Analyze!AB710+Analyze!Y710/Summary!$Y$25))","v":""},null,"",""]
[null,null,{"$f":"IF(G711=\"\",\"\",G711/10)","v":""},null,null,null,{"$f":"IF(Analyze!G711=\"\",\"\",Analyze!G711)","v":""},{"$f":"IF(G711=\"\",\"\",IF(Analyze!Y711=\"\",Analyze!AB711,Analyze!AB711+Analyze!Y711/Summary!$Y$25))","v":""},null,"",""]
[null,null,"",null,null,null,{"$f":"IF(Analyze!G712=\"\",\"\",Analyze!G712)","v":""},{"$f":"IF(G712=\"\",\"\",IF(Analyze!Y712=\"\",Analyze!AB712,Analyze!AB712+Analyze!Y712/Summary!$Y$25))","v":""},null,{"$f":"IF(G712=\"\",\"\",(J711+I712-H712*(G712-G711)))","v":""},{"$f":"IF(G712=\"\",\"\",K711+J711*(G712-G711))","v":""}]
[null,null,"",null,null,null,{"$f":"IF(Analyze!G713=\"\",\"\",Analyze!G713)","v":""},{"$f":"IF(G713=\"\",\"\",IF(Analyze!Y713=\"\",Analyze!AB713,Analyze!AB713+Analyze!Y713/Summary!$Y$25))","v":""},null,"",""]
[null,null,"",null,null,null,{"$f":"IF(Analyze!G714=\"\",\"\",Analyze!G714)","v":""},{"$f":"IF(G714=\"\",\"\",IF(Analyze!Y714=\"\",Analyze!AB714,Analyze!AB714+Analyze!Y714/Summary!$Y$25))","v":""},null,"",""]
[null,null,"",null,null,null,{"$f":"IF(Analyze!G715=\"\",\"\",Analyze!G715)","v":""},{"$f":"IF(G715=\"\",\"\",IF(Analyze!Y715=\"\",Analyze!AB715,Analyze!AB715+Analyze!Y715/Summary!$Y$25))","v":""},null,"",""]
[null,null,"",null,null,null,{"$f":"IF(Analyze!G716=\"\",\"\",Analyze!G716)","v":""},{"$f":"IF(G716=\"\",\"\",IF(Analyze!Y716=\"\",Analyze!AB716,Analyze!AB716+Analyze!Y716/Summary!$Y$25))","v":""},null,"",""]
[null,null,"",null,null,null,{"$f":"IF(Analyze!G717=\"\",\"\",Analyze!G717)","v":""},{"$f":"IF(G717=\"\",\"\",IF(Analyze!Y717=\"\",Analyze!AB717,Analyze!AB717+Analyze!Y717/Summary!$Y$25))","v":""},null,"",""]
[null,null,"",null,null,null,{"$f":"IF(Analyze!G718=\"\",\"\",Analyze!G718)","v":""},{"$f":"IF(G718=\"\",\"\",IF(Analyze!Y718=\"\",Analyze!AB718,Analyze!AB718+Analyze!Y718/Summary!$Y$25))","v":""},null,"",""]
[null,null,"",null,null,null,{"$f":"IF(Analyze!G719=\"\",\"\",Analyze!G719)","v":""},{"$f":"IF(G719=\"\",\"\",IF(Analyze!Y719=\"\",Analyze!AB719,Analyze!AB719+Analyze!Y719/Summary!$Y$25))","v":""},null,"",""]
[null,null,"",null,null,null,{"$f":"IF(Analyze!G720=\"\",\"\",Analyze!G720)","v":""},{"$f":"IF(G720=\"\",\"\",IF(Analyze!Y720=\"\",Analyze!AB720,Analyze!AB720+Analyze!Y720/Summary!$Y$25))","v":""},null,"",""]
[null,null,"",null,null,null,{"$f":"IF(Analyze!G721=\"\",\"\",Analyze!G721)","v":""},{"$f":"IF(G721=\"\",\"\",IF(Analyze!Y721=\"\",Analyze!AB721,Analyze!AB721+Analyze!Y721/Summary!$Y$25))","v":""},null,"",""]
[null,null,"",null,null,null,{"$f":"IF(Analyze!G722=\"\",\"\",Analyze!G722)","v":""},{"$f":"IF(G722=\"\",\"\",IF(Analyze!Y722=\"\",Analyze!AB722,Analyze!AB722+Analyze!Y722/Summary!$Y$25))","v":""},null,"",""]
[null,null,"",null,null,null,{"$f":"IF(Analyze!G723=\"\",\"\",Analyze!G723)","v":""},{"$f":"IF(G723=\"\",\"\",IF(Analyze!Y723=\"\",Analyze!AB723,Analyze!AB723+Analyze!Y723/Summary!$Y$25))","v":""},null,"",""]
[null,null,"",null,null,null,{"$f":"IF(Analyze!G724=\"\",\"\",Analyze!G724)","v":""},{"$f":"IF(G724=\"\",\"\",IF(Analyze!Y724=\"\",Analyze!AB724,Analyze!AB724+Analyze!Y724/Summary!$Y$25))","v":""},null,"",""]
[null,null,"",null,null,null,{"$f":"IF(Analyze!G725=\"\",\"\",Analyze!G725)","v":""},{"$f":"IF(G725=\"\",\"\",IF(Analyze!Y725=\"\",Analyze!AB725,Analyze!AB725+Analyze!Y725/Summary!$Y$25))","v":""},null,"",""]
[null,null,"",null,null,null,{"$f":"IF(Analyze!G726=\"\",\"\",Analyze!G726)","v":""},{"$f":"IF(G726=\"\",\"\",IF(Analyze!Y726=\"\",Analyze!AB726,Analyze!AB726+Analyze!Y726/Summary!$Y$25))","v":""},null,"",""]
[null,null,"",null,null,null,{"$f":"IF(Analyze!G727=\"\",\"\",Analyze!G727)","v":""},{"$f":"IF(G727=\"\",\"\",IF(Analyze!Y727=\"\",Analyze!AB727,Analyze!AB727+Analyze!Y727/Summary!$Y$25))","v":""},null,"",""]
[null,null,"",null,null,null,{"$f":"IF(Analyze!G728=\"\",\"\",Analyze!G728)","v":""},{"$f":"IF(G728=\"\",\"\",IF(Analyze!Y728=\"\",Analyze!AB728,Analyze!AB728+Analyze!Y728/Summary!$Y$25))","v":""},null,"",""]
[null,null,"",null,null,null,{"$f":"IF(Analyze!G729=\"\",\"\",Analyze!G729)","v":""},{"$f":"IF(G729=\"\",\"\",IF(Analyze!Y729=\"\",Analyze!AB729,Analyze!AB729+Analyze!Y729/Summary!$Y$25))","v":""},null,"",""]
[null,null,"",null,null,null,{"$f":"IF(Analyze!G730=\"\",\"\",Analyze!G730)","v":""},{"$f":"IF(G730=\"\",\"\",IF(Analyze!Y730=\"\",Analyze!AB730,Analyze!AB730+Analyze!Y730/Summary!$Y$25))","v":""},null,"",""]
[null,null,"",null,null,null,{"$f":"IF(Analyze!G731=\"\",\"\",Analyze!G731)","v":""},{"$f":"IF(G731=\"\",\"\",IF(Analyze!Y731=\"\",Analyze!AB731,Analyze!AB731+Analyze!Y731/Summary!$Y$25))","v":""},null,"",""]
[null,null,"",null,null,null,{"$f":"IF(Analyze!G732=\"\",\"\",Analyze!G732)","v":""},{"$f":"IF(G732=\"\",\"\",IF(Analyze!Y732=\"\",Analyze!AB732,Analyze!AB732+Analyze!Y732/Summary!$Y$25))","v":""},null,"",""]
[null,null,"",null,null,null,{"$f":"IF(Analyze!G733=\"\",\"\",Analyze!G733)","v":""},{"$f":"IF(G733=\"\",\"\",IF(Analyze!Y733=\"\",Analyze!AB733,Analyze!AB733+Analyze!Y733/Summary!$Y$25))","v":""},null,"",""]
[null,null,"",null,null,null,{"$f":"IF(Analyze!G734=\"\",\"\",Analyze!G734)","v":""},{"$f":"IF(G734=\"\",\"\",IF(Analyze!Y734=\"\",Analyze!AB734,Analyze!AB734+Analyze!Y734/Summary!$Y$25))","v":""},null,"",""]
[null,null,"",null,null,null,{"$f":"IF(Analyze!G735=\"\",\"\",Analyze!G735)","v":""},{"$f":"IF(G735=\"\",\"\",IF(Analyze!Y735=\"\",Analyze!AB735,Analyze!AB735+Analyze!Y735/Summary!$Y$25))","v":""},null,"",""]
[null,null,"",null,null,null,{"$f":"IF(Analyze!G736=\"\",\"\",Analyze!G736)","v":""},{"$f":"IF(G736=\"\",\"\",IF(Analyze!Y736=\"\",Analyze!AB736,Analyze!AB736+Analyze!Y736/Summary!$Y$25))","v":""},null,"",""]
[null,null,"",null,null,null,{"$f":"IF(Analyze!G737=\"\",\"\",Analyze!G737)","v":""},{"$f":"IF(G737=\"\",\"\",IF(Analyze!Y737=\"\",Analyze!AB737,Analyze!AB737+Analyze!Y737/Summary!$Y$25))","v":""},null,"",""]
[null,null,"",null,null,null,{"$f":"IF(Analyze!G738=\"\",\"\",Analyze!G738)","v":""},{"$f":"IF(G738=\"\",\"\",IF(Analyze!Y738=\"\",Analyze!AB738,Analyze!AB738+Analyze!Y738/Summary!$Y$25))","v":""},null,"",""]
[null,null,"",null,null,null,{"$f":"IF(Analyze!G739=\"\",\"\",Analyze!G739)","v":""},{"$f":"IF(G739=\"\",\"\",IF(Analyze!Y739=\"\",Analyze!AB739,Analyze!AB739+Analyze!Y739/Summary!$Y$25))","v":""},null,"",""]
[null,null,"",null,null,null,{"$f":"IF(Analyze!G740=\"\",\"\",Analyze!G740)","v":""},{"$f":"IF(G740=\"\",\"\",IF(Analyze!Y740=\"\",Analyze!AB740,Analyze!AB740+Analyze!Y740/Summary!$Y$25))","v":""},null,"",""]
[null,null,"",null,null,null,{"$f":"IF(Analyze!G741=\"\",\"\",Analyze!G741)","v":""},{"$f":"IF(G741=\"\",\"\",IF(Analyze!Y741=\"\",Analyze!AB741,Analyze!AB741+Analyze!Y741/Summary!$Y$25))","v":""},null,"",""]
[null,null,"",null,null,null,{"$f":"IF(Analyze!G742=\"\",\"\",Analyze!G742)","v":""},{"$f":"IF(G742=\"\",\"\",IF(Analyze!Y742=\"\",Analyze!AB742,Analyze!AB742+Analyze!Y742/Summary!$Y$25))","v":""},null,"",""]
[null,null,"",null,null,null,{"$f":"IF(Analyze!G743=\"\",\"\",Analyze!G743)","v":""},{"$f":"IF(G743=\"\",\"\",IF(Analyze!Y743=\"\",Analyze!AB743,Analyze!AB743+Analyze!Y743/Summary!$Y$25))","v":""},null,"",""]
[null,null,"",null,null,null,{"$f":"IF(Analyze!G744=\"\",\"\",Analyze!G744)","v":""},{"$f":"IF(G744=\"\",\"\",IF(Analyze!Y744=\"\",Analyze!AB744,Analyze!AB744+Analyze!Y744/Summary!$Y$25))","v":""},null,"",""]
[null,null,"",null,null,null,{"$f":"IF(Analyze!G745=\"\",\"\",Analyze!G745)","v":""},{"$f":"IF(G745=\"\",\"\",IF(Analyze!Y745=\"\",Analyze!AB745,Analyze!AB745+Analyze!Y745/Summary!$Y$25))","v":""},null,"",""]
[null,null,"",null,null,null,{"$f":"IF(Analyze!G746=\"\",\"\",Analyze!G746)","v":""},{"$f":"IF(G746=\"\",\"\",IF(Analyze!Y746=\"\",Analyze!AB746,Analyze!AB746+Analyze!Y746/Summary!$Y$25))","v":""},null,"",""]
[null,null,"",null,null,null,{"$f":"IF(Analyze!G747=\"\",\"\",Analyze!G747)","v":""},{"$f":"IF(G747=\"\",\"\",IF(Analyze!Y747=\"\",Analyze!AB747,Analyze!AB747+Analyze!Y747/Summary!$Y$25))","v":""},null,"",""]
[null,null,"",null,null,null,{"$f":"IF(Analyze!G748=\"\",\"\",Analyze!G748)","v":""},{"$f":"IF(G748=\"\",\"\",IF(Analyze!Y748=\"\",Analyze!AB748,Analyze!AB748+Analyze!Y748/Summary!$Y$25))","v":""},null,"",""]
[null,null,"",null,null,null,{"$f":"IF(Analyze!G749=\"\",\"\",Analyze!G749)","v":""},{"$f":"IF(G749=\"\",\"\",IF(Analyze!Y749=\"\",Analyze!AB749,Analyze!AB749+Analyze!Y749/Summary!$Y$25))","v":""},null,"",""]
[null,null,"",null,null,null,{"$f":"IF(Analyze!G750=\"\",\"\",Analyze!G750)","v":""},{"$f":"IF(G750=\"\",\"\",IF(Analyze!Y750=\"\",Analyze!AB750,Analyze!AB750+Analyze!Y750/Summary!$Y$25))","v":""},null,"",""]
[null,null,"",null,null,null,{"$f":"IF(Analyze!G751=\"\",\"\",Analyze!G751)","v":""},{"$f":"IF(G751=\"\",\"\",IF(Analyze!Y751=\"\",Analyze!AB751,Analyze!AB751+Analyze!Y751/Summary!$Y$25))","v":""},null,"",""]
[null,null,"",null,null,null,{"$f":"IF(Analyze!G752=\"\",\"\",Analyze!G752)","v":""},{"$f":"IF(G752=\"\",\"\",IF(Analyze!Y752=\"\",Analyze!AB752,Analyze!AB752+Analyze!Y752/Summary!$Y$25))","v":""},null,"",""]
[null,null,"",null,null,null,{"$f":"IF(Analyze!G753=\"\",\"\",Analyze!G753)","v":""},{"$f":"IF(G753=\"\",\"\",IF(Analyze!Y753=\"\",Analyze!AB753,Analyze!AB753+Analyze!Y753/Summary!$Y$25))","v":""},null,"",""]
[null,null,"",null,null,null,{"$f":"IF(Analyze!G754=\"\",\"\",Analyze!G754)","v":""},{"$f":"IF(G754=\"\",\"\",IF(Analyze!Y754=\"\",Analyze!AB754,Analyze!AB754+Analyze!Y754/Summary!$Y$25))","v":""},null,"",""]
[null,null,"",null,null,null,{"$f":"IF(Analyze!G755=\"\",\"\",Analyze!G755)","v":""},{"$f":"IF(G755=\"\",\"\",IF(Analyze!Y755=\"\",Analyze!AB755,Analyze!AB755+Analyze!Y755/Summary!$Y$25))","v":""},null,"",""]
[null,null,"",null,null,null,{"$f":"IF(Analyze!G756=\"\",\"\",Analyze!G756)","v":""},{"$f":"IF(G756=\"\",\"\",IF(Analyze!Y756=\"\",Analyze!AB756,Analyze!AB756+Analyze!Y756/Summary!$Y$25))","v":""},null,"",""]
[null,null,"",null,null,null,{"$f":"IF(Analyze!G757=\"\",\"\",Analyze!G757)","v":""},{"$f":"IF(G757=\"\",\"\",IF(Analyze!Y757=\"\",Analyze!AB757,Analyze!AB757+Analyze!Y757/Summary!$Y$25))","v":""},null,"",""]
[null,null,"",null,null,null,{"$f":"IF(Analyze!G758=\"\",\"\",Analyze!G758)","v":""},{"$f":"IF(G758=\"\",\"\",IF(Analyze!Y758=\"\",Analyze!AB758,Analyze!AB758+Analyze!Y758/Summary!$Y$25))","v":""},null,"",""]
[null,null,"",null,null,null,{"$f":"IF(Analyze!G759=\"\",\"\",Analyze!G759)","v":""},{"$f":"IF(G759=\"\",\"\",IF(Analyze!Y759=\"\",Analyze!AB759,Analyze!AB759+Analyze!Y759/Summary!$Y$25))","v":""},null,"",""]
[null,null,"",null,null,null,{"$f":"IF(Analyze!G760=\"\",\"\",Analyze!G760)","v":""},{"$f":"IF(G760=\"\",\"\",IF(Analyze!Y760=\"\",Analyze!AB760,Analyze!AB760+Analyze!Y760/Summary!$Y$25))","v":""},null,"",""]
[null,null,"",null,null,null,{"$f":"IF(Analyze!G761=\"\",\"\",Analyze!G761)","v":""},{"$f":"IF(G761=\"\",\"\",IF(Analyze!Y761=\"\",Analyze!AB761,Analyze!AB761+Analyze!Y761/Summary!$Y$25))","v":""},null,"",""]
[null,null,"",null,null,null,{"$f":"IF(Analyze!G762=\"\",\"\",Analyze!G762)","v":""},{"$f":"IF(G762=\"\",\"\",IF(Analyze!Y762=\"\",Analyze!AB762,Analyze!AB762+Analyze!Y762/Summary!$Y$25))","v":""},null,"",""]
[null,null,"",null,null,null,{"$f":"IF(Analyze!G763=\"\",\"\",Analyze!G763)","v":""},{"$f":"IF(G763=\"\",\"\",IF(Analyze!Y763=\"\",Analyze!AB763,Analyze!AB763+Analyze!Y763/Summary!$Y$25))","v":""},null,"",""]
[null,null,"",null,null,null,{"$f":"IF(Analyze!G764=\"\",\"\",Analyze!G764)","v":""},{"$f":"IF(G764=\"\",\"\",IF(Analyze!Y764=\"\",Analyze!AB764,Analyze!AB764+Analyze!Y764/Summary!$Y$25))","v":""},null,"",""]
[null,null,"",null,null,null,{"$f":"IF(Analyze!G765=\"\",\"\",Analyze!G765)","v":""},{"$f":"IF(G765=\"\",\"\",IF(Analyze!Y765=\"\",Analyze!AB765,Analyze!AB765+Analyze!Y765/Summary!$Y$25))","v":""},null,"",""]
[null,null,"",null,null,null,{"$f":"IF(Analyze!G766=\"\",\"\",Analyze!G766)","v":""},{"$f":"IF(G766=\"\",\"\",IF(Analyze!Y766=\"\",Analyze!AB766,Analyze!AB766+Analyze!Y766/Summary!$Y$25))","v":""},null,"",""]
[null,null,"",null,null,null,{"$f":"IF(Analyze!G767=\"\",\"\",Analyze!G767)","v":""},{"$f":"IF(G767=\"\",\"\",IF(Analyze!Y767=\"\",Analyze!AB767,Analyze!AB767+Analyze!Y767/Summary!$Y$25))","v":""},null,"",""]
[null,null,"",null,null,null,{"$f":"IF(Analyze!G768=\"\",\"\",Analyze!G768)","v":""},{"$f":"IF(G768=\"\",\"\",IF(Analyze!Y768=\"\",Analyze!AB768,Analyze!AB768+Analyze!Y768/Summary!$Y$25))","v":""},null,"",""]
[null,null,"",null,null,null,{"$f":"IF(Analyze!G769=\"\",\"\",Analyze!G769)","v":""},{"$f":"IF(G769=\"\",\"\",IF(Analyze!Y769=\"\",Analyze!AB769,Analyze!AB769+Analyze!Y769/Summary!$Y$25))","v":""},null,"",""]
[null,null,"",null,null,null,{"$f":"IF(Analyze!G770=\"\",\"\",Analyze!G770)","v":""},{"$f":"IF(G770=\"\",\"\",IF(Analyze!Y770=\"\",Analyze!AB770,Analyze!AB770+Analyze!Y770/Summary!$Y$25))","v":""},null,"",""]
[null,null,"",null,null,null,{"$f":"IF(Analyze!G771=\"\",\"\",Analyze!G771)","v":""},{"$f":"IF(G771=\"\",\"\",IF(Analyze!Y771=\"\",Analyze!AB771,Analyze!AB771+Analyze!Y771/Summary!$Y$25))","v":""},null,"",""]
[null,null,"",null,null,null,{"$f":"IF(Analyze!G772=\"\",\"\",Analyze!G772)","v":""},{"$f":"IF(G772=\"\",\"\",IF(Analyze!Y772=\"\",Analyze!AB772,Analyze!AB772+Analyze!Y772/Summary!$Y$25))","v":""},null,"",""]
[null,null,"",null,null,null,{"$f":"IF(Analyze!G773=\"\",\"\",Analyze!G773)","v":""},{"$f":"IF(G773=\"\",\"\",IF(Analyze!Y773=\"\",Analyze!AB773,Analyze!AB773+Analyze!Y773/Summary!$Y$25))","v":""},null,"",""]
[null,null,"",null,null,null,{"$f":"IF(Analyze!G774=\"\",\"\",Analyze!G774)","v":""},{"$f":"IF(G774=\"\",\"\",IF(Analyze!Y774=\"\",Analyze!AB774,Analyze!AB774+Analyze!Y774/Summary!$Y$25))","v":""},null,"",""]
[null,null,{"$f":"IF(G775=\"\",\"\",G775/10)","v":""},null,null,null,{"$f":"IF(Analyze!G775=\"\",\"\",Analyze!G775)","v":""},{"$f":"IF(G775=\"\",\"\",IF(Analyze!Y775=\"\",Analyze!AB775,Analyze!AB775+Analyze!Y775/Summary!$Y$25))","v":""},null,"",""]
[null,null,"",null,null,null,{"$f":"IF(Analyze!G776=\"\",\"\",Analyze!G776)","v":""},{"$f":"IF(G776=\"\",\"\",IF(Analyze!Y776=\"\",Analyze!AB776,Analyze!AB776+Analyze!Y776/Summary!$Y$25))","v":""},null,{"$f":"IF(G776=\"\",\"\",(J775+I776-H776*(G776-G775)))","v":""},{"$f":"IF(G776=\"\",\"\",K775+J775*(G776-G775))","v":""}]
[null,null,"",null,null,null,{"$f":"IF(Analyze!G777=\"\",\"\",Analyze!G777)","v":""},{"$f":"IF(G777=\"\",\"\",IF(Analyze!Y777=\"\",Analyze!AB777,Analyze!AB777+Analyze!Y777/Summary!$Y$25))","v":""},null,"",""]
[null,null,"",null,null,null,{"$f":"IF(Analyze!G778=\"\",\"\",Analyze!G778)","v":""},{"$f":"IF(G778=\"\",\"\",IF(Analyze!Y778=\"\",Analyze!AB778,Analyze!AB778+Analyze!Y778/Summary!$Y$25))","v":""},null,"",""]
[null,null,"",null,null,null,{"$f":"IF(Analyze!G779=\"\",\"\",Analyze!G779)","v":""},{"$f":"IF(G779=\"\",\"\",IF(Analyze!Y779=\"\",Analyze!AB779,Analyze!AB779+Analyze!Y779/Summary!$Y$25))","v":""},null,"",""]
[null,null,"",null,null,null,{"$f":"IF(Analyze!G780=\"\",\"\",Analyze!G780)","v":""},{"$f":"IF(G780=\"\",\"\",IF(Analyze!Y780=\"\",Analyze!AB780,Analyze!AB780+Analyze!Y780/Summary!$Y$25))","v":""},null,"",""]
[null,null,"",null,null,null,{"$f":"IF(Analyze!G781=\"\",\"\",Analyze!G781)","v":""},{"$f":"IF(G781=\"\",\"\",IF(Analyze!Y781=\"\",Analyze!AB781,Analyze!AB781+Analyze!Y781/Summary!$Y$25))","v":""},null,"",""]
[null,null,"",null,null,null,{"$f":"IF(Analyze!G782=\"\",\"\",Analyze!G782)","v":""},{"$f":"IF(G782=\"\",\"\",IF(Analyze!Y782=\"\",Analyze!AB782,Analyze!AB782+Analyze!Y782/Summary!$Y$25))","v":""},null,"",""]
[null,null,"",null,null,null,{"$f":"IF(Analyze!G783=\"\",\"\",Analyze!G783)","v":""},{"$f":"IF(G783=\"\",\"\",IF(Analyze!Y783=\"\",Analyze!AB783,Analyze!AB783+Analyze!Y783/Summary!$Y$25))","v":""},null,"",""]
[null,null,"",null,null,null,{"$f":"IF(Analyze!G784=\"\",\"\",Analyze!G784)","v":""},{"$f":"IF(G784=\"\",\"\",IF(Analyze!Y784=\"\",Analyze!AB784,Analyze!AB784+Analyze!Y784/Summary!$Y$25))","v":""},null,"",""]
[null,null,"",null,null,null,{"$f":"IF(Analyze!G785=\"\",\"\",Analyze!G785)","v":""},{"$f":"IF(G785=\"\",\"\",IF(Analyze!Y785=\"\",Analyze!AB785,Analyze!AB785+Analyze!Y785/Summary!$Y$25))","v":""},null,"",""]
[null,null,"",null,null,null,{"$f":"IF(Analyze!G786=\"\",\"\",Analyze!G786)","v":""},{"$f":"IF(G786=\"\",\"\",IF(Analyze!Y786=\"\",Analyze!AB786,Analyze!AB786+Analyze!Y786/Summary!$Y$25))","v":""},null,"",""]
[null,null,"",null,null,null,{"$f":"IF(Analyze!G787=\"\",\"\",Analyze!G787)","v":""},{"$f":"IF(G787=\"\",\"\",IF(Analyze!Y787=\"\",Analyze!AB787,Analyze!AB787+Analyze!Y787/Summary!$Y$25))","v":""},null,"",""]
[null,null,"",null,null,null,{"$f":"IF(Analyze!G788=\"\",\"\",Analyze!G788)","v":""},{"$f":"IF(G788=\"\",\"\",IF(Analyze!Y788=\"\",Analyze!AB788,Analyze!AB788+Analyze!Y788/Summary!$Y$25))","v":""},null,"",""]
[null,null,"",null,null,null,{"$f":"IF(Analyze!G789=\"\",\"\",Analyze!G789)","v":""},{"$f":"IF(G789=\"\",\"\",IF(Analyze!Y789=\"\",Analyze!AB789,Analyze!AB789+Analyze!Y789/Summary!$Y$25))","v":""},null,"",""]
[null,null,"",null,null,null,{"$f":"IF(Analyze!G790=\"\",\"\",Analyze!G790)","v":""},{"$f":"IF(G790=\"\",\"\",IF(Analyze!Y790=\"\",Analyze!AB790,Analyze!AB790+Analyze!Y790/Summary!$Y$25))","v":""},null,"",""]
[null,null,"",null,null,null,{"$f":"IF(Analyze!G791=\"\",\"\",Analyze!G791)","v":""},{"$f":"IF(G791=\"\",\"\",IF(Analyze!Y791=\"\",Analyze!AB791,Analyze!AB791+Analyze!Y791/Summary!$Y$25))","v":""},null,"",""]
[null,null,"",null,null,null,{"$f":"IF(Analyze!G792=\"\",\"\",Analyze!G792)","v":""},{"$f":"IF(G792=\"\",\"\",IF(Analyze!Y792=\"\",Analyze!AB792,Analyze!AB792+Analyze!Y792/Summary!$Y$25))","v":""},null,"",""]
[null,null,"",null,null,null,{"$f":"IF(Analyze!G793=\"\",\"\",Analyze!G793)","v":""},{"$f":"IF(G793=\"\",\"\",IF(Analyze!Y793=\"\",Analyze!AB793,Analyze!AB793+Analyze!Y793/Summary!$Y$25))","v":""},null,"",""]
[null,null,"",null,null,null,{"$f":"IF(Analyze!G794=\"\",\"\",Analyze!G794)","v":""},{"$f":"IF(G794=\"\",\"\",IF(Analyze!Y794=\"\",Analyze!AB794,Analyze!AB794+Analyze!Y794/Summary!$Y$25))","v":""},null,"",""]
[null,null,"",null,null,null,{"$f":"IF(Analyze!G795=\"\",\"\",Analyze!G795)","v":""},{"$f":"IF(G795=\"\",\"\",IF(Analyze!Y795=\"\",Analyze!AB795,Analyze!AB795+Analyze!Y795/Summary!$Y$25))","v":""},null,"",""]
[null,null,"",null,null,null,{"$f":"IF(Analyze!G796=\"\",\"\",Analyze!G796)","v":""},{"$f":"IF(G796=\"\",\"\",IF(Analyze!Y796=\"\",Analyze!AB796,Analyze!AB796+Analyze!Y796/Summary!$Y$25))","v":""},null,"",""]
[null,null,"",null,null,null,{"$f":"IF(Analyze!G797=\"\",\"\",Analyze!G797)","v":""},{"$f":"IF(G797=\"\",\"\",IF(Analyze!Y797=\"\",Analyze!AB797,Analyze!AB797+Analyze!Y797/Summary!$Y$25))","v":""},null,"",""]
[null,null,"",null,null,null,{"$f":"IF(Analyze!G798=\"\",\"\",Analyze!G798)","v":""},{"$f":"IF(G798=\"\",\"\",IF(Analyze!Y798=\"\",Analyze!AB798,Analyze!AB798+Analyze!Y798/Summary!$Y$25))","v":""},null,"",""]
[null,null,"",null,null,null,{"$f":"IF(Analyze!G799=\"\",\"\",Analyze!G799)","v":""},{"$f":"IF(G799=\"\",\"\",IF(Analyze!Y799=\"\",Analyze!AB799,Analyze!AB799+Analyze!Y799/Summary!$Y$25))","v":""},null,"",""]
[null,null,"",null,null,null,{"$f":"IF(Analyze!G800=\"\",\"\",Analyze!G800)","v":""},{"$f":"IF(G800=\"\",\"\",IF(Analyze!Y800=\"\",Analyze!AB800,Analyze!AB800+Analyze!Y800/Summary!$Y$25))","v":""},null,"",""]
[null,null,"",null,null,null,{"$f":"IF(Analyze!G801=\"\",\"\",Analyze!G801)","v":""},{"$f":"IF(G801=\"\",\"\",IF(Analyze!Y801=\"\",Analyze!AB801,Analyze!AB801+Analyze!Y801/Summary!$Y$25))","v":""},null,"",""]
[null,null,"",null,null,null,{"$f":"IF(Analyze!G802=\"\",\"\",Analyze!G802)","v":""},{"$f":"IF(G802=\"\",\"\",IF(Analyze!Y802=\"\",Analyze!AB802,Analyze!AB802+Analyze!Y802/Summary!$Y$25))","v":""},null,"",""]
[null,null,"",null,null,null,{"$f":"IF(Analyze!G803=\"\",\"\",Analyze!G803)","v":""},{"$f":"IF(G803=\"\",\"\",IF(Analyze!Y803=\"\",Analyze!AB803,Analyze!AB803+Analyze!Y803/Summary!$Y$25))","v":""},null,"",""]
[null,null,"",null,null,null,{"$f":"IF(Analyze!G804=\"\",\"\",Analyze!G804)","v":""},{"$f":"IF(G804=\"\",\"\",IF(Analyze!Y804=\"\",Analyze!AB804,Analyze!AB804+Analyze!Y804/Summary!$Y$25))","v":""},null,"",""]
[null,null,"",null,null,null,{"$f":"IF(Analyze!G805=\"\",\"\",Analyze!G805)","v":""},{"$f":"IF(G805=\"\",\"\",IF(Analyze!Y805=\"\",Analyze!AB805,Analyze!AB805+Analyze!Y805/Summary!$Y$25))","v":""},null,"",""]
[null,null,"",null,null,null,{"$f":"IF(Analyze!G806=\"\",\"\",Analyze!G806)","v":""},{"$f":"IF(G806=\"\",\"\",IF(Analyze!Y806=\"\",Analyze!AB806,Analyze!AB806+Analyze!Y806/Summary!$Y$25))","v":""},null,"",""]
[null,null,"",null,null,null,{"$f":"IF(Analyze!G807=\"\",\"\",Analyze!G807)","v":""},{"$f":"IF(G807=\"\",\"\",IF(Analyze!Y807=\"\",Analyze!AB807,Analyze!AB807+Analyze!Y807/Summary!$Y$25))","v":""},null,"",""]
[null,null,"",null,null,null,{"$f":"IF(Analyze!G808=\"\",\"\",Analyze!G808)","v":""},{"$f":"IF(G808=\"\",\"\",IF(Analyze!Y808=\"\",Analyze!AB808,Analyze!AB808+Analyze!Y808/Summary!$Y$25))","v":""},null,"",""]
[null,null,"",null,null,null,{"$f":"IF(Analyze!G809=\"\",\"\",Analyze!G809)","v":""},{"$f":"IF(G809=\"\",\"\",IF(Analyze!Y809=\"\",Analyze!AB809,Analyze!AB809+Analyze!Y809/Summary!$Y$25))","v":""},null,"",""]
[null,null,"",null,null,null,{"$f":"IF(Analyze!G810=\"\",\"\",Analyze!G810)","v":""},{"$f":"IF(G810=\"\",\"\",IF(Analyze!Y810=\"\",Analyze!AB810,Analyze!AB810+Analyze!Y810/Summary!$Y$25))","v":""},null,"",""]
[null,null,"",null,null,null,{"$f":"IF(Analyze!G811=\"\",\"\",Analyze!G811)","v":""},{"$f":"IF(G811=\"\",\"\",IF(Analyze!Y811=\"\",Analyze!AB811,Analyze!AB811+Analyze!Y811/Summary!$Y$25))","v":""},null,"",""]
[null,null,"",null,null,null,{"$f":"IF(Analyze!G812=\"\",\"\",Analyze!G812)","v":""},{"$f":"IF(G812=\"\",\"\",IF(Analyze!Y812=\"\",Analyze!AB812,Analyze!AB812+Analyze!Y812/Summary!$Y$25))","v":""},null,"",""]
[null,null,"",null,null,null,{"$f":"IF(Analyze!G813=\"\",\"\",Analyze!G813)","v":""},{"$f":"IF(G813=\"\",\"\",IF(Analyze!Y813=\"\",Analyze!AB813,Analyze!AB813+Analyze!Y813/Summary!$Y$25))","v":""},null,"",""]
[null,null,"",null,null,null,{"$f":"IF(Analyze!G814=\"\",\"\",Analyze!G814)","v":""},{"$f":"IF(G814=\"\",\"\",IF(Analyze!Y814=\"\",Analyze!AB814,Analyze!AB814+Analyze!Y814/Summary!$Y$25))","v":""},null,"",""]
[null,null,"",null,null,null,{"$f":"IF(Analyze!G815=\"\",\"\",Analyze!G815)","v":""},{"$f":"IF(G815=\"\",\"\",IF(Analyze!Y815=\"\",Analyze!AB815,Analyze!AB815+Analyze!Y815/Summary!$Y$25))","v":""},null,"",""]
[null,null,"",null,null,null,{"$f":"IF(Analyze!G816=\"\",\"\",Analyze!G816)","v":""},{"$f":"IF(G816=\"\",\"\",IF(Analyze!Y816=\"\",Analyze!AB816,Analyze!AB816+Analyze!Y816/Summary!$Y$25))","v":""},null,"",""]
[null,null,"",null,null,null,{"$f":"IF(Analyze!G817=\"\",\"\",Analyze!G817)","v":""},{"$f":"IF(G817=\"\",\"\",IF(Analyze!Y817=\"\",Analyze!AB817,Analyze!AB817+Analyze!Y817/Summary!$Y$25))","v":""},null,"",""]
[null,null,"",null,null,null,{"$f":"IF(Analyze!G818=\"\",\"\",Analyze!G818)","v":""},{"$f":"IF(G818=\"\",\"\",IF(Analyze!Y818=\"\",Analyze!AB818,Analyze!AB818+Analyze!Y818/Summary!$Y$25))","v":""},null,"",""]
[null,null,"",null,null,null,{"$f":"IF(Analyze!G819=\"\",\"\",Analyze!G819)","v":""},{"$f":"IF(G819=\"\",\"\",IF(Analyze!Y819=\"\",Analyze!AB819,Analyze!AB819+Analyze!Y819/Summary!$Y$25))","v":""},null,"",""]
[null,null,"",null,null,null,{"$f":"IF(Analyze!G820=\"\",\"\",Analyze!G820)","v":""},{"$f":"IF(G820=\"\",\"\",IF(Analyze!Y820=\"\",Analyze!AB820,Analyze!AB820+Analyze!Y820/Summary!$Y$25))","v":""},null,"",""]
[null,null,"",null,null,null,{"$f":"IF(Analyze!G821=\"\",\"\",Analyze!G821)","v":""},{"$f":"IF(G821=\"\",\"\",IF(Analyze!Y821=\"\",Analyze!AB821,Analyze!AB821+Analyze!Y821/Summary!$Y$25))","v":""},null,"",""]
[null,null,"",null,null,null,{"$f":"IF(Analyze!G822=\"\",\"\",Analyze!G822)","v":""},{"$f":"IF(G822=\"\",\"\",IF(Analyze!Y822=\"\",Analyze!AB822,Analyze!AB822+Analyze!Y822/Summary!$Y$25))","v":""},null,"",""]
[null,null,"",null,null,null,{"$f":"IF(Analyze!G823=\"\",\"\",Analyze!G823)","v":""},{"$f":"IF(G823=\"\",\"\",IF(Analyze!Y823=\"\",Analyze!AB823,Analyze!AB823+Analyze!Y823/Summary!$Y$25))","v":""},null,"",""]
[null,null,"",null,null,null,{"$f":"IF(Analyze!G824=\"\",\"\",Analyze!G824)","v":""},{"$f":"IF(G824=\"\",\"\",IF(Analyze!Y824=\"\",Analyze!AB824,Analyze!AB824+Analyze!Y824/Summary!$Y$25))","v":""},null,"",""]
[null,null,"",null,null,null,{"$f":"IF(Analyze!G825=\"\",\"\",Analyze!G825)","v":""},{"$f":"IF(G825=\"\",\"\",IF(Analyze!Y825=\"\",Analyze!AB825,Analyze!AB825+Analyze!Y825/Summary!$Y$25))","v":""},null,"",""]
[null,null,"",null,null,null,{"$f":"IF(Analyze!G826=\"\",\"\",Analyze!G826)","v":""},{"$f":"IF(G826=\"\",\"\",IF(Analyze!Y826=\"\",Analyze!AB826,Analyze!AB826+Analyze!Y826/Summary!$Y$25))","v":""},null,"",""]
[null,null,"",null,null,null,{"$f":"IF(Analyze!G827=\"\",\"\",Analyze!G827)","v":""},{"$f":"IF(G827=\"\",\"\",IF(Analyze!Y827=\"\",Analyze!AB827,Analyze!AB827+Analyze!Y827/Summary!$Y$25))","v":""},null,"",""]
[null,null,"",null,null,null,{"$f":"IF(Analyze!G828=\"\",\"\",Analyze!G828)","v":""},{"$f":"IF(G828=\"\",\"\",IF(Analyze!Y828=\"\",Analyze!AB828,Analyze!AB828+Analyze!Y828/Summary!$Y$25))","v":""},null,"",""]
[null,null,"",null,null,null,{"$f":"IF(Analyze!G829=\"\",\"\",Analyze!G829)","v":""},{"$f":"IF(G829=\"\",\"\",IF(Analyze!Y829=\"\",Analyze!AB829,Analyze!AB829+Analyze!Y829/Summary!$Y$25))","v":""},null,"",""]
[null,null,"",null,null,null,{"$f":"IF(Analyze!G830=\"\",\"\",Analyze!G830)","v":""},{"$f":"IF(G830=\"\",\"\",IF(Analyze!Y830=\"\",Analyze!AB830,Analyze!AB830+Analyze!Y830/Summary!$Y$25))","v":""},null,"",""]
[null,null,"",null,null,null,{"$f":"IF(Analyze!G831=\"\",\"\",Analyze!G831)","v":""},{"$f":"IF(G831=\"\",\"\",IF(Analyze!Y831=\"\",Analyze!AB831,Analyze!AB831+Analyze!Y831/Summary!$Y$25))","v":""},null,"",""]
[null,null,"",null,null,null,{"$f":"IF(Analyze!G832=\"\",\"\",Analyze!G832)","v":""},{"$f":"IF(G832=\"\",\"\",IF(Analyze!Y832=\"\",Analyze!AB832,Analyze!AB832+Analyze!Y832/Summary!$Y$25))","v":""},null,"",""]
[null,null,"",null,null,null,{"$f":"IF(Analyze!G833=\"\",\"\",Analyze!G833)","v":""},{"$f":"IF(G833=\"\",\"\",IF(Analyze!Y833=\"\",Analyze!AB833,Analyze!AB833+Analyze!Y833/Summary!$Y$25))","v":""},null,"",""]
[null,null,"",null,null,null,{"$f":"IF(Analyze!G834=\"\",\"\",Analyze!G834)","v":""},{"$f":"IF(G834=\"\",\"\",IF(Analyze!Y834=\"\",Analyze!AB834,Analyze!AB834+Analyze!Y834/Summary!$Y$25))","v":""},null,"",""]
[null,null,"",null,null,null,{"$f":"IF(Analyze!G835=\"\",\"\",Analyze!G835)","v":""},{"$f":"IF(G835=\"\",\"\",IF(Analyze!Y835=\"\",Analyze!AB835,Analyze!AB835+Analyze!Y835/Summary!$Y$25))","v":""},null,"",""]
[null,null,"",null,null,null,{"$f":"IF(Analyze!G836=\"\",\"\",Analyze!G836)","v":""},{"$f":"IF(G836=\"\",\"\",IF(Analyze!Y836=\"\",Analyze!AB836,Analyze!AB836+Analyze!Y836/Summary!$Y$25))","v":""},null,"",""]
[null,null,"",null,null,null,{"$f":"IF(Analyze!G837=\"\",\"\",Analyze!G837)","v":""},{"$f":"IF(G837=\"\",\"\",IF(Analyze!Y837=\"\",Analyze!AB837,Analyze!AB837+Analyze!Y837/Summary!$Y$25))","v":""},null,"",""]
[null,null,"",null,null,null,{"$f":"IF(Analyze!G838=\"\",\"\",Analyze!G838)","v":""},{"$f":"IF(G838=\"\",\"\",IF(Analyze!Y838=\"\",Analyze!AB838,Analyze!AB838+Analyze!Y838/Summary!$Y$25))","v":""},null,"",""]
[null,null,{"$f":"IF(G839=\"\",\"\",G839/10)","v":""},null,null,null,{"$f":"IF(Analyze!G839=\"\",\"\",Analyze!G839)","v":""},{"$f":"IF(G839=\"\",\"\",IF(Analyze!Y839=\"\",Analyze!AB839,Analyze!AB839+Analyze!Y839/Summary!$Y$25))","v":""},null,"",""]
[null,null,"",null,null,null,{"$f":"IF(Analyze!G840=\"\",\"\",Analyze!G840)","v":""},{"$f":"IF(G840=\"\",\"\",IF(Analyze!Y840=\"\",Analyze!AB840,Analyze!AB840+Analyze!Y840/Summary!$Y$25))","v":""},null,{"$f":"IF(G840=\"\",\"\",(J839+I840-H840*(G840-G839)))","v":""},{"$f":"IF(G840=\"\",\"\",K839+J839*(G840-G839))","v":""}]
[null,null,"",null,null,null,{"$f":"IF(Analyze!G841=\"\",\"\",Analyze!G841)","v":""},{"$f":"IF(G841=\"\",\"\",IF(Analyze!Y841=\"\",Analyze!AB841,Analyze!AB841+Analyze!Y841/Summary!$Y$25))","v":""},null,"",""]
[null,null,"",null,null,null,{"$f":"IF(Analyze!G842=\"\",\"\",Analyze!G842)","v":""},{"$f":"IF(G842=\"\",\"\",IF(Analyze!Y842=\"\",Analyze!AB842,Analyze!AB842+Analyze!Y842/Summary!$Y$25))","v":""},null,"",""]
[null,null,"",null,null,null,{"$f":"IF(Analyze!G843=\"\",\"\",Analyze!G843)","v":""},{"$f":"IF(G843=\"\",\"\",IF(Analyze!Y843=\"\",Analyze!AB843,Analyze!AB843+Analyze!Y843/Summary!$Y$25))","v":""},null,"",""]
[null,null,"",null,null,null,{"$f":"IF(Analyze!G844=\"\",\"\",Analyze!G844)","v":""},{"$f":"IF(G844=\"\",\"\",IF(Analyze!Y844=\"\",Analyze!AB844,Analyze!AB844+Analyze!Y844/Summary!$Y$25))","v":""},null,"",""]
[null,null,"",null,null,null,{"$f":"IF(Analyze!G845=\"\",\"\",Analyze!G845)","v":""},{"$f":"IF(G845=\"\",\"\",IF(Analyze!Y845=\"\",Analyze!AB845,Analyze!AB845+Analyze!Y845/Summary!$Y$25))","v":""},null,"",""]
[null,null,"",null,null,null,{"$f":"IF(Analyze!G846=\"\",\"\",Analyze!G846)","v":""},{"$f":"IF(G846=\"\",\"\",IF(Analyze!Y846=\"\",Analyze!AB846,Analyze!AB846+Analyze!Y846/Summary!$Y$25))","v":""},null,"",""]
[null,null,"",null,null,null,{"$f":"IF(Analyze!G847=\"\",\"\",Analyze!G847)","v":""},{"$f":"IF(G847=\"\",\"\",IF(Analyze!Y847=\"\",Analyze!AB847,Analyze!AB847+Analyze!Y847/Summary!$Y$25))","v":""},null,"",""]
[null,null,"",null,null,null,{"$f":"IF(Analyze!G848=\"\",\"\",Analyze!G848)","v":""},{"$f":"IF(G848=\"\",\"\",IF(Analyze!Y848=\"\",Analyze!AB848,Analyze!AB848+Analyze!Y848/Summary!$Y$25))","v":""},null,"",""]
[null,null,"",null,null,null,{"$f":"IF(Analyze!G849=\"\",\"\",Analyze!G849)","v":""},{"$f":"IF(G849=\"\",\"\",IF(Analyze!Y849=\"\",Analyze!AB849,Analyze!AB849+Analyze!Y849/Summary!$Y$25))","v":""},null,"",""]
[null,null,"",null,null,null,{"$f":"IF(Analyze!G850=\"\",\"\",Analyze!G850)","v":""},{"$f":"IF(G850=\"\",\"\",IF(Analyze!Y850=\"\",Analyze!AB850,Analyze!AB850+Analyze!Y850/Summary!$Y$25))","v":""},null,"",""]
[null,null,"",null,null,null,{"$f":"IF(Analyze!G851=\"\",\"\",Analyze!G851)","v":""},{"$f":"IF(G851=\"\",\"\",IF(Analyze!Y851=\"\",Analyze!AB851,Analyze!AB851+Analyze!Y851/Summary!$Y$25))","v":""},null,"",""]
[null,null,"",null,null,null,{"$f":"IF(Analyze!G852=\"\",\"\",Analyze!G852)","v":""},{"$f":"IF(G852=\"\",\"\",IF(Analyze!Y852=\"\",Analyze!AB852,Analyze!AB852+Analyze!Y852/Summary!$Y$25))","v":""},null,"",""]
[null,null,"",null,null,null,{"$f":"IF(Analyze!G853=\"\",\"\",Analyze!G853)","v":""},{"$f":"IF(G853=\"\",\"\",IF(Analyze!Y853=\"\",Analyze!AB853,Analyze!AB853+Analyze!Y853/Summary!$Y$25))","v":""},null,"",""]
[null,null,"",null,null,null,{"$f":"IF(Analyze!G854=\"\",\"\",Analyze!G854)","v":""},{"$f":"IF(G854=\"\",\"\",IF(Analyze!Y854=\"\",Analyze!AB854,Analyze!AB854+Analyze!Y854/Summary!$Y$25))","v":""},null,"",""]
[null,null,"",null,null,null,{"$f":"IF(Analyze!G855=\"\",\"\",Analyze!G855)","v":""},{"$f":"IF(G855=\"\",\"\",IF(Analyze!Y855=\"\",Analyze!AB855,Analyze!AB855+Analyze!Y855/Summary!$Y$25))","v":""},null,"",""]
[null,null,"",null,null,null,{"$f":"IF(Analyze!G856=\"\",\"\",Analyze!G856)","v":""},{"$f":"IF(G856=\"\",\"\",IF(Analyze!Y856=\"\",Analyze!AB856,Analyze!AB856+Analyze!Y856/Summary!$Y$25))","v":""},null,"",""]
[null,null,"",null,null,null,{"$f":"IF(Analyze!G857=\"\",\"\",Analyze!G857)","v":""},{"$f":"IF(G857=\"\",\"\",IF(Analyze!Y857=\"\",Analyze!AB857,Analyze!AB857+Analyze!Y857/Summary!$Y$25))","v":""},null,"",""]
[null,null,"",null,null,null,{"$f":"IF(Analyze!G858=\"\",\"\",Analyze!G858)","v":""},{"$f":"IF(G858=\"\",\"\",IF(Analyze!Y858=\"\",Analyze!AB858,Analyze!AB858+Analyze!Y858/Summary!$Y$25))","v":""},null,"",""]
[null,null,"",null,null,null,{"$f":"IF(Analyze!G859=\"\",\"\",Analyze!G859)","v":""},{"$f":"IF(G859=\"\",\"\",IF(Analyze!Y859=\"\",Analyze!AB859,Analyze!AB859+Analyze!Y859/Summary!$Y$25))","v":""},null,"",""]
[null,null,"",null,null,null,{"$f":"IF(Analyze!G860=\"\",\"\",Analyze!G860)","v":""},{"$f":"IF(G860=\"\",\"\",IF(Analyze!Y860=\"\",Analyze!AB860,Analyze!AB860+Analyze!Y860/Summary!$Y$25))","v":""},null,"",""]
[null,null,"",null,null,null,{"$f":"IF(Analyze!G861=\"\",\"\",Analyze!G861)","v":""},{"$f":"IF(G861=\"\",\"\",IF(Analyze!Y861=\"\",Analyze!AB861,Analyze!AB861+Analyze!Y861/Summary!$Y$25))","v":""},null,"",""]
[null,null,"",null,null,null,{"$f":"IF(Analyze!G862=\"\",\"\",Analyze!G862)","v":""},{"$f":"IF(G862=\"\",\"\",IF(Analyze!Y862=\"\",Analyze!AB862,Analyze!AB862+Analyze!Y862/Summary!$Y$25))","v":""},null,"",""]
[null,null,"",null,null,null,{"$f":"IF(Analyze!G863=\"\",\"\",Analyze!G863)","v":""},{"$f":"IF(G863=\"\",\"\",IF(Analyze!Y863=\"\",Analyze!AB863,Analyze!AB863+Analyze!Y863/Summary!$Y$25))","v":""},null,"",""]
[null,null,"",null,null,null,{"$f":"IF(Analyze!G864=\"\",\"\",Analyze!G864)","v":""},{"$f":"IF(G864=\"\",\"\",IF(Analyze!Y864=\"\",Analyze!AB864,Analyze!AB864+Analyze!Y864/Summary!$Y$25))","v":""},null,"",""]
[null,null,"",null,null,null,{"$f":"IF(Analyze!G865=\"\",\"\",Analyze!G865)","v":""},{"$f":"IF(G865=\"\",\"\",IF(Analyze!Y865=\"\",Analyze!AB865,Analyze!AB865+Analyze!Y865/Summary!$Y$25))","v":""},null,"",""]
[null,null,"",null,null,null,{"$f":"IF(Analyze!G866=\"\",\"\",Analyze!G866)","v":""},{"$f":"IF(G866=\"\",\"\",IF(Analyze!Y866=\"\",Analyze!AB866,Analyze!AB866+Analyze!Y866/Summary!$Y$25))","v":""},null,"",""]
[null,null,"",null,null,null,{"$f":"IF(Analyze!G867=\"\",\"\",Analyze!G867)","v":""},{"$f":"IF(G867=\"\",\"\",IF(Analyze!Y867=\"\",Analyze!AB867,Analyze!AB867+Analyze!Y867/Summary!$Y$25))","v":""},null,"",""]
[null,null,"",null,null,null,{"$f":"IF(Analyze!G868=\"\",\"\",Analyze!G868)","v":""},{"$f":"IF(G868=\"\",\"\",IF(Analyze!Y868=\"\",Analyze!AB868,Analyze!AB868+Analyze!Y868/Summary!$Y$25))","v":""},null,"",""]
[null,null,"",null,null,null,{"$f":"IF(Analyze!G869=\"\",\"\",Analyze!G869)","v":""},{"$f":"IF(G869=\"\",\"\",IF(Analyze!Y869=\"\",Analyze!AB869,Analyze!AB869+Analyze!Y869/Summary!$Y$25))","v":""},null,"",""]
[null,null,"",null,null,null,{"$f":"IF(Analyze!G870=\"\",\"\",Analyze!G870)","v":""},{"$f":"IF(G870=\"\",\"\",IF(Analyze!Y870=\"\",Analyze!AB870,Analyze!AB870+Analyze!Y870/Summary!$Y$25))","v":""},null,"",""]
[null,null,"",null,null,null,{"$f":"IF(Analyze!G871=\"\",\"\",Analyze!G871)","v":""},{"$f":"IF(G871=\"\",\"\",IF(Analyze!Y871=\"\",Analyze!AB871,Analyze!AB871+Analyze!Y871/Summary!$Y$25))","v":""},null,"",""]
[null,null,"",null,null,null,{"$f":"IF(Analyze!G872=\"\",\"\",Analyze!G872)","v":""},{"$f":"IF(G872=\"\",\"\",IF(Analyze!Y872=\"\",Analyze!AB872,Analyze!AB872+Analyze!Y872/Summary!$Y$25))","v":""},null,"",""]
[null,null,"",null,null,null,{"$f":"IF(Analyze!G873=\"\",\"\",Analyze!G873)","v":""},{"$f":"IF(G873=\"\",\"\",IF(Analyze!Y873=\"\",Analyze!AB873,Analyze!AB873+Analyze!Y873/Summary!$Y$25))","v":""},null,"",""]
[null,null,"",null,null,null,{"$f":"IF(Analyze!G874=\"\",\"\",Analyze!G874)","v":""},{"$f":"IF(G874=\"\",\"\",IF(Analyze!Y874=\"\",Analyze!AB874,Analyze!AB874+Analyze!Y874/Summary!$Y$25))","v":""},null,"",""]
[null,null,"",null,null,null,{"$f":"IF(Analyze!G875=\"\",\"\",Analyze!G875)","v":""},{"$f":"IF(G875=\"\",\"\",IF(Analyze!Y875=\"\",Analyze!AB875,Analyze!AB875+Analyze!Y875/Summary!$Y$25))","v":""},null,"",""]
[null,null,"",null,null,null,{"$f":"IF(Analyze!G876=\"\",\"\",Analyze!G876)","v":""},{"$f":"IF(G876=\"\",\"\",IF(Analyze!Y876=\"\",Analyze!AB876,Analyze!AB876+Analyze!Y876/Summary!$Y$25))","v":""},null,"",""]
[null,null,"",null,null,null,{"$f":"IF(Analyze!G877=\"\",\"\",Analyze!G877)","v":""},{"$f":"IF(G877=\"\",\"\",IF(Analyze!Y877=\"\",Analyze!AB877,Analyze!AB877+Analyze!Y877/Summary!$Y$25))","v":""},null,"",""]
[null,null,"",null,null,null,{"$f":"IF(Analyze!G878=\"\",\"\",Analyze!G878)","v":""},{"$f":"IF(G878=\"\",\"\",IF(Analyze!Y878=\"\",Analyze!AB878,Analyze!AB878+Analyze!Y878/Summary!$Y$25))","v":""},null,"",""]
[null,null,"",null,null,null,{"$f":"IF(Analyze!G879=\"\",\"\",Analyze!G879)","v":""},{"$f":"IF(G879=\"\",\"\",IF(Analyze!Y879=\"\",Analyze!AB879,Analyze!AB879+Analyze!Y879/Summary!$Y$25))","v":""},null,"",""]
[null,null,"",null,null,null,{"$f":"IF(Analyze!G880=\"\",\"\",Analyze!G880)","v":""},{"$f":"IF(G880=\"\",\"\",IF(Analyze!Y880=\"\",Analyze!AB880,Analyze!AB880+Analyze!Y880/Summary!$Y$25))","v":""},null,"",""]
[null,null,"",null,null,null,{"$f":"IF(Analyze!G881=\"\",\"\",Analyze!G881)","v":""},{"$f":"IF(G881=\"\",\"\",IF(Analyze!Y881=\"\",Analyze!AB881,Analyze!AB881+Analyze!Y881/Summary!$Y$25))","v":""},null,"",""]
[null,null,"",null,null,null,{"$f":"IF(Analyze!G882=\"\",\"\",Analyze!G882)","v":""},{"$f":"IF(G882=\"\",\"\",IF(Analyze!Y882=\"\",Analyze!AB882,Analyze!AB882+Analyze!Y882/Summary!$Y$25))","v":""},null,"",""]
[null,null,"",null,null,null,{"$f":"IF(Analyze!G883=\"\",\"\",Analyze!G883)","v":""},{"$f":"IF(G883=\"\",\"\",IF(Analyze!Y883=\"\",Analyze!AB883,Analyze!AB883+Analyze!Y883/Summary!$Y$25))","v":""},null,"",""]
[null,null,"",null,null,null,{"$f":"IF(Analyze!G884=\"\",\"\",Analyze!G884)","v":""},{"$f":"IF(G884=\"\",\"\",IF(Analyze!Y884=\"\",Analyze!AB884,Analyze!AB884+Analyze!Y884/Summary!$Y$25))","v":""},null,"",""]
[null,null,"",null,null,null,{"$f":"IF(Analyze!G885=\"\",\"\",Analyze!G885)","v":""},{"$f":"IF(G885=\"\",\"\",IF(Analyze!Y885=\"\",Analyze!AB885,Analyze!AB885+Analyze!Y885/Summary!$Y$25))","v":""},null,"",""]
[null,null,"",null,null,null,{"$f":"IF(Analyze!G886=\"\",\"\",Analyze!G886)","v":""},{"$f":"IF(G886=\"\",\"\",IF(Analyze!Y886=\"\",Analyze!AB886,Analyze!AB886+Analyze!Y886/Summary!$Y$25))","v":""},null,"",""]
[null,null,"",null,null,null,{"$f":"IF(Analyze!G887=\"\",\"\",Analyze!G887)","v":""},{"$f":"IF(G887=\"\",\"\",IF(Analyze!Y887=\"\",Analyze!AB887,Analyze!AB887+Analyze!Y887/Summary!$Y$25))","v":""},null,"",""]
[null,null,"",null,null,null,{"$f":"IF(Analyze!G888=\"\",\"\",Analyze!G888)","v":""},{"$f":"IF(G888=\"\",\"\",IF(Analyze!Y888=\"\",Analyze!AB888,Analyze!AB888+Analyze!Y888/Summary!$Y$25))","v":""},null,"",""]
[null,null,"",null,null,null,{"$f":"IF(Analyze!G889=\"\",\"\",Analyze!G889)","v":""},{"$f":"IF(G889=\"\",\"\",IF(Analyze!Y889=\"\",Analyze!AB889,Analyze!AB889+Analyze!Y889/Summary!$Y$25))","v":""},null,"",""]
[null,null,"",null,null,null,{"$f":"IF(Analyze!G890=\"\",\"\",Analyze!G890)","v":""},{"$f":"IF(G890=\"\",\"\",IF(Analyze!Y890=\"\",Analyze!AB890,Analyze!AB890+Analyze!Y890/Summary!$Y$25))","v":""},null,"",""]
[null,null,"",null,null,null,{"$f":"IF(Analyze!G891=\"\",\"\",Analyze!G891)","v":""},{"$f":"IF(G891=\"\",\"\",IF(Analyze!Y891=\"\",Analyze!AB891,Analyze!AB891+Analyze!Y891/Summary!$Y$25))","v":""},null,"",""]
[null,null,"",null,null,null,{"$f":"IF(Analyze!G892=\"\",\"\",Analyze!G892)","v":""},{"$f":"IF(G892=\"\",\"\",IF(Analyze!Y892=\"\",Analyze!AB892,Analyze!AB892+Analyze!Y892/Summary!$Y$25))","v":""},null,"",""]
[null,null,"",null,null,null,{"$f":"IF(Analyze!G893=\"\",\"\",Analyze!G893)","v":""},{"$f":"IF(G893=\"\",\"\",IF(Analyze!Y893=\"\",Analyze!AB893,Analyze!AB893+Analyze!Y893/Summary!$Y$25))","v":""},null,"",""]
[null,null,"",null,null,null,{"$f":"IF(Analyze!G894=\"\",\"\",Analyze!G894)","v":""},{"$f":"IF(G894=\"\",\"\",IF(Analyze!Y894=\"\",Analyze!AB894,Analyze!AB894+Analyze!Y894/Summary!$Y$25))","v":""},null,"",""]
[null,null,"",null,null,null,{"$f":"IF(Analyze!G895=\"\",\"\",Analyze!G895)","v":""},{"$f":"IF(G895=\"\",\"\",IF(Analyze!Y895=\"\",Analyze!AB895,Analyze!AB895+Analyze!Y895/Summary!$Y$25))","v":""},null,"",""]
[null,null,"",null,null,null,{"$f":"IF(Analyze!G896=\"\",\"\",Analyze!G896)","v":""},{"$f":"IF(G896=\"\",\"\",IF(Analyze!Y896=\"\",Analyze!AB896,Analyze!AB896+Analyze!Y896/Summary!$Y$25))","v":""},null,"",""]
[null,null,"",null,null,null,{"$f":"IF(Analyze!G897=\"\",\"\",Analyze!G897)","v":""},{"$f":"IF(G897=\"\",\"\",IF(Analyze!Y897=\"\",Analyze!AB897,Analyze!AB897+Analyze!Y897/Summary!$Y$25))","v":""},null,"",""]
[null,null,"",null,null,null,{"$f":"IF(Analyze!G898=\"\",\"\",Analyze!G898)","v":""},{"$f":"IF(G898=\"\",\"\",IF(Analyze!Y898=\"\",Analyze!AB898,Analyze!AB898+Analyze!Y898/Summary!$Y$25))","v":""},null,"",""]
[null,null,"",null,null,null,{"$f":"IF(Analyze!G899=\"\",\"\",Analyze!G899)","v":""},{"$f":"IF(G899=\"\",\"\",IF(Analyze!Y899=\"\",Analyze!AB899,Analyze!AB899+Analyze!Y899/Summary!$Y$25))","v":""},null,"",""]
[null,null,"",null,null,null,{"$f":"IF(Analyze!G900=\"\",\"\",Analyze!G900)","v":""},{"$f":"IF(G900=\"\",\"\",IF(Analyze!Y900=\"\",Analyze!AB900,Analyze!AB900+Analyze!Y900/Summary!$Y$25))","v":""},null,"",""]
[null,null,"",null,null,null,{"$f":"IF(Analyze!G901=\"\",\"\",Analyze!G901)","v":""},{"$f":"IF(G901=\"\",\"\",IF(Analyze!Y901=\"\",Analyze!AB901,Analyze!AB901+Analyze!Y901/Summary!$Y$25))","v":""},null,"",""]
[null,null,"",null,null,null,{"$f":"IF(Analyze!G902=\"\",\"\",Analyze!G902)","v":""},{"$f":"IF(G902=\"\",\"\",IF(Analyze!Y902=\"\",Analyze!AB902,Analyze!AB902+Analyze!Y902/Summary!$Y$25))","v":""},null,"",""]
[null,null,{"$f":"IF(G903=\"\",\"\",G903/10)","v":""},null,null,null,{"$f":"IF(Analyze!G903=\"\",\"\",Analyze!G903)","v":""},{"$f":"IF(G903=\"\",\"\",IF(Analyze!Y903=\"\",Analyze!AB903,Analyze!AB903+Analyze!Y903/Summary!$Y$25))","v":""},null,"",""]
[null,null,"",null,null,null,{"$f":"IF(Analyze!G904=\"\",\"\",Analyze!G904)","v":""},{"$f":"IF(G904=\"\",\"\",IF(Analyze!Y904=\"\",Analyze!AB904,Analyze!AB904+Analyze!Y904/Summary!$Y$25))","v":""},null,{"$f":"IF(G904=\"\",\"\",(J903+I904-H904*(G904-G903)))","v":""},{"$f":"IF(G904=\"\",\"\",K903+J903*(G904-G903))","v":""}]
[null,null,"",null,null,null,{"$f":"IF(Analyze!G905=\"\",\"\",Analyze!G905)","v":""},{"$f":"IF(G905=\"\",\"\",IF(Analyze!Y905=\"\",Analyze!AB905,Analyze!AB905+Analyze!Y905/Summary!$Y$25))","v":""},null,"",""]
[null,null,"",null,null,null,{"$f":"IF(Analyze!G906=\"\",\"\",Analyze!G906)","v":""},{"$f":"IF(G906=\"\",\"\",IF(Analyze!Y906=\"\",Analyze!AB906,Analyze!AB906+Analyze!Y906/Summary!$Y$25))","v":""},null,"",""]
[null,null,"",null,null,null,{"$f":"IF(Analyze!G907=\"\",\"\",Analyze!G907)","v":""},{"$f":"IF(G907=\"\",\"\",IF(Analyze!Y907=\"\",Analyze!AB907,Analyze!AB907+Analyze!Y907/Summary!$Y$25))","v":""},null,"",""]
[null,null,"",null,null,null,{"$f":"IF(Analyze!G908=\"\",\"\",Analyze!G908)","v":""},{"$f":"IF(G908=\"\",\"\",IF(Analyze!Y908=\"\",Analyze!AB908,Analyze!AB908+Analyze!Y908/Summary!$Y$25))","v":""},null,"",""]
[null,null,"",null,null,null,{"$f":"IF(Analyze!G909=\"\",\"\",Analyze!G909)","v":""},{"$f":"IF(G909=\"\",\"\",IF(Analyze!Y909=\"\",Analyze!AB909,Analyze!AB909+Analyze!Y909/Summary!$Y$25))","v":""},null,"",""]
[null,null,"",null,null,null,{"$f":"IF(Analyze!G910=\"\",\"\",Analyze!G910)","v":""},{"$f":"IF(G910=\"\",\"\",IF(Analyze!Y910=\"\",Analyze!AB910,Analyze!AB910+Analyze!Y910/Summary!$Y$25))","v":""},null,"",""]
[null,null,"",null,null,null,{"$f":"IF(Analyze!G911=\"\",\"\",Analyze!G911)","v":""},{"$f":"IF(G911=\"\",\"\",IF(Analyze!Y911=\"\",Analyze!AB911,Analyze!AB911+Analyze!Y911/Summary!$Y$25))","v":""},null,"",""]
[null,null,"",null,null,null,{"$f":"IF(Analyze!G912=\"\",\"\",Analyze!G912)","v":""},{"$f":"IF(G912=\"\",\"\",IF(Analyze!Y912=\"\",Analyze!AB912,Analyze!AB912+Analyze!Y912/Summary!$Y$25))","v":""},null,"",""]
[null,null,"",null,null,null,{"$f":"IF(Analyze!G913=\"\",\"\",Analyze!G913)","v":""},{"$f":"IF(G913=\"\",\"\",IF(Analyze!Y913=\"\",Analyze!AB913,Analyze!AB913+Analyze!Y913/Summary!$Y$25))","v":""},null,"",""]
[null,null,"",null,null,null,{"$f":"IF(Analyze!G914=\"\",\"\",Analyze!G914)","v":""},{"$f":"IF(G914=\"\",\"\",IF(Analyze!Y914=\"\",Analyze!AB914,Analyze!AB914+Analyze!Y914/Summary!$Y$25))","v":""},null,"",""]
[null,null,"",null,null,null,{"$f":"IF(Analyze!G915=\"\",\"\",Analyze!G915)","v":""},{"$f":"IF(G915=\"\",\"\",IF(Analyze!Y915=\"\",Analyze!AB915,Analyze!AB915+Analyze!Y915/Summary!$Y$25))","v":""},null,"",""]
[null,null,"",null,null,null,{"$f":"IF(Analyze!G916=\"\",\"\",Analyze!G916)","v":""},{"$f":"IF(G916=\"\",\"\",IF(Analyze!Y916=\"\",Analyze!AB916,Analyze!AB916+Analyze!Y916/Summary!$Y$25))","v":""},null,"",""]
[null,null,"",null,null,null,{"$f":"IF(Analyze!G917=\"\",\"\",Analyze!G917)","v":""},{"$f":"IF(G917=\"\",\"\",IF(Analyze!Y917=\"\",Analyze!AB917,Analyze!AB917+Analyze!Y917/Summary!$Y$25))","v":""},null,"",""]
[null,null,"",null,null,null,{"$f":"IF(Analyze!G918=\"\",\"\",Analyze!G918)","v":""},{"$f":"IF(G918=\"\",\"\",IF(Analyze!Y918=\"\",Analyze!AB918,Analyze!AB918+Analyze!Y918/Summary!$Y$25))","v":""},null,"",""]
[null,null,"",null,null,null,{"$f":"IF(Analyze!G919=\"\",\"\",Analyze!G919)","v":""},{"$f":"IF(G919=\"\",\"\",IF(Analyze!Y919=\"\",Analyze!AB919,Analyze!AB919+Analyze!Y919/Summary!$Y$25))","v":""},null,"",""]
[null,null,"",null,null,null,{"$f":"IF(Analyze!G920=\"\",\"\",Analyze!G920)","v":""},{"$f":"IF(G920=\"\",\"\",IF(Analyze!Y920=\"\",Analyze!AB920,Analyze!AB920+Analyze!Y920/Summary!$Y$25))","v":""},null,"",""]
[null,null,"",null,null,null,{"$f":"IF(Analyze!G921=\"\",\"\",Analyze!G921)","v":""},{"$f":"IF(G921=\"\",\"\",IF(Analyze!Y921=\"\",Analyze!AB921,Analyze!AB921+Analyze!Y921/Summary!$Y$25))","v":""},null,"",""]
[null,null,"",null,null,null,{"$f":"IF(Analyze!G922=\"\",\"\",Analyze!G922)","v":""},{"$f":"IF(G922=\"\",\"\",IF(Analyze!Y922=\"\",Analyze!AB922,Analyze!AB922+Analyze!Y922/Summary!$Y$25))","v":""},null,"",""]
[null,null,"",null,null,null,{"$f":"IF(Analyze!G923=\"\",\"\",Analyze!G923)","v":""},{"$f":"IF(G923=\"\",\"\",IF(Analyze!Y923=\"\",Analyze!AB923,Analyze!AB923+Analyze!Y923/Summary!$Y$25))","v":""},null,"",""]
[null,null,"",null,null,null,{"$f":"IF(Analyze!G924=\"\",\"\",Analyze!G924)","v":""},{"$f":"IF(G924=\"\",\"\",IF(Analyze!Y924=\"\",Analyze!AB924,Analyze!AB924+Analyze!Y924/Summary!$Y$25))","v":""},null,"",""]
[null,null,"",null,null,null,{"$f":"IF(Analyze!G925=\"\",\"\",Analyze!G925)","v":""},{"$f":"IF(G925=\"\",\"\",IF(Analyze!Y925=\"\",Analyze!AB925,Analyze!AB925+Analyze!Y925/Summary!$Y$25))","v":""},null,"",""]
[null,null,"",null,null,null,{"$f":"IF(Analyze!G926=\"\",\"\",Analyze!G926)","v":""},{"$f":"IF(G926=\"\",\"\",IF(Analyze!Y926=\"\",Analyze!AB926,Analyze!AB926+Analyze!Y926/Summary!$Y$25))","v":""},null,"",""]
[null,null,"",null,null,null,{"$f":"IF(Analyze!G927=\"\",\"\",Analyze!G927)","v":""},{"$f":"IF(G927=\"\",\"\",IF(Analyze!Y927=\"\",Analyze!AB927,Analyze!AB927+Analyze!Y927/Summary!$Y$25))","v":""},null,"",""]
[null,null,"",null,null,null,{"$f":"IF(Analyze!G928=\"\",\"\",Analyze!G928)","v":""},{"$f":"IF(G928=\"\",\"\",IF(Analyze!Y928=\"\",Analyze!AB928,Analyze!AB928+Analyze!Y928/Summary!$Y$25))","v":""},null,"",""]
[null,null,"",null,null,null,{"$f":"IF(Analyze!G929=\"\",\"\",Analyze!G929)","v":""},{"$f":"IF(G929=\"\",\"\",IF(Analyze!Y929=\"\",Analyze!AB929,Analyze!AB929+Analyze!Y929/Summary!$Y$25))","v":""},null,"",""]
[null,null,"",null,null,null,{"$f":"IF(Analyze!G930=\"\",\"\",Analyze!G930)","v":""},{"$f":"IF(G930=\"\",\"\",IF(Analyze!Y930=\"\",Analyze!AB930,Analyze!AB930+Analyze!Y930/Summary!$Y$25))","v":""},null,"",""]
[null,null,"",null,null,null,{"$f":"IF(Analyze!G931=\"\",\"\",Analyze!G931)","v":""},{"$f":"IF(G931=\"\",\"\",IF(Analyze!Y931=\"\",Analyze!AB931,Analyze!AB931+Analyze!Y931/Summary!$Y$25))","v":""},null,"",""]
[null,null,"",null,null,null,{"$f":"IF(Analyze!G932=\"\",\"\",Analyze!G932)","v":""},{"$f":"IF(G932=\"\",\"\",IF(Analyze!Y932=\"\",Analyze!AB932,Analyze!AB932+Analyze!Y932/Summary!$Y$25))","v":""},null,"",""]
[null,null,"",null,null,null,{"$f":"IF(Analyze!G933=\"\",\"\",Analyze!G933)","v":""},{"$f":"IF(G933=\"\",\"\",IF(Analyze!Y933=\"\",Analyze!AB933,Analyze!AB933+Analyze!Y933/Summary!$Y$25))","v":""},null,"",""]
[null,null,"",null,null,null,{"$f":"IF(Analyze!G934=\"\",\"\",Analyze!G934)","v":""},{"$f":"IF(G934=\"\",\"\",IF(Analyze!Y934=\"\",Analyze!AB934,Analyze!AB934+Analyze!Y934/Summary!$Y$25))","v":""},null,"",""]
[null,null,"",null,null,null,{"$f":"IF(Analyze!G935=\"\",\"\",Analyze!G935)","v":""},{"$f":"IF(G935=\"\",\"\",IF(Analyze!Y935=\"\",Analyze!AB935,Analyze!AB935+Analyze!Y935/Summary!$Y$25))","v":""},null,"",""]
[null,null,"",null,null,null,{"$f":"IF(Analyze!G936=\"\",\"\",Analyze!G936)","v":""},{"$f":"IF(G936=\"\",\"\",IF(Analyze!Y936=\"\",Analyze!AB936,Analyze!AB936+Analyze!Y936/Summary!$Y$25))","v":""},null,"",""]
[null,null,"",null,null,null,{"$f":"IF(Analyze!G937=\"\",\"\",Analyze!G937)","v":""},{"$f":"IF(G937=\"\",\"\",IF(Analyze!Y937=\"\",Analyze!AB937,Analyze!AB937+Analyze!Y937/Summary!$Y$25))","v":""},null,"",""]
[null,null,"",null,null,null,{"$f":"IF(Analyze!G938=\"\",\"\",Analyze!G938)","v":""},{"$f":"IF(G938=\"\",\"\",IF(Analyze!Y938=\"\",Analyze!AB938,Analyze!AB938+Analyze!Y938/Summary!$Y$25))","v":""},null,"",""]
[null,null,"",null,null,null,{"$f":"IF(Analyze!G939=\"\",\"\",Analyze!G939)","v":""},{"$f":"IF(G939=\"\",\"\",IF(Analyze!Y939=\"\",Analyze!AB939,Analyze!AB939+Analyze!Y939/Summary!$Y$25))","v":""},null,"",""]
[null,null,"",null,null,null,{"$f":"IF(Analyze!G940=\"\",\"\",Analyze!G940)","v":""},{"$f":"IF(G940=\"\",\"\",IF(Analyze!Y940=\"\",Analyze!AB940,Analyze!AB940+Analyze!Y940/Summary!$Y$25))","v":""},null,"",""]
[null,null,"",null,null,null,{"$f":"IF(Analyze!G941=\"\",\"\",Analyze!G941)","v":""},{"$f":"IF(G941=\"\",\"\",IF(Analyze!Y941=\"\",Analyze!AB941,Analyze!AB941+Analyze!Y941/Summary!$Y$25))","v":""},null,"",""]
[null,null,"",null,null,null,{"$f":"IF(Analyze!G942=\"\",\"\",Analyze!G942)","v":""},{"$f":"IF(G942=\"\",\"\",IF(Analyze!Y942=\"\",Analyze!AB942,Analyze!AB942+Analyze!Y942/Summary!$Y$25))","v":""},null,"",""]
[null,null,"",null,null,null,{"$f":"IF(Analyze!G943=\"\",\"\",Analyze!G943)","v":""},{"$f":"IF(G943=\"\",\"\",IF(Analyze!Y943=\"\",Analyze!AB943,Analyze!AB943+Analyze!Y943/Summary!$Y$25))","v":""},null,"",""]
[null,null,"",null,null,null,{"$f":"IF(Analyze!G944=\"\",\"\",Analyze!G944)","v":""},{"$f":"IF(G944=\"\",\"\",IF(Analyze!Y944=\"\",Analyze!AB944,Analyze!AB944+Analyze!Y944/Summary!$Y$25))","v":""},null,"",""]
[null,null,"",null,null,null,{"$f":"IF(Analyze!G945=\"\",\"\",Analyze!G945)","v":""},{"$f":"IF(G945=\"\",\"\",IF(Analyze!Y945=\"\",Analyze!AB945,Analyze!AB945+Analyze!Y945/Summary!$Y$25))","v":""},null,"",""]
[null,null,"",null,null,null,{"$f":"IF(Analyze!G946=\"\",\"\",Analyze!G946)","v":""},{"$f":"IF(G946=\"\",\"\",IF(Analyze!Y946=\"\",Analyze!AB946,Analyze!AB946+Analyze!Y946/Summary!$Y$25))","v":""},null,"",""]
[null,null,"",null,null,null,{"$f":"IF(Analyze!G947=\"\",\"\",Analyze!G947)","v":""},{"$f":"IF(G947=\"\",\"\",IF(Analyze!Y947=\"\",Analyze!AB947,Analyze!AB947+Analyze!Y947/Summary!$Y$25))","v":""},null,"",""]
[null,null,"",null,null,null,{"$f":"IF(Analyze!G948=\"\",\"\",Analyze!G948)","v":""},{"$f":"IF(G948=\"\",\"\",IF(Analyze!Y948=\"\",Analyze!AB948,Analyze!AB948+Analyze!Y948/Summary!$Y$25))","v":""},null,"",""]
[null,null,"",null,null,null,{"$f":"IF(Analyze!G949=\"\",\"\",Analyze!G949)","v":""},{"$f":"IF(G949=\"\",\"\",IF(Analyze!Y949=\"\",Analyze!AB949,Analyze!AB949+Analyze!Y949/Summary!$Y$25))","v":""},null,"",""]
[null,null,"",null,null,null,{"$f":"IF(Analyze!G950=\"\",\"\",Analyze!G950)","v":""},{"$f":"IF(G950=\"\",\"\",IF(Analyze!Y950=\"\",Analyze!AB950,Analyze!AB950+Analyze!Y950/Summary!$Y$25))","v":""},null,"",""]
[null,null,"",null,null,null,{"$f":"IF(Analyze!G951=\"\",\"\",Analyze!G951)","v":""},{"$f":"IF(G951=\"\",\"\",IF(Analyze!Y951=\"\",Analyze!AB951,Analyze!AB951+Analyze!Y951/Summary!$Y$25))","v":""},null,"",""]
[null,null,"",null,null,null,{"$f":"IF(Analyze!G952=\"\",\"\",Analyze!G952)","v":""},{"$f":"IF(G952=\"\",\"\",IF(Analyze!Y952=\"\",Analyze!AB952,Analyze!AB952+Analyze!Y952/Summary!$Y$25))","v":""},null,"",""]
[null,null,"",null,null,null,{"$f":"IF(Analyze!G953=\"\",\"\",Analyze!G953)","v":""},{"$f":"IF(G953=\"\",\"\",IF(Analyze!Y953=\"\",Analyze!AB953,Analyze!AB953+Analyze!Y953/Summary!$Y$25))","v":""},null,"",""]
[null,null,"",null,null,null,{"$f":"IF(Analyze!G954=\"\",\"\",Analyze!G954)","v":""},{"$f":"IF(G954=\"\",\"\",IF(Analyze!Y954=\"\",Analyze!AB954,Analyze!AB954+Analyze!Y954/Summary!$Y$25))","v":""},null,"",""]
[null,null,"",null,null,null,{"$f":"IF(Analyze!G955=\"\",\"\",Analyze!G955)","v":""},{"$f":"IF(G955=\"\",\"\",IF(Analyze!Y955=\"\",Analyze!AB955,Analyze!AB955+Analyze!Y955/Summary!$Y$25))","v":""},null,"",""]
[null,null,"",null,null,null,{"$f":"IF(Analyze!G956=\"\",\"\",Analyze!G956)","v":""},{"$f":"IF(G956=\"\",\"\",IF(Analyze!Y956=\"\",Analyze!AB956,Analyze!AB956+Analyze!Y956/Summary!$Y$25))","v":""},null,"",""]
[null,null,"",null,null,null,{"$f":"IF(Analyze!G957=\"\",\"\",Analyze!G957)","v":""},{"$f":"IF(G957=\"\",\"\",IF(Analyze!Y957=\"\",Analyze!AB957,Analyze!AB957+Analyze!Y957/Summary!$Y$25))","v":""},null,"",""]
[null,null,"",null,null,null,{"$f":"IF(Analyze!G958=\"\",\"\",Analyze!G958)","v":""},{"$f":"IF(G958=\"\",\"\",IF(Analyze!Y958=\"\",Analyze!AB958,Analyze!AB958+Analyze!Y958/Summary!$Y$25))","v":""},null,"",""]
[null,null,"",null,null,null,{"$f":"IF(Analyze!G959=\"\",\"\",Analyze!G959)","v":""},{"$f":"IF(G959=\"\",\"\",IF(Analyze!Y959=\"\",Analyze!AB959,Analyze!AB959+Analyze!Y959/Summary!$Y$25))","v":""},null,"",""]
[null,null,"",null,null,null,{"$f":"IF(Analyze!G960=\"\",\"\",Analyze!G960)","v":""},{"$f":"IF(G960=\"\",\"\",IF(Analyze!Y960=\"\",Analyze!AB960,Analyze!AB960+Analyze!Y960/Summary!$Y$25))","v":""},null,"",""]
[null,null,"",null,null,null,{"$f":"IF(Analyze!G961=\"\",\"\",Analyze!G961)","v":""},{"$f":"IF(G961=\"\",\"\",IF(Analyze!Y961=\"\",Analyze!AB961,Analyze!AB961+Analyze!Y961/Summary!$Y$25))","v":""},null,"",""]
[null,null,"",null,null,null,{"$f":"IF(Analyze!G962=\"\",\"\",Analyze!G962)","v":""},{"$f":"IF(G962=\"\",\"\",IF(Analyze!Y962=\"\",Analyze!AB962,Analyze!AB962+Analyze!Y962/Summary!$Y$25))","v":""},null,"",""]
[null,null,"",null,null,null,{"$f":"IF(Analyze!G963=\"\",\"\",Analyze!G963)","v":""},{"$f":"IF(G963=\"\",\"\",IF(Analyze!Y963=\"\",Analyze!AB963,Analyze!AB963+Analyze!Y963/Summary!$Y$25))","v":""},null,"",""]
[null,null,"",null,null,null,{"$f":"IF(Analyze!G964=\"\",\"\",Analyze!G964)","v":""},{"$f":"IF(G964=\"\",\"\",IF(Analyze!Y964=\"\",Analyze!AB964,Analyze!AB964+Analyze!Y964/Summary!$Y$25))","v":""},null,"",""]
[null,null,"",null,null,null,{"$f":"IF(Analyze!G965=\"\",\"\",Analyze!G965)","v":""},{"$f":"IF(G965=\"\",\"\",IF(Analyze!Y965=\"\",Analyze!AB965,Analyze!AB965+Analyze!Y965/Summary!$Y$25))","v":""},null,"",""]
[null,null,"",null,null,null,{"$f":"IF(Analyze!G966=\"\",\"\",Analyze!G966)","v":""},{"$f":"IF(G966=\"\",\"\",IF(Analyze!Y966=\"\",Analyze!AB966,Analyze!AB966+Analyze!Y966/Summary!$Y$25))","v":""},null,"",""]
[null,null,{"$f":"IF(G967=\"\",\"\",G967/10)","v":""},null,null,null,{"$f":"IF(Analyze!G967=\"\",\"\",Analyze!G967)","v":""},{"$f":"IF(G967=\"\",\"\",IF(Analyze!Y967=\"\",Analyze!AB967,Analyze!AB967+Analyze!Y967/Summary!$Y$25))","v":""},null,"",""]
[null,null,"",null,null,null,{"$f":"IF(Analyze!G968=\"\",\"\",Analyze!G968)","v":""},{"$f":"IF(G968=\"\",\"\",IF(Analyze!Y968=\"\",Analyze!AB968,Analyze!AB968+Analyze!Y968/Summary!$Y$25))","v":""},null,{"$f":"IF(G968=\"\",\"\",(J967+I968-H968*(G968-G967)))","v":""},{"$f":"IF(G968=\"\",\"\",K967+J967*(G968-G967))","v":""}]
[null,null,"",null,null,null,{"$f":"IF(Analyze!G969=\"\",\"\",Analyze!G969)","v":""},{"$f":"IF(G969=\"\",\"\",IF(Analyze!Y969=\"\",Analyze!AB969,Analyze!AB969+Analyze!Y969/Summary!$Y$25))","v":""},null,"",""]
[null,null,"",null,null,null,{"$f":"IF(Analyze!G970=\"\",\"\",Analyze!G970)","v":""},{"$f":"IF(G970=\"\",\"\",IF(Analyze!Y970=\"\",Analyze!AB970,Analyze!AB970+Analyze!Y970/Summary!$Y$25))","v":""},null,"",""]
[null,null,"",null,null,null,{"$f":"IF(Analyze!G971=\"\",\"\",Analyze!G971)","v":""},{"$f":"IF(G971=\"\",\"\",IF(Analyze!Y971=\"\",Analyze!AB971,Analyze!AB971+Analyze!Y971/Summary!$Y$25))","v":""},null,"",""]
[null,null,"",null,null,null,{"$f":"IF(Analyze!G972=\"\",\"\",Analyze!G972)","v":""},{"$f":"IF(G972=\"\",\"\",IF(Analyze!Y972=\"\",Analyze!AB972,Analyze!AB972+Analyze!Y972/Summary!$Y$25))","v":""},null,"",""]
[null,null,"",null,null,null,{"$f":"IF(Analyze!G973=\"\",\"\",Analyze!G973)","v":""},{"$f":"IF(G973=\"\",\"\",IF(Analyze!Y973=\"\",Analyze!AB973,Analyze!AB973+Analyze!Y973/Summary!$Y$25))","v":""},null,"",""]
[null,null,"",null,null,null,{"$f":"IF(Analyze!G974=\"\",\"\",Analyze!G974)","v":""},{"$f":"IF(G974=\"\",\"\",IF(Analyze!Y974=\"\",Analyze!AB974,Analyze!AB974+Analyze!Y974/Summary!$Y$25))","v":""},null,"",""]
[null,null,"",null,null,null,{"$f":"IF(Analyze!G975=\"\",\"\",Analyze!G975)","v":""},{"$f":"IF(G975=\"\",\"\",IF(Analyze!Y975=\"\",Analyze!AB975,Analyze!AB975+Analyze!Y975/Summary!$Y$25))","v":""},null,"",""]
[null,null,"",null,null,null,{"$f":"IF(Analyze!G976=\"\",\"\",Analyze!G976)","v":""},{"$f":"IF(G976=\"\",\"\",IF(Analyze!Y976=\"\",Analyze!AB976,Analyze!AB976+Analyze!Y976/Summary!$Y$25))","v":""},null,"",""]
[null,null,"",null,null,null,{"$f":"IF(Analyze!G977=\"\",\"\",Analyze!G977)","v":""},{"$f":"IF(G977=\"\",\"\",IF(Analyze!Y977=\"\",Analyze!AB977,Analyze!AB977+Analyze!Y977/Summary!$Y$25))","v":""},null,"",""]
[null,null,"",null,null,null,{"$f":"IF(Analyze!G978=\"\",\"\",Analyze!G978)","v":""},{"$f":"IF(G978=\"\",\"\",IF(Analyze!Y978=\"\",Analyze!AB978,Analyze!AB978+Analyze!Y978/Summary!$Y$25))","v":""},null,"",""]
[null,null,"",null,null,null,{"$f":"IF(Analyze!G979=\"\",\"\",Analyze!G979)","v":""},{"$f":"IF(G979=\"\",\"\",IF(Analyze!Y979=\"\",Analyze!AB979,Analyze!AB979+Analyze!Y979/Summary!$Y$25))","v":""},null,"",""]
[null,null,"",null,null,null,{"$f":"IF(Analyze!G980=\"\",\"\",Analyze!G980)","v":""},{"$f":"IF(G980=\"\",\"\",IF(Analyze!Y980=\"\",Analyze!AB980,Analyze!AB980+Analyze!Y980/Summary!$Y$25))","v":""},null,"",""]
[null,null,"",null,null,null,{"$f":"IF(Analyze!G981=\"\",\"\",Analyze!G981)","v":""},{"$f":"IF(G981=\"\",\"\",IF(Analyze!Y981=\"\",Analyze!AB981,Analyze!AB981+Analyze!Y981/Summary!$Y$25))","v":""},null,"",""]
[null,null,"",null,null,null,{"$f":"IF(Analyze!G982=\"\",\"\",Analyze!G982)","v":""},{"$f":"IF(G982=\"\",\"\",IF(Analyze!Y982=\"\",Analyze!AB982,Analyze!AB982+Analyze!Y982/Summary!$Y$25))","v":""},null,"",""]
[null,null,"",null,null,null,{"$f":"IF(Analyze!G983=\"\",\"\",Analyze!G983)","v":""},{"$f":"IF(G983=\"\",\"\",IF(Analyze!Y983=\"\",Analyze!AB983,Analyze!AB983+Analyze!Y983/Summary!$Y$25))","v":""},null,"",""]
[null,null,"",null,null,null,{"$f":"IF(Analyze!G984=\"\",\"\",Analyze!G984)","v":""},{"$f":"IF(G984=\"\",\"\",IF(Analyze!Y984=\"\",Analyze!AB984,Analyze!AB984+Analyze!Y984/Summary!$Y$25))","v":""},null,"",""]
[null,null,"",null,null,null,{"$f":"IF(Analyze!G985=\"\",\"\",Analyze!G985)","v":""},{"$f":"IF(G985=\"\",\"\",IF(Analyze!Y985=\"\",Analyze!AB985,Analyze!AB985+Analyze!Y985/Summary!$Y$25))","v":""},null,"",""]
[null,null,"",null,null,null,{"$f":"IF(Analyze!G986=\"\",\"\",Analyze!G986)","v":""},{"$f":"IF(G986=\"\",\"\",IF(Analyze!Y986=\"\",Analyze!AB986,Analyze!AB986+Analyze!Y986/Summary!$Y$25))","v":""},null,"",""]
[null,null,"",null,null,null,{"$f":"IF(Analyze!G987=\"\",\"\",Analyze!G987)","v":""},{"$f":"IF(G987=\"\",\"\",IF(Analyze!Y987=\"\",Analyze!AB987,Analyze!AB987+Analyze!Y987/Summary!$Y$25))","v":""},null,"",""]
[null,null,"",null,null,null,{"$f":"IF(Analyze!G988=\"\",\"\",Analyze!G988)","v":""},{"$f":"IF(G988=\"\",\"\",IF(Analyze!Y988=\"\",Analyze!AB988,Analyze!AB988+Analyze!Y988/Summary!$Y$25))","v":""},null,"",""]
[null,null,"",null,null,null,{"$f":"IF(Analyze!G989=\"\",\"\",Analyze!G989)","v":""},{"$f":"IF(G989=\"\",\"\",IF(Analyze!Y989=\"\",Analyze!AB989,Analyze!AB989+Analyze!Y989/Summary!$Y$25))","v":""},null,"",""]
[null,null,"",null,null,null,{"$f":"IF(Analyze!G990=\"\",\"\",Analyze!G990)","v":""},{"$f":"IF(G990=\"\",\"\",IF(Analyze!Y990=\"\",Analyze!AB990,Analyze!AB990+Analyze!Y990/Summary!$Y$25))","v":""},null,"",""]
[null,null,"",null,null,null,{"$f":"IF(Analyze!G991=\"\",\"\",Analyze!G991)","v":""},{"$f":"IF(G991=\"\",\"\",IF(Analyze!Y991=\"\",Analyze!AB991,Analyze!AB991+Analyze!Y991/Summary!$Y$25))","v":""},null,"",""]
[null,null,"",null,null,null,{"$f":"IF(Analyze!G992=\"\",\"\",Analyze!G992)","v":""},{"$f":"IF(G992=\"\",\"\",IF(Analyze!Y992=\"\",Analyze!AB992,Analyze!AB992+Analyze!Y992/Summary!$Y$25))","v":""},null,"",""]
[null,null,"",null,null,null,{"$f":"IF(Analyze!G993=\"\",\"\",Analyze!G993)","v":""},{"$f":"IF(G993=\"\",\"\",IF(Analyze!Y993=\"\",Analyze!AB993,Analyze!AB993+Analyze!Y993/Summary!$Y$25))","v":""},null,"",""]
[null,null,"",null,null,null,{"$f":"IF(Analyze!G994=\"\",\"\",Analyze!G994)","v":""},{"$f":"IF(G994=\"\",\"\",IF(Analyze!Y994=\"\",Analyze!AB994,Analyze!AB994+Analyze!Y994/Summary!$Y$25))","v":""},null,"",""]
[null,null,"",null,null,null,{"$f":"IF(Analyze!G995=\"\",\"\",Analyze!G995)","v":""},{"$f":"IF(G995=\"\",\"\",IF(Analyze!Y995=\"\",Analyze!AB995,Analyze!AB995+Analyze!Y995/Summary!$Y$25))","v":""},null,"",""]
[null,null,"",null,null,null,{"$f":"IF(Analyze!G996=\"\",\"\",Analyze!G996)","v":""},{"$f":"IF(G996=\"\",\"\",IF(Analyze!Y996=\"\",Analyze!AB996,Analyze!AB996+Analyze!Y996/Summary!$Y$25))","v":""},null,"",""]
[null,null,"",null,null,null,{"$f":"IF(Analyze!G997=\"\",\"\",Analyze!G997)","v":""},{"$f":"IF(G997=\"\",\"\",IF(Analyze!Y997=\"\",Analyze!AB997,Analyze!AB997+Analyze!Y997/Summary!$Y$25))","v":""},null,"",""]
[null,null,"",null,null,null,{"$f":"IF(Analyze!G998=\"\",\"\",Analyze!G998)","v":""},{"$f":"IF(G998=\"\",\"\",IF(Analyze!Y998=\"\",Analyze!AB998,Analyze!AB998+Analyze!Y998/Summary!$Y$25))","v":""},null,"",""]
[null,null,"",null,null,null,{"$f":"IF(Analyze!G999=\"\",\"\",Analyze!G999)","v":""},{"$f":"IF(G999=\"\",\"\",IF(Analyze!Y999=\"\",Analyze!AB999,Analyze!AB999+Analyze!Y999/Summary!$Y$25))","v":""},null,"",""]
[null,null,"",null,null,null,{"$f":"IF(Analyze!G1000=\"\",\"\",Analyze!G1000)","v":""},{"$f":"IF(G1000=\"\",\"\",IF(Analyze!Y1000=\"\",Analyze!AB1000,Analyze!AB1000+Analyze!Y1000/Summary!$Y$25))","v":""},null,"",""]
[null,null,"",null,null,null,{"$f":"IF(Analyze!G1001=\"\",\"\",Analyze!G1001)","v":""},{"$f":"IF(G1001=\"\",\"\",IF(Analyze!Y1001=\"\",Analyze!AB1001,Analyze!AB1001+Analyze!Y1001/Summary!$Y$25))","v":""},null,"",""]
[null,null,"",null,null,null,{"$f":"IF(Analyze!G1002=\"\",\"\",Analyze!G1002)","v":""},{"$f":"IF(G1002=\"\",\"\",IF(Analyze!Y1002=\"\",Analyze!AB1002,Analyze!AB1002+Analyze!Y1002/Summary!$Y$25))","v":""},null,"",""]
[null,null,"",null,null,null,{"$f":"IF(Analyze!G1003=\"\",\"\",Analyze!G1003)","v":""},{"$f":"IF(G1003=\"\",\"\",IF(Analyze!Y1003=\"\",Analyze!AB1003,Analyze!AB1003+Analyze!Y1003/Summary!$Y$25))","v":""},null,"",""]
[null,null,"",null,null,null,{"$f":"IF(Analyze!G1004=\"\",\"\",Analyze!G1004)","v":""},{"$f":"IF(G1004=\"\",\"\",IF(Analyze!Y1004=\"\",Analyze!AB1004,Analyze!AB1004+Analyze!Y1004/Summary!$Y$25))","v":""},null,"",""]
[null,null,"",null,null,null,{"$f":"IF(Analyze!G1005=\"\",\"\",Analyze!G1005)","v":""},{"$f":"IF(G1005=\"\",\"\",IF(Analyze!Y1005=\"\",Analyze!AB1005,Analyze!AB1005+Analyze!Y1005/Summary!$Y$25))","v":""},null,"",""]
[null,null,"",null,null,null,{"$f":"IF(Analyze!G1006=\"\",\"\",Analyze!G1006)","v":""},{"$f":"IF(G1006=\"\",\"\",IF(Analyze!Y1006=\"\",Analyze!AB1006,Analyze!AB1006+Analyze!Y1006/Summary!$Y$25))","v":""},null,"",""]
[null,null,"",null,null,null,{"$f":"IF(Analyze!G1007=\"\",\"\",Analyze!G1007)","v":""},{"$f":"IF(G1007=\"\",\"\",IF(Analyze!Y1007=\"\",Analyze!AB1007,Analyze!AB1007+Analyze!Y1007/Summary!$Y$25))","v":""},null,"",""]
[null,null,"",null,null,null,{"$f":"IF(Analyze!G1008=\"\",\"\",Analyze!G1008)","v":""},{"$f":"IF(G1008=\"\",\"\",IF(Analyze!Y1008=\"\",Analyze!AB1008,Analyze!AB1008+Analyze!Y1008/Summary!$Y$25))","v":""},null,"",""]
[null,null,"",null,null,null,{"$f":"IF(Analyze!G1009=\"\",\"\",Analyze!G1009)","v":""},{"$f":"IF(G1009=\"\",\"\",IF(Analyze!Y1009=\"\",Analyze!AB1009,Analyze!AB1009+Analyze!Y1009/Summary!$Y$25))","v":""},null,"",""]
[null,null,"",null,null,null,{"$f":"IF(Analyze!G1010=\"\",\"\",Analyze!G1010)","v":""},{"$f":"IF(G1010=\"\",\"\",IF(Analyze!Y1010=\"\",Analyze!AB1010,Analyze!AB1010+Analyze!Y1010/Summary!$Y$25))","v":""},null,"",""]

{"sheet":"Summary","index":6,"n_rows":28,"n_cols":25,"rows_kept":28,"cut":false,"hidden":false,"merged":[]}
[]
[null,"Summary:"]
[]
[null,null,null,null,null,null,null,null,null,null,null,null,null,"Soil Data:"]
[null,null,null,"Geometry:",null,null,null,null,null,null,null,null,null,null,null,"Thickness\n(m)","g\n(kN/m3)","gsat\n(kN/m3)","C\n(kPa)","ф","δ","Fs фa","Fs фp","Fs C"]
[null,null,null,null,"H (m):",{"$f":"h","v":12.5},null,null,null,null,null,null,null,null,"Soil 1",{"$f":"IF(Analyze!AH24=\"\",\"\",Analyze!AH24)","v":28},{"$f":"IF(Analyze!AI24=\"\",\"\",Analyze!AI24)","v":19},{"$f":"IF(Analyze!AJ24=\"\",\"\",Analyze!AJ24)","v":19},{"$f":"IF(Analyze!AK24=\"\",\"\",Analyze!AK24)","v":40},{"$f":"IF(Analyze!AL24=\"\",\"\",Analyze!AL24)","v":36},{"$f":"IF(Analyze!AM24=\"\",\"\",Analyze!AM24)","v":0},{"$f":"IF(Analyze!AN24=\"\",\"\",Analyze!AN24)","v":1},{"$f":"IF(Analyze!AO24=\"\",\"\",Analyze!AO24)","v":1.2},{"$f":"IF(Analyze!AP24=\"\",\"\",Analyze!AP24)","v":1}]
[null,null,null,null,"D (m):",{"$f":"d","v":6},null,null,null,null,null,null,null,null,"Soil 2",{"$f":"IF(Analyze!AH25=\"\",\"\",Analyze!AH25)","v":""},{"$f":"IF(Analyze!AI25=\"\",\"\",Analyze!AI25)","v":""},{"$f":"IF(Analyze!AJ25=\"\",\"\",Analyze!AJ25)","v":""},{"$f":"IF(Analyze!AK25=\"\",\"\",Analyze!AK25)","v":""},{"$f":"IF(Analyze!AL25=\"\",\"\",Analyze!AL25)","v":""},{"$f":"IF(Analyze!AM25=\"\",\"\",Analyze!AM25)","v":""},{"$f":"IF(Analyze!AN25=\"\",\"\",Analyze!AN25)","v":""},{"$f":"IF(Analyze!AO25=\"\",\"\",Analyze!AO25)","v":""},{"$f":"IF(Analyze!AP25=\"\",\"\",Analyze!AP25)","v":""}]
[null,null,null,null,"q Dead (kPa)",{"$f":"Analyze!E4","v":0},null,null,null,null,null,null,null,null,"Soil 3",{"$f":"IF(Analyze!AH26=\"\",\"\",Analyze!AH26)","v":""},{"$f":"IF(Analyze!AI26=\"\",\"\",Analyze!AI26)","v":""},{"$f":"IF(Analyze!AJ26=\"\",\"\",Analyze!AJ26)","v":""},{"$f":"IF(Analyze!AK26=\"\",\"\",Analyze!AK26)","v":""},{"$f":"IF(Analyze!AL26=\"\",\"\",Analyze!AL26)","v":""},{"$f":"IF(Analyze!AM26=\"\",\"\",Analyze!AM26)","v":""},{"$f":"IF(Analyze!AN26=\"\",\"\",Analyze!AN26)","v":""},{"$f":"IF(Analyze!AO26=\"\",\"\",Analyze!AO26)","v":""},{"$f":"IF(Analyze!AP26=\"\",\"\",Analyze!AP26)","v":""}]
[null,null,null,null,"q Live\n(kPa)",{"$f":"Analyze!E5","v":200},null,null,null,null,null,null,null,null,"Soil 4",{"$f":"IF(Analyze!AH27=\"\",\"\",Analyze!AH27)","v":""},{"$f":"IF(Analyze!AI27=\"\",\"\",Analyze!AI27)","v":""},{"$f":"IF(Analyze!AJ27=\"\",\"\",Analyze!AJ27)","v":""},{"$f":"IF(Analyze!AK27=\"\",\"\",Analyze!AK27)","v":""},{"$f":"IF(Analyze!AL27=\"\",\"\",Analyze!AL27)","v":""},{"$f":"IF(Analyze!AM27=\"\",\"\",Analyze!AM27)","v":""},{"$f":"IF(Analyze!AN27=\"\",\"\",Analyze!AN27)","v":""},{"$f":"IF(Analyze!AO27=\"\",\"\",Analyze!AO27)","v":""},{"$f":"IF(Analyze!AP27=\"\",\"\",Analyze!AP27)","v":""}]
[null,null,null,null,"Length Of\nSurcharge (m)",{"$f":"Analyze!A34","v":40},null,null,null,null,null,null,null,null,"Soil 5",{"$f":"IF(Analyze!AH28=\"\",\"\",Analyze!AH28)","v":""},{"$f":"IF(Analyze!AI28=\"\",\"\",Analyze!AI28)","v":""},{"$f":"IF(Analyze!AJ28=\"\",\"\",Analyze!AJ28)","v":""},{"$f":"IF(Analyze!AK28=\"\",\"\",Analyze!AK28)","v":""},{"$f":"IF(Analyze!AL28=\"\",\"\",Analyze!AL28)","v":""},{"$f":"IF(Analyze!AM28=\"\",\"\",Analyze!AM28)","v":""},{"$f":"IF(Analyze!AN28=\"\",\"\",Analyze!AN28)","v":""},{"$f":"IF(Analyze!AO28=\"\",\"\",Analyze!AO28)","v":""},{"$f":"IF(Analyze!AP28=\"\",\"\",Analyze!AP28)","v":""}]
[null,null,null,null,"β\n(Degrees):",{"$f":"Analyze!E7","v":0},null,null,null,null,null,null,null,null,"Soil 6",{"$f":"IF(Analyze!AH29=\"\",\"\",Analyze!AH29)","v":""},{"$f":"IF(Analyze!AI29=\"\",\"\",Analyze!AI29)","v":""},{"$f":"IF(Analyze!AJ29=\"\",\"\",Analyze!AJ29)","v":""},{"$f":"IF(Analyze!AK29=\"\",\"\",Analyze!AK29)","v":""},{"$f":"IF(Analyze!AL29=\"\",\"\",Analyze!AL29)","v":""},{"$f":"IF(Analyze!AM29=\"\",\"\",Analyze!AM29)","v":""},{"$f":"IF(Analyze!AN29=\"\",\"\",Analyze!AN29)","v":""},{"$f":"IF(Analyze!AO29=\"\",\"\",Analyze!AO29)","v":""},{"$f":"IF(Analyze!AP29=\"\",\"\",Analyze!AP29)","v":""}]
[null,null,null,null,"α\n(Degrees):",{"$f":"Analyze!E9","v":90},null,null,null,null,null,null,null,null,"Soil 7",{"$f":"IF(Analyze!AH30=\"\",\"\",Analyze!AH30)","v":""},{"$f":"IF(Analyze!AI30=\"\",\"\",Analyze!AI30)","v":""},{"$f":"IF(Analyze!AJ30=\"\",\"\",Analyze!AJ30)","v":""},{"$f":"IF(Analyze!AK30=\"\",\"\",Analyze!AK30)","v":""},{"$f":"IF(Analyze!AL30=\"\",\"\",Analyze!AL30)","v":""},{"$f":"IF(Analyze!AM30=\"\",\"\",Analyze!AM30)","v":""},{"$f":"IF(Analyze!AN30=\"\",\"\",Analyze!AN30)","v":""},{"$f":"IF(Analyze!AO30=\"\",\"\",Analyze!AO30)","v":""},{"$f":"IF(Analyze!AP30=\"\",\"\",Analyze!AP30)","v":""}]
[null,null,null,null,null,null,null,null,null,null,null,null,null,null,"Soil 8",{"$f":"IF(Analyze!AH31=\"\",\"\",Analyze!AH31)","v":""},{"$f":"IF(Analyze!AI31=\"\",\"\",Analyze!AI31)","v":""},{"$f":"IF(Analyze!AJ31=\"\",\"\",Analyze!AJ31)","v":""},{"$f":"IF(Analyze!AK31=\"\",\"\",Analyze!AK31)","v":""},{"$f":"IF(Analyze!AL31=\"\",\"\",Analyze!AL31)","v":""},{"$f":"IF(Analyze!AM31=\"\",\"\",Analyze!AM31)","v":""},{"$f":"IF(Analyze!AN31=\"\",\"\",Analyze!AN31)","v":""},{"$f":"IF(Analyze!AO31=\"\",\"\",Analyze!AO31)","v":""},{"$f":"IF(Analyze!AP31=\"\",\"\",Analyze!AP31)","v":""}]
[null,null,null,null,null,null,null,null,null,null,null,null,null,null,"Soil 9",{"$f":"IF(Analyze!AH32=\"\",\"\",Analyze!AH32)","v":""},{"$f":"IF(Analyze!AI32=\"\",\"\",Analyze!AI32)","v":""},{"$f":"IF(Analyze!AJ32=\"\",\"\",Analyze!AJ32)","v":""},{"$f":"IF(Analyze!AK32=\"\",\"\",Analyze!AK32)","v":""},{"$f":"IF(Analyze!AL32=\"\",\"\",Analyze!AL32)","v":""},{"$f":"IF(Analyze!AM32=\"\",\"\",Analyze!AM32)","v":""},{"$f":"IF(Analyze!AN32=\"\",\"\",Analyze!AN32)","v":""},{"$f":"IF(Analyze!AO32=\"\",\"\",Analyze!AO32)","v":""},{"$f":"IF(Analyze!AP32=\"\",\"\",Analyze!AP32)","v":""}]
[null,null,null,null,null,null,null,null,null,null,null,null,null,null,"Soil 10",{"$f":"IF(Analyze!AH33=\"\",\"\",Analyze!AH33)","v":""},{"$f":"IF(Analyze!AI33=\"\",\"\",Analyze!AI33)","v":""},{"$f":"IF(Analyze!AJ33=\"\",\"\",Analyze!AJ33)","v":""},{"$f":"IF(Analyze!AK33=\"\",\"\",Analyze!AK33)","v":""},{"$f":"IF(Analyze!AL33=\"\",\"\",Analyze!AL33)","v":""},{"$f":"IF(Analyze!AM33=\"\",\"\",Analyze!AM33)","v":""},{"$f":"IF(Analyze!AN33=\"\",\"\",Analyze!AN33)","v":""},{"$f":"IF(Analyze!AO33=\"\",\"\",Analyze!AO33)","v":""},{"$f":"IF(Analyze!AP33=\"\",\"\",Analyze!AP33)","v":""}]
[]
[null,null,"Struts:",null,null,null,null,null,null,null,null,null,null,null,"γave\n(kN/m3)",{"$f":"g","v":19},null,"C ave\n(kPa)",{"$f":"ca","v":40},null,"Ka ave",{"$f":"ka","v":0.25961618368249856}]
[null,null,null,null,"Depth\n(m)","Angle\n(Degrees)","Spacing\n(m)","Strut Force\n(kN)","Unbonded\nLength (m)","bonded\nLength (m)","Total\nLength (m)"]
[null,null,null,"Strut 1",{"$f":"IF(F19=\"\",\"\",IF(Analyze!AH6=\"\",\"\",Analyze!AH6))","v":0},{"$f":"IF(Analyze!AI6=\"\",\"\",Analyze!AI6)","v":35},{"$f":"IF(Analyze!AJ6=\"\",\"\",Analyze!AJ6)","v":6},{"$f":"IF(E19=\"\",\"\",Analyze!AN6*Analyze!AJ6)","v":159.50942186045864},{"$f":"IF(E19=\"\",\"\",Draw!H7)","v":9.7661967100916591},{"$f":"IF(E19=\"\",\"\",Draw!K7)","v":2.1155594132352018},{"$f":"IF(E19=\"\",\"\",J19+I19)","v":11.881756123326861},null,null,null,"Ke",{"$f":"Analyze!E11","v":0}]
[null,null,null,"Strut 2",{"$f":"IF(F20=\"\",\"\",IF(Analyze!AH7=\"\",\"\",Analyze!AH7))","v":3.8},{"$f":"IF(Analyze!AI7=\"\",\"\",Analyze!AI7)","v":15},{"$f":"IF(Analyze!AJ7=\"\",\"\",Analyze!AJ7)","v":3},{"$f":"IF(E20=\"\",\"\",Analyze!AN7*Analyze!AJ7)","v":495.27828175489958},{"$f":"IF(E20=\"\",\"\",Draw!H8)","v":8.0751542071986417},{"$f":"IF(E20=\"\",\"\",Draw!K8)","v":6.5688322289460626},{"$f":"IF(E20=\"\",\"\",J20+I20)","v":14.643986436144704}]
[null,null,null,"Strut 3",{"$f":"IF(F21=\"\",\"\",IF(Analyze!AH8=\"\",\"\",Analyze!AH8))","v":7.8},{"$f":"IF(Analyze!AI8=\"\",\"\",Analyze!AI8)","v":15},{"$f":"IF(Analyze!AJ8=\"\",\"\",Analyze!AJ8)","v":3},{"$f":"IF(E21=\"\",\"\",Analyze!AN8*Analyze!AJ8)","v":556.15467146984054},{"$f":"IF(E21=\"\",\"\",Draw!H9)","v":6.2116570824604924},{"$f":"IF(E21=\"\",\"\",Draw!K9)","v":7.3762304240061853},13.587887506466679]
[null,null,null,"Strut 4",{"$f":"IF(F22=\"\",\"\",IF(Analyze!AH9=\"\",\"\",Analyze!AH9))","v":11.8},{"$f":"IF(Analyze!AI9=\"\",\"\",Analyze!AI9)","v":15},{"$f":"IF(Analyze!AJ9=\"\",\"\",Analyze!AJ9)","v":3},{"$f":"IF(E22=\"\",\"\",Analyze!AN9*Analyze!AJ9)","v":583.9624050433365},{"$f":"IF(E22=\"\",\"\",Draw!H10)","v":4.5},{"$f":"IF(E22=\"\",\"\",Draw!K10)","v":7.7450419452065464},12.245041945206546,null,null,"Forces:",null,null,null,null,"Methods:"]
[null,null,null,"Strut 5",{"$f":"IF(F23=\"\",\"\",IF(Analyze!AH10=\"\",\"\",Analyze!AH10))","v":""},{"$f":"IF(Analyze!AI10=\"\",\"\",Analyze!AI10)","v":""},{"$f":"IF(Analyze!AJ10=\"\",\"\",Analyze!AJ10)","v":""},{"$f":"IF(E23=\"\",\"\",Analyze!AN10*Analyze!AJ10)","v":""},{"$f":"IF(E23=\"\",\"\",Draw!H11)","v":""},{"$f":"IF(E23=\"\",\"\",Draw!K11)","v":""},"",null,null,null,"Pa(kN) ",{"$f":"Analyze!AH20","v":517.62544146282335}]
[null,null,null,"Strut 6",{"$f":"IF(F24=\"\",\"\",IF(Analyze!AH11=\"\",\"\",Analyze!AH11))","v":""},{"$f":"IF(Analyze!AI11=\"\",\"\",Analyze!AI11)","v":""},{"$f":"IF(Analyze!AJ11=\"\",\"\",Analyze!AJ11)","v":""},{"$f":"IF(E24=\"\",\"\",Analyze!AN11*Analyze!AJ11)","v":""},{"$f":"IF(E24=\"\",\"\",Draw!H12)","v":""},{"$f":"IF(E24=\"\",\"\",Draw!K12)","v":""},"",null,null,null,"Fa (e) (kN) ",{"$f":"Analyze!AH21","v":0},null,null,null,"Distribution\nMethod:",{"$f":"Analyze!AO17","v":"Puller"}]
[null,null,null,"Strut 7",{"$f":"IF(F25=\"\",\"\",IF(Analyze!AH12=\"\",\"\",Analyze!AH12))","v":""},{"$f":"IF(Analyze!AI12=\"\",\"\",Analyze!AI12)","v":""},{"$f":"IF(Analyze!AJ12=\"\",\"\",Analyze!AJ12)","v":""},{"$f":"IF(E25=\"\",\"\",Analyze!AN12*Analyze!AJ12)","v":""},{"$f":"IF(E25=\"\",\"\",Draw!H13)","v":""},{"$f":"IF(E25=\"\",\"\",Draw!K13)","v":""},"",null,null,null,"Hydroststic Force (kN)",{"$f":"Analyze!AK18","v":0},null,null,null,null,null,null,null,"FS:",{"$f":"Analyze!AR18","v":11.659078711943017}]
[null,null,null,"Strut 8",{"$f":"IF(F26=\"\",\"\",IF(Analyze!AH13=\"\",\"\",Analyze!AH13))","v":""},{"$f":"IF(Analyze!AI13=\"\",\"\",Analyze!AI13)","v":""},{"$f":"IF(Analyze!AJ13=\"\",\"\",Analyze!AJ13)","v":""},{"$f":"IF(E26=\"\",\"\",Analyze!AN13*Analyze!AJ13)","v":""},{"$f":"IF(E26=\"\",\"\",Draw!H14)","v":""},{"$f":"IF(E26=\"\",\"\",Draw!K14)","v":""},"",null,null,null,"Area(kN)",{"$f":"Analyze!AK19","v":662.56056507241306},null,null,null,"Strut\nMethod:",{"$f":"Analyze!AO19","v":"Half Method"}]
[null,null,null,"Strut 9",{"$f":"IF(F27=\"\",\"\",IF(Analyze!AH14=\"\",\"\",Analyze!AH14))","v":""},{"$f":"IF(Analyze!AI14=\"\",\"\",Analyze!AI14)","v":""},{"$f":"IF(Analyze!AJ14=\"\",\"\",Analyze!AJ14)","v":""},{"$f":"IF(E27=\"\",\"\",Analyze!AN14*Analyze!AJ14)","v":""},{"$f":"IF(E27=\"\",\"\",Draw!H15)","v":""},{"$f":"IF(E27=\"\",\"\",Draw!K15)","v":""},"",null,null,null,"Fp(kN)",{"$f":"Analyze!AK20","v":1331.6753864044135}]
[null,null,null,"Strut 10",{"$f":"IF(F28=\"\",\"\",IF(Analyze!AH15=\"\",\"\",Analyze!AH15))","v":""},{"$f":"IF(Analyze!AI15=\"\",\"\",Analyze!AI15)","v":""},{"$f":"IF(Analyze!AJ15=\"\",\"\",Analyze!AJ15)","v":""},{"$f":"IF(E28=\"\",\"\",Analyze!AN15*Analyze!AJ15)","v":""},{"$f":"IF(E28=\"\",\"\",Draw!H16)","v":""},{"$f":"IF(E28=\"\",\"\",Draw!K16)","v":""},"",null,null,null,"Z Fp(m)",{"$f":"Analyze!AK21","v":16.203588080311253},null,null,null,"H or H+D",{"$f":"Analyze!AO21","v":"H+D"}]